{"text_format":"1","workbook":"xlsx","n_sheets":13,"sheets":["Kom godt i gang","Beregn","Regnkurve","CDS regn","Volumenkurve","Tables","CGD mean","MAP","help1","help2","help3","SVK stationer","DK-koordinater"],"not_rendered":{"charts":7,"images":0,"macros":1,"external_links":0,"defined_names":26,"comments":0,"pivot_tables":0},"unopened":[{"sheet":"Regnkurve","index":2,"reason":"not_a_worksheet"},{"sheet":"CDS regn","index":3,"reason":"not_a_worksheet"},{"sheet":"Volumenkurve","index":4,"reason":"not_a_worksheet"}],"bounds":{"document_bytes":16777216,"sheet_cells":100000,"rows_first":2000,"rows_last":500,"rows_between":2000,"halvings":0,"cell_chars":16384,"cell_head_chars":4096},"cells_cut":0,"cells_raw":0,"read":"whole","date_system":"1900"}

{"sheet":"Kom godt i gang","index":0,"n_rows":15,"n_cols":2,"rows_kept":15,"cut":false,"hidden":false,"merged":[]}
[null,"LÆS NEDENSTÅENDE OMHYGGELIGT!"]
[null,"Ændringer siden version 4.0"]
[]
[null,"Der er tilføjet et kort over Danmark så det kan checkes om koordinaterne er korrekte."]
[null,"Der er tilføjet muligheden for at kunne beregne en intensitet for vilkårlig varighed"]
[null,"Der anvendes andre og bedre data til at beregne årsmiddelnedbøren (Celle B5). Det giver lidt andre resultater, men ændringerne er små i forhold til usikkerheden."]
[null,"Dokumentation for ændringer er publiceret i EVA-blad 4, dec. 2016 og kan downloades via www.evanet.dk"]
[]
[null,"Generelt"]
[null,"SVK Regndata svarende til Skrift 30 er anvendt."]
[null,"For at kunne anvendes på flere udgaver af excel er der udviklet en simpel solver til version 3.2. Den anvendes stadig,"]
[null,"hvilket betyder, at man ikke skal installere Excels indbyggede solverfunktioner."]
[null,"Bemærk, at regnearket anvender meget simple antagelser. Benyt mere avancerede metoder såfremt der er tale om komplicerede anvendelser."]
[null,"Hvis ikke makroer aktiveres kan regnearket ikke regne rigtigt!!!"]
[null,"Enhver anvendelse af programmet sker uden ansvar for udvikler(e) og udgivere."]

{"sheet":"Beregn","index":1,"n_rows":2897,"n_cols":35,"rows_kept":2897,"cut":false,"hidden":false,"merged":[]}
["Regnkurve karakteristika",null,null,null,null,null,"Ledningsdimensionering",null,null,null,null,null,"Bassindimensionering opstrøms udløb",null,null,null,null,null,null,"Regression",null,null,null,null,null,null,null,null,null,"Sæt optimering i gang"]
[null,null,null,null,null,null,"CDS karakteristika",null,null,null,null,null,"Oplandskarakteristika",null,null,null,null,null,null,null,null,null,null,null,null,null,null,null,null,"Initdummy"]
["Northing (WGS84 ZONE 32)",6140000,null,null,null,null,"CDS-regn varighed (min)",null,240,{"$f":"IF(OR(I3<1,I3>2880),\" Fejl: Indtast storm varighed i intervallet 1 - 2880 min\",\" \")","v":" "},null,null,"Befæstet areal (ha)",null,null,null,5,null,null,"Estimates, 3 parameters:",null,null,null,null,null,null,null,null,null,{"$f":"initdummy(B3,B4,B8,B9,B10,I3,I4,I5,Q3,Q4,Q5)","v":1}]
["Easting (WGS84 ZONE 32)",589900,null,null,null,null,"Tidsskridt (min)",null,1,{"$f":"IF(OR(I4<1,I4>I3),CONCATENATE(\" Fejl: Indtast tidsskridt i intervallet 1 - \",I3,\" min\"),\" \")","v":" "},null,null,"Hydrologisk reduktionsfaktor (-)",null,null,null,1,null,null,"Alpha",{"$f":"EXP(X22/11+U7*W22/11)","v":137.31087326207228}]
["Årsmiddelnedbør [mm]",{"$f":"MAP!H4","v":675.69619700264082},"Beregnes ud fra N og E koordinater",null,null,null,"Asymmetri koefficient",null,0.5,{"$f":"IF(OR(I5<0,I5>1),\"  Fejl: Indtast Asymmetri koefficient I intervallet 0-1\",\" \")","v":" "},null,null,"Afskærende lednings kapacitet (l/s)",null,null,null,10,null,null,"Theta",{"$f":"AD11","v":4.7433480889129633},null,null,null,null,null,null,null,null,"idftheta","theta"]
["Middelværdi ekstrem døgnnedbør DMI Klimagrid [mm/dag]",{"$f":"'CGD mean'!H4","v":25.795618571437451},"Beregnes ud fra N og E koordinater"]
[null,null,null,null,null,null,null,null,"",null,null,null,null,null,null,null,null,null,null,"Nu",{"$f":"-(Z22-W22*X22/11)/(Y22-W22^2/11)","v":0.76322873200607289},null,null,null,null,null,null,null,null,{"$f":"idftheta(AE7)","v":0.22138278981193088},1]
["Gentagelsesperiode (år)",5,{"$f":"IF(B8<1/help1!C11,CONCATENATE(\" Fejl: Indtast gentagelsesperiode > \",ROUND(1/help1!C11,2),\" år\"),\" \")","v":" "},null,null,null,null,null,null,null,null,null,"NB. Frekvens- og sikkerhedsfaktorer på regnen ",null,null,null,null,null,null,null,null,null,null,null,null,null,null,null,null,"derividf","x"]
["Sikkerhedsfaktor (Fra Skrift 27)",1,"Defineret i Skrift 27, Faktor til beskrivelse af usikkerhed, klima, mv. Typisk 1.0 - 1.8",null,null,null,null,null,null,null,null,null,"indgår ved beregning af bassinvolumen",null,null,null,null,null,null,"Dur (min)","Intensity","ln(dur)","ln(dur+Theta)","ln(int)","ln(dur+Theta)^2","ln(dur+Theta)*ln(int)","Est. Intensity","Obj.Func",null,{"$f":"derividf(AE9)","v":-0.19772706591481004},{"$f":"AE7","v":1}]
[null,null,null,null,null,null,null,null,null,null,null,null,null,null,null,null,null,null,null,{"$f":"Beregn!A18","v":1},{"$f":"Beregn!D18","v":36.071133599040834},{"$f":"LN(T10)","v":0},{"$f":"LN(T10+$U$5)","v":1.7480423310349338},{"$f":"LN(U10)","v":3.5854929221743324},{"$f":"W10^2","v":3.0556519910900448},{"$f":"W10*X10","v":6.2675934055868767},{"$f":"$U$4*(T10+$U$5)^(-$U$7)","v":36.164984484799405},{"$f":"(LN(U10)-LN(AA10))^2","v":6.7519378049484321E-6},null,"bisectidf","min","max","middel","tiny"]
["Varighed (min)","Intensitet givet ovenstående input (mm/s)",null,null,null,null,null,null,null,null,null,null,null,null,null,null,null,null,null,{"$f":"Beregn!A19","v":2},{"$f":"Beregn!D19","v":31.92001151031992},{"$f":"LN(T11)","v":0.69314718055994529},1.9085565506821058,3.4632331331805379,3.6425881071515778,6.6097762828710298,31.9950853105573,{"$f":"(LN(U11)-LN(AA11))^2","v":5.5186174433163014E-6},null,{"$f":"bisectidf(AE11,AF11,AG11,AH11)","v":4.7433480889129633},0,60,{"$f":"(AE11+AF11)/2","v":30},{"$f":"AD3/100000","v":1.0000000000000001E-5}]
[20,{"$f":"Beregn!$U$4*(A12+Beregn!$U$5)^(-Beregn!$U$7)","v":11.862531862654947},null,null,null,null,null,null,null,null,null,null,null,null,null,null,null,null,null,{"$f":"Beregn!A20","v":5},{"$f":"Beregn!D20","v":24.191467406292972},1.6094379124341003,2.2765848048821873,3.1859999844725806,5.1828383738204664,7.2531991530051618,24.159859778116576,1.7093347894557454E-6]
[null,null,null,null,null,null,null,null,null,null,null,null,null,null,null,null,null,null,null,{"$f":"Beregn!A21","v":10},{"$f":"Beregn!D21","v":17.784402284400493},2.3025850929940459,2.6907920040422577,2.8783217969863784,7.2403616090177492,7.7449652763914898,17.611599258780039,9.5336930666437209E-5]
["Design regnkurve",null,null,null,null,null,"CDS regn",null,null,null,null,null,"Volumen af bassin",null,null,null,null,null,null,{"$f":"Beregn!A22","v":30},{"$f":"Beregn!D22","v":9.1958933615142122},3.4011973816621555,3.5479881317855053,2.2187570106521211,12.5882197832908,7.8721235411096115,9.1551908102848589,1.9678012150593842E-5]
[null,null,null,null,null,null,{"$f":"IF(AB22>0.1,\"Dårlig optimering, check regnkurven for fejl\",\" \")","v":" "},null,null,null,null,null,{"$f":"Q24*Q27*12","v":1819.5667974252137},"m3",{"$f":"IF(Y27>0.1,\"ADVARSEL: Programmet har muligvis ikke optimeret korrekt\",\" \")","v":" "},null,null,null,null,{"$f":"Beregn!A23","v":60},{"$f":"Beregn!D23","v":5.6648947421532512},4.0943445622221004,4.1704309630847707,1.7342883139284029,17.392494417856167,7.2327296833230923,5.693099157298473,2.4665658340701776E-5]
["Varighed","zT","S{zT}","f*zT","Regression",null,"Tid","Intensitet",null,null,null,null,"Effekten af koblede regn ER inkluderet (20 % ekstra volumen)",null,null,null,null,null,null,{"$f":"Beregn!A24","v":180},{"$f":"Beregn!D24","v":2.5352115385035594},5.1929568508902104,5.2189675542486595,0.93027708070307102,27.237622332300234,4.8550859006504892,2.5573754411331588,7.5767164040586231E-5]
["(min)","(mm/s)","(mm/s)","(mm/s)","(mm/s)",null,"(min)","(mm/s)",null,"Plot af CDS regn:",null,null,null,null,null,null,null,null,null,{"$f":"Beregn!A25","v":360},{"$f":"Beregn!D25","v":1.524918782213555},5.8861040314501558,5.8991939503316324,0.42194115107625851,34.800489263629331,2.4891126858250296,1.5216772562101928,4.5282416267407643E-6]
[1,{"$f":"help1!B17","v":36.071133599040834},{"$f":"help1!C17","v":3.2645720610117812},{"$f":"$B$9*B18","v":36.071133599040834},{"$f":"Beregn!$U$4*(A18+Beregn!$U$5)^(-Beregn!$U$7)","v":36.164984484799405},null,0,{"$f":"help2!G3","v":0.51906453565492872},null,"Tilpas SERIE(..) i CDS regn",null,null,null,null,null,null,null,null,null,{"$f":"Beregn!A26","v":720},{"$f":"Beregn!D26","v":0.89711994955499041},6.5792512120101012,6.585817589544968,-0.10856570283672272,43.372993322759889,-0.71499391536340051,0.90101109712716421,1.8731565332637126E-5]
[2,{"$f":"help1!B18","v":31.92001151031992},{"$f":"help1!C18","v":2.6826460336173525},{"$f":"$B$9*B19","v":31.92001151031992},{"$f":"Beregn!$U$4*(A19+Beregn!$U$5)^(-Beregn!$U$7)","v":31.9950853105573},null,{"$f":"G18+help2!$C$3","v":1},{"$f":"help2!G4","v":0.52257851624968921},null,{"$f":"CONCATENATE(\"til at plotte fra H\",ROW( H18),\" til H\",COUNT(H18:H2897)+ROW(H18)-1)","v":"til at plotte fra H18 til H257"},null,null,null,null,null,null,null,null,null,{"$f":"Beregn!A27","v":1440},{"$f":"Beregn!D27","v":0.52925721080119925},7.2723983925700466,7.2756869709920382,-0.63628074449464922,52.935620899863302,-4.6293795226128331,0.53218407798160161,3.0414190942794871E-5]
[5,{"$f":"help1!B19","v":24.191467406292972},{"$f":"help1!C19","v":1.6155896385977448},24.191467406292972,{"$f":"Beregn!$U$4*(A20+Beregn!$U$5)^(-Beregn!$U$7)","v":24.159859778116576},null,{"$f":"G19+help2!$C$3","v":2},{"$f":"help2!G5","v":0.52614765481800019},null,null,null,null,null,null,null,null,null,null,null,{"$f":"Beregn!A28","v":2880},{"$f":"Beregn!D28","v":0.31736086831756249},7.965545573129992,7.9671912141838828,-1.147715766714887,63.476135843368851,-9.144070972951166,0.31394365716549227,1.1720180481417893E-4]
[10,{"$f":"help1!B20","v":17.784402284400493},{"$f":"help1!C20","v":1.3502875839064294},17.784402284400493,{"$f":"Beregn!$U$4*(A21+Beregn!$U$5)^(-Beregn!$U$7)","v":17.611599258780039},null,{"$f":"G20+help2!$C$3","v":3},{"$f":"help2!G6","v":0.52977331400962246},null,null,null,null,"Mellemresultater svarende til Skrift 16"]
[30,{"$f":"help1!B21","v":9.1958933615142122},{"$f":"help1!C21","v":0.86457843324756767},9.1958933615142122,{"$f":"Beregn!$U$4*(A22+Beregn!$U$5)^(-Beregn!$U$7)","v":9.1551908102848589},null,{"$f":"G21+help2!$C$3","v":4},{"$f":"help2!G7","v":0.53345690254050848},null,null,null,null,"Dvs. at effekt af koblede regn IKKE er indkluderet",null,null,null,null,null,null,null,"Sum",null,{"$f":"SUM(W10:W20)","v":49.289252064812949},{"$f":"SUM(X10:X20)","v":16.525749179127423},{"$f":"SUM(Y10:Y20)","v":270.92501594414841},{"$f":"SUM(Z10:Z20)","v":35.836141517835372},null,{"$f":"SUM(AB10:AB20)","v":4.0030345795239125E-4}]
[60,{"$f":"help1!B22","v":5.6648947421532512},{"$f":"help1!C22","v":0.63067823108375765},5.6648947421532512,{"$f":"Beregn!$U$4*(A23+Beregn!$U$5)^(-Beregn!$U$7)","v":5.693099157298473},null,{"$f":"G22+help2!$C$3","v":5},{"$f":"help2!G8","v":0.53719987717792028},null,null,null,null,"i mellemresultaterne."]
[180,{"$f":"help1!B23","v":2.5352115385035594},{"$f":"help1!C23","v":0.23519604242429451},2.5352115385035594,{"$f":"Beregn!$U$4*(A24+Beregn!$U$5)^(-Beregn!$U$7)","v":2.5573754411331588},null,{"$f":"G23+help2!$C$3","v":6},{"$f":"help2!G9","v":0.5410037448240872},null,null,null,null,"Reduceret areal (ha)",null,null,null,{"$f":"Q3*Q4","v":5}]
[360,{"$f":"help1!B24","v":1.524918782213555},{"$f":"help1!C24","v":0.10461977305099421},1.524918782213555,{"$f":"Beregn!$U$4*(A25+Beregn!$U$5)^(-Beregn!$U$7)","v":1.5216772562101928},null,{"$f":"G24+help2!$C$3","v":7},{"$f":"help2!G10","v":0.54487006471179},null,null,null,null,"Afløbstal (mu-m/s",null,null,null,{"$f":"Q5/(Q24*10)","v":0.2},null,null,null,null,"Afløbstal","tr, 3 par","Vr,k 3 par","dV/dt","(dV/dt)^2",null,null,null,"dbasvol","alpha","nu","theta","t","a"]
[720,{"$f":"help1!B25","v":0.89711994955499041},{"$f":"help1!C25","v":6.6343525324266725E-2},0.89711994955499041,{"$f":"Beregn!$U$4*(A26+Beregn!$U$5)^(-Beregn!$U$7)","v":0.90101109712716421},null,{"$f":"G25+help2!$C$3","v":8},{"$f":"help2!G11","v":0.54880045071909644},null,null,null,null,"Varighed (h)",null,null,null,{"$f":"W27/60","v":13.19753509070776},null,null,null,null,"mu-m/s",1153.5315245328354,"(mm)","( … )","( … )",null,null,null,{"$f":"dbasvol(AE26,AF26,AG26,AH26,AI26)","v":3.6037165968956092E-2},{"$f":"U4","v":137.31087326207228},{"$f":"U7","v":0.76322873200607289},{"$f":"AE7","v":1},638,{"$f":"V27","v":0.2}]
[1440,{"$f":"help1!B26","v":0.52925721080119925},{"$f":"help1!C26","v":3.6961158316438293E-2},0.52925721080119925,{"$f":"Beregn!$U$4*(A27+Beregn!$U$5)^(-Beregn!$U$7)","v":0.53218407798160161},null,{"$f":"G26+help2!$C$3","v":9},{"$f":"help2!G12","v":0.55279657380272917},null,null,null,null,"Vr,k (mm)",null,null,null,{"$f":"X27","v":30.326113290420228},null,null,"Faktisk opland",null,{"$f":"Q25","v":0.2},{"$f":"AD28","v":791.85210544246559},{"$f":"(U$4*(W27+U$5)^(-U$7)-V27)*W27*60/1000","v":30.326113290420228},{"$f":"$U$4*(W27+$U$5)^(-1-$U$7)*(W27+$U$5-$U$7*W27)-V27","v":2.293934596334285E-3},{"$f":"SQRT(Y27^2)","v":2.293934596334285E-3},null,null,null,"bisectvol","xl","xr","xmid","tiny"]
[2880,{"$f":"help1!B27","v":0.31736086831756249},{"$f":"help1!C27","v":2.3747805786756761E-2},{"$f":"$B$9*B28","v":0.31736086831756249},{"$f":"Beregn!$U$4*(A28+Beregn!$U$5)^(-Beregn!$U$7)","v":0.31394365716549227},null,{"$f":"G27+help2!$C$3","v":10},{"$f":"help2!G13","v":0.55686016457138054},null,null,null,null,null,null,null,null,null,null,null,"Initialisering",null,null,{"$f":"(U$4*(1-U$7)/V27)^(1/U$7)","v":788.69424761510038},null,null,null,null,null,null,{"$f":"bisectvol(AE28,AF28,AG28,AH28,AE26,AF26,AG26,AI26)","v":791.85210544246559},{"$f":"0.3*W28","v":236.6082742845301},{"$f":"3*W28","v":2366.0827428453013},{"$f":"(AE28+AF28)/2","v":1301.3455085649157},{"$f":"AD3/100000","v":1.0000000000000001E-5}]
[null,null,null,null,null,null,{"$f":"G28+help2!$C$3","v":11},{"$f":"help2!G14","v":0.56099301599394003}]
[null,null,null,null,null,null,{"$f":"G29+help2!$C$3","v":12},{"$f":"help2!G15","v":0.56519698625852222},null,null,null,null,null,null,null,null,null,null,null,null,null,null,null,"Tilnærmet volumenkurve excl koblede regn. Tilnærmelsen er god op til ca. T=5 år"]
[null,null,null,null,null,null,{"$f":"G30+help2!$C$3","v":13},{"$f":"help2!G16","v":0.56947400179564744},null,null,null,null,null,null,null,null,null,null,null,"Volumenkurve",null,0.01,{"$f":"(U$4*(1-U$7)/V31)^(1/U$7)","v":39952.90584998003},{"$f":"(U$4*(W31+U$5)^(-U$7)-V31)*W31*60/1000","v":77.263392765944772}]
[null,null,null,null,null,null,{"$f":"G31+help2!$C$3","v":14},{"$f":"help2!G17","v":0.57382606046338147},null,null,null,null,null,null,null,null,null,null,null,"Tilnærmet for store afløbstal",null,{"$f":"V31*1.2","v":1.2E-2},31463.227128608214,73.012295567971009]
[null,null,null,null,null,null,{"$f":"G32+help2!$C$3","v":15},{"$f":"help2!G18","v":0.57825523492336706},null,null,null,null,null,null,null,null,null,null,null,null,null,1.44E-2,24777.538461495562,68.994501083322859]
[null,null,null,null,null,null,{"$f":"G33+help2!$C$3","v":16},{"$f":"help2!G19","v":0.58276367620226055},null,null,null,null,null,null,null,null,null,null,null,null,null,1.728E-2,19512.506129820096,65.19708644182451]
[null,null,null,null,null,null,{"$f":"G34+help2!$C$3","v":17},{"$f":"help2!G20","v":0.58735361746662229},null,null,null,null,null,null,null,null,null,null,null,null,null,2.0736000000000001E-2,15366.251819483052,61.607820774747992]
[null,null,null,null,null,null,{"$f":"G35+help2!$C$3","v":18},{"$f":"help2!G21","v":0.59202737801333505},null,null,null,null,null,null,null,null,null,null,null,null,null,2.4883200000000001E-2,12101.043987318057,58.215123460129384]
[null,null,null,null,null,null,{"$f":"G36+help2!$C$3","v":19},{"$f":"help2!G22","v":0.59678736750195438},null,null,null,null,null,null,null,null,null,null,null,null,null,2.9859839999999999E-2,9529.6671760473982,55.008023937461175]
[null,null,null,null,null,null,{"$f":"G37+help2!$C$3","v":20},{"$f":"help2!G23","v":0.60163609043389765},null,null,null,null,null,null,null,null,null,null,null,null,null,3.5831808E-2,7504.6877427608206,51.976122867153627]
[null,null,null,null,null,null,{"$f":"G38+help2!$C$3","v":21},{"$f":"help2!G24","v":0.60657615090798811},null,null,null,null,null,null,null,null,null,null,null,null,null,4.2998169599999997E-2,5910.0005357904201,49.109554398512657]
[null,null,null,null,null,null,{"$f":"G39+help2!$C$3","v":22},{"$f":"help2!G25","v":0.61161025766219934},null,null,null,null,null,null,null,null,null,null,null,null,null,5.1597803519999992E-2,4654.1718363612708,46.3989492960796]
[null,null,null,null,null,null,{"$f":"G40+help2!$C$3","v":23},{"$f":"help2!G26","v":0.61674122942907272},null,null,null,null,null,null,null,null,null,null,null,null,null,6.1917364223999988E-2,3665.1968728597353,43.835398658530664]
[null,null,null,null,null,null,{"$f":"G41+help2!$C$3","v":24},{"$f":"help2!G27","v":0.62197200062130154},null,null,null,null,null,null,null,null,null,null,null,null,null,7.4300837068799988E-2,2886.3713221477319,41.410417948018626]
[null,null,null,null,null,null,{"$f":"G42+help2!$C$3","v":25},{"$f":"help2!G28","v":0.6273056273804406},null,null,null,null,null,null,null,null,null,null,null,null,null,8.916100448255998E-2,2273.0400844243159,39.11591103277145]
[null,null,null,null,null,null,{"$f":"G43+help2!$C$3","v":26},{"$f":"help2!G29","v":0.63274529400599822},null,null,null,null,null,null,null,null,null,null,null,null,null,0.1,1955.8032380790737,37.735474458535734]
[null,null,null,null,null,null,{"$f":"G44+help2!$C$3","v":27},{"$f":"help2!G30","v":0.63829431980043139},null,null,null,null,null,null,null,null,null,null,null,null,null,0.12,1540.2104099664671,35.637099082372593]
[null,null,null,null,null,null,{"$f":"G45+help2!$C$3","v":28},{"$f":"help2!G31","v":0.64395616636144593},null,null,null,null,null,null,null,null,null,null,null,null,null,0.14399999999999999,1212.9277939528392,33.649495038449402]
[null,null,null,null,null,null,{"$f":"G46+help2!$C$3","v":29},{"$f":"help2!G32","v":0.64973444534739722},null,null,null,null,null,null,null,null,null,null,null,null,null,0.17279999999999998,955.19016351495304,31.765665999721424]
[null,null,null,null,null,null,{"$f":"G47+help2!$C$3","v":30},{"$f":"help2!G33","v":0.65563292676920792},null,null,null,null,null,null,null,null,null,null,null,null,null,0.20735999999999996,752.21975539229663,29.978829192716947]
[null,null,null,null,null,null,{"$f":"G48+help2!$C$3","v":31},{"$f":"help2!G34","v":0.66165554783105984},null,null,null,null,null,null,null,null,null,null,null,null,null,0.24883199999999994,592.37896495946086,28.282374446497769]
[null,null,null,null,null,null,{"$f":"G49+help2!$C$3","v":32},{"$f":"help2!G35","v":0.66780642237757504},null,null,null,null,null,null,null,null,null,null,null,null,null,0.29859839999999993,466.50308717754285,26.669822183915649]
[null,null,null,null,null,null,{"$f":"G50+help2!$C$3","v":33},{"$f":"help2!G36","v":0.6740898509909039},null,null,null,null,null,null,null,null,null,null,null,null,null,0.35831807999999993,367.3748448530261,25.134780985121996]
[null,null,null,null,null,null,{"$f":"G51+help2!$C$3","v":34},{"$f":"help2!G37","v":0.68051033179028331},null,null,null,null,null,null,null,null,null,null,null,null,null,0.42998169599999991,289.31057551484082,23.670905996584302]
[null,null,null,null,null,null,{"$f":"G52+help2!$C$3","v":35},{"$f":"help2!G38","v":0.68707257199360905},null,null,null,null,null,null,null,null,null,null,null,null,null,0.51597803519999985,227.83435033014882,22.271860425656193]
[null,null,null,null,null,null,{"$f":"G53+help2!$C$3","v":36},{"$f":"help2!G39","v":0.69378150030325236},null,null,null,null,null,null,null,null,null,null,null,null,null,0.61917364223999982,179.42134019120314,20.931283762086398]
[null,null,null,null,null,null,{"$f":"G54+help2!$C$3","v":37},{"$f":"help2!G40","v":0.70064228018621377},null,null,null,null,null,null,null,null,null,null,null,null,null,0.74300837068799974,141.29571449326588,19.642772318150509]
[null,null,null,null,null,null,{"$f":"G55+help2!$C$3","v":38},{"$f":"help2!G41","v":0.70766032412694169},null,null,null,null,null,null,null,null,null,null,null,null,null,1,95.741879713174981,17.638269693001376]
[null,null,null,null,null,null,{"$f":"G56+help2!$C$3","v":39},{"$f":"help2!G42","v":0.71484130893065456},null,null,null,null,null,null,null,null,null,null,null,null,null,1.2,75.397482186818763,16.455903652154365]
[null,null,null,null,null,null,{"$f":"G57+help2!$C$3","v":40},{"$f":"help2!G43","v":0.72219119217884697},null,null,null,null,null,null,null,null,null,null,null,null,null,1.44,59.376109359270998,15.30239687616924]
[null,null,null,null,null,null,{"$f":"G58+help2!$C$3","v":41},{"$f":"help2!G44","v":0.72971622993021656},null,null,null,null,null,null,null,null,null,null,null,null,null,1.728,46.759152433082896,14.171824639255345]
[null,null,null,null,null,null,{"$f":"G59+help2!$C$3","v":42},{"$f":"help2!G45","v":0.73742299578448578},null,null,null,null,null,null,null,null,null,null,null,null,null,2.0735999999999999,36.82319976593238,13.058898230051891]
[null,null,null,null,null,null,{"$f":"G60+help2!$C$3","v":43},{"$f":"help2!G46","v":0.74531840142887995},null,null,null,null,null,null,null,null,null,null,null,null,null,2.4883199999999999,28.998559008148419,11.959358620514983]
[null,null,null,null,null,null,{"$f":"G61+help2!$C$3","v":44},{"$f":"help2!G47","v":0.75340971880982877},null,null,null,null,null,null,null,null,null,null,null,null,null,2.9859839999999997,22.836592960263456,10.870466926382147]
[null,null,null,null,null,null,{"$f":"G62+help2!$C$3","v":45},{"$f":"help2!G48","v":0.76170460407480622},null,null,null,null,null,null,null,null,null,null,null,null,null,3.5831807999999996,17.983996304306483,9.7915530837011797]
[null,null,null,null,null,null,{"$f":"G63+help2!$C$3","v":46},{"$f":"help2!G49","v":0.77021112345870735},null,null,null,null,null,null,null,null,null,null,null,null,null,4.2998169599999994,14.162538327677831,8.7245414631338338]
[null,null,null,null,null,null,{"$f":"G64+help2!$C$3","v":47},{"$f":"help2!G50","v":0.77893778129388369},null,null,null,null,null,null,null,null,null,null,null,null,null,{"$f":"V64*1.2","v":5.1597803519999994},11.153110159109245,7.674326559904145]
[null,null,null,null,null,null,{"$f":"G65+help2!$C$3","v":48},{"$f":"help2!G51","v":0.78789355036013042},null,null,null,null,null,null,null,null,null,null,null,null,null,{"$f":"V65*1.2","v":6.1917364223999991},8.7831618416966215,6.6488429118244694]
[null,null,null,null,null,null,{"$f":"G66+help2!$C$3","v":49},{"$f":"help2!G52","v":0.79708790479542391},null,null,null,null,null,null,null,null,null,null,null,null,null,{"$f":"V66*1.2","v":7.4300837068799988},6.9168089292499877,5.6586875671458143]
[null,null,null,null,null,null,{"$f":"G67+help2!$C$3","v":50},{"$f":"help2!G53","v":0.80653085583327833},null,null,null,null,null,null,null,null,null,null,null,null,null,{"$f":"V67*1.2","v":8.9161004482559978},5.4470413532207891,4.7162312536203856]
[null,null,null,null,null,null,{"$f":"G68+help2!$C$3","v":51},{"$f":"help2!G54","v":0.81623299064508481},null,null,null,null,null,null,null,null,null,null,null,null,null,10,4.6868250100736653,4.1534244611815589]
[null,null,null,null,null,null,{"$f":"G69+help2!$C$3","v":52},{"$f":"help2!G55","v":0.82620551461622882}]
[null,null,null,null,null,null,{"$f":"G70+help2!$C$3","v":53},{"$f":"help2!G56","v":0.83646029740706895}]
[null,null,null,null,null,null,{"$f":"G71+help2!$C$3","v":54},{"$f":"help2!G57","v":0.84700992320800095}]
[null,null,null,null,null,null,{"$f":"G72+help2!$C$3","v":55},{"$f":"help2!G58","v":0.85786774563579205}]
[null,null,null,null,null,null,{"$f":"G73+help2!$C$3","v":56},{"$f":"help2!G59","v":0.86904794778087191}]
[null,null,null,null,null,null,{"$f":"G74+help2!$C$3","v":57},{"$f":"help2!G60","v":0.880565607982711}]
[null,null,null,null,null,null,{"$f":"G75+help2!$C$3","v":58},{"$f":"help2!G61","v":0.89243677197401172}]
[null,null,null,null,null,null,{"$f":"G76+help2!$C$3","v":59},{"$f":"help2!G62","v":0.90467853213045679}]
[null,null,null,null,null,null,{"$f":"G77+help2!$C$3","v":60},{"$f":"help2!G63","v":0.91730911465717502}]
[null,null,null,null,null,null,{"$f":"G78+help2!$C$3","v":61},{"$f":"help2!G64","v":0.93034797564931515}]
[null,null,null,null,null,null,{"$f":"G79+help2!$C$3","v":62},{"$f":"help2!G65","v":0.94381590710616592}]
[null,null,null,null,null,null,{"$f":"G80+help2!$C$3","v":63},{"$f":"help2!G66","v":0.95773515411530552}]
[null,null,null,null,null,null,{"$f":"G81+help2!$C$3","v":64},{"$f":"help2!G67","v":0.97212954461309586}]
[null,null,null,null,null,null,{"$f":"G82+help2!$C$3","v":65},{"$f":"help2!G68","v":0.98702463331591739}]
[null,null,null,null,null,null,{"$f":"G83+help2!$C$3","v":66},{"$f":"help2!G69","v":1.0024478616650621}]
[null,null,null,null,null,null,{"$f":"G84+help2!$C$3","v":67},{"$f":"help2!G70","v":1.0184287359038524}]
[null,null,null,null,null,null,{"$f":"G85+help2!$C$3","v":68},{"$f":"help2!G71","v":1.0349990257235269}]
[null,null,null,null,null,null,{"$f":"G86+help2!$C$3","v":69},{"$f":"help2!G72","v":1.0521929863085313}]
[null,null,null,null,null,null,{"$f":"G87+help2!$C$3","v":70},{"$f":"help2!G73","v":1.0700476070561806}]
[null,null,null,null,null,null,{"$f":"G88+help2!$C$3","v":71},{"$f":"help2!G74","v":1.0886028907804568}]
[null,null,null,null,null,null,{"$f":"G89+help2!$C$3","v":72},{"$f":"help2!G75","v":1.1079021678475502}]
[null,null,null,null,null,null,{"$f":"G90+help2!$C$3","v":73},{"$f":"help2!G76","v":1.1279924504420877}]
[null,null,null,null,null,null,{"$f":"G91+help2!$C$3","v":74},{"$f":"help2!G77","v":1.1489248330700184}]
[null,null,null,null,null,null,{"$f":"G92+help2!$C$3","v":75},{"$f":"help2!G78","v":1.170754946480757}]
[null,null,null,null,null,null,{"$f":"G93+help2!$C$3","v":76},{"$f":"help2!G79","v":1.1935434734981021}]
[null,null,null,null,null,null,{"$f":"G94+help2!$C$3","v":77},{"$f":"help2!G80","v":1.2173567368232359}]
[null,null,null,null,null,null,{"$f":"G95+help2!$C$3","v":78},{"$f":"help2!G81","v":1.2422673707782548}]
[null,null,null,null,null,null,{"$f":"G96+help2!$C$3","v":79},{"$f":"help2!G82","v":1.2683550912891826}]
[null,null,null,null,null,null,{"$f":"G97+help2!$C$3","v":80},{"$f":"help2!G83","v":1.2957075812459786}]
[null,null,null,null,null,null,{"$f":"G98+help2!$C$3","v":81},{"$f":"help2!G84","v":1.3244215118819136}]
[null,null,null,null,null,null,{"$f":"G99+help2!$C$3","v":82},{"$f":"help2!G85","v":1.354603725119742}]
[null,null,null,null,null,null,{"$f":"G100+help2!$C$3","v":83},{"$f":"help2!G86","v":1.3863726072021858}]
[null,null,null,null,null,null,{"$f":"G101+help2!$C$3","v":84},{"$f":"help2!G87","v":1.4198596905911867}]
[null,null,null,null,null,null,{"$f":"G102+help2!$C$3","v":85},{"$f":"help2!G88","v":1.4552115295200716}]
[null,null,null,null,null,null,{"$f":"G103+help2!$C$3","v":86},{"$f":"help2!G89","v":1.4925919051316319}]
[null,null,null,null,null,null,{"$f":"G104+help2!$C$3","v":87},{"$f":"help2!G90","v":1.5321844295738358}]
[null,null,null,null,null,null,{"$f":"G105+help2!$C$3","v":88},{"$f":"help2!G91","v":1.5741956355380582}]
[null,null,null,null,null,null,{"$f":"G106+help2!$C$3","v":89},{"$f":"help2!G92","v":1.6188586597667372}]
[null,null,null,null,null,null,{"$f":"G107+help2!$C$3","v":90},{"$f":"help2!G93","v":1.6664376575675204}]
[null,null,null,null,null,null,{"$f":"G108+help2!$C$3","v":91},{"$f":"help2!G94","v":1.7172331225770425}]
[null,null,null,null,null,null,{"$f":"G109+help2!$C$3","v":92},{"$f":"help2!G95","v":1.7715883349290324}]
[null,null,null,null,null,null,{"$f":"G110+help2!$C$3","v":93},{"$f":"help2!G96","v":1.8298972258270318}]
[null,null,null,null,null,null,{"$f":"G111+help2!$C$3","v":94},{"$f":"help2!G97","v":1.8926140332732437}]
[null,null,null,null,null,null,{"$f":"G112+help2!$C$3","v":95},{"$f":"help2!G98","v":1.96026524083173}]
[null,null,null,null,null,null,{"$f":"G113+help2!$C$3","v":96},{"$f":"help2!G99","v":2.0334644511085544}]
[null,null,null,null,null,null,{"$f":"G114+help2!$C$3","v":97},{"$f":"help2!G100","v":2.1129310659493616}]
[null,null,null,null,null,null,{"$f":"G115+help2!$C$3","v":98},{"$f":"help2!G101","v":2.1995139527167793}]
[null,null,null,null,null,null,{"$f":"G116+help2!$C$3","v":99},{"$f":"help2!G102","v":2.2942217101101359}]
[null,null,null,null,null,null,{"$f":"G117+help2!$C$3","v":100},{"$f":"help2!G103","v":2.3982617683934677}]
[null,null,null,null,null,null,{"$f":"G118+help2!$C$3","v":101},{"$f":"help2!G104","v":2.5130914613477988}]
[null,null,null,null,null,null,{"$f":"G119+help2!$C$3","v":102},{"$f":"help2!G105","v":2.6404855386430213}]
[null,null,null,null,null,null,{"$f":"G120+help2!$C$3","v":103},{"$f":"help2!G106","v":2.7826265852222578}]
[null,null,null,null,null,null,{"$f":"G121+help2!$C$3","v":104},{"$f":"help2!G107","v":2.9422278688411421}]
[null,null,null,null,null,null,{"$f":"G122+help2!$C$3","v":105},{"$f":"help2!G108","v":3.1227029032021227}]
[null,null,null,null,null,null,{"$f":"G123+help2!$C$3","v":106},{"$f":"help2!G109","v":3.3284036207558723}]
[null,null,null,null,null,null,{"$f":"G124+help2!$C$3","v":107},{"$f":"help2!G110","v":3.564961494899431}]
[null,null,null,null,null,null,{"$f":"G125+help2!$C$3","v":108},{"$f":"help2!G111","v":3.8397868872960923}]
[null,null,null,null,null,null,{"$f":"G126+help2!$C$3","v":109},{"$f":"help2!G112","v":4.162818226734081}]
[null,null,null,null,null,null,{"$f":"G127+help2!$C$3","v":110},{"$f":"help2!G113","v":4.5476779247805297}]
[null,null,null,null,null,null,{"$f":"G128+help2!$C$3","v":111},{"$f":"help2!G114","v":5.0135140875050386}]
[null,null,null,null,null,null,{"$f":"G129+help2!$C$3","v":112},{"$f":"help2!G115","v":5.5880463545202756}]
[null,null,null,null,null,null,{"$f":"G130+help2!$C$3","v":113},{"$f":"help2!G116","v":6.3128286573514707}]
[null,null,null,null,null,null,{"$f":"G131+help2!$C$3","v":114},{"$f":"help2!G117","v":7.2528301737303362}]
[null,null,null,null,null,null,{"$f":"G132+help2!$C$3","v":115},{"$f":"help2!G118","v":8.5150208649864467}]
[null,null,null,null,null,null,{"$f":"G133+help2!$C$3","v":116},{"$f":"help2!G119","v":10.287387072174896}]
[null,null,null,null,null,null,{"$f":"G134+help2!$C$3","v":117},{"$f":"help2!G120","v":12.92956492287461}]
[null,null,null,null,null,null,{"$f":"G135+help2!$C$3","v":118},{"$f":"help2!G121","v":17.213925870717322}]
[null,null,null,null,null,null,{"$f":"G136+help2!$C$3","v":119},{"$f":"help2!G122","v":25.103231332174417}]
[null,null,null,null,null,null,{"$f":"G137+help2!$C$3","v":120},{"$f":"help2!G123","v":36.164984484799405}]
[null,null,null,null,null,null,{"$f":"G138+help2!$C$3","v":121},{"$f":"help2!G124","v":25.103231332174417}]
[null,null,null,null,null,null,{"$f":"G139+help2!$C$3","v":122},{"$f":"help2!G125","v":17.213925870717322}]
[null,null,null,null,null,null,{"$f":"G140+help2!$C$3","v":123},{"$f":"help2!G126","v":12.92956492287461}]
[null,null,null,null,null,null,{"$f":"G141+help2!$C$3","v":124},{"$f":"help2!G127","v":10.287387072174896}]
[null,null,null,null,null,null,{"$f":"G142+help2!$C$3","v":125},{"$f":"help2!G128","v":8.5150208649864467}]
[null,null,null,null,null,null,{"$f":"G143+help2!$C$3","v":126},{"$f":"help2!G129","v":7.2528301737303362}]
[null,null,null,null,null,null,{"$f":"G144+help2!$C$3","v":127},{"$f":"help2!G130","v":6.3128286573514707}]
[null,null,null,null,null,null,{"$f":"G145+help2!$C$3","v":128},{"$f":"help2!G131","v":5.5880463545202756}]
[null,null,null,null,null,null,{"$f":"G146+help2!$C$3","v":129},{"$f":"help2!G132","v":5.0135140875050386}]
[null,null,null,null,null,null,{"$f":"G147+help2!$C$3","v":130},{"$f":"help2!G133","v":4.5476779247805297}]
[null,null,null,null,null,null,{"$f":"G148+help2!$C$3","v":131},{"$f":"help2!G134","v":4.162818226734081}]
[null,null,null,null,null,null,{"$f":"G149+help2!$C$3","v":132},{"$f":"help2!G135","v":3.8397868872960923}]
[null,null,null,null,null,null,{"$f":"G150+help2!$C$3","v":133},{"$f":"help2!G136","v":3.564961494899431}]
[null,null,null,null,null,null,{"$f":"G151+help2!$C$3","v":134},{"$f":"help2!G137","v":3.3284036207558723}]
[null,null,null,null,null,null,{"$f":"G152+help2!$C$3","v":135},{"$f":"help2!G138","v":3.1227029032021227}]
[null,null,null,null,null,null,{"$f":"G153+help2!$C$3","v":136},{"$f":"help2!G139","v":2.9422278688411421}]
[null,null,null,null,null,null,{"$f":"G154+help2!$C$3","v":137},{"$f":"help2!G140","v":2.7826265852222578}]
[null,null,null,null,null,null,{"$f":"G155+help2!$C$3","v":138},{"$f":"help2!G141","v":2.6404855386430213}]
[null,null,null,null,null,null,{"$f":"G156+help2!$C$3","v":139},{"$f":"help2!G142","v":2.5130914613477988}]
[null,null,null,null,null,null,{"$f":"G157+help2!$C$3","v":140},{"$f":"help2!G143","v":2.3982617683934677}]
[null,null,null,null,null,null,{"$f":"G158+help2!$C$3","v":141},{"$f":"help2!G144","v":2.2942217101101359}]
[null,null,null,null,null,null,{"$f":"G159+help2!$C$3","v":142},{"$f":"help2!G145","v":2.1995139527167793}]
[null,null,null,null,null,null,{"$f":"G160+help2!$C$3","v":143},{"$f":"help2!G146","v":2.1129310659493616}]
[null,null,null,null,null,null,{"$f":"G161+help2!$C$3","v":144},{"$f":"help2!G147","v":2.0334644511085544}]
[null,null,null,null,null,null,{"$f":"G162+help2!$C$3","v":145},{"$f":"help2!G148","v":1.96026524083173}]
[null,null,null,null,null,null,{"$f":"G163+help2!$C$3","v":146},{"$f":"help2!G149","v":1.8926140332732437}]
[null,null,null,null,null,null,{"$f":"G164+help2!$C$3","v":147},{"$f":"help2!G150","v":1.8298972258270318}]
[null,null,null,null,null,null,{"$f":"G165+help2!$C$3","v":148},{"$f":"help2!G151","v":1.7715883349290324}]
[null,null,null,null,null,null,{"$f":"G166+help2!$C$3","v":149},{"$f":"help2!G152","v":1.7172331225770425}]
[null,null,null,null,null,null,{"$f":"G167+help2!$C$3","v":150},{"$f":"help2!G153","v":1.6664376575675204}]
[null,null,null,null,null,null,{"$f":"G168+help2!$C$3","v":151},{"$f":"help2!G154","v":1.6188586597667372}]
[null,null,null,null,null,null,{"$f":"G169+help2!$C$3","v":152},{"$f":"help2!G155","v":1.5741956355380582}]
[null,null,null,null,null,null,{"$f":"G170+help2!$C$3","v":153},{"$f":"help2!G156","v":1.5321844295738358}]
[null,null,null,null,null,null,{"$f":"G171+help2!$C$3","v":154},{"$f":"help2!G157","v":1.4925919051316319}]
[null,null,null,null,null,null,{"$f":"G172+help2!$C$3","v":155},{"$f":"help2!G158","v":1.4552115295200716}]
[null,null,null,null,null,null,{"$f":"G173+help2!$C$3","v":156},{"$f":"help2!G159","v":1.4198596905911867}]
[null,null,null,null,null,null,{"$f":"G174+help2!$C$3","v":157},{"$f":"help2!G160","v":1.3863726072021858}]
[null,null,null,null,null,null,{"$f":"G175+help2!$C$3","v":158},{"$f":"help2!G161","v":1.354603725119742}]
[null,null,null,null,null,null,{"$f":"G176+help2!$C$3","v":159},{"$f":"help2!G162","v":1.3244215118819136}]
[null,null,null,null,null,null,{"$f":"G177+help2!$C$3","v":160},{"$f":"help2!G163","v":1.2957075812459786}]
[null,null,null,null,null,null,{"$f":"G178+help2!$C$3","v":161},{"$f":"help2!G164","v":1.2683550912891826}]
[null,null,null,null,null,null,{"$f":"G179+help2!$C$3","v":162},{"$f":"help2!G165","v":1.2422673707782548}]
[null,null,null,null,null,null,{"$f":"G180+help2!$C$3","v":163},{"$f":"help2!G166","v":1.2173567368232359}]
[null,null,null,null,null,null,{"$f":"G181+help2!$C$3","v":164},{"$f":"help2!G167","v":1.1935434734981021}]
[null,null,null,null,null,null,{"$f":"G182+help2!$C$3","v":165},{"$f":"help2!G168","v":1.170754946480757}]
[null,null,null,null,null,null,{"$f":"G183+help2!$C$3","v":166},{"$f":"help2!G169","v":1.1489248330700184}]
[null,null,null,null,null,null,{"$f":"G184+help2!$C$3","v":167},{"$f":"help2!G170","v":1.1279924504420877}]
[null,null,null,null,null,null,{"$f":"G185+help2!$C$3","v":168},{"$f":"help2!G171","v":1.1079021678475502}]
[null,null,null,null,null,null,{"$f":"G186+help2!$C$3","v":169},{"$f":"help2!G172","v":1.0886028907804568}]
[null,null,null,null,null,null,{"$f":"G187+help2!$C$3","v":170},{"$f":"help2!G173","v":1.0700476070561806}]
[null,null,null,null,null,null,{"$f":"G188+help2!$C$3","v":171},{"$f":"help2!G174","v":1.0521929863085313}]
[null,null,null,null,null,null,{"$f":"G189+help2!$C$3","v":172},{"$f":"help2!G175","v":1.0349990257235269}]
[null,null,null,null,null,null,{"$f":"G190+help2!$C$3","v":173},{"$f":"help2!G176","v":1.0184287359038524}]
[null,null,null,null,null,null,{"$f":"G191+help2!$C$3","v":174},{"$f":"help2!G177","v":1.0024478616650621}]
[null,null,null,null,null,null,{"$f":"G192+help2!$C$3","v":175},{"$f":"help2!G178","v":0.98702463331591739}]
[null,null,null,null,null,null,{"$f":"G193+help2!$C$3","v":176},{"$f":"help2!G179","v":0.97212954461309586}]
[null,null,null,null,null,null,{"$f":"G194+help2!$C$3","v":177},{"$f":"help2!G180","v":0.95773515411530552}]
[null,null,null,null,null,null,{"$f":"G195+help2!$C$3","v":178},{"$f":"help2!G181","v":0.94381590710616592}]
[null,null,null,null,null,null,{"$f":"G196+help2!$C$3","v":179},{"$f":"help2!G182","v":0.93034797564931515}]
[null,null,null,null,null,null,{"$f":"G197+help2!$C$3","v":180},{"$f":"help2!G183","v":0.91730911465717502}]
[null,null,null,null,null,null,{"$f":"G198+help2!$C$3","v":181},{"$f":"help2!G184","v":0.90467853213045679}]
[null,null,null,null,null,null,{"$f":"G199+help2!$C$3","v":182},{"$f":"help2!G185","v":0.89243677197401172}]
[null,null,null,null,null,null,{"$f":"G200+help2!$C$3","v":183},{"$f":"help2!G186","v":0.880565607982711}]
[null,null,null,null,null,null,{"$f":"G201+help2!$C$3","v":184},{"$f":"help2!G187","v":0.86904794778087191}]
[null,null,null,null,null,null,{"$f":"G202+help2!$C$3","v":185},{"$f":"help2!G188","v":0.85786774563579205}]
[null,null,null,null,null,null,{"$f":"G203+help2!$C$3","v":186},{"$f":"help2!G189","v":0.84700992320800095}]
[null,null,null,null,null,null,{"$f":"G204+help2!$C$3","v":187},{"$f":"help2!G190","v":0.83646029740706895}]
[null,null,null,null,null,null,{"$f":"G205+help2!$C$3","v":188},{"$f":"help2!G191","v":0.82620551461622882}]
[null,null,null,null,null,null,{"$f":"G206+help2!$C$3","v":189},{"$f":"help2!G192","v":0.81623299064508481}]
[null,null,null,null,null,null,{"$f":"G207+help2!$C$3","v":190},{"$f":"help2!G193","v":0.80653085583327833}]
[null,null,null,null,null,null,{"$f":"G208+help2!$C$3","v":191},{"$f":"help2!G194","v":0.79708790479542391}]
[null,null,null,null,null,null,{"$f":"G209+help2!$C$3","v":192},{"$f":"help2!G195","v":0.78789355036013042}]
[null,null,null,null,null,null,{"$f":"G210+help2!$C$3","v":193},{"$f":"help2!G196","v":0.77893778129388369}]
[null,null,null,null,null,null,{"$f":"G211+help2!$C$3","v":194},{"$f":"help2!G197","v":0.77021112345870735}]
[null,null,null,null,null,null,{"$f":"G212+help2!$C$3","v":195},{"$f":"help2!G198","v":0.76170460407480622}]
[null,null,null,null,null,null,{"$f":"G213+help2!$C$3","v":196},{"$f":"help2!G199","v":0.75340971880982877}]
[null,null,null,null,null,null,{"$f":"G214+help2!$C$3","v":197},{"$f":"help2!G200","v":0.74531840142887995}]
[null,null,null,null,null,null,{"$f":"G215+help2!$C$3","v":198},{"$f":"help2!G201","v":0.73742299578448578}]
[null,null,null,null,null,null,{"$f":"G216+help2!$C$3","v":199},{"$f":"help2!G202","v":0.72971622993021656}]
[null,null,null,null,null,null,{"$f":"G217+help2!$C$3","v":200},{"$f":"help2!G203","v":0.72219119217884697}]
[null,null,null,null,null,null,{"$f":"G218+help2!$C$3","v":201},{"$f":"help2!G204","v":0.71484130893065456}]
[null,null,null,null,null,null,{"$f":"G219+help2!$C$3","v":202},{"$f":"help2!G205","v":0.70766032412694169}]
[null,null,null,null,null,null,{"$f":"G220+help2!$C$3","v":203},{"$f":"help2!G206","v":0.70064228018621377}]
[null,null,null,null,null,null,{"$f":"G221+help2!$C$3","v":204},{"$f":"help2!G207","v":0.69378150030325236}]
[null,null,null,null,null,null,{"$f":"G222+help2!$C$3","v":205},{"$f":"help2!G208","v":0.68707257199360905}]
[null,null,null,null,null,null,{"$f":"G223+help2!$C$3","v":206},{"$f":"help2!G209","v":0.68051033179028331}]
[null,null,null,null,null,null,{"$f":"G224+help2!$C$3","v":207},{"$f":"help2!G210","v":0.6740898509909039}]
[null,null,null,null,null,null,{"$f":"G225+help2!$C$3","v":208},{"$f":"help2!G211","v":0.66780642237757504}]
[null,null,null,null,null,null,{"$f":"G226+help2!$C$3","v":209},{"$f":"help2!G212","v":0.66165554783105984}]
[null,null,null,null,null,null,{"$f":"G227+help2!$C$3","v":210},{"$f":"help2!G213","v":0.65563292676920792}]
[null,null,null,null,null,null,{"$f":"G228+help2!$C$3","v":211},{"$f":"help2!G214","v":0.64973444534739722}]
[null,null,null,null,null,null,{"$f":"G229+help2!$C$3","v":212},{"$f":"help2!G215","v":0.64395616636144593}]
[null,null,null,null,null,null,{"$f":"G230+help2!$C$3","v":213},{"$f":"help2!G216","v":0.63829431980043139}]
[null,null,null,null,null,null,{"$f":"G231+help2!$C$3","v":214},{"$f":"help2!G217","v":0.63274529400599822}]
[null,null,null,null,null,null,{"$f":"G232+help2!$C$3","v":215},{"$f":"help2!G218","v":0.6273056273804406}]
[null,null,null,null,null,null,{"$f":"G233+help2!$C$3","v":216},{"$f":"help2!G219","v":0.62197200062130154}]
[null,null,null,null,null,null,{"$f":"G234+help2!$C$3","v":217},{"$f":"help2!G220","v":0.61674122942907272}]
[null,null,null,null,null,null,{"$f":"G235+help2!$C$3","v":218},{"$f":"help2!G221","v":0.61161025766219934}]
[null,null,null,null,null,null,{"$f":"G236+help2!$C$3","v":219},{"$f":"help2!G222","v":0.60657615090798811}]
[null,null,null,null,null,null,{"$f":"G237+help2!$C$3","v":220},{"$f":"help2!G223","v":0.60163609043389765}]
[null,null,null,null,null,null,{"$f":"G238+help2!$C$3","v":221},{"$f":"help2!G224","v":0.59678736750195438}]
[null,null,null,null,null,null,{"$f":"G239+help2!$C$3","v":222},{"$f":"help2!G225","v":0.59202737801333505}]
[null,null,null,null,null,null,{"$f":"G240+help2!$C$3","v":223},{"$f":"help2!G226","v":0.58735361746662229}]
[null,null,null,null,null,null,{"$f":"G241+help2!$C$3","v":224},{"$f":"help2!G227","v":0.58276367620226055}]
[null,null,null,null,null,null,{"$f":"G242+help2!$C$3","v":225},{"$f":"help2!G228","v":0.57825523492336706}]
[null,null,null,null,null,null,{"$f":"G243+help2!$C$3","v":226},{"$f":"help2!G229","v":0.57382606046338147}]
[null,null,null,null,null,null,{"$f":"G244+help2!$C$3","v":227},{"$f":"help2!G230","v":0.56947400179564744}]
[null,null,null,null,null,null,{"$f":"G245+help2!$C$3","v":228},{"$f":"help2!G231","v":0.56519698625852222}]
[null,null,null,null,null,null,{"$f":"G246+help2!$C$3","v":229},{"$f":"help2!G232","v":0.56099301599394003}]
[null,null,null,null,null,null,{"$f":"G247+help2!$C$3","v":230},{"$f":"help2!G233","v":0.55686016457138054}]
[null,null,null,null,null,null,{"$f":"G248+help2!$C$3","v":231},{"$f":"help2!G234","v":0.55279657380272917}]
[null,null,null,null,null,null,{"$f":"G249+help2!$C$3","v":232},{"$f":"help2!G235","v":0.54880045071909644}]
[null,null,null,null,null,null,{"$f":"G250+help2!$C$3","v":233},{"$f":"help2!G236","v":0.54487006471179}]
[null,null,null,null,null,null,{"$f":"G251+help2!$C$3","v":234},{"$f":"help2!G237","v":0.5410037448240872}]
[null,null,null,null,null,null,{"$f":"G252+help2!$C$3","v":235},{"$f":"help2!G238","v":0.53719987717792028}]
[null,null,null,null,null,null,{"$f":"G253+help2!$C$3","v":236},{"$f":"help2!G239","v":0.53345690254050848}]
[null,null,null,null,null,null,{"$f":"G254+help2!$C$3","v":237},{"$f":"help2!G240","v":0.52977331400962246}]
[null,null,null,null,null,null,{"$f":"G255+help2!$C$3","v":238},{"$f":"help2!G241","v":0.52614765481800019}]
[null,null,null,null,null,null,{"$f":"G256+help2!$C$3","v":239},{"$f":"help2!G242","v":0.52257851624968921}]
[null,null,null,null,null,null,{"$f":"G257+help2!$C$3","v":240},{"$f":"help2!G243","v":" "}]
[null,null,null,null,null,null,{"$f":"G258+help2!$C$3","v":241},{"$f":"help2!G244","v":" "}]
[null,null,null,null,null,null,{"$f":"G259+help2!$C$3","v":242},{"$f":"help2!G245","v":" "}]
[null,null,null,null,null,null,{"$f":"G260+help2!$C$3","v":243},{"$f":"help2!G246","v":" "}]
[null,null,null,null,null,null,{"$f":"G261+help2!$C$3","v":244},{"$f":"help2!G247","v":" "}]
[null,null,null,null,null,null,{"$f":"G262+help2!$C$3","v":245},{"$f":"help2!G248","v":" "}]
[null,null,null,null,null,null,{"$f":"G263+help2!$C$3","v":246},{"$f":"help2!G249","v":" "}]
[null,null,null,null,null,null,{"$f":"G264+help2!$C$3","v":247},{"$f":"help2!G250","v":" "}]
[null,null,null,null,null,null,{"$f":"G265+help2!$C$3","v":248},{"$f":"help2!G251","v":" "}]
[null,null,null,null,null,null,{"$f":"G266+help2!$C$3","v":249},{"$f":"help2!G252","v":" "}]
[null,null,null,null,null,null,{"$f":"G267+help2!$C$3","v":250},{"$f":"help2!G253","v":" "}]
[null,null,null,null,null,null,{"$f":"G268+help2!$C$3","v":251},{"$f":"help2!G254","v":" "}]
[null,null,null,null,null,null,{"$f":"G269+help2!$C$3","v":252},{"$f":"help2!G255","v":" "}]
[null,null,null,null,null,null,{"$f":"G270+help2!$C$3","v":253},{"$f":"help2!G256","v":" "}]
[null,null,null,null,null,null,{"$f":"G271+help2!$C$3","v":254},{"$f":"help2!G257","v":" "}]
[null,null,null,null,null,null,{"$f":"G272+help2!$C$3","v":255},{"$f":"help2!G258","v":" "}]
[null,null,null,null,null,null,{"$f":"G273+help2!$C$3","v":256},{"$f":"help2!G259","v":" "}]
[null,null,null,null,null,null,{"$f":"G274+help2!$C$3","v":257},{"$f":"help2!G260","v":" "}]
[null,null,null,null,null,null,{"$f":"G275+help2!$C$3","v":258},{"$f":"help2!G261","v":" "}]
[null,null,null,null,null,null,{"$f":"G276+help2!$C$3","v":259},{"$f":"help2!G262","v":" "}]
[null,null,null,null,null,null,{"$f":"G277+help2!$C$3","v":260},{"$f":"help2!G263","v":" "}]
[null,null,null,null,null,null,{"$f":"G278+help2!$C$3","v":261},{"$f":"help2!G264","v":" "}]
[null,null,null,null,null,null,{"$f":"G279+help2!$C$3","v":262},{"$f":"help2!G265","v":" "}]
[null,null,null,null,null,null,{"$f":"G280+help2!$C$3","v":263},{"$f":"help2!G266","v":" "}]
[null,null,null,null,null,null,{"$f":"G281+help2!$C$3","v":264},{"$f":"help2!G267","v":" "}]
[null,null,null,null,null,null,{"$f":"G282+help2!$C$3","v":265},{"$f":"help2!G268","v":" "}]
[null,null,null,null,null,null,{"$f":"G283+help2!$C$3","v":266},{"$f":"help2!G269","v":" "}]
[null,null,null,null,null,null,{"$f":"G284+help2!$C$3","v":267},{"$f":"help2!G270","v":" "}]
[null,null,null,null,null,null,{"$f":"G285+help2!$C$3","v":268},{"$f":"help2!G271","v":" "}]
[null,null,null,null,null,null,{"$f":"G286+help2!$C$3","v":269},{"$f":"help2!G272","v":" "}]
[null,null,null,null,null,null,{"$f":"G287+help2!$C$3","v":270},{"$f":"help2!G273","v":" "}]
[null,null,null,null,null,null,{"$f":"G288+help2!$C$3","v":271},{"$f":"help2!G274","v":" "}]
[null,null,null,null,null,null,{"$f":"G289+help2!$C$3","v":272},{"$f":"help2!G275","v":" "}]
[null,null,null,null,null,null,{"$f":"G290+help2!$C$3","v":273},{"$f":"help2!G276","v":" "}]
[null,null,null,null,null,null,{"$f":"G291+help2!$C$3","v":274},{"$f":"help2!G277","v":" "}]
[null,null,null,null,null,null,{"$f":"G292+help2!$C$3","v":275},{"$f":"help2!G278","v":" "}]
[null,null,null,null,null,null,{"$f":"G293+help2!$C$3","v":276},{"$f":"help2!G279","v":" "}]
[null,null,null,null,null,null,{"$f":"G294+help2!$C$3","v":277},{"$f":"help2!G280","v":" "}]
[null,null,null,null,null,null,{"$f":"G295+help2!$C$3","v":278},{"$f":"help2!G281","v":" "}]
[null,null,null,null,null,null,{"$f":"G296+help2!$C$3","v":279},{"$f":"help2!G282","v":" "}]
[null,null,null,null,null,null,{"$f":"G297+help2!$C$3","v":280},{"$f":"help2!G283","v":" "}]
[null,null,null,null,null,null,{"$f":"G298+help2!$C$3","v":281},{"$f":"help2!G284","v":" "}]
[null,null,null,null,null,null,{"$f":"G299+help2!$C$3","v":282},{"$f":"help2!G285","v":" "}]
[null,null,null,null,null,null,{"$f":"G300+help2!$C$3","v":283},{"$f":"help2!G286","v":" "}]
[null,null,null,null,null,null,{"$f":"G301+help2!$C$3","v":284},{"$f":"help2!G287","v":" "}]
[null,null,null,null,null,null,{"$f":"G302+help2!$C$3","v":285},{"$f":"help2!G288","v":" "}]
[null,null,null,null,null,null,{"$f":"G303+help2!$C$3","v":286},{"$f":"help2!G289","v":" "}]
[null,null,null,null,null,null,{"$f":"G304+help2!$C$3","v":287},{"$f":"help2!G290","v":" "}]
[null,null,null,null,null,null,{"$f":"G305+help2!$C$3","v":288},{"$f":"help2!G291","v":" "}]
[null,null,null,null,null,null,{"$f":"G306+help2!$C$3","v":289},{"$f":"help2!G292","v":" "}]
[null,null,null,null,null,null,{"$f":"G307+help2!$C$3","v":290},{"$f":"help2!G293","v":" "}]
[null,null,null,null,null,null,{"$f":"G308+help2!$C$3","v":291},{"$f":"help2!G294","v":" "}]
[null,null,null,null,null,null,{"$f":"G309+help2!$C$3","v":292},{"$f":"help2!G295","v":" "}]
[null,null,null,null,null,null,{"$f":"G310+help2!$C$3","v":293},{"$f":"help2!G296","v":" "}]
[null,null,null,null,null,null,{"$f":"G311+help2!$C$3","v":294},{"$f":"help2!G297","v":" "}]
[null,null,null,null,null,null,{"$f":"G312+help2!$C$3","v":295},{"$f":"help2!G298","v":" "}]
[null,null,null,null,null,null,{"$f":"G313+help2!$C$3","v":296},{"$f":"help2!G299","v":" "}]
[null,null,null,null,null,null,{"$f":"G314+help2!$C$3","v":297},{"$f":"help2!G300","v":" "}]
[null,null,null,null,null,null,{"$f":"G315+help2!$C$3","v":298},{"$f":"help2!G301","v":" "}]
[null,null,null,null,null,null,{"$f":"G316+help2!$C$3","v":299},{"$f":"help2!G302","v":" "}]
[null,null,null,null,null,null,{"$f":"G317+help2!$C$3","v":300},{"$f":"help2!G303","v":" "}]
[null,null,null,null,null,null,{"$f":"G318+help2!$C$3","v":301},{"$f":"help2!G304","v":" "}]
[null,null,null,null,null,null,{"$f":"G319+help2!$C$3","v":302},{"$f":"help2!G305","v":" "}]
[null,null,null,null,null,null,{"$f":"G320+help2!$C$3","v":303},{"$f":"help2!G306","v":" "}]
[null,null,null,null,null,null,{"$f":"G321+help2!$C$3","v":304},{"$f":"help2!G307","v":" "}]
[null,null,null,null,null,null,{"$f":"G322+help2!$C$3","v":305},{"$f":"help2!G308","v":" "}]
[null,null,null,null,null,null,{"$f":"G323+help2!$C$3","v":306},{"$f":"help2!G309","v":" "}]
[null,null,null,null,null,null,{"$f":"G324+help2!$C$3","v":307},{"$f":"help2!G310","v":" "}]
[null,null,null,null,null,null,{"$f":"G325+help2!$C$3","v":308},{"$f":"help2!G311","v":" "}]
[null,null,null,null,null,null,{"$f":"G326+help2!$C$3","v":309},{"$f":"help2!G312","v":" "}]
[null,null,null,null,null,null,{"$f":"G327+help2!$C$3","v":310},{"$f":"help2!G313","v":" "}]
[null,null,null,null,null,null,{"$f":"G328+help2!$C$3","v":311},{"$f":"help2!G314","v":" "}]
[null,null,null,null,null,null,{"$f":"G329+help2!$C$3","v":312},{"$f":"help2!G315","v":" "}]
[null,null,null,null,null,null,{"$f":"G330+help2!$C$3","v":313},{"$f":"help2!G316","v":" "}]
[null,null,null,null,null,null,{"$f":"G331+help2!$C$3","v":314},{"$f":"help2!G317","v":" "}]
[null,null,null,null,null,null,{"$f":"G332+help2!$C$3","v":315},{"$f":"help2!G318","v":" "}]
[null,null,null,null,null,null,{"$f":"G333+help2!$C$3","v":316},{"$f":"help2!G319","v":" "}]
[null,null,null,null,null,null,{"$f":"G334+help2!$C$3","v":317},{"$f":"help2!G320","v":" "}]
[null,null,null,null,null,null,{"$f":"G335+help2!$C$3","v":318},{"$f":"help2!G321","v":" "}]
[null,null,null,null,null,null,{"$f":"G336+help2!$C$3","v":319},{"$f":"help2!G322","v":" "}]
[null,null,null,null,null,null,{"$f":"G337+help2!$C$3","v":320},{"$f":"help2!G323","v":" "}]
[null,null,null,null,null,null,{"$f":"G338+help2!$C$3","v":321},{"$f":"help2!G324","v":" "}]
[null,null,null,null,null,null,{"$f":"G339+help2!$C$3","v":322},{"$f":"help2!G325","v":" "}]
[null,null,null,null,null,null,{"$f":"G340+help2!$C$3","v":323},{"$f":"help2!G326","v":" "}]
[null,null,null,null,null,null,{"$f":"G341+help2!$C$3","v":324},{"$f":"help2!G327","v":" "}]
[null,null,null,null,null,null,{"$f":"G342+help2!$C$3","v":325},{"$f":"help2!G328","v":" "}]
[null,null,null,null,null,null,{"$f":"G343+help2!$C$3","v":326},{"$f":"help2!G329","v":" "}]
[null,null,null,null,null,null,{"$f":"G344+help2!$C$3","v":327},{"$f":"help2!G330","v":" "}]
[null,null,null,null,null,null,{"$f":"G345+help2!$C$3","v":328},{"$f":"help2!G331","v":" "}]
[null,null,null,null,null,null,{"$f":"G346+help2!$C$3","v":329},{"$f":"help2!G332","v":" "}]
[null,null,null,null,null,null,{"$f":"G347+help2!$C$3","v":330},{"$f":"help2!G333","v":" "}]
[null,null,null,null,null,null,{"$f":"G348+help2!$C$3","v":331},{"$f":"help2!G334","v":" "}]
[null,null,null,null,null,null,{"$f":"G349+help2!$C$3","v":332},{"$f":"help2!G335","v":" "}]
[null,null,null,null,null,null,{"$f":"G350+help2!$C$3","v":333},{"$f":"help2!G336","v":" "}]
[null,null,null,null,null,null,{"$f":"G351+help2!$C$3","v":334},{"$f":"help2!G337","v":" "}]
[null,null,null,null,null,null,{"$f":"G352+help2!$C$3","v":335},{"$f":"help2!G338","v":" "}]
[null,null,null,null,null,null,{"$f":"G353+help2!$C$3","v":336},{"$f":"help2!G339","v":" "}]
[null,null,null,null,null,null,{"$f":"G354+help2!$C$3","v":337},{"$f":"help2!G340","v":" "}]
[null,null,null,null,null,null,{"$f":"G355+help2!$C$3","v":338},{"$f":"help2!G341","v":" "}]
[null,null,null,null,null,null,{"$f":"G356+help2!$C$3","v":339},{"$f":"help2!G342","v":" "}]
[null,null,null,null,null,null,{"$f":"G357+help2!$C$3","v":340},{"$f":"help2!G343","v":" "}]
[null,null,null,null,null,null,{"$f":"G358+help2!$C$3","v":341},{"$f":"help2!G344","v":" "}]
[null,null,null,null,null,null,{"$f":"G359+help2!$C$3","v":342},{"$f":"help2!G345","v":" "}]
[null,null,null,null,null,null,{"$f":"G360+help2!$C$3","v":343},{"$f":"help2!G346","v":" "}]
[null,null,null,null,null,null,{"$f":"G361+help2!$C$3","v":344},{"$f":"help2!G347","v":" "}]
[null,null,null,null,null,null,{"$f":"G362+help2!$C$3","v":345},{"$f":"help2!G348","v":" "}]
[null,null,null,null,null,null,{"$f":"G363+help2!$C$3","v":346},{"$f":"help2!G349","v":" "}]
[null,null,null,null,null,null,{"$f":"G364+help2!$C$3","v":347},{"$f":"help2!G350","v":" "}]
[null,null,null,null,null,null,{"$f":"G365+help2!$C$3","v":348},{"$f":"help2!G351","v":" "}]
[null,null,null,null,null,null,{"$f":"G366+help2!$C$3","v":349},{"$f":"help2!G352","v":" "}]
[null,null,null,null,null,null,{"$f":"G367+help2!$C$3","v":350},{"$f":"help2!G353","v":" "}]
[null,null,null,null,null,null,{"$f":"G368+help2!$C$3","v":351},{"$f":"help2!G354","v":" "}]
[null,null,null,null,null,null,{"$f":"G369+help2!$C$3","v":352},{"$f":"help2!G355","v":" "}]
[null,null,null,null,null,null,{"$f":"G370+help2!$C$3","v":353},{"$f":"help2!G356","v":" "}]
[null,null,null,null,null,null,{"$f":"G371+help2!$C$3","v":354},{"$f":"help2!G357","v":" "}]
[null,null,null,null,null,null,{"$f":"G372+help2!$C$3","v":355},{"$f":"help2!G358","v":" "}]
[null,null,null,null,null,null,{"$f":"G373+help2!$C$3","v":356},{"$f":"help2!G359","v":" "}]
[null,null,null,null,null,null,{"$f":"G374+help2!$C$3","v":357},{"$f":"help2!G360","v":" "}]
[null,null,null,null,null,null,{"$f":"G375+help2!$C$3","v":358},{"$f":"help2!G361","v":" "}]
[null,null,null,null,null,null,{"$f":"G376+help2!$C$3","v":359},{"$f":"help2!G362","v":" "}]
[null,null,null,null,null,null,{"$f":"G377+help2!$C$3","v":360},{"$f":"help2!G363","v":" "}]
[null,null,null,null,null,null,{"$f":"G378+help2!$C$3","v":361},{"$f":"help2!G364","v":" "}]
[null,null,null,null,null,null,{"$f":"G379+help2!$C$3","v":362},{"$f":"help2!G365","v":" "}]
[null,null,null,null,null,null,{"$f":"G380+help2!$C$3","v":363},{"$f":"help2!G366","v":" "}]
[null,null,null,null,null,null,{"$f":"G381+help2!$C$3","v":364},{"$f":"help2!G367","v":" "}]
[null,null,null,null,null,null,{"$f":"G382+help2!$C$3","v":365},{"$f":"help2!G368","v":" "}]
[null,null,null,null,null,null,{"$f":"G383+help2!$C$3","v":366},{"$f":"help2!G369","v":" "}]
[null,null,null,null,null,null,{"$f":"G384+help2!$C$3","v":367},{"$f":"help2!G370","v":" "}]
[null,null,null,null,null,null,{"$f":"G385+help2!$C$3","v":368},{"$f":"help2!G371","v":" "}]
[null,null,null,null,null,null,{"$f":"G386+help2!$C$3","v":369},{"$f":"help2!G372","v":" "}]
[null,null,null,null,null,null,{"$f":"G387+help2!$C$3","v":370},{"$f":"help2!G373","v":" "}]
[null,null,null,null,null,null,{"$f":"G388+help2!$C$3","v":371},{"$f":"help2!G374","v":" "}]
[null,null,null,null,null,null,{"$f":"G389+help2!$C$3","v":372},{"$f":"help2!G375","v":" "}]
[null,null,null,null,null,null,{"$f":"G390+help2!$C$3","v":373},{"$f":"help2!G376","v":" "}]
[null,null,null,null,null,null,{"$f":"G391+help2!$C$3","v":374},{"$f":"help2!G377","v":" "}]
[null,null,null,null,null,null,{"$f":"G392+help2!$C$3","v":375},{"$f":"help2!G378","v":" "}]
[null,null,null,null,null,null,{"$f":"G393+help2!$C$3","v":376},{"$f":"help2!G379","v":" "}]
[null,null,null,null,null,null,{"$f":"G394+help2!$C$3","v":377},{"$f":"help2!G380","v":" "}]
[null,null,null,null,null,null,{"$f":"G395+help2!$C$3","v":378},{"$f":"help2!G381","v":" "}]
[null,null,null,null,null,null,{"$f":"G396+help2!$C$3","v":379},{"$f":"help2!G382","v":" "}]
[null,null,null,null,null,null,{"$f":"G397+help2!$C$3","v":380},{"$f":"help2!G383","v":" "}]
[null,null,null,null,null,null,{"$f":"G398+help2!$C$3","v":381},{"$f":"help2!G384","v":" "}]
[null,null,null,null,null,null,{"$f":"G399+help2!$C$3","v":382},{"$f":"help2!G385","v":" "}]
[null,null,null,null,null,null,{"$f":"G400+help2!$C$3","v":383},{"$f":"help2!G386","v":" "}]
[null,null,null,null,null,null,{"$f":"G401+help2!$C$3","v":384},{"$f":"help2!G387","v":" "}]
[null,null,null,null,null,null,{"$f":"G402+help2!$C$3","v":385},{"$f":"help2!G388","v":" "}]
[null,null,null,null,null,null,{"$f":"G403+help2!$C$3","v":386},{"$f":"help2!G389","v":" "}]
[null,null,null,null,null,null,{"$f":"G404+help2!$C$3","v":387},{"$f":"help2!G390","v":" "}]
[null,null,null,null,null,null,{"$f":"G405+help2!$C$3","v":388},{"$f":"help2!G391","v":" "}]
[null,null,null,null,null,null,{"$f":"G406+help2!$C$3","v":389},{"$f":"help2!G392","v":" "}]
[null,null,null,null,null,null,{"$f":"G407+help2!$C$3","v":390},{"$f":"help2!G393","v":" "}]
[null,null,null,null,null,null,{"$f":"G408+help2!$C$3","v":391},{"$f":"help2!G394","v":" "}]
[null,null,null,null,null,null,{"$f":"G409+help2!$C$3","v":392},{"$f":"help2!G395","v":" "}]
[null,null,null,null,null,null,{"$f":"G410+help2!$C$3","v":393},{"$f":"help2!G396","v":" "}]
[null,null,null,null,null,null,{"$f":"G411+help2!$C$3","v":394},{"$f":"help2!G397","v":" "}]
[null,null,null,null,null,null,{"$f":"G412+help2!$C$3","v":395},{"$f":"help2!G398","v":" "}]
[null,null,null,null,null,null,{"$f":"G413+help2!$C$3","v":396},{"$f":"help2!G399","v":" "}]
[null,null,null,null,null,null,{"$f":"G414+help2!$C$3","v":397},{"$f":"help2!G400","v":" "}]
[null,null,null,null,null,null,{"$f":"G415+help2!$C$3","v":398},{"$f":"help2!G401","v":" "}]
[null,null,null,null,null,null,{"$f":"G416+help2!$C$3","v":399},{"$f":"help2!G402","v":" "}]
[null,null,null,null,null,null,{"$f":"G417+help2!$C$3","v":400},{"$f":"help2!G403","v":" "}]
[null,null,null,null,null,null,{"$f":"G418+help2!$C$3","v":401},{"$f":"help2!G404","v":" "}]
[null,null,null,null,null,null,{"$f":"G419+help2!$C$3","v":402},{"$f":"help2!G405","v":" "}]
[null,null,null,null,null,null,{"$f":"G420+help2!$C$3","v":403},{"$f":"help2!G406","v":" "}]
[null,null,null,null,null,null,{"$f":"G421+help2!$C$3","v":404},{"$f":"help2!G407","v":" "}]
[null,null,null,null,null,null,{"$f":"G422+help2!$C$3","v":405},{"$f":"help2!G408","v":" "}]
[null,null,null,null,null,null,{"$f":"G423+help2!$C$3","v":406},{"$f":"help2!G409","v":" "}]
[null,null,null,null,null,null,{"$f":"G424+help2!$C$3","v":407},{"$f":"help2!G410","v":" "}]
[null,null,null,null,null,null,{"$f":"G425+help2!$C$3","v":408},{"$f":"help2!G411","v":" "}]
[null,null,null,null,null,null,{"$f":"G426+help2!$C$3","v":409},{"$f":"help2!G412","v":" "}]
[null,null,null,null,null,null,{"$f":"G427+help2!$C$3","v":410},{"$f":"help2!G413","v":" "}]
[null,null,null,null,null,null,{"$f":"G428+help2!$C$3","v":411},{"$f":"help2!G414","v":" "}]
[null,null,null,null,null,null,{"$f":"G429+help2!$C$3","v":412},{"$f":"help2!G415","v":" "}]
[null,null,null,null,null,null,{"$f":"G430+help2!$C$3","v":413},{"$f":"help2!G416","v":" "}]
[null,null,null,null,null,null,{"$f":"G431+help2!$C$3","v":414},{"$f":"help2!G417","v":" "}]
[null,null,null,null,null,null,{"$f":"G432+help2!$C$3","v":415},{"$f":"help2!G418","v":" "}]
[null,null,null,null,null,null,{"$f":"G433+help2!$C$3","v":416},{"$f":"help2!G419","v":" "}]
[null,null,null,null,null,null,{"$f":"G434+help2!$C$3","v":417},{"$f":"help2!G420","v":" "}]
[null,null,null,null,null,null,{"$f":"G435+help2!$C$3","v":418},{"$f":"help2!G421","v":" "}]
[null,null,null,null,null,null,{"$f":"G436+help2!$C$3","v":419},{"$f":"help2!G422","v":" "}]
[null,null,null,null,null,null,{"$f":"G437+help2!$C$3","v":420},{"$f":"help2!G423","v":" "}]
[null,null,null,null,null,null,{"$f":"G438+help2!$C$3","v":421},{"$f":"help2!G424","v":" "}]
[null,null,null,null,null,null,{"$f":"G439+help2!$C$3","v":422},{"$f":"help2!G425","v":" "}]
[null,null,null,null,null,null,{"$f":"G440+help2!$C$3","v":423},{"$f":"help2!G426","v":" "}]
[null,null,null,null,null,null,{"$f":"G441+help2!$C$3","v":424},{"$f":"help2!G427","v":" "}]
[null,null,null,null,null,null,{"$f":"G442+help2!$C$3","v":425},{"$f":"help2!G428","v":" "}]
[null,null,null,null,null,null,{"$f":"G443+help2!$C$3","v":426},{"$f":"help2!G429","v":" "}]
[null,null,null,null,null,null,{"$f":"G444+help2!$C$3","v":427},{"$f":"help2!G430","v":" "}]
[null,null,null,null,null,null,{"$f":"G445+help2!$C$3","v":428},{"$f":"help2!G431","v":" "}]
[null,null,null,null,null,null,{"$f":"G446+help2!$C$3","v":429},{"$f":"help2!G432","v":" "}]
[null,null,null,null,null,null,{"$f":"G447+help2!$C$3","v":430},{"$f":"help2!G433","v":" "}]
[null,null,null,null,null,null,{"$f":"G448+help2!$C$3","v":431},{"$f":"help2!G434","v":" "}]
[null,null,null,null,null,null,{"$f":"G449+help2!$C$3","v":432},{"$f":"help2!G435","v":" "}]
[null,null,null,null,null,null,{"$f":"G450+help2!$C$3","v":433},{"$f":"help2!G436","v":" "}]
[null,null,null,null,null,null,{"$f":"G451+help2!$C$3","v":434},{"$f":"help2!G437","v":" "}]
[null,null,null,null,null,null,{"$f":"G452+help2!$C$3","v":435},{"$f":"help2!G438","v":" "}]
[null,null,null,null,null,null,{"$f":"G453+help2!$C$3","v":436},{"$f":"help2!G439","v":" "}]
[null,null,null,null,null,null,{"$f":"G454+help2!$C$3","v":437},{"$f":"help2!G440","v":" "}]
[null,null,null,null,null,null,{"$f":"G455+help2!$C$3","v":438},{"$f":"help2!G441","v":" "}]
[null,null,null,null,null,null,{"$f":"G456+help2!$C$3","v":439},{"$f":"help2!G442","v":" "}]
[null,null,null,null,null,null,{"$f":"G457+help2!$C$3","v":440},{"$f":"help2!G443","v":" "}]
[null,null,null,null,null,null,{"$f":"G458+help2!$C$3","v":441},{"$f":"help2!G444","v":" "}]
[null,null,null,null,null,null,{"$f":"G459+help2!$C$3","v":442},{"$f":"help2!G445","v":" "}]
[null,null,null,null,null,null,{"$f":"G460+help2!$C$3","v":443},{"$f":"help2!G446","v":" "}]
[null,null,null,null,null,null,{"$f":"G461+help2!$C$3","v":444},{"$f":"help2!G447","v":" "}]
[null,null,null,null,null,null,{"$f":"G462+help2!$C$3","v":445},{"$f":"help2!G448","v":" "}]
[null,null,null,null,null,null,{"$f":"G463+help2!$C$3","v":446},{"$f":"help2!G449","v":" "}]
[null,null,null,null,null,null,{"$f":"G464+help2!$C$3","v":447},{"$f":"help2!G450","v":" "}]
[null,null,null,null,null,null,{"$f":"G465+help2!$C$3","v":448},{"$f":"help2!G451","v":" "}]
[null,null,null,null,null,null,{"$f":"G466+help2!$C$3","v":449},{"$f":"help2!G452","v":" "}]
[null,null,null,null,null,null,{"$f":"G467+help2!$C$3","v":450},{"$f":"help2!G453","v":" "}]
[null,null,null,null,null,null,{"$f":"G468+help2!$C$3","v":451},{"$f":"help2!G454","v":" "}]
[null,null,null,null,null,null,{"$f":"G469+help2!$C$3","v":452},{"$f":"help2!G455","v":" "}]
[null,null,null,null,null,null,{"$f":"G470+help2!$C$3","v":453},{"$f":"help2!G456","v":" "}]
[null,null,null,null,null,null,{"$f":"G471+help2!$C$3","v":454},{"$f":"help2!G457","v":" "}]
[null,null,null,null,null,null,{"$f":"G472+help2!$C$3","v":455},{"$f":"help2!G458","v":" "}]
[null,null,null,null,null,null,{"$f":"G473+help2!$C$3","v":456},{"$f":"help2!G459","v":" "}]
[null,null,null,null,null,null,{"$f":"G474+help2!$C$3","v":457},{"$f":"help2!G460","v":" "}]
[null,null,null,null,null,null,{"$f":"G475+help2!$C$3","v":458},{"$f":"help2!G461","v":" "}]
[null,null,null,null,null,null,{"$f":"G476+help2!$C$3","v":459},{"$f":"help2!G462","v":" "}]
[null,null,null,null,null,null,{"$f":"G477+help2!$C$3","v":460},{"$f":"help2!G463","v":" "}]
[null,null,null,null,null,null,{"$f":"G478+help2!$C$3","v":461},{"$f":"help2!G464","v":" "}]
[null,null,null,null,null,null,{"$f":"G479+help2!$C$3","v":462},{"$f":"help2!G465","v":" "}]
[null,null,null,null,null,null,{"$f":"G480+help2!$C$3","v":463},{"$f":"help2!G466","v":" "}]
[null,null,null,null,null,null,{"$f":"G481+help2!$C$3","v":464},{"$f":"help2!G467","v":" "}]
[null,null,null,null,null,null,{"$f":"G482+help2!$C$3","v":465},{"$f":"help2!G468","v":" "}]
[null,null,null,null,null,null,{"$f":"G483+help2!$C$3","v":466},{"$f":"help2!G469","v":" "}]
[null,null,null,null,null,null,{"$f":"G484+help2!$C$3","v":467},{"$f":"help2!G470","v":" "}]
[null,null,null,null,null,null,{"$f":"G485+help2!$C$3","v":468},{"$f":"help2!G471","v":" "}]
[null,null,null,null,null,null,{"$f":"G486+help2!$C$3","v":469},{"$f":"help2!G472","v":" "}]
[null,null,null,null,null,null,{"$f":"G487+help2!$C$3","v":470},{"$f":"help2!G473","v":" "}]
[null,null,null,null,null,null,{"$f":"G488+help2!$C$3","v":471},{"$f":"help2!G474","v":" "}]
[null,null,null,null,null,null,{"$f":"G489+help2!$C$3","v":472},{"$f":"help2!G475","v":" "}]
[null,null,null,null,null,null,{"$f":"G490+help2!$C$3","v":473},{"$f":"help2!G476","v":" "}]
[null,null,null,null,null,null,{"$f":"G491+help2!$C$3","v":474},{"$f":"help2!G477","v":" "}]
[null,null,null,null,null,null,{"$f":"G492+help2!$C$3","v":475},{"$f":"help2!G478","v":" "}]
[null,null,null,null,null,null,{"$f":"G493+help2!$C$3","v":476},{"$f":"help2!G479","v":" "}]
[null,null,null,null,null,null,{"$f":"G494+help2!$C$3","v":477},{"$f":"help2!G480","v":" "}]
[null,null,null,null,null,null,{"$f":"G495+help2!$C$3","v":478},{"$f":"help2!G481","v":" "}]
[null,null,null,null,null,null,{"$f":"G496+help2!$C$3","v":479},{"$f":"help2!G482","v":" "}]
[null,null,null,null,null,null,{"$f":"G497+help2!$C$3","v":480},{"$f":"help2!G483","v":" "}]
[null,null,null,null,null,null,{"$f":"G498+help2!$C$3","v":481},{"$f":"help2!G484","v":" "}]
[null,null,null,null,null,null,{"$f":"G499+help2!$C$3","v":482},{"$f":"help2!G485","v":" "}]
[null,null,null,null,null,null,{"$f":"G500+help2!$C$3","v":483},{"$f":"help2!G486","v":" "}]
[null,null,null,null,null,null,{"$f":"G501+help2!$C$3","v":484},{"$f":"help2!G487","v":" "}]
[null,null,null,null,null,null,{"$f":"G502+help2!$C$3","v":485},{"$f":"help2!G488","v":" "}]
[null,null,null,null,null,null,{"$f":"G503+help2!$C$3","v":486},{"$f":"help2!G489","v":" "}]
[null,null,null,null,null,null,{"$f":"G504+help2!$C$3","v":487},{"$f":"help2!G490","v":" "}]
[null,null,null,null,null,null,{"$f":"G505+help2!$C$3","v":488},{"$f":"help2!G491","v":" "}]
[null,null,null,null,null,null,{"$f":"G506+help2!$C$3","v":489},{"$f":"help2!G492","v":" "}]
[null,null,null,null,null,null,{"$f":"G507+help2!$C$3","v":490},{"$f":"help2!G493","v":" "}]
[null,null,null,null,null,null,{"$f":"G508+help2!$C$3","v":491},{"$f":"help2!G494","v":" "}]
[null,null,null,null,null,null,{"$f":"G509+help2!$C$3","v":492},{"$f":"help2!G495","v":" "}]
[null,null,null,null,null,null,{"$f":"G510+help2!$C$3","v":493},{"$f":"help2!G496","v":" "}]
[null,null,null,null,null,null,{"$f":"G511+help2!$C$3","v":494},{"$f":"help2!G497","v":" "}]
[null,null,null,null,null,null,{"$f":"G512+help2!$C$3","v":495},{"$f":"help2!G498","v":" "}]
[null,null,null,null,null,null,{"$f":"G513+help2!$C$3","v":496},{"$f":"help2!G499","v":" "}]
[null,null,null,null,null,null,{"$f":"G514+help2!$C$3","v":497},{"$f":"help2!G500","v":" "}]
[null,null,null,null,null,null,{"$f":"G515+help2!$C$3","v":498},{"$f":"help2!G501","v":" "}]
[null,null,null,null,null,null,{"$f":"G516+help2!$C$3","v":499},{"$f":"help2!G502","v":" "}]
[null,null,null,null,null,null,{"$f":"G517+help2!$C$3","v":500},{"$f":"help2!G503","v":" "}]
[null,null,null,null,null,null,{"$f":"G518+help2!$C$3","v":501},{"$f":"help2!G504","v":" "}]
[null,null,null,null,null,null,{"$f":"G519+help2!$C$3","v":502},{"$f":"help2!G505","v":" "}]
[null,null,null,null,null,null,{"$f":"G520+help2!$C$3","v":503},{"$f":"help2!G506","v":" "}]
[null,null,null,null,null,null,{"$f":"G521+help2!$C$3","v":504},{"$f":"help2!G507","v":" "}]
[null,null,null,null,null,null,{"$f":"G522+help2!$C$3","v":505},{"$f":"help2!G508","v":" "}]
[null,null,null,null,null,null,{"$f":"G523+help2!$C$3","v":506},{"$f":"help2!G509","v":" "}]
[null,null,null,null,null,null,{"$f":"G524+help2!$C$3","v":507},{"$f":"help2!G510","v":" "}]
[null,null,null,null,null,null,{"$f":"G525+help2!$C$3","v":508},{"$f":"help2!G511","v":" "}]
[null,null,null,null,null,null,{"$f":"G526+help2!$C$3","v":509},{"$f":"help2!G512","v":" "}]
[null,null,null,null,null,null,{"$f":"G527+help2!$C$3","v":510},{"$f":"help2!G513","v":" "}]
[null,null,null,null,null,null,{"$f":"G528+help2!$C$3","v":511},{"$f":"help2!G514","v":" "}]
[null,null,null,null,null,null,{"$f":"G529+help2!$C$3","v":512},{"$f":"help2!G515","v":" "}]
[null,null,null,null,null,null,{"$f":"G530+help2!$C$3","v":513},{"$f":"help2!G516","v":" "}]
[null,null,null,null,null,null,{"$f":"G531+help2!$C$3","v":514},{"$f":"help2!G517","v":" "}]
[null,null,null,null,null,null,{"$f":"G532+help2!$C$3","v":515},{"$f":"help2!G518","v":" "}]
[null,null,null,null,null,null,{"$f":"G533+help2!$C$3","v":516},{"$f":"help2!G519","v":" "}]
[null,null,null,null,null,null,{"$f":"G534+help2!$C$3","v":517},{"$f":"help2!G520","v":" "}]
[null,null,null,null,null,null,{"$f":"G535+help2!$C$3","v":518},{"$f":"help2!G521","v":" "}]
[null,null,null,null,null,null,{"$f":"G536+help2!$C$3","v":519},{"$f":"help2!G522","v":" "}]
[null,null,null,null,null,null,{"$f":"G537+help2!$C$3","v":520},{"$f":"help2!G523","v":" "}]
[null,null,null,null,null,null,{"$f":"G538+help2!$C$3","v":521},{"$f":"help2!G524","v":" "}]
[null,null,null,null,null,null,{"$f":"G539+help2!$C$3","v":522},{"$f":"help2!G525","v":" "}]
[null,null,null,null,null,null,{"$f":"G540+help2!$C$3","v":523},{"$f":"help2!G526","v":" "}]
[null,null,null,null,null,null,{"$f":"G541+help2!$C$3","v":524},{"$f":"help2!G527","v":" "}]
[null,null,null,null,null,null,{"$f":"G542+help2!$C$3","v":525},{"$f":"help2!G528","v":" "}]
[null,null,null,null,null,null,{"$f":"G543+help2!$C$3","v":526},{"$f":"help2!G529","v":" "}]
[null,null,null,null,null,null,{"$f":"G544+help2!$C$3","v":527},{"$f":"help2!G530","v":" "}]
[null,null,null,null,null,null,{"$f":"G545+help2!$C$3","v":528},{"$f":"help2!G531","v":" "}]
[null,null,null,null,null,null,{"$f":"G546+help2!$C$3","v":529},{"$f":"help2!G532","v":" "}]
[null,null,null,null,null,null,{"$f":"G547+help2!$C$3","v":530},{"$f":"help2!G533","v":" "}]
[null,null,null,null,null,null,{"$f":"G548+help2!$C$3","v":531},{"$f":"help2!G534","v":" "}]
[null,null,null,null,null,null,{"$f":"G549+help2!$C$3","v":532},{"$f":"help2!G535","v":" "}]
[null,null,null,null,null,null,{"$f":"G550+help2!$C$3","v":533},{"$f":"help2!G536","v":" "}]
[null,null,null,null,null,null,{"$f":"G551+help2!$C$3","v":534},{"$f":"help2!G537","v":" "}]
[null,null,null,null,null,null,{"$f":"G552+help2!$C$3","v":535},{"$f":"help2!G538","v":" "}]
[null,null,null,null,null,null,{"$f":"G553+help2!$C$3","v":536},{"$f":"help2!G539","v":" "}]
[null,null,null,null,null,null,{"$f":"G554+help2!$C$3","v":537},{"$f":"help2!G540","v":" "}]
[null,null,null,null,null,null,{"$f":"G555+help2!$C$3","v":538},{"$f":"help2!G541","v":" "}]
[null,null,null,null,null,null,{"$f":"G556+help2!$C$3","v":539},{"$f":"help2!G542","v":" "}]
[null,null,null,null,null,null,{"$f":"G557+help2!$C$3","v":540},{"$f":"help2!G543","v":" "}]
[null,null,null,null,null,null,{"$f":"G558+help2!$C$3","v":541},{"$f":"help2!G544","v":" "}]
[null,null,null,null,null,null,{"$f":"G559+help2!$C$3","v":542},{"$f":"help2!G545","v":" "}]
[null,null,null,null,null,null,{"$f":"G560+help2!$C$3","v":543},{"$f":"help2!G546","v":" "}]
[null,null,null,null,null,null,{"$f":"G561+help2!$C$3","v":544},{"$f":"help2!G547","v":" "}]
[null,null,null,null,null,null,{"$f":"G562+help2!$C$3","v":545},{"$f":"help2!G548","v":" "}]
[null,null,null,null,null,null,{"$f":"G563+help2!$C$3","v":546},{"$f":"help2!G549","v":" "}]
[null,null,null,null,null,null,{"$f":"G564+help2!$C$3","v":547},{"$f":"help2!G550","v":" "}]
[null,null,null,null,null,null,{"$f":"G565+help2!$C$3","v":548},{"$f":"help2!G551","v":" "}]
[null,null,null,null,null,null,{"$f":"G566+help2!$C$3","v":549},{"$f":"help2!G552","v":" "}]
[null,null,null,null,null,null,{"$f":"G567+help2!$C$3","v":550},{"$f":"help2!G553","v":" "}]
[null,null,null,null,null,null,{"$f":"G568+help2!$C$3","v":551},{"$f":"help2!G554","v":" "}]
[null,null,null,null,null,null,{"$f":"G569+help2!$C$3","v":552},{"$f":"help2!G555","v":" "}]
[null,null,null,null,null,null,{"$f":"G570+help2!$C$3","v":553},{"$f":"help2!G556","v":" "}]
[null,null,null,null,null,null,{"$f":"G571+help2!$C$3","v":554},{"$f":"help2!G557","v":" "}]
[null,null,null,null,null,null,{"$f":"G572+help2!$C$3","v":555},{"$f":"help2!G558","v":" "}]
[null,null,null,null,null,null,{"$f":"G573+help2!$C$3","v":556},{"$f":"help2!G559","v":" "}]
[null,null,null,null,null,null,{"$f":"G574+help2!$C$3","v":557},{"$f":"help2!G560","v":" "}]
[null,null,null,null,null,null,{"$f":"G575+help2!$C$3","v":558},{"$f":"help2!G561","v":" "}]
[null,null,null,null,null,null,{"$f":"G576+help2!$C$3","v":559},{"$f":"help2!G562","v":" "}]
[null,null,null,null,null,null,{"$f":"G577+help2!$C$3","v":560},{"$f":"help2!G563","v":" "}]
[null,null,null,null,null,null,{"$f":"G578+help2!$C$3","v":561},{"$f":"help2!G564","v":" "}]
[null,null,null,null,null,null,{"$f":"G579+help2!$C$3","v":562},{"$f":"help2!G565","v":" "}]
[null,null,null,null,null,null,{"$f":"G580+help2!$C$3","v":563},{"$f":"help2!G566","v":" "}]
[null,null,null,null,null,null,{"$f":"G581+help2!$C$3","v":564},{"$f":"help2!G567","v":" "}]
[null,null,null,null,null,null,{"$f":"G582+help2!$C$3","v":565},{"$f":"help2!G568","v":" "}]
[null,null,null,null,null,null,{"$f":"G583+help2!$C$3","v":566},{"$f":"help2!G569","v":" "}]
[null,null,null,null,null,null,{"$f":"G584+help2!$C$3","v":567},{"$f":"help2!G570","v":" "}]
[null,null,null,null,null,null,{"$f":"G585+help2!$C$3","v":568},{"$f":"help2!G571","v":" "}]
[null,null,null,null,null,null,{"$f":"G586+help2!$C$3","v":569},{"$f":"help2!G572","v":" "}]
[null,null,null,null,null,null,{"$f":"G587+help2!$C$3","v":570},{"$f":"help2!G573","v":" "}]
[null,null,null,null,null,null,{"$f":"G588+help2!$C$3","v":571},{"$f":"help2!G574","v":" "}]
[null,null,null,null,null,null,{"$f":"G589+help2!$C$3","v":572},{"$f":"help2!G575","v":" "}]
[null,null,null,null,null,null,{"$f":"G590+help2!$C$3","v":573},{"$f":"help2!G576","v":" "}]
[null,null,null,null,null,null,{"$f":"G591+help2!$C$3","v":574},{"$f":"help2!G577","v":" "}]
[null,null,null,null,null,null,{"$f":"G592+help2!$C$3","v":575},{"$f":"help2!G578","v":" "}]
[null,null,null,null,null,null,{"$f":"G593+help2!$C$3","v":576},{"$f":"help2!G579","v":" "}]
[null,null,null,null,null,null,{"$f":"G594+help2!$C$3","v":577},{"$f":"help2!G580","v":" "}]
[null,null,null,null,null,null,{"$f":"G595+help2!$C$3","v":578},{"$f":"help2!G581","v":" "}]
[null,null,null,null,null,null,{"$f":"G596+help2!$C$3","v":579},{"$f":"help2!G582","v":" "}]
[null,null,null,null,null,null,{"$f":"G597+help2!$C$3","v":580},{"$f":"help2!G583","v":" "}]
[null,null,null,null,null,null,{"$f":"G598+help2!$C$3","v":581},{"$f":"help2!G584","v":" "}]
[null,null,null,null,null,null,{"$f":"G599+help2!$C$3","v":582},{"$f":"help2!G585","v":" "}]
[null,null,null,null,null,null,{"$f":"G600+help2!$C$3","v":583},{"$f":"help2!G586","v":" "}]
[null,null,null,null,null,null,{"$f":"G601+help2!$C$3","v":584},{"$f":"help2!G587","v":" "}]
[null,null,null,null,null,null,{"$f":"G602+help2!$C$3","v":585},{"$f":"help2!G588","v":" "}]
[null,null,null,null,null,null,{"$f":"G603+help2!$C$3","v":586},{"$f":"help2!G589","v":" "}]
[null,null,null,null,null,null,{"$f":"G604+help2!$C$3","v":587},{"$f":"help2!G590","v":" "}]
[null,null,null,null,null,null,{"$f":"G605+help2!$C$3","v":588},{"$f":"help2!G591","v":" "}]
[null,null,null,null,null,null,{"$f":"G606+help2!$C$3","v":589},{"$f":"help2!G592","v":" "}]
[null,null,null,null,null,null,{"$f":"G607+help2!$C$3","v":590},{"$f":"help2!G593","v":" "}]
[null,null,null,null,null,null,{"$f":"G608+help2!$C$3","v":591},{"$f":"help2!G594","v":" "}]
[null,null,null,null,null,null,{"$f":"G609+help2!$C$3","v":592},{"$f":"help2!G595","v":" "}]
[null,null,null,null,null,null,{"$f":"G610+help2!$C$3","v":593},{"$f":"help2!G596","v":" "}]
[null,null,null,null,null,null,{"$f":"G611+help2!$C$3","v":594},{"$f":"help2!G597","v":" "}]
[null,null,null,null,null,null,{"$f":"G612+help2!$C$3","v":595},{"$f":"help2!G598","v":" "}]
[null,null,null,null,null,null,{"$f":"G613+help2!$C$3","v":596},{"$f":"help2!G599","v":" "}]
[null,null,null,null,null,null,{"$f":"G614+help2!$C$3","v":597},{"$f":"help2!G600","v":" "}]
[null,null,null,null,null,null,{"$f":"G615+help2!$C$3","v":598},{"$f":"help2!G601","v":" "}]
[null,null,null,null,null,null,{"$f":"G616+help2!$C$3","v":599},{"$f":"help2!G602","v":" "}]
[null,null,null,null,null,null,{"$f":"G617+help2!$C$3","v":600},{"$f":"help2!G603","v":" "}]
[null,null,null,null,null,null,{"$f":"G618+help2!$C$3","v":601},{"$f":"help2!G604","v":" "}]
[null,null,null,null,null,null,{"$f":"G619+help2!$C$3","v":602},{"$f":"help2!G605","v":" "}]
[null,null,null,null,null,null,{"$f":"G620+help2!$C$3","v":603},{"$f":"help2!G606","v":" "}]
[null,null,null,null,null,null,{"$f":"G621+help2!$C$3","v":604},{"$f":"help2!G607","v":" "}]
[null,null,null,null,null,null,{"$f":"G622+help2!$C$3","v":605},{"$f":"help2!G608","v":" "}]
[null,null,null,null,null,null,{"$f":"G623+help2!$C$3","v":606},{"$f":"help2!G609","v":" "}]
[null,null,null,null,null,null,{"$f":"G624+help2!$C$3","v":607},{"$f":"help2!G610","v":" "}]
[null,null,null,null,null,null,{"$f":"G625+help2!$C$3","v":608},{"$f":"help2!G611","v":" "}]
[null,null,null,null,null,null,{"$f":"G626+help2!$C$3","v":609},{"$f":"help2!G612","v":" "}]
[null,null,null,null,null,null,{"$f":"G627+help2!$C$3","v":610},{"$f":"help2!G613","v":" "}]
[null,null,null,null,null,null,{"$f":"G628+help2!$C$3","v":611},{"$f":"help2!G614","v":" "}]
[null,null,null,null,null,null,{"$f":"G629+help2!$C$3","v":612},{"$f":"help2!G615","v":" "}]
[null,null,null,null,null,null,{"$f":"G630+help2!$C$3","v":613},{"$f":"help2!G616","v":" "}]
[null,null,null,null,null,null,{"$f":"G631+help2!$C$3","v":614},{"$f":"help2!G617","v":" "}]
[null,null,null,null,null,null,{"$f":"G632+help2!$C$3","v":615},{"$f":"help2!G618","v":" "}]
[null,null,null,null,null,null,{"$f":"G633+help2!$C$3","v":616},{"$f":"help2!G619","v":" "}]
[null,null,null,null,null,null,{"$f":"G634+help2!$C$3","v":617},{"$f":"help2!G620","v":" "}]
[null,null,null,null,null,null,{"$f":"G635+help2!$C$3","v":618},{"$f":"help2!G621","v":" "}]
[null,null,null,null,null,null,{"$f":"G636+help2!$C$3","v":619},{"$f":"help2!G622","v":" "}]
[null,null,null,null,null,null,{"$f":"G637+help2!$C$3","v":620},{"$f":"help2!G623","v":" "}]
[null,null,null,null,null,null,{"$f":"G638+help2!$C$3","v":621},{"$f":"help2!G624","v":" "}]
[null,null,null,null,null,null,{"$f":"G639+help2!$C$3","v":622},{"$f":"help2!G625","v":" "}]
[null,null,null,null,null,null,{"$f":"G640+help2!$C$3","v":623},{"$f":"help2!G626","v":" "}]
[null,null,null,null,null,null,{"$f":"G641+help2!$C$3","v":624},{"$f":"help2!G627","v":" "}]
[null,null,null,null,null,null,{"$f":"G642+help2!$C$3","v":625},{"$f":"help2!G628","v":" "}]
[null,null,null,null,null,null,{"$f":"G643+help2!$C$3","v":626},{"$f":"help2!G629","v":" "}]
[null,null,null,null,null,null,{"$f":"G644+help2!$C$3","v":627},{"$f":"help2!G630","v":" "}]
[null,null,null,null,null,null,{"$f":"G645+help2!$C$3","v":628},{"$f":"help2!G631","v":" "}]
[null,null,null,null,null,null,{"$f":"G646+help2!$C$3","v":629},{"$f":"help2!G632","v":" "}]
[null,null,null,null,null,null,{"$f":"G647+help2!$C$3","v":630},{"$f":"help2!G633","v":" "}]
[null,null,null,null,null,null,{"$f":"G648+help2!$C$3","v":631},{"$f":"help2!G634","v":" "}]
[null,null,null,null,null,null,{"$f":"G649+help2!$C$3","v":632},{"$f":"help2!G635","v":" "}]
[null,null,null,null,null,null,{"$f":"G650+help2!$C$3","v":633},{"$f":"help2!G636","v":" "}]
[null,null,null,null,null,null,{"$f":"G651+help2!$C$3","v":634},{"$f":"help2!G637","v":" "}]
[null,null,null,null,null,null,{"$f":"G652+help2!$C$3","v":635},{"$f":"help2!G638","v":" "}]
[null,null,null,null,null,null,{"$f":"G653+help2!$C$3","v":636},{"$f":"help2!G639","v":" "}]
[null,null,null,null,null,null,{"$f":"G654+help2!$C$3","v":637},{"$f":"help2!G640","v":" "}]
[null,null,null,null,null,null,{"$f":"G655+help2!$C$3","v":638},{"$f":"help2!G641","v":" "}]
[null,null,null,null,null,null,{"$f":"G656+help2!$C$3","v":639},{"$f":"help2!G642","v":" "}]
[null,null,null,null,null,null,{"$f":"G657+help2!$C$3","v":640},{"$f":"help2!G643","v":" "}]
[null,null,null,null,null,null,{"$f":"G658+help2!$C$3","v":641},{"$f":"help2!G644","v":" "}]
[null,null,null,null,null,null,{"$f":"G659+help2!$C$3","v":642},{"$f":"help2!G645","v":" "}]
[null,null,null,null,null,null,{"$f":"G660+help2!$C$3","v":643},{"$f":"help2!G646","v":" "}]
[null,null,null,null,null,null,{"$f":"G661+help2!$C$3","v":644},{"$f":"help2!G647","v":" "}]
[null,null,null,null,null,null,{"$f":"G662+help2!$C$3","v":645},{"$f":"help2!G648","v":" "}]
[null,null,null,null,null,null,{"$f":"G663+help2!$C$3","v":646},{"$f":"help2!G649","v":" "}]
[null,null,null,null,null,null,{"$f":"G664+help2!$C$3","v":647},{"$f":"help2!G650","v":" "}]
[null,null,null,null,null,null,{"$f":"G665+help2!$C$3","v":648},{"$f":"help2!G651","v":" "}]
[null,null,null,null,null,null,{"$f":"G666+help2!$C$3","v":649},{"$f":"help2!G652","v":" "}]
[null,null,null,null,null,null,{"$f":"G667+help2!$C$3","v":650},{"$f":"help2!G653","v":" "}]
[null,null,null,null,null,null,{"$f":"G668+help2!$C$3","v":651},{"$f":"help2!G654","v":" "}]
[null,null,null,null,null,null,{"$f":"G669+help2!$C$3","v":652},{"$f":"help2!G655","v":" "}]
[null,null,null,null,null,null,{"$f":"G670+help2!$C$3","v":653},{"$f":"help2!G656","v":" "}]
[null,null,null,null,null,null,{"$f":"G671+help2!$C$3","v":654},{"$f":"help2!G657","v":" "}]
[null,null,null,null,null,null,{"$f":"G672+help2!$C$3","v":655},{"$f":"help2!G658","v":" "}]
[null,null,null,null,null,null,{"$f":"G673+help2!$C$3","v":656},{"$f":"help2!G659","v":" "}]
[null,null,null,null,null,null,{"$f":"G674+help2!$C$3","v":657},{"$f":"help2!G660","v":" "}]
[null,null,null,null,null,null,{"$f":"G675+help2!$C$3","v":658},{"$f":"help2!G661","v":" "}]
[null,null,null,null,null,null,{"$f":"G676+help2!$C$3","v":659},{"$f":"help2!G662","v":" "}]
[null,null,null,null,null,null,{"$f":"G677+help2!$C$3","v":660},{"$f":"help2!G663","v":" "}]
[null,null,null,null,null,null,{"$f":"G678+help2!$C$3","v":661},{"$f":"help2!G664","v":" "}]
[null,null,null,null,null,null,{"$f":"G679+help2!$C$3","v":662},{"$f":"help2!G665","v":" "}]
[null,null,null,null,null,null,{"$f":"G680+help2!$C$3","v":663},{"$f":"help2!G666","v":" "}]
[null,null,null,null,null,null,{"$f":"G681+help2!$C$3","v":664},{"$f":"help2!G667","v":" "}]
[null,null,null,null,null,null,{"$f":"G682+help2!$C$3","v":665},{"$f":"help2!G668","v":" "}]
[null,null,null,null,null,null,{"$f":"G683+help2!$C$3","v":666},{"$f":"help2!G669","v":" "}]
[null,null,null,null,null,null,{"$f":"G684+help2!$C$3","v":667},{"$f":"help2!G670","v":" "}]
[null,null,null,null,null,null,{"$f":"G685+help2!$C$3","v":668},{"$f":"help2!G671","v":" "}]
[null,null,null,null,null,null,{"$f":"G686+help2!$C$3","v":669},{"$f":"help2!G672","v":" "}]
[null,null,null,null,null,null,{"$f":"G687+help2!$C$3","v":670},{"$f":"help2!G673","v":" "}]
[null,null,null,null,null,null,{"$f":"G688+help2!$C$3","v":671},{"$f":"help2!G674","v":" "}]
[null,null,null,null,null,null,{"$f":"G689+help2!$C$3","v":672},{"$f":"help2!G675","v":" "}]
[null,null,null,null,null,null,{"$f":"G690+help2!$C$3","v":673},{"$f":"help2!G676","v":" "}]
[null,null,null,null,null,null,{"$f":"G691+help2!$C$3","v":674},{"$f":"help2!G677","v":" "}]
[null,null,null,null,null,null,{"$f":"G692+help2!$C$3","v":675},{"$f":"help2!G678","v":" "}]
[null,null,null,null,null,null,{"$f":"G693+help2!$C$3","v":676},{"$f":"help2!G679","v":" "}]
[null,null,null,null,null,null,{"$f":"G694+help2!$C$3","v":677},{"$f":"help2!G680","v":" "}]
[null,null,null,null,null,null,{"$f":"G695+help2!$C$3","v":678},{"$f":"help2!G681","v":" "}]
[null,null,null,null,null,null,{"$f":"G696+help2!$C$3","v":679},{"$f":"help2!G682","v":" "}]
[null,null,null,null,null,null,{"$f":"G697+help2!$C$3","v":680},{"$f":"help2!G683","v":" "}]
[null,null,null,null,null,null,{"$f":"G698+help2!$C$3","v":681},{"$f":"help2!G684","v":" "}]
[null,null,null,null,null,null,{"$f":"G699+help2!$C$3","v":682},{"$f":"help2!G685","v":" "}]
[null,null,null,null,null,null,{"$f":"G700+help2!$C$3","v":683},{"$f":"help2!G686","v":" "}]
[null,null,null,null,null,null,{"$f":"G701+help2!$C$3","v":684},{"$f":"help2!G687","v":" "}]
[null,null,null,null,null,null,{"$f":"G702+help2!$C$3","v":685},{"$f":"help2!G688","v":" "}]
[null,null,null,null,null,null,{"$f":"G703+help2!$C$3","v":686},{"$f":"help2!G689","v":" "}]
[null,null,null,null,null,null,{"$f":"G704+help2!$C$3","v":687},{"$f":"help2!G690","v":" "}]
[null,null,null,null,null,null,{"$f":"G705+help2!$C$3","v":688},{"$f":"help2!G691","v":" "}]
[null,null,null,null,null,null,{"$f":"G706+help2!$C$3","v":689},{"$f":"help2!G692","v":" "}]
[null,null,null,null,null,null,{"$f":"G707+help2!$C$3","v":690},{"$f":"help2!G693","v":" "}]
[null,null,null,null,null,null,{"$f":"G708+help2!$C$3","v":691},{"$f":"help2!G694","v":" "}]
[null,null,null,null,null,null,{"$f":"G709+help2!$C$3","v":692},{"$f":"help2!G695","v":" "}]
[null,null,null,null,null,null,{"$f":"G710+help2!$C$3","v":693},{"$f":"help2!G696","v":" "}]
[null,null,null,null,null,null,{"$f":"G711+help2!$C$3","v":694},{"$f":"help2!G697","v":" "}]
[null,null,null,null,null,null,{"$f":"G712+help2!$C$3","v":695},{"$f":"help2!G698","v":" "}]
[null,null,null,null,null,null,{"$f":"G713+help2!$C$3","v":696},{"$f":"help2!G699","v":" "}]
[null,null,null,null,null,null,{"$f":"G714+help2!$C$3","v":697},{"$f":"help2!G700","v":" "}]
[null,null,null,null,null,null,{"$f":"G715+help2!$C$3","v":698},{"$f":"help2!G701","v":" "}]
[null,null,null,null,null,null,{"$f":"G716+help2!$C$3","v":699},{"$f":"help2!G702","v":" "}]
[null,null,null,null,null,null,{"$f":"G717+help2!$C$3","v":700},{"$f":"help2!G703","v":" "}]
[null,null,null,null,null,null,{"$f":"G718+help2!$C$3","v":701},{"$f":"help2!G704","v":" "}]
[null,null,null,null,null,null,{"$f":"G719+help2!$C$3","v":702},{"$f":"help2!G705","v":" "}]
[null,null,null,null,null,null,{"$f":"G720+help2!$C$3","v":703},{"$f":"help2!G706","v":" "}]
[null,null,null,null,null,null,{"$f":"G721+help2!$C$3","v":704},{"$f":"help2!G707","v":" "}]
[null,null,null,null,null,null,{"$f":"G722+help2!$C$3","v":705},{"$f":"help2!G708","v":" "}]
[null,null,null,null,null,null,{"$f":"G723+help2!$C$3","v":706},{"$f":"help2!G709","v":" "}]
[null,null,null,null,null,null,{"$f":"G724+help2!$C$3","v":707},{"$f":"help2!G710","v":" "}]
[null,null,null,null,null,null,{"$f":"G725+help2!$C$3","v":708},{"$f":"help2!G711","v":" "}]
[null,null,null,null,null,null,{"$f":"G726+help2!$C$3","v":709},{"$f":"help2!G712","v":" "}]
[null,null,null,null,null,null,{"$f":"G727+help2!$C$3","v":710},{"$f":"help2!G713","v":" "}]
[null,null,null,null,null,null,{"$f":"G728+help2!$C$3","v":711},{"$f":"help2!G714","v":" "}]
[null,null,null,null,null,null,{"$f":"G729+help2!$C$3","v":712},{"$f":"help2!G715","v":" "}]
[null,null,null,null,null,null,{"$f":"G730+help2!$C$3","v":713},{"$f":"help2!G716","v":" "}]
[null,null,null,null,null,null,{"$f":"G731+help2!$C$3","v":714},{"$f":"help2!G717","v":" "}]
[null,null,null,null,null,null,{"$f":"G732+help2!$C$3","v":715},{"$f":"help2!G718","v":" "}]
[null,null,null,null,null,null,{"$f":"G733+help2!$C$3","v":716},{"$f":"help2!G719","v":" "}]
[null,null,null,null,null,null,{"$f":"G734+help2!$C$3","v":717},{"$f":"help2!G720","v":" "}]
[null,null,null,null,null,null,{"$f":"G735+help2!$C$3","v":718},{"$f":"help2!G721","v":" "}]
[null,null,null,null,null,null,{"$f":"G736+help2!$C$3","v":719},{"$f":"help2!G722","v":" "}]
[null,null,null,null,null,null,{"$f":"G737+help2!$C$3","v":720},{"$f":"help2!G723","v":" "}]
[null,null,null,null,null,null,{"$f":"G738+help2!$C$3","v":721},{"$f":"help2!G724","v":" "}]
[null,null,null,null,null,null,{"$f":"G739+help2!$C$3","v":722},{"$f":"help2!G725","v":" "}]
[null,null,null,null,null,null,{"$f":"G740+help2!$C$3","v":723},{"$f":"help2!G726","v":" "}]
[null,null,null,null,null,null,{"$f":"G741+help2!$C$3","v":724},{"$f":"help2!G727","v":" "}]
[null,null,null,null,null,null,{"$f":"G742+help2!$C$3","v":725},{"$f":"help2!G728","v":" "}]
[null,null,null,null,null,null,{"$f":"G743+help2!$C$3","v":726},{"$f":"help2!G729","v":" "}]
[null,null,null,null,null,null,{"$f":"G744+help2!$C$3","v":727},{"$f":"help2!G730","v":" "}]
[null,null,null,null,null,null,{"$f":"G745+help2!$C$3","v":728},{"$f":"help2!G731","v":" "}]
[null,null,null,null,null,null,{"$f":"G746+help2!$C$3","v":729},{"$f":"help2!G732","v":" "}]
[null,null,null,null,null,null,{"$f":"G747+help2!$C$3","v":730},{"$f":"help2!G733","v":" "}]
[null,null,null,null,null,null,{"$f":"G748+help2!$C$3","v":731},{"$f":"help2!G734","v":" "}]
[null,null,null,null,null,null,{"$f":"G749+help2!$C$3","v":732},{"$f":"help2!G735","v":" "}]
[null,null,null,null,null,null,{"$f":"G750+help2!$C$3","v":733},{"$f":"help2!G736","v":" "}]
[null,null,null,null,null,null,{"$f":"G751+help2!$C$3","v":734},{"$f":"help2!G737","v":" "}]
[null,null,null,null,null,null,{"$f":"G752+help2!$C$3","v":735},{"$f":"help2!G738","v":" "}]
[null,null,null,null,null,null,{"$f":"G753+help2!$C$3","v":736},{"$f":"help2!G739","v":" "}]
[null,null,null,null,null,null,{"$f":"G754+help2!$C$3","v":737},{"$f":"help2!G740","v":" "}]
[null,null,null,null,null,null,{"$f":"G755+help2!$C$3","v":738},{"$f":"help2!G741","v":" "}]
[null,null,null,null,null,null,{"$f":"G756+help2!$C$3","v":739},{"$f":"help2!G742","v":" "}]
[null,null,null,null,null,null,{"$f":"G757+help2!$C$3","v":740},{"$f":"help2!G743","v":" "}]
[null,null,null,null,null,null,{"$f":"G758+help2!$C$3","v":741},{"$f":"help2!G744","v":" "}]
[null,null,null,null,null,null,{"$f":"G759+help2!$C$3","v":742},{"$f":"help2!G745","v":" "}]
[null,null,null,null,null,null,{"$f":"G760+help2!$C$3","v":743},{"$f":"help2!G746","v":" "}]
[null,null,null,null,null,null,{"$f":"G761+help2!$C$3","v":744},{"$f":"help2!G747","v":" "}]
[null,null,null,null,null,null,{"$f":"G762+help2!$C$3","v":745},{"$f":"help2!G748","v":" "}]
[null,null,null,null,null,null,{"$f":"G763+help2!$C$3","v":746},{"$f":"help2!G749","v":" "}]
[null,null,null,null,null,null,{"$f":"G764+help2!$C$3","v":747},{"$f":"help2!G750","v":" "}]
[null,null,null,null,null,null,{"$f":"G765+help2!$C$3","v":748},{"$f":"help2!G751","v":" "}]
[null,null,null,null,null,null,{"$f":"G766+help2!$C$3","v":749},{"$f":"help2!G752","v":" "}]
[null,null,null,null,null,null,{"$f":"G767+help2!$C$3","v":750},{"$f":"help2!G753","v":" "}]
[null,null,null,null,null,null,{"$f":"G768+help2!$C$3","v":751},{"$f":"help2!G754","v":" "}]
[null,null,null,null,null,null,{"$f":"G769+help2!$C$3","v":752},{"$f":"help2!G755","v":" "}]
[null,null,null,null,null,null,{"$f":"G770+help2!$C$3","v":753},{"$f":"help2!G756","v":" "}]
[null,null,null,null,null,null,{"$f":"G771+help2!$C$3","v":754},{"$f":"help2!G757","v":" "}]
[null,null,null,null,null,null,{"$f":"G772+help2!$C$3","v":755},{"$f":"help2!G758","v":" "}]
[null,null,null,null,null,null,{"$f":"G773+help2!$C$3","v":756},{"$f":"help2!G759","v":" "}]
[null,null,null,null,null,null,{"$f":"G774+help2!$C$3","v":757},{"$f":"help2!G760","v":" "}]
[null,null,null,null,null,null,{"$f":"G775+help2!$C$3","v":758},{"$f":"help2!G761","v":" "}]
[null,null,null,null,null,null,{"$f":"G776+help2!$C$3","v":759},{"$f":"help2!G762","v":" "}]
[null,null,null,null,null,null,{"$f":"G777+help2!$C$3","v":760},{"$f":"help2!G763","v":" "}]
[null,null,null,null,null,null,{"$f":"G778+help2!$C$3","v":761},{"$f":"help2!G764","v":" "}]
[null,null,null,null,null,null,{"$f":"G779+help2!$C$3","v":762},{"$f":"help2!G765","v":" "}]
[null,null,null,null,null,null,{"$f":"G780+help2!$C$3","v":763},{"$f":"help2!G766","v":" "}]
[null,null,null,null,null,null,{"$f":"G781+help2!$C$3","v":764},{"$f":"help2!G767","v":" "}]
[null,null,null,null,null,null,{"$f":"G782+help2!$C$3","v":765},{"$f":"help2!G768","v":" "}]
[null,null,null,null,null,null,{"$f":"G783+help2!$C$3","v":766},{"$f":"help2!G769","v":" "}]
[null,null,null,null,null,null,{"$f":"G784+help2!$C$3","v":767},{"$f":"help2!G770","v":" "}]
[null,null,null,null,null,null,{"$f":"G785+help2!$C$3","v":768},{"$f":"help2!G771","v":" "}]
[null,null,null,null,null,null,{"$f":"G786+help2!$C$3","v":769},{"$f":"help2!G772","v":" "}]
[null,null,null,null,null,null,{"$f":"G787+help2!$C$3","v":770},{"$f":"help2!G773","v":" "}]
[null,null,null,null,null,null,{"$f":"G788+help2!$C$3","v":771},{"$f":"help2!G774","v":" "}]
[null,null,null,null,null,null,{"$f":"G789+help2!$C$3","v":772},{"$f":"help2!G775","v":" "}]
[null,null,null,null,null,null,{"$f":"G790+help2!$C$3","v":773},{"$f":"help2!G776","v":" "}]
[null,null,null,null,null,null,{"$f":"G791+help2!$C$3","v":774},{"$f":"help2!G777","v":" "}]
[null,null,null,null,null,null,{"$f":"G792+help2!$C$3","v":775},{"$f":"help2!G778","v":" "}]
[null,null,null,null,null,null,{"$f":"G793+help2!$C$3","v":776},{"$f":"help2!G779","v":" "}]
[null,null,null,null,null,null,{"$f":"G794+help2!$C$3","v":777},{"$f":"help2!G780","v":" "}]
[null,null,null,null,null,null,{"$f":"G795+help2!$C$3","v":778},{"$f":"help2!G781","v":" "}]
[null,null,null,null,null,null,{"$f":"G796+help2!$C$3","v":779},{"$f":"help2!G782","v":" "}]
[null,null,null,null,null,null,{"$f":"G797+help2!$C$3","v":780},{"$f":"help2!G783","v":" "}]
[null,null,null,null,null,null,{"$f":"G798+help2!$C$3","v":781},{"$f":"help2!G784","v":" "}]
[null,null,null,null,null,null,{"$f":"G799+help2!$C$3","v":782},{"$f":"help2!G785","v":" "}]
[null,null,null,null,null,null,{"$f":"G800+help2!$C$3","v":783},{"$f":"help2!G786","v":" "}]
[null,null,null,null,null,null,{"$f":"G801+help2!$C$3","v":784},{"$f":"help2!G787","v":" "}]
[null,null,null,null,null,null,{"$f":"G802+help2!$C$3","v":785},{"$f":"help2!G788","v":" "}]
[null,null,null,null,null,null,{"$f":"G803+help2!$C$3","v":786},{"$f":"help2!G789","v":" "}]
[null,null,null,null,null,null,{"$f":"G804+help2!$C$3","v":787},{"$f":"help2!G790","v":" "}]
[null,null,null,null,null,null,{"$f":"G805+help2!$C$3","v":788},{"$f":"help2!G791","v":" "}]
[null,null,null,null,null,null,{"$f":"G806+help2!$C$3","v":789},{"$f":"help2!G792","v":" "}]
[null,null,null,null,null,null,{"$f":"G807+help2!$C$3","v":790},{"$f":"help2!G793","v":" "}]
[null,null,null,null,null,null,{"$f":"G808+help2!$C$3","v":791},{"$f":"help2!G794","v":" "}]
[null,null,null,null,null,null,{"$f":"G809+help2!$C$3","v":792},{"$f":"help2!G795","v":" "}]
[null,null,null,null,null,null,{"$f":"G810+help2!$C$3","v":793},{"$f":"help2!G796","v":" "}]
[null,null,null,null,null,null,{"$f":"G811+help2!$C$3","v":794},{"$f":"help2!G797","v":" "}]
[null,null,null,null,null,null,{"$f":"G812+help2!$C$3","v":795},{"$f":"help2!G798","v":" "}]
[null,null,null,null,null,null,{"$f":"G813+help2!$C$3","v":796},{"$f":"help2!G799","v":" "}]
[null,null,null,null,null,null,{"$f":"G814+help2!$C$3","v":797},{"$f":"help2!G800","v":" "}]
[null,null,null,null,null,null,{"$f":"G815+help2!$C$3","v":798},{"$f":"help2!G801","v":" "}]
[null,null,null,null,null,null,{"$f":"G816+help2!$C$3","v":799},{"$f":"help2!G802","v":" "}]
[null,null,null,null,null,null,{"$f":"G817+help2!$C$3","v":800},{"$f":"help2!G803","v":" "}]
[null,null,null,null,null,null,{"$f":"G818+help2!$C$3","v":801},{"$f":"help2!G804","v":" "}]
[null,null,null,null,null,null,{"$f":"G819+help2!$C$3","v":802},{"$f":"help2!G805","v":" "}]
[null,null,null,null,null,null,{"$f":"G820+help2!$C$3","v":803},{"$f":"help2!G806","v":" "}]
[null,null,null,null,null,null,{"$f":"G821+help2!$C$3","v":804},{"$f":"help2!G807","v":" "}]
[null,null,null,null,null,null,{"$f":"G822+help2!$C$3","v":805},{"$f":"help2!G808","v":" "}]
[null,null,null,null,null,null,{"$f":"G823+help2!$C$3","v":806},{"$f":"help2!G809","v":" "}]
[null,null,null,null,null,null,{"$f":"G824+help2!$C$3","v":807},{"$f":"help2!G810","v":" "}]
[null,null,null,null,null,null,{"$f":"G825+help2!$C$3","v":808},{"$f":"help2!G811","v":" "}]
[null,null,null,null,null,null,{"$f":"G826+help2!$C$3","v":809},{"$f":"help2!G812","v":" "}]
[null,null,null,null,null,null,{"$f":"G827+help2!$C$3","v":810},{"$f":"help2!G813","v":" "}]
[null,null,null,null,null,null,{"$f":"G828+help2!$C$3","v":811},{"$f":"help2!G814","v":" "}]
[null,null,null,null,null,null,{"$f":"G829+help2!$C$3","v":812},{"$f":"help2!G815","v":" "}]
[null,null,null,null,null,null,{"$f":"G830+help2!$C$3","v":813},{"$f":"help2!G816","v":" "}]
[null,null,null,null,null,null,{"$f":"G831+help2!$C$3","v":814},{"$f":"help2!G817","v":" "}]
[null,null,null,null,null,null,{"$f":"G832+help2!$C$3","v":815},{"$f":"help2!G818","v":" "}]
[null,null,null,null,null,null,{"$f":"G833+help2!$C$3","v":816},{"$f":"help2!G819","v":" "}]
[null,null,null,null,null,null,{"$f":"G834+help2!$C$3","v":817},{"$f":"help2!G820","v":" "}]
[null,null,null,null,null,null,{"$f":"G835+help2!$C$3","v":818},{"$f":"help2!G821","v":" "}]
[null,null,null,null,null,null,{"$f":"G836+help2!$C$3","v":819},{"$f":"help2!G822","v":" "}]
[null,null,null,null,null,null,{"$f":"G837+help2!$C$3","v":820},{"$f":"help2!G823","v":" "}]
[null,null,null,null,null,null,{"$f":"G838+help2!$C$3","v":821},{"$f":"help2!G824","v":" "}]
[null,null,null,null,null,null,{"$f":"G839+help2!$C$3","v":822},{"$f":"help2!G825","v":" "}]
[null,null,null,null,null,null,{"$f":"G840+help2!$C$3","v":823},{"$f":"help2!G826","v":" "}]
[null,null,null,null,null,null,{"$f":"G841+help2!$C$3","v":824},{"$f":"help2!G827","v":" "}]
[null,null,null,null,null,null,{"$f":"G842+help2!$C$3","v":825},{"$f":"help2!G828","v":" "}]
[null,null,null,null,null,null,{"$f":"G843+help2!$C$3","v":826},{"$f":"help2!G829","v":" "}]
[null,null,null,null,null,null,{"$f":"G844+help2!$C$3","v":827},{"$f":"help2!G830","v":" "}]
[null,null,null,null,null,null,{"$f":"G845+help2!$C$3","v":828},{"$f":"help2!G831","v":" "}]
[null,null,null,null,null,null,{"$f":"G846+help2!$C$3","v":829},{"$f":"help2!G832","v":" "}]
[null,null,null,null,null,null,{"$f":"G847+help2!$C$3","v":830},{"$f":"help2!G833","v":" "}]
[null,null,null,null,null,null,{"$f":"G848+help2!$C$3","v":831},{"$f":"help2!G834","v":" "}]
[null,null,null,null,null,null,{"$f":"G849+help2!$C$3","v":832},{"$f":"help2!G835","v":" "}]
[null,null,null,null,null,null,{"$f":"G850+help2!$C$3","v":833},{"$f":"help2!G836","v":" "}]
[null,null,null,null,null,null,{"$f":"G851+help2!$C$3","v":834},{"$f":"help2!G837","v":" "}]
[null,null,null,null,null,null,{"$f":"G852+help2!$C$3","v":835},{"$f":"help2!G838","v":" "}]
[null,null,null,null,null,null,{"$f":"G853+help2!$C$3","v":836},{"$f":"help2!G839","v":" "}]
[null,null,null,null,null,null,{"$f":"G854+help2!$C$3","v":837},{"$f":"help2!G840","v":" "}]
[null,null,null,null,null,null,{"$f":"G855+help2!$C$3","v":838},{"$f":"help2!G841","v":" "}]
[null,null,null,null,null,null,{"$f":"G856+help2!$C$3","v":839},{"$f":"help2!G842","v":" "}]
[null,null,null,null,null,null,{"$f":"G857+help2!$C$3","v":840},{"$f":"help2!G843","v":" "}]
[null,null,null,null,null,null,{"$f":"G858+help2!$C$3","v":841},{"$f":"help2!G844","v":" "}]
[null,null,null,null,null,null,{"$f":"G859+help2!$C$3","v":842},{"$f":"help2!G845","v":" "}]
[null,null,null,null,null,null,{"$f":"G860+help2!$C$3","v":843},{"$f":"help2!G846","v":" "}]
[null,null,null,null,null,null,{"$f":"G861+help2!$C$3","v":844},{"$f":"help2!G847","v":" "}]
[null,null,null,null,null,null,{"$f":"G862+help2!$C$3","v":845},{"$f":"help2!G848","v":" "}]
[null,null,null,null,null,null,{"$f":"G863+help2!$C$3","v":846},{"$f":"help2!G849","v":" "}]
[null,null,null,null,null,null,{"$f":"G864+help2!$C$3","v":847},{"$f":"help2!G850","v":" "}]
[null,null,null,null,null,null,{"$f":"G865+help2!$C$3","v":848},{"$f":"help2!G851","v":" "}]
[null,null,null,null,null,null,{"$f":"G866+help2!$C$3","v":849},{"$f":"help2!G852","v":" "}]
[null,null,null,null,null,null,{"$f":"G867+help2!$C$3","v":850},{"$f":"help2!G853","v":" "}]
[null,null,null,null,null,null,{"$f":"G868+help2!$C$3","v":851},{"$f":"help2!G854","v":" "}]
[null,null,null,null,null,null,{"$f":"G869+help2!$C$3","v":852},{"$f":"help2!G855","v":" "}]
[null,null,null,null,null,null,{"$f":"G870+help2!$C$3","v":853},{"$f":"help2!G856","v":" "}]
[null,null,null,null,null,null,{"$f":"G871+help2!$C$3","v":854},{"$f":"help2!G857","v":" "}]
[null,null,null,null,null,null,{"$f":"G872+help2!$C$3","v":855},{"$f":"help2!G858","v":" "}]
[null,null,null,null,null,null,{"$f":"G873+help2!$C$3","v":856},{"$f":"help2!G859","v":" "}]
[null,null,null,null,null,null,{"$f":"G874+help2!$C$3","v":857},{"$f":"help2!G860","v":" "}]
[null,null,null,null,null,null,{"$f":"G875+help2!$C$3","v":858},{"$f":"help2!G861","v":" "}]
[null,null,null,null,null,null,{"$f":"G876+help2!$C$3","v":859},{"$f":"help2!G862","v":" "}]
[null,null,null,null,null,null,{"$f":"G877+help2!$C$3","v":860},{"$f":"help2!G863","v":" "}]
[null,null,null,null,null,null,{"$f":"G878+help2!$C$3","v":861},{"$f":"help2!G864","v":" "}]
[null,null,null,null,null,null,{"$f":"G879+help2!$C$3","v":862},{"$f":"help2!G865","v":" "}]
[null,null,null,null,null,null,{"$f":"G880+help2!$C$3","v":863},{"$f":"help2!G866","v":" "}]
[null,null,null,null,null,null,{"$f":"G881+help2!$C$3","v":864},{"$f":"help2!G867","v":" "}]
[null,null,null,null,null,null,{"$f":"G882+help2!$C$3","v":865},{"$f":"help2!G868","v":" "}]
[null,null,null,null,null,null,{"$f":"G883+help2!$C$3","v":866},{"$f":"help2!G869","v":" "}]
[null,null,null,null,null,null,{"$f":"G884+help2!$C$3","v":867},{"$f":"help2!G870","v":" "}]
[null,null,null,null,null,null,{"$f":"G885+help2!$C$3","v":868},{"$f":"help2!G871","v":" "}]
[null,null,null,null,null,null,{"$f":"G886+help2!$C$3","v":869},{"$f":"help2!G872","v":" "}]
[null,null,null,null,null,null,{"$f":"G887+help2!$C$3","v":870},{"$f":"help2!G873","v":" "}]
[null,null,null,null,null,null,{"$f":"G888+help2!$C$3","v":871},{"$f":"help2!G874","v":" "}]
[null,null,null,null,null,null,{"$f":"G889+help2!$C$3","v":872},{"$f":"help2!G875","v":" "}]
[null,null,null,null,null,null,{"$f":"G890+help2!$C$3","v":873},{"$f":"help2!G876","v":" "}]
[null,null,null,null,null,null,{"$f":"G891+help2!$C$3","v":874},{"$f":"help2!G877","v":" "}]
[null,null,null,null,null,null,{"$f":"G892+help2!$C$3","v":875},{"$f":"help2!G878","v":" "}]
[null,null,null,null,null,null,{"$f":"G893+help2!$C$3","v":876},{"$f":"help2!G879","v":" "}]
[null,null,null,null,null,null,{"$f":"G894+help2!$C$3","v":877},{"$f":"help2!G880","v":" "}]
[null,null,null,null,null,null,{"$f":"G895+help2!$C$3","v":878},{"$f":"help2!G881","v":" "}]
[null,null,null,null,null,null,{"$f":"G896+help2!$C$3","v":879},{"$f":"help2!G882","v":" "}]
[null,null,null,null,null,null,{"$f":"G897+help2!$C$3","v":880},{"$f":"help2!G883","v":" "}]
[null,null,null,null,null,null,{"$f":"G898+help2!$C$3","v":881},{"$f":"help2!G884","v":" "}]
[null,null,null,null,null,null,{"$f":"G899+help2!$C$3","v":882},{"$f":"help2!G885","v":" "}]
[null,null,null,null,null,null,{"$f":"G900+help2!$C$3","v":883},{"$f":"help2!G886","v":" "}]
[null,null,null,null,null,null,{"$f":"G901+help2!$C$3","v":884},{"$f":"help2!G887","v":" "}]
[null,null,null,null,null,null,{"$f":"G902+help2!$C$3","v":885},{"$f":"help2!G888","v":" "}]
[null,null,null,null,null,null,{"$f":"G903+help2!$C$3","v":886},{"$f":"help2!G889","v":" "}]
[null,null,null,null,null,null,{"$f":"G904+help2!$C$3","v":887},{"$f":"help2!G890","v":" "}]
[null,null,null,null,null,null,{"$f":"G905+help2!$C$3","v":888},{"$f":"help2!G891","v":" "}]
[null,null,null,null,null,null,{"$f":"G906+help2!$C$3","v":889},{"$f":"help2!G892","v":" "}]
[null,null,null,null,null,null,{"$f":"G907+help2!$C$3","v":890},{"$f":"help2!G893","v":" "}]
[null,null,null,null,null,null,{"$f":"G908+help2!$C$3","v":891},{"$f":"help2!G894","v":" "}]
[null,null,null,null,null,null,{"$f":"G909+help2!$C$3","v":892},{"$f":"help2!G895","v":" "}]
[null,null,null,null,null,null,{"$f":"G910+help2!$C$3","v":893},{"$f":"help2!G896","v":" "}]
[null,null,null,null,null,null,{"$f":"G911+help2!$C$3","v":894},{"$f":"help2!G897","v":" "}]
[null,null,null,null,null,null,{"$f":"G912+help2!$C$3","v":895},{"$f":"help2!G898","v":" "}]
[null,null,null,null,null,null,{"$f":"G913+help2!$C$3","v":896},{"$f":"help2!G899","v":" "}]
[null,null,null,null,null,null,{"$f":"G914+help2!$C$3","v":897},{"$f":"help2!G900","v":" "}]
[null,null,null,null,null,null,{"$f":"G915+help2!$C$3","v":898},{"$f":"help2!G901","v":" "}]
[null,null,null,null,null,null,{"$f":"G916+help2!$C$3","v":899},{"$f":"help2!G902","v":" "}]
[null,null,null,null,null,null,{"$f":"G917+help2!$C$3","v":900},{"$f":"help2!G903","v":" "}]
[null,null,null,null,null,null,{"$f":"G918+help2!$C$3","v":901},{"$f":"help2!G904","v":" "}]
[null,null,null,null,null,null,{"$f":"G919+help2!$C$3","v":902},{"$f":"help2!G905","v":" "}]
[null,null,null,null,null,null,{"$f":"G920+help2!$C$3","v":903},{"$f":"help2!G906","v":" "}]
[null,null,null,null,null,null,{"$f":"G921+help2!$C$3","v":904},{"$f":"help2!G907","v":" "}]
[null,null,null,null,null,null,{"$f":"G922+help2!$C$3","v":905},{"$f":"help2!G908","v":" "}]
[null,null,null,null,null,null,{"$f":"G923+help2!$C$3","v":906},{"$f":"help2!G909","v":" "}]
[null,null,null,null,null,null,{"$f":"G924+help2!$C$3","v":907},{"$f":"help2!G910","v":" "}]
[null,null,null,null,null,null,{"$f":"G925+help2!$C$3","v":908},{"$f":"help2!G911","v":" "}]
[null,null,null,null,null,null,{"$f":"G926+help2!$C$3","v":909},{"$f":"help2!G912","v":" "}]
[null,null,null,null,null,null,{"$f":"G927+help2!$C$3","v":910},{"$f":"help2!G913","v":" "}]
[null,null,null,null,null,null,{"$f":"G928+help2!$C$3","v":911},{"$f":"help2!G914","v":" "}]
[null,null,null,null,null,null,{"$f":"G929+help2!$C$3","v":912},{"$f":"help2!G915","v":" "}]
[null,null,null,null,null,null,{"$f":"G930+help2!$C$3","v":913},{"$f":"help2!G916","v":" "}]
[null,null,null,null,null,null,{"$f":"G931+help2!$C$3","v":914},{"$f":"help2!G917","v":" "}]
[null,null,null,null,null,null,{"$f":"G932+help2!$C$3","v":915},{"$f":"help2!G918","v":" "}]
[null,null,null,null,null,null,{"$f":"G933+help2!$C$3","v":916},{"$f":"help2!G919","v":" "}]
[null,null,null,null,null,null,{"$f":"G934+help2!$C$3","v":917},{"$f":"help2!G920","v":" "}]
[null,null,null,null,null,null,{"$f":"G935+help2!$C$3","v":918},{"$f":"help2!G921","v":" "}]
[null,null,null,null,null,null,{"$f":"G936+help2!$C$3","v":919},{"$f":"help2!G922","v":" "}]
[null,null,null,null,null,null,{"$f":"G937+help2!$C$3","v":920},{"$f":"help2!G923","v":" "}]
[null,null,null,null,null,null,{"$f":"G938+help2!$C$3","v":921},{"$f":"help2!G924","v":" "}]
[null,null,null,null,null,null,{"$f":"G939+help2!$C$3","v":922},{"$f":"help2!G925","v":" "}]
[null,null,null,null,null,null,{"$f":"G940+help2!$C$3","v":923},{"$f":"help2!G926","v":" "}]
[null,null,null,null,null,null,{"$f":"G941+help2!$C$3","v":924},{"$f":"help2!G927","v":" "}]
[null,null,null,null,null,null,{"$f":"G942+help2!$C$3","v":925},{"$f":"help2!G928","v":" "}]
[null,null,null,null,null,null,{"$f":"G943+help2!$C$3","v":926},{"$f":"help2!G929","v":" "}]
[null,null,null,null,null,null,{"$f":"G944+help2!$C$3","v":927},{"$f":"help2!G930","v":" "}]
[null,null,null,null,null,null,{"$f":"G945+help2!$C$3","v":928},{"$f":"help2!G931","v":" "}]
[null,null,null,null,null,null,{"$f":"G946+help2!$C$3","v":929},{"$f":"help2!G932","v":" "}]
[null,null,null,null,null,null,{"$f":"G947+help2!$C$3","v":930},{"$f":"help2!G933","v":" "}]
[null,null,null,null,null,null,{"$f":"G948+help2!$C$3","v":931},{"$f":"help2!G934","v":" "}]
[null,null,null,null,null,null,{"$f":"G949+help2!$C$3","v":932},{"$f":"help2!G935","v":" "}]
[null,null,null,null,null,null,{"$f":"G950+help2!$C$3","v":933},{"$f":"help2!G936","v":" "}]
[null,null,null,null,null,null,{"$f":"G951+help2!$C$3","v":934},{"$f":"help2!G937","v":" "}]
[null,null,null,null,null,null,{"$f":"G952+help2!$C$3","v":935},{"$f":"help2!G938","v":" "}]
[null,null,null,null,null,null,{"$f":"G953+help2!$C$3","v":936},{"$f":"help2!G939","v":" "}]
[null,null,null,null,null,null,{"$f":"G954+help2!$C$3","v":937},{"$f":"help2!G940","v":" "}]
[null,null,null,null,null,null,{"$f":"G955+help2!$C$3","v":938},{"$f":"help2!G941","v":" "}]
[null,null,null,null,null,null,{"$f":"G956+help2!$C$3","v":939},{"$f":"help2!G942","v":" "}]
[null,null,null,null,null,null,{"$f":"G957+help2!$C$3","v":940},{"$f":"help2!G943","v":" "}]
[null,null,null,null,null,null,{"$f":"G958+help2!$C$3","v":941},{"$f":"help2!G944","v":" "}]
[null,null,null,null,null,null,{"$f":"G959+help2!$C$3","v":942},{"$f":"help2!G945","v":" "}]
[null,null,null,null,null,null,{"$f":"G960+help2!$C$3","v":943},{"$f":"help2!G946","v":" "}]
[null,null,null,null,null,null,{"$f":"G961+help2!$C$3","v":944},{"$f":"help2!G947","v":" "}]
[null,null,null,null,null,null,{"$f":"G962+help2!$C$3","v":945},{"$f":"help2!G948","v":" "}]
[null,null,null,null,null,null,{"$f":"G963+help2!$C$3","v":946},{"$f":"help2!G949","v":" "}]
[null,null,null,null,null,null,{"$f":"G964+help2!$C$3","v":947},{"$f":"help2!G950","v":" "}]
[null,null,null,null,null,null,{"$f":"G965+help2!$C$3","v":948},{"$f":"help2!G951","v":" "}]
[null,null,null,null,null,null,{"$f":"G966+help2!$C$3","v":949},{"$f":"help2!G952","v":" "}]
[null,null,null,null,null,null,{"$f":"G967+help2!$C$3","v":950},{"$f":"help2!G953","v":" "}]
[null,null,null,null,null,null,{"$f":"G968+help2!$C$3","v":951},{"$f":"help2!G954","v":" "}]
[null,null,null,null,null,null,{"$f":"G969+help2!$C$3","v":952},{"$f":"help2!G955","v":" "}]
[null,null,null,null,null,null,{"$f":"G970+help2!$C$3","v":953},{"$f":"help2!G956","v":" "}]
[null,null,null,null,null,null,{"$f":"G971+help2!$C$3","v":954},{"$f":"help2!G957","v":" "}]
[null,null,null,null,null,null,{"$f":"G972+help2!$C$3","v":955},{"$f":"help2!G958","v":" "}]
[null,null,null,null,null,null,{"$f":"G973+help2!$C$3","v":956},{"$f":"help2!G959","v":" "}]
[null,null,null,null,null,null,{"$f":"G974+help2!$C$3","v":957},{"$f":"help2!G960","v":" "}]
[null,null,null,null,null,null,{"$f":"G975+help2!$C$3","v":958},{"$f":"help2!G961","v":" "}]
[null,null,null,null,null,null,{"$f":"G976+help2!$C$3","v":959},{"$f":"help2!G962","v":" "}]
[null,null,null,null,null,null,{"$f":"G977+help2!$C$3","v":960},{"$f":"help2!G963","v":" "}]
[null,null,null,null,null,null,{"$f":"G978+help2!$C$3","v":961},{"$f":"help2!G964","v":" "}]
[null,null,null,null,null,null,{"$f":"G979+help2!$C$3","v":962},{"$f":"help2!G965","v":" "}]
[null,null,null,null,null,null,{"$f":"G980+help2!$C$3","v":963},{"$f":"help2!G966","v":" "}]
[null,null,null,null,null,null,{"$f":"G981+help2!$C$3","v":964},{"$f":"help2!G967","v":" "}]
[null,null,null,null,null,null,{"$f":"G982+help2!$C$3","v":965},{"$f":"help2!G968","v":" "}]
[null,null,null,null,null,null,{"$f":"G983+help2!$C$3","v":966},{"$f":"help2!G969","v":" "}]
[null,null,null,null,null,null,{"$f":"G984+help2!$C$3","v":967},{"$f":"help2!G970","v":" "}]
[null,null,null,null,null,null,{"$f":"G985+help2!$C$3","v":968},{"$f":"help2!G971","v":" "}]
[null,null,null,null,null,null,{"$f":"G986+help2!$C$3","v":969},{"$f":"help2!G972","v":" "}]
[null,null,null,null,null,null,{"$f":"G987+help2!$C$3","v":970},{"$f":"help2!G973","v":" "}]
[null,null,null,null,null,null,{"$f":"G988+help2!$C$3","v":971},{"$f":"help2!G974","v":" "}]
[null,null,null,null,null,null,{"$f":"G989+help2!$C$3","v":972},{"$f":"help2!G975","v":" "}]
[null,null,null,null,null,null,{"$f":"G990+help2!$C$3","v":973},{"$f":"help2!G976","v":" "}]
[null,null,null,null,null,null,{"$f":"G991+help2!$C$3","v":974},{"$f":"help2!G977","v":" "}]
[null,null,null,null,null,null,{"$f":"G992+help2!$C$3","v":975},{"$f":"help2!G978","v":" "}]
[null,null,null,null,null,null,{"$f":"G993+help2!$C$3","v":976},{"$f":"help2!G979","v":" "}]
[null,null,null,null,null,null,{"$f":"G994+help2!$C$3","v":977},{"$f":"help2!G980","v":" "}]
[null,null,null,null,null,null,{"$f":"G995+help2!$C$3","v":978},{"$f":"help2!G981","v":" "}]
[null,null,null,null,null,null,{"$f":"G996+help2!$C$3","v":979},{"$f":"help2!G982","v":" "}]
[null,null,null,null,null,null,{"$f":"G997+help2!$C$3","v":980},{"$f":"help2!G983","v":" "}]
[null,null,null,null,null,null,{"$f":"G998+help2!$C$3","v":981},{"$f":"help2!G984","v":" "}]
[null,null,null,null,null,null,{"$f":"G999+help2!$C$3","v":982},{"$f":"help2!G985","v":" "}]
[null,null,null,null,null,null,{"$f":"G1000+help2!$C$3","v":983},{"$f":"help2!G986","v":" "}]
[null,null,null,null,null,null,{"$f":"G1001+help2!$C$3","v":984},{"$f":"help2!G987","v":" "}]
[null,null,null,null,null,null,{"$f":"G1002+help2!$C$3","v":985},{"$f":"help2!G988","v":" "}]
[null,null,null,null,null,null,{"$f":"G1003+help2!$C$3","v":986},{"$f":"help2!G989","v":" "}]
[null,null,null,null,null,null,{"$f":"G1004+help2!$C$3","v":987},{"$f":"help2!G990","v":" "}]
[null,null,null,null,null,null,{"$f":"G1005+help2!$C$3","v":988},{"$f":"help2!G991","v":" "}]
[null,null,null,null,null,null,{"$f":"G1006+help2!$C$3","v":989},{"$f":"help2!G992","v":" "}]
[null,null,null,null,null,null,{"$f":"G1007+help2!$C$3","v":990},{"$f":"help2!G993","v":" "}]
[null,null,null,null,null,null,{"$f":"G1008+help2!$C$3","v":991},{"$f":"help2!G994","v":" "}]
[null,null,null,null,null,null,{"$f":"G1009+help2!$C$3","v":992},{"$f":"help2!G995","v":" "}]
[null,null,null,null,null,null,{"$f":"G1010+help2!$C$3","v":993},{"$f":"help2!G996","v":" "}]
[null,null,null,null,null,null,{"$f":"G1011+help2!$C$3","v":994},{"$f":"help2!G997","v":" "}]
[null,null,null,null,null,null,{"$f":"G1012+help2!$C$3","v":995},{"$f":"help2!G998","v":" "}]
[null,null,null,null,null,null,{"$f":"G1013+help2!$C$3","v":996},{"$f":"help2!G999","v":" "}]
[null,null,null,null,null,null,{"$f":"G1014+help2!$C$3","v":997},{"$f":"help2!G1000","v":" "}]
[null,null,null,null,null,null,{"$f":"G1015+help2!$C$3","v":998},{"$f":"help2!G1001","v":" "}]
[null,null,null,null,null,null,{"$f":"G1016+help2!$C$3","v":999},{"$f":"help2!G1002","v":" "}]
[null,null,null,null,null,null,{"$f":"G1017+help2!$C$3","v":1000},{"$f":"help2!G1003","v":" "}]
[null,null,null,null,null,null,{"$f":"G1018+help2!$C$3","v":1001},{"$f":"help2!G1004","v":" "}]
[null,null,null,null,null,null,{"$f":"G1019+help2!$C$3","v":1002},{"$f":"help2!G1005","v":" "}]
[null,null,null,null,null,null,{"$f":"G1020+help2!$C$3","v":1003},{"$f":"help2!G1006","v":" "}]
[null,null,null,null,null,null,{"$f":"G1021+help2!$C$3","v":1004},{"$f":"help2!G1007","v":" "}]
[null,null,null,null,null,null,{"$f":"G1022+help2!$C$3","v":1005},{"$f":"help2!G1008","v":" "}]
[null,null,null,null,null,null,{"$f":"G1023+help2!$C$3","v":1006},{"$f":"help2!G1009","v":" "}]
[null,null,null,null,null,null,{"$f":"G1024+help2!$C$3","v":1007},{"$f":"help2!G1010","v":" "}]
[null,null,null,null,null,null,{"$f":"G1025+help2!$C$3","v":1008},{"$f":"help2!G1011","v":" "}]
[null,null,null,null,null,null,{"$f":"G1026+help2!$C$3","v":1009},{"$f":"help2!G1012","v":" "}]
[null,null,null,null,null,null,{"$f":"G1027+help2!$C$3","v":1010},{"$f":"help2!G1013","v":" "}]
[null,null,null,null,null,null,{"$f":"G1028+help2!$C$3","v":1011},{"$f":"help2!G1014","v":" "}]
[null,null,null,null,null,null,{"$f":"G1029+help2!$C$3","v":1012},{"$f":"help2!G1015","v":" "}]
[null,null,null,null,null,null,{"$f":"G1030+help2!$C$3","v":1013},{"$f":"help2!G1016","v":" "}]
[null,null,null,null,null,null,{"$f":"G1031+help2!$C$3","v":1014},{"$f":"help2!G1017","v":" "}]
[null,null,null,null,null,null,{"$f":"G1032+help2!$C$3","v":1015},{"$f":"help2!G1018","v":" "}]
[null,null,null,null,null,null,{"$f":"G1033+help2!$C$3","v":1016},{"$f":"help2!G1019","v":" "}]
[null,null,null,null,null,null,{"$f":"G1034+help2!$C$3","v":1017},{"$f":"help2!G1020","v":" "}]
[null,null,null,null,null,null,{"$f":"G1035+help2!$C$3","v":1018},{"$f":"help2!G1021","v":" "}]
[null,null,null,null,null,null,{"$f":"G1036+help2!$C$3","v":1019},{"$f":"help2!G1022","v":" "}]
[null,null,null,null,null,null,{"$f":"G1037+help2!$C$3","v":1020},{"$f":"help2!G1023","v":" "}]
[null,null,null,null,null,null,{"$f":"G1038+help2!$C$3","v":1021},{"$f":"help2!G1024","v":" "}]
[null,null,null,null,null,null,{"$f":"G1039+help2!$C$3","v":1022},{"$f":"help2!G1025","v":" "}]
[null,null,null,null,null,null,{"$f":"G1040+help2!$C$3","v":1023},{"$f":"help2!G1026","v":" "}]
[null,null,null,null,null,null,{"$f":"G1041+help2!$C$3","v":1024},{"$f":"help2!G1027","v":" "}]
[null,null,null,null,null,null,{"$f":"G1042+help2!$C$3","v":1025},{"$f":"help2!G1028","v":" "}]
[null,null,null,null,null,null,{"$f":"G1043+help2!$C$3","v":1026},{"$f":"help2!G1029","v":" "}]
[null,null,null,null,null,null,{"$f":"G1044+help2!$C$3","v":1027},{"$f":"help2!G1030","v":" "}]
[null,null,null,null,null,null,{"$f":"G1045+help2!$C$3","v":1028},{"$f":"help2!G1031","v":" "}]
[null,null,null,null,null,null,{"$f":"G1046+help2!$C$3","v":1029},{"$f":"help2!G1032","v":" "}]
[null,null,null,null,null,null,{"$f":"G1047+help2!$C$3","v":1030},{"$f":"help2!G1033","v":" "}]
[null,null,null,null,null,null,{"$f":"G1048+help2!$C$3","v":1031},{"$f":"help2!G1034","v":" "}]
[null,null,null,null,null,null,{"$f":"G1049+help2!$C$3","v":1032},{"$f":"help2!G1035","v":" "}]
[null,null,null,null,null,null,{"$f":"G1050+help2!$C$3","v":1033},{"$f":"help2!G1036","v":" "}]
[null,null,null,null,null,null,{"$f":"G1051+help2!$C$3","v":1034},{"$f":"help2!G1037","v":" "}]
[null,null,null,null,null,null,{"$f":"G1052+help2!$C$3","v":1035},{"$f":"help2!G1038","v":" "}]
[null,null,null,null,null,null,{"$f":"G1053+help2!$C$3","v":1036},{"$f":"help2!G1039","v":" "}]
[null,null,null,null,null,null,{"$f":"G1054+help2!$C$3","v":1037},{"$f":"help2!G1040","v":" "}]
[null,null,null,null,null,null,{"$f":"G1055+help2!$C$3","v":1038},{"$f":"help2!G1041","v":" "}]
[null,null,null,null,null,null,{"$f":"G1056+help2!$C$3","v":1039},{"$f":"help2!G1042","v":" "}]
[null,null,null,null,null,null,{"$f":"G1057+help2!$C$3","v":1040},{"$f":"help2!G1043","v":" "}]
[null,null,null,null,null,null,{"$f":"G1058+help2!$C$3","v":1041},{"$f":"help2!G1044","v":" "}]
[null,null,null,null,null,null,{"$f":"G1059+help2!$C$3","v":1042},{"$f":"help2!G1045","v":" "}]
[null,null,null,null,null,null,{"$f":"G1060+help2!$C$3","v":1043},{"$f":"help2!G1046","v":" "}]
[null,null,null,null,null,null,{"$f":"G1061+help2!$C$3","v":1044},{"$f":"help2!G1047","v":" "}]
[null,null,null,null,null,null,{"$f":"G1062+help2!$C$3","v":1045},{"$f":"help2!G1048","v":" "}]
[null,null,null,null,null,null,{"$f":"G1063+help2!$C$3","v":1046},{"$f":"help2!G1049","v":" "}]
[null,null,null,null,null,null,{"$f":"G1064+help2!$C$3","v":1047},{"$f":"help2!G1050","v":" "}]
[null,null,null,null,null,null,{"$f":"G1065+help2!$C$3","v":1048},{"$f":"help2!G1051","v":" "}]
[null,null,null,null,null,null,{"$f":"G1066+help2!$C$3","v":1049},{"$f":"help2!G1052","v":" "}]
[null,null,null,null,null,null,{"$f":"G1067+help2!$C$3","v":1050},{"$f":"help2!G1053","v":" "}]
[null,null,null,null,null,null,{"$f":"G1068+help2!$C$3","v":1051},{"$f":"help2!G1054","v":" "}]
[null,null,null,null,null,null,{"$f":"G1069+help2!$C$3","v":1052},{"$f":"help2!G1055","v":" "}]
[null,null,null,null,null,null,{"$f":"G1070+help2!$C$3","v":1053},{"$f":"help2!G1056","v":" "}]
[null,null,null,null,null,null,{"$f":"G1071+help2!$C$3","v":1054},{"$f":"help2!G1057","v":" "}]
[null,null,null,null,null,null,{"$f":"G1072+help2!$C$3","v":1055},{"$f":"help2!G1058","v":" "}]
[null,null,null,null,null,null,{"$f":"G1073+help2!$C$3","v":1056},{"$f":"help2!G1059","v":" "}]
[null,null,null,null,null,null,{"$f":"G1074+help2!$C$3","v":1057},{"$f":"help2!G1060","v":" "}]
[null,null,null,null,null,null,{"$f":"G1075+help2!$C$3","v":1058},{"$f":"help2!G1061","v":" "}]
[null,null,null,null,null,null,{"$f":"G1076+help2!$C$3","v":1059},{"$f":"help2!G1062","v":" "}]
[null,null,null,null,null,null,{"$f":"G1077+help2!$C$3","v":1060},{"$f":"help2!G1063","v":" "}]
[null,null,null,null,null,null,{"$f":"G1078+help2!$C$3","v":1061},{"$f":"help2!G1064","v":" "}]
[null,null,null,null,null,null,{"$f":"G1079+help2!$C$3","v":1062},{"$f":"help2!G1065","v":" "}]
[null,null,null,null,null,null,{"$f":"G1080+help2!$C$3","v":1063},{"$f":"help2!G1066","v":" "}]
[null,null,null,null,null,null,{"$f":"G1081+help2!$C$3","v":1064},{"$f":"help2!G1067","v":" "}]
[null,null,null,null,null,null,{"$f":"G1082+help2!$C$3","v":1065},{"$f":"help2!G1068","v":" "}]
[null,null,null,null,null,null,{"$f":"G1083+help2!$C$3","v":1066},{"$f":"help2!G1069","v":" "}]
[null,null,null,null,null,null,{"$f":"G1084+help2!$C$3","v":1067},{"$f":"help2!G1070","v":" "}]
[null,null,null,null,null,null,{"$f":"G1085+help2!$C$3","v":1068},{"$f":"help2!G1071","v":" "}]
[null,null,null,null,null,null,{"$f":"G1086+help2!$C$3","v":1069},{"$f":"help2!G1072","v":" "}]
[null,null,null,null,null,null,{"$f":"G1087+help2!$C$3","v":1070},{"$f":"help2!G1073","v":" "}]
[null,null,null,null,null,null,{"$f":"G1088+help2!$C$3","v":1071},{"$f":"help2!G1074","v":" "}]
[null,null,null,null,null,null,{"$f":"G1089+help2!$C$3","v":1072},{"$f":"help2!G1075","v":" "}]
[null,null,null,null,null,null,{"$f":"G1090+help2!$C$3","v":1073},{"$f":"help2!G1076","v":" "}]
[null,null,null,null,null,null,{"$f":"G1091+help2!$C$3","v":1074},{"$f":"help2!G1077","v":" "}]
[null,null,null,null,null,null,{"$f":"G1092+help2!$C$3","v":1075},{"$f":"help2!G1078","v":" "}]
[null,null,null,null,null,null,{"$f":"G1093+help2!$C$3","v":1076},{"$f":"help2!G1079","v":" "}]
[null,null,null,null,null,null,{"$f":"G1094+help2!$C$3","v":1077},{"$f":"help2!G1080","v":" "}]
[null,null,null,null,null,null,{"$f":"G1095+help2!$C$3","v":1078},{"$f":"help2!G1081","v":" "}]
[null,null,null,null,null,null,{"$f":"G1096+help2!$C$3","v":1079},{"$f":"help2!G1082","v":" "}]
[null,null,null,null,null,null,{"$f":"G1097+help2!$C$3","v":1080},{"$f":"help2!G1083","v":" "}]
[null,null,null,null,null,null,{"$f":"G1098+help2!$C$3","v":1081},{"$f":"help2!G1084","v":" "}]
[null,null,null,null,null,null,{"$f":"G1099+help2!$C$3","v":1082},{"$f":"help2!G1085","v":" "}]
[null,null,null,null,null,null,{"$f":"G1100+help2!$C$3","v":1083},{"$f":"help2!G1086","v":" "}]
[null,null,null,null,null,null,{"$f":"G1101+help2!$C$3","v":1084},{"$f":"help2!G1087","v":" "}]
[null,null,null,null,null,null,{"$f":"G1102+help2!$C$3","v":1085},{"$f":"help2!G1088","v":" "}]
[null,null,null,null,null,null,{"$f":"G1103+help2!$C$3","v":1086},{"$f":"help2!G1089","v":" "}]
[null,null,null,null,null,null,{"$f":"G1104+help2!$C$3","v":1087},{"$f":"help2!G1090","v":" "}]
[null,null,null,null,null,null,{"$f":"G1105+help2!$C$3","v":1088},{"$f":"help2!G1091","v":" "}]
[null,null,null,null,null,null,{"$f":"G1106+help2!$C$3","v":1089},{"$f":"help2!G1092","v":" "}]
[null,null,null,null,null,null,{"$f":"G1107+help2!$C$3","v":1090},{"$f":"help2!G1093","v":" "}]
[null,null,null,null,null,null,{"$f":"G1108+help2!$C$3","v":1091},{"$f":"help2!G1094","v":" "}]
[null,null,null,null,null,null,{"$f":"G1109+help2!$C$3","v":1092},{"$f":"help2!G1095","v":" "}]
[null,null,null,null,null,null,{"$f":"G1110+help2!$C$3","v":1093},{"$f":"help2!G1096","v":" "}]
[null,null,null,null,null,null,{"$f":"G1111+help2!$C$3","v":1094},{"$f":"help2!G1097","v":" "}]
[null,null,null,null,null,null,{"$f":"G1112+help2!$C$3","v":1095},{"$f":"help2!G1098","v":" "}]
[null,null,null,null,null,null,{"$f":"G1113+help2!$C$3","v":1096},{"$f":"help2!G1099","v":" "}]
[null,null,null,null,null,null,{"$f":"G1114+help2!$C$3","v":1097},{"$f":"help2!G1100","v":" "}]
[null,null,null,null,null,null,{"$f":"G1115+help2!$C$3","v":1098},{"$f":"help2!G1101","v":" "}]
[null,null,null,null,null,null,{"$f":"G1116+help2!$C$3","v":1099},{"$f":"help2!G1102","v":" "}]
[null,null,null,null,null,null,{"$f":"G1117+help2!$C$3","v":1100},{"$f":"help2!G1103","v":" "}]
[null,null,null,null,null,null,{"$f":"G1118+help2!$C$3","v":1101},{"$f":"help2!G1104","v":" "}]
[null,null,null,null,null,null,{"$f":"G1119+help2!$C$3","v":1102},{"$f":"help2!G1105","v":" "}]
[null,null,null,null,null,null,{"$f":"G1120+help2!$C$3","v":1103},{"$f":"help2!G1106","v":" "}]
[null,null,null,null,null,null,{"$f":"G1121+help2!$C$3","v":1104},{"$f":"help2!G1107","v":" "}]
[null,null,null,null,null,null,{"$f":"G1122+help2!$C$3","v":1105},{"$f":"help2!G1108","v":" "}]
[null,null,null,null,null,null,{"$f":"G1123+help2!$C$3","v":1106},{"$f":"help2!G1109","v":" "}]
[null,null,null,null,null,null,{"$f":"G1124+help2!$C$3","v":1107},{"$f":"help2!G1110","v":" "}]
[null,null,null,null,null,null,{"$f":"G1125+help2!$C$3","v":1108},{"$f":"help2!G1111","v":" "}]
[null,null,null,null,null,null,{"$f":"G1126+help2!$C$3","v":1109},{"$f":"help2!G1112","v":" "}]
[null,null,null,null,null,null,{"$f":"G1127+help2!$C$3","v":1110},{"$f":"help2!G1113","v":" "}]
[null,null,null,null,null,null,{"$f":"G1128+help2!$C$3","v":1111},{"$f":"help2!G1114","v":" "}]
[null,null,null,null,null,null,{"$f":"G1129+help2!$C$3","v":1112},{"$f":"help2!G1115","v":" "}]
[null,null,null,null,null,null,{"$f":"G1130+help2!$C$3","v":1113},{"$f":"help2!G1116","v":" "}]
[null,null,null,null,null,null,{"$f":"G1131+help2!$C$3","v":1114},{"$f":"help2!G1117","v":" "}]
[null,null,null,null,null,null,{"$f":"G1132+help2!$C$3","v":1115},{"$f":"help2!G1118","v":" "}]
[null,null,null,null,null,null,{"$f":"G1133+help2!$C$3","v":1116},{"$f":"help2!G1119","v":" "}]
[null,null,null,null,null,null,{"$f":"G1134+help2!$C$3","v":1117},{"$f":"help2!G1120","v":" "}]
[null,null,null,null,null,null,{"$f":"G1135+help2!$C$3","v":1118},{"$f":"help2!G1121","v":" "}]
[null,null,null,null,null,null,{"$f":"G1136+help2!$C$3","v":1119},{"$f":"help2!G1122","v":" "}]
[null,null,null,null,null,null,{"$f":"G1137+help2!$C$3","v":1120},{"$f":"help2!G1123","v":" "}]
[null,null,null,null,null,null,{"$f":"G1138+help2!$C$3","v":1121},{"$f":"help2!G1124","v":" "}]
[null,null,null,null,null,null,{"$f":"G1139+help2!$C$3","v":1122},{"$f":"help2!G1125","v":" "}]
[null,null,null,null,null,null,{"$f":"G1140+help2!$C$3","v":1123},{"$f":"help2!G1126","v":" "}]
[null,null,null,null,null,null,{"$f":"G1141+help2!$C$3","v":1124},{"$f":"help2!G1127","v":" "}]
[null,null,null,null,null,null,{"$f":"G1142+help2!$C$3","v":1125},{"$f":"help2!G1128","v":" "}]
[null,null,null,null,null,null,{"$f":"G1143+help2!$C$3","v":1126},{"$f":"help2!G1129","v":" "}]
[null,null,null,null,null,null,{"$f":"G1144+help2!$C$3","v":1127},{"$f":"help2!G1130","v":" "}]
[null,null,null,null,null,null,{"$f":"G1145+help2!$C$3","v":1128},{"$f":"help2!G1131","v":" "}]
[null,null,null,null,null,null,{"$f":"G1146+help2!$C$3","v":1129},{"$f":"help2!G1132","v":" "}]
[null,null,null,null,null,null,{"$f":"G1147+help2!$C$3","v":1130},{"$f":"help2!G1133","v":" "}]
[null,null,null,null,null,null,{"$f":"G1148+help2!$C$3","v":1131},{"$f":"help2!G1134","v":" "}]
[null,null,null,null,null,null,{"$f":"G1149+help2!$C$3","v":1132},{"$f":"help2!G1135","v":" "}]
[null,null,null,null,null,null,{"$f":"G1150+help2!$C$3","v":1133},{"$f":"help2!G1136","v":" "}]
[null,null,null,null,null,null,{"$f":"G1151+help2!$C$3","v":1134},{"$f":"help2!G1137","v":" "}]
[null,null,null,null,null,null,{"$f":"G1152+help2!$C$3","v":1135},{"$f":"help2!G1138","v":" "}]
[null,null,null,null,null,null,{"$f":"G1153+help2!$C$3","v":1136},{"$f":"help2!G1139","v":" "}]
[null,null,null,null,null,null,{"$f":"G1154+help2!$C$3","v":1137},{"$f":"help2!G1140","v":" "}]
[null,null,null,null,null,null,{"$f":"G1155+help2!$C$3","v":1138},{"$f":"help2!G1141","v":" "}]
[null,null,null,null,null,null,{"$f":"G1156+help2!$C$3","v":1139},{"$f":"help2!G1142","v":" "}]
[null,null,null,null,null,null,{"$f":"G1157+help2!$C$3","v":1140},{"$f":"help2!G1143","v":" "}]
[null,null,null,null,null,null,{"$f":"G1158+help2!$C$3","v":1141},{"$f":"help2!G1144","v":" "}]
[null,null,null,null,null,null,{"$f":"G1159+help2!$C$3","v":1142},{"$f":"help2!G1145","v":" "}]
[null,null,null,null,null,null,{"$f":"G1160+help2!$C$3","v":1143},{"$f":"help2!G1146","v":" "}]
[null,null,null,null,null,null,{"$f":"G1161+help2!$C$3","v":1144},{"$f":"help2!G1147","v":" "}]
[null,null,null,null,null,null,{"$f":"G1162+help2!$C$3","v":1145},{"$f":"help2!G1148","v":" "}]
[null,null,null,null,null,null,{"$f":"G1163+help2!$C$3","v":1146},{"$f":"help2!G1149","v":" "}]
[null,null,null,null,null,null,{"$f":"G1164+help2!$C$3","v":1147},{"$f":"help2!G1150","v":" "}]
[null,null,null,null,null,null,{"$f":"G1165+help2!$C$3","v":1148},{"$f":"help2!G1151","v":" "}]
[null,null,null,null,null,null,{"$f":"G1166+help2!$C$3","v":1149},{"$f":"help2!G1152","v":" "}]
[null,null,null,null,null,null,{"$f":"G1167+help2!$C$3","v":1150},{"$f":"help2!G1153","v":" "}]
[null,null,null,null,null,null,{"$f":"G1168+help2!$C$3","v":1151},{"$f":"help2!G1154","v":" "}]
[null,null,null,null,null,null,{"$f":"G1169+help2!$C$3","v":1152},{"$f":"help2!G1155","v":" "}]
[null,null,null,null,null,null,{"$f":"G1170+help2!$C$3","v":1153},{"$f":"help2!G1156","v":" "}]
[null,null,null,null,null,null,{"$f":"G1171+help2!$C$3","v":1154},{"$f":"help2!G1157","v":" "}]
[null,null,null,null,null,null,{"$f":"G1172+help2!$C$3","v":1155},{"$f":"help2!G1158","v":" "}]
[null,null,null,null,null,null,{"$f":"G1173+help2!$C$3","v":1156},{"$f":"help2!G1159","v":" "}]
[null,null,null,null,null,null,{"$f":"G1174+help2!$C$3","v":1157},{"$f":"help2!G1160","v":" "}]
[null,null,null,null,null,null,{"$f":"G1175+help2!$C$3","v":1158},{"$f":"help2!G1161","v":" "}]
[null,null,null,null,null,null,{"$f":"G1176+help2!$C$3","v":1159},{"$f":"help2!G1162","v":" "}]
[null,null,null,null,null,null,{"$f":"G1177+help2!$C$3","v":1160},{"$f":"help2!G1163","v":" "}]
[null,null,null,null,null,null,{"$f":"G1178+help2!$C$3","v":1161},{"$f":"help2!G1164","v":" "}]
[null,null,null,null,null,null,{"$f":"G1179+help2!$C$3","v":1162},{"$f":"help2!G1165","v":" "}]
[null,null,null,null,null,null,{"$f":"G1180+help2!$C$3","v":1163},{"$f":"help2!G1166","v":" "}]
[null,null,null,null,null,null,{"$f":"G1181+help2!$C$3","v":1164},{"$f":"help2!G1167","v":" "}]
[null,null,null,null,null,null,{"$f":"G1182+help2!$C$3","v":1165},{"$f":"help2!G1168","v":" "}]
[null,null,null,null,null,null,{"$f":"G1183+help2!$C$3","v":1166},{"$f":"help2!G1169","v":" "}]
[null,null,null,null,null,null,{"$f":"G1184+help2!$C$3","v":1167},{"$f":"help2!G1170","v":" "}]
[null,null,null,null,null,null,{"$f":"G1185+help2!$C$3","v":1168},{"$f":"help2!G1171","v":" "}]
[null,null,null,null,null,null,{"$f":"G1186+help2!$C$3","v":1169},{"$f":"help2!G1172","v":" "}]
[null,null,null,null,null,null,{"$f":"G1187+help2!$C$3","v":1170},{"$f":"help2!G1173","v":" "}]
[null,null,null,null,null,null,{"$f":"G1188+help2!$C$3","v":1171},{"$f":"help2!G1174","v":" "}]
[null,null,null,null,null,null,{"$f":"G1189+help2!$C$3","v":1172},{"$f":"help2!G1175","v":" "}]
[null,null,null,null,null,null,{"$f":"G1190+help2!$C$3","v":1173},{"$f":"help2!G1176","v":" "}]
[null,null,null,null,null,null,{"$f":"G1191+help2!$C$3","v":1174},{"$f":"help2!G1177","v":" "}]
[null,null,null,null,null,null,{"$f":"G1192+help2!$C$3","v":1175},{"$f":"help2!G1178","v":" "}]
[null,null,null,null,null,null,{"$f":"G1193+help2!$C$3","v":1176},{"$f":"help2!G1179","v":" "}]
[null,null,null,null,null,null,{"$f":"G1194+help2!$C$3","v":1177},{"$f":"help2!G1180","v":" "}]
[null,null,null,null,null,null,{"$f":"G1195+help2!$C$3","v":1178},{"$f":"help2!G1181","v":" "}]
[null,null,null,null,null,null,{"$f":"G1196+help2!$C$3","v":1179},{"$f":"help2!G1182","v":" "}]
[null,null,null,null,null,null,{"$f":"G1197+help2!$C$3","v":1180},{"$f":"help2!G1183","v":" "}]
[null,null,null,null,null,null,{"$f":"G1198+help2!$C$3","v":1181},{"$f":"help2!G1184","v":" "}]
[null,null,null,null,null,null,{"$f":"G1199+help2!$C$3","v":1182},{"$f":"help2!G1185","v":" "}]
[null,null,null,null,null,null,{"$f":"G1200+help2!$C$3","v":1183},{"$f":"help2!G1186","v":" "}]
[null,null,null,null,null,null,{"$f":"G1201+help2!$C$3","v":1184},{"$f":"help2!G1187","v":" "}]
[null,null,null,null,null,null,{"$f":"G1202+help2!$C$3","v":1185},{"$f":"help2!G1188","v":" "}]
[null,null,null,null,null,null,{"$f":"G1203+help2!$C$3","v":1186},{"$f":"help2!G1189","v":" "}]
[null,null,null,null,null,null,{"$f":"G1204+help2!$C$3","v":1187},{"$f":"help2!G1190","v":" "}]
[null,null,null,null,null,null,{"$f":"G1205+help2!$C$3","v":1188},{"$f":"help2!G1191","v":" "}]
[null,null,null,null,null,null,{"$f":"G1206+help2!$C$3","v":1189},{"$f":"help2!G1192","v":" "}]
[null,null,null,null,null,null,{"$f":"G1207+help2!$C$3","v":1190},{"$f":"help2!G1193","v":" "}]
[null,null,null,null,null,null,{"$f":"G1208+help2!$C$3","v":1191},{"$f":"help2!G1194","v":" "}]
[null,null,null,null,null,null,{"$f":"G1209+help2!$C$3","v":1192},{"$f":"help2!G1195","v":" "}]
[null,null,null,null,null,null,{"$f":"G1210+help2!$C$3","v":1193},{"$f":"help2!G1196","v":" "}]
[null,null,null,null,null,null,{"$f":"G1211+help2!$C$3","v":1194},{"$f":"help2!G1197","v":" "}]
[null,null,null,null,null,null,{"$f":"G1212+help2!$C$3","v":1195},{"$f":"help2!G1198","v":" "}]
[null,null,null,null,null,null,{"$f":"G1213+help2!$C$3","v":1196},{"$f":"help2!G1199","v":" "}]
[null,null,null,null,null,null,{"$f":"G1214+help2!$C$3","v":1197},{"$f":"help2!G1200","v":" "}]
[null,null,null,null,null,null,{"$f":"G1215+help2!$C$3","v":1198},{"$f":"help2!G1201","v":" "}]
[null,null,null,null,null,null,{"$f":"G1216+help2!$C$3","v":1199},{"$f":"help2!G1202","v":" "}]
[null,null,null,null,null,null,{"$f":"G1217+help2!$C$3","v":1200},{"$f":"help2!G1203","v":" "}]
[null,null,null,null,null,null,{"$f":"G1218+help2!$C$3","v":1201},{"$f":"help2!G1204","v":" "}]
[null,null,null,null,null,null,{"$f":"G1219+help2!$C$3","v":1202},{"$f":"help2!G1205","v":" "}]
[null,null,null,null,null,null,{"$f":"G1220+help2!$C$3","v":1203},{"$f":"help2!G1206","v":" "}]
[null,null,null,null,null,null,{"$f":"G1221+help2!$C$3","v":1204},{"$f":"help2!G1207","v":" "}]
[null,null,null,null,null,null,{"$f":"G1222+help2!$C$3","v":1205},{"$f":"help2!G1208","v":" "}]
[null,null,null,null,null,null,{"$f":"G1223+help2!$C$3","v":1206},{"$f":"help2!G1209","v":" "}]
[null,null,null,null,null,null,{"$f":"G1224+help2!$C$3","v":1207},{"$f":"help2!G1210","v":" "}]
[null,null,null,null,null,null,{"$f":"G1225+help2!$C$3","v":1208},{"$f":"help2!G1211","v":" "}]
[null,null,null,null,null,null,{"$f":"G1226+help2!$C$3","v":1209},{"$f":"help2!G1212","v":" "}]
[null,null,null,null,null,null,{"$f":"G1227+help2!$C$3","v":1210},{"$f":"help2!G1213","v":" "}]
[null,null,null,null,null,null,{"$f":"G1228+help2!$C$3","v":1211},{"$f":"help2!G1214","v":" "}]
[null,null,null,null,null,null,{"$f":"G1229+help2!$C$3","v":1212},{"$f":"help2!G1215","v":" "}]
[null,null,null,null,null,null,{"$f":"G1230+help2!$C$3","v":1213},{"$f":"help2!G1216","v":" "}]
[null,null,null,null,null,null,{"$f":"G1231+help2!$C$3","v":1214},{"$f":"help2!G1217","v":" "}]
[null,null,null,null,null,null,{"$f":"G1232+help2!$C$3","v":1215},{"$f":"help2!G1218","v":" "}]
[null,null,null,null,null,null,{"$f":"G1233+help2!$C$3","v":1216},{"$f":"help2!G1219","v":" "}]
[null,null,null,null,null,null,{"$f":"G1234+help2!$C$3","v":1217},{"$f":"help2!G1220","v":" "}]
[null,null,null,null,null,null,{"$f":"G1235+help2!$C$3","v":1218},{"$f":"help2!G1221","v":" "}]
[null,null,null,null,null,null,{"$f":"G1236+help2!$C$3","v":1219},{"$f":"help2!G1222","v":" "}]
[null,null,null,null,null,null,{"$f":"G1237+help2!$C$3","v":1220},{"$f":"help2!G1223","v":" "}]
[null,null,null,null,null,null,{"$f":"G1238+help2!$C$3","v":1221},{"$f":"help2!G1224","v":" "}]
[null,null,null,null,null,null,{"$f":"G1239+help2!$C$3","v":1222},{"$f":"help2!G1225","v":" "}]
[null,null,null,null,null,null,{"$f":"G1240+help2!$C$3","v":1223},{"$f":"help2!G1226","v":" "}]
[null,null,null,null,null,null,{"$f":"G1241+help2!$C$3","v":1224},{"$f":"help2!G1227","v":" "}]
[null,null,null,null,null,null,{"$f":"G1242+help2!$C$3","v":1225},{"$f":"help2!G1228","v":" "}]
[null,null,null,null,null,null,{"$f":"G1243+help2!$C$3","v":1226},{"$f":"help2!G1229","v":" "}]
[null,null,null,null,null,null,{"$f":"G1244+help2!$C$3","v":1227},{"$f":"help2!G1230","v":" "}]
[null,null,null,null,null,null,{"$f":"G1245+help2!$C$3","v":1228},{"$f":"help2!G1231","v":" "}]
[null,null,null,null,null,null,{"$f":"G1246+help2!$C$3","v":1229},{"$f":"help2!G1232","v":" "}]
[null,null,null,null,null,null,{"$f":"G1247+help2!$C$3","v":1230},{"$f":"help2!G1233","v":" "}]
[null,null,null,null,null,null,{"$f":"G1248+help2!$C$3","v":1231},{"$f":"help2!G1234","v":" "}]
[null,null,null,null,null,null,{"$f":"G1249+help2!$C$3","v":1232},{"$f":"help2!G1235","v":" "}]
[null,null,null,null,null,null,{"$f":"G1250+help2!$C$3","v":1233},{"$f":"help2!G1236","v":" "}]
[null,null,null,null,null,null,{"$f":"G1251+help2!$C$3","v":1234},{"$f":"help2!G1237","v":" "}]
[null,null,null,null,null,null,{"$f":"G1252+help2!$C$3","v":1235},{"$f":"help2!G1238","v":" "}]
[null,null,null,null,null,null,{"$f":"G1253+help2!$C$3","v":1236},{"$f":"help2!G1239","v":" "}]
[null,null,null,null,null,null,{"$f":"G1254+help2!$C$3","v":1237},{"$f":"help2!G1240","v":" "}]
[null,null,null,null,null,null,{"$f":"G1255+help2!$C$3","v":1238},{"$f":"help2!G1241","v":" "}]
[null,null,null,null,null,null,{"$f":"G1256+help2!$C$3","v":1239},{"$f":"help2!G1242","v":" "}]
[null,null,null,null,null,null,{"$f":"G1257+help2!$C$3","v":1240},{"$f":"help2!G1243","v":" "}]
[null,null,null,null,null,null,{"$f":"G1258+help2!$C$3","v":1241},{"$f":"help2!G1244","v":" "}]
[null,null,null,null,null,null,{"$f":"G1259+help2!$C$3","v":1242},{"$f":"help2!G1245","v":" "}]
[null,null,null,null,null,null,{"$f":"G1260+help2!$C$3","v":1243},{"$f":"help2!G1246","v":" "}]
[null,null,null,null,null,null,{"$f":"G1261+help2!$C$3","v":1244},{"$f":"help2!G1247","v":" "}]
[null,null,null,null,null,null,{"$f":"G1262+help2!$C$3","v":1245},{"$f":"help2!G1248","v":" "}]
[null,null,null,null,null,null,{"$f":"G1263+help2!$C$3","v":1246},{"$f":"help2!G1249","v":" "}]
[null,null,null,null,null,null,{"$f":"G1264+help2!$C$3","v":1247},{"$f":"help2!G1250","v":" "}]
[null,null,null,null,null,null,{"$f":"G1265+help2!$C$3","v":1248},{"$f":"help2!G1251","v":" "}]
[null,null,null,null,null,null,{"$f":"G1266+help2!$C$3","v":1249},{"$f":"help2!G1252","v":" "}]
[null,null,null,null,null,null,{"$f":"G1267+help2!$C$3","v":1250},{"$f":"help2!G1253","v":" "}]
[null,null,null,null,null,null,{"$f":"G1268+help2!$C$3","v":1251},{"$f":"help2!G1254","v":" "}]
[null,null,null,null,null,null,{"$f":"G1269+help2!$C$3","v":1252},{"$f":"help2!G1255","v":" "}]
[null,null,null,null,null,null,{"$f":"G1270+help2!$C$3","v":1253},{"$f":"help2!G1256","v":" "}]
[null,null,null,null,null,null,{"$f":"G1271+help2!$C$3","v":1254},{"$f":"help2!G1257","v":" "}]
[null,null,null,null,null,null,{"$f":"G1272+help2!$C$3","v":1255},{"$f":"help2!G1258","v":" "}]
[null,null,null,null,null,null,{"$f":"G1273+help2!$C$3","v":1256},{"$f":"help2!G1259","v":" "}]
[null,null,null,null,null,null,{"$f":"G1274+help2!$C$3","v":1257},{"$f":"help2!G1260","v":" "}]
[null,null,null,null,null,null,{"$f":"G1275+help2!$C$3","v":1258},{"$f":"help2!G1261","v":" "}]
[null,null,null,null,null,null,{"$f":"G1276+help2!$C$3","v":1259},{"$f":"help2!G1262","v":" "}]
[null,null,null,null,null,null,{"$f":"G1277+help2!$C$3","v":1260},{"$f":"help2!G1263","v":" "}]
[null,null,null,null,null,null,{"$f":"G1278+help2!$C$3","v":1261},{"$f":"help2!G1264","v":" "}]
[null,null,null,null,null,null,{"$f":"G1279+help2!$C$3","v":1262},{"$f":"help2!G1265","v":" "}]
[null,null,null,null,null,null,{"$f":"G1280+help2!$C$3","v":1263},{"$f":"help2!G1266","v":" "}]
[null,null,null,null,null,null,{"$f":"G1281+help2!$C$3","v":1264},{"$f":"help2!G1267","v":" "}]
[null,null,null,null,null,null,{"$f":"G1282+help2!$C$3","v":1265},{"$f":"help2!G1268","v":" "}]
[null,null,null,null,null,null,{"$f":"G1283+help2!$C$3","v":1266},{"$f":"help2!G1269","v":" "}]
[null,null,null,null,null,null,{"$f":"G1284+help2!$C$3","v":1267},{"$f":"help2!G1270","v":" "}]
[null,null,null,null,null,null,{"$f":"G1285+help2!$C$3","v":1268},{"$f":"help2!G1271","v":" "}]
[null,null,null,null,null,null,{"$f":"G1286+help2!$C$3","v":1269},{"$f":"help2!G1272","v":" "}]
[null,null,null,null,null,null,{"$f":"G1287+help2!$C$3","v":1270},{"$f":"help2!G1273","v":" "}]
[null,null,null,null,null,null,{"$f":"G1288+help2!$C$3","v":1271},{"$f":"help2!G1274","v":" "}]
[null,null,null,null,null,null,{"$f":"G1289+help2!$C$3","v":1272},{"$f":"help2!G1275","v":" "}]
[null,null,null,null,null,null,{"$f":"G1290+help2!$C$3","v":1273},{"$f":"help2!G1276","v":" "}]
[null,null,null,null,null,null,{"$f":"G1291+help2!$C$3","v":1274},{"$f":"help2!G1277","v":" "}]
[null,null,null,null,null,null,{"$f":"G1292+help2!$C$3","v":1275},{"$f":"help2!G1278","v":" "}]
[null,null,null,null,null,null,{"$f":"G1293+help2!$C$3","v":1276},{"$f":"help2!G1279","v":" "}]
[null,null,null,null,null,null,{"$f":"G1294+help2!$C$3","v":1277},{"$f":"help2!G1280","v":" "}]
[null,null,null,null,null,null,{"$f":"G1295+help2!$C$3","v":1278},{"$f":"help2!G1281","v":" "}]
[null,null,null,null,null,null,{"$f":"G1296+help2!$C$3","v":1279},{"$f":"help2!G1282","v":" "}]
[null,null,null,null,null,null,{"$f":"G1297+help2!$C$3","v":1280},{"$f":"help2!G1283","v":" "}]
[null,null,null,null,null,null,{"$f":"G1298+help2!$C$3","v":1281},{"$f":"help2!G1284","v":" "}]
[null,null,null,null,null,null,{"$f":"G1299+help2!$C$3","v":1282},{"$f":"help2!G1285","v":" "}]
[null,null,null,null,null,null,{"$f":"G1300+help2!$C$3","v":1283},{"$f":"help2!G1286","v":" "}]
[null,null,null,null,null,null,{"$f":"G1301+help2!$C$3","v":1284},{"$f":"help2!G1287","v":" "}]
[null,null,null,null,null,null,{"$f":"G1302+help2!$C$3","v":1285},{"$f":"help2!G1288","v":" "}]
[null,null,null,null,null,null,{"$f":"G1303+help2!$C$3","v":1286},{"$f":"help2!G1289","v":" "}]
[null,null,null,null,null,null,{"$f":"G1304+help2!$C$3","v":1287},{"$f":"help2!G1290","v":" "}]
[null,null,null,null,null,null,{"$f":"G1305+help2!$C$3","v":1288},{"$f":"help2!G1291","v":" "}]
[null,null,null,null,null,null,{"$f":"G1306+help2!$C$3","v":1289},{"$f":"help2!G1292","v":" "}]
[null,null,null,null,null,null,{"$f":"G1307+help2!$C$3","v":1290},{"$f":"help2!G1293","v":" "}]
[null,null,null,null,null,null,{"$f":"G1308+help2!$C$3","v":1291},{"$f":"help2!G1294","v":" "}]
[null,null,null,null,null,null,{"$f":"G1309+help2!$C$3","v":1292},{"$f":"help2!G1295","v":" "}]
[null,null,null,null,null,null,{"$f":"G1310+help2!$C$3","v":1293},{"$f":"help2!G1296","v":" "}]
[null,null,null,null,null,null,{"$f":"G1311+help2!$C$3","v":1294},{"$f":"help2!G1297","v":" "}]
[null,null,null,null,null,null,{"$f":"G1312+help2!$C$3","v":1295},{"$f":"help2!G1298","v":" "}]
[null,null,null,null,null,null,{"$f":"G1313+help2!$C$3","v":1296},{"$f":"help2!G1299","v":" "}]
[null,null,null,null,null,null,{"$f":"G1314+help2!$C$3","v":1297},{"$f":"help2!G1300","v":" "}]
[null,null,null,null,null,null,{"$f":"G1315+help2!$C$3","v":1298},{"$f":"help2!G1301","v":" "}]
[null,null,null,null,null,null,{"$f":"G1316+help2!$C$3","v":1299},{"$f":"help2!G1302","v":" "}]
[null,null,null,null,null,null,{"$f":"G1317+help2!$C$3","v":1300},{"$f":"help2!G1303","v":" "}]
[null,null,null,null,null,null,{"$f":"G1318+help2!$C$3","v":1301},{"$f":"help2!G1304","v":" "}]
[null,null,null,null,null,null,{"$f":"G1319+help2!$C$3","v":1302},{"$f":"help2!G1305","v":" "}]
[null,null,null,null,null,null,{"$f":"G1320+help2!$C$3","v":1303},{"$f":"help2!G1306","v":" "}]
[null,null,null,null,null,null,{"$f":"G1321+help2!$C$3","v":1304},{"$f":"help2!G1307","v":" "}]
[null,null,null,null,null,null,{"$f":"G1322+help2!$C$3","v":1305},{"$f":"help2!G1308","v":" "}]
[null,null,null,null,null,null,{"$f":"G1323+help2!$C$3","v":1306},{"$f":"help2!G1309","v":" "}]
[null,null,null,null,null,null,{"$f":"G1324+help2!$C$3","v":1307},{"$f":"help2!G1310","v":" "}]
[null,null,null,null,null,null,{"$f":"G1325+help2!$C$3","v":1308},{"$f":"help2!G1311","v":" "}]
[null,null,null,null,null,null,{"$f":"G1326+help2!$C$3","v":1309},{"$f":"help2!G1312","v":" "}]
[null,null,null,null,null,null,{"$f":"G1327+help2!$C$3","v":1310},{"$f":"help2!G1313","v":" "}]
[null,null,null,null,null,null,{"$f":"G1328+help2!$C$3","v":1311},{"$f":"help2!G1314","v":" "}]
[null,null,null,null,null,null,{"$f":"G1329+help2!$C$3","v":1312},{"$f":"help2!G1315","v":" "}]
[null,null,null,null,null,null,{"$f":"G1330+help2!$C$3","v":1313},{"$f":"help2!G1316","v":" "}]
[null,null,null,null,null,null,{"$f":"G1331+help2!$C$3","v":1314},{"$f":"help2!G1317","v":" "}]
[null,null,null,null,null,null,{"$f":"G1332+help2!$C$3","v":1315},{"$f":"help2!G1318","v":" "}]
[null,null,null,null,null,null,{"$f":"G1333+help2!$C$3","v":1316},{"$f":"help2!G1319","v":" "}]
[null,null,null,null,null,null,{"$f":"G1334+help2!$C$3","v":1317},{"$f":"help2!G1320","v":" "}]
[null,null,null,null,null,null,{"$f":"G1335+help2!$C$3","v":1318},{"$f":"help2!G1321","v":" "}]
[null,null,null,null,null,null,{"$f":"G1336+help2!$C$3","v":1319},{"$f":"help2!G1322","v":" "}]
[null,null,null,null,null,null,{"$f":"G1337+help2!$C$3","v":1320},{"$f":"help2!G1323","v":" "}]
[null,null,null,null,null,null,{"$f":"G1338+help2!$C$3","v":1321},{"$f":"help2!G1324","v":" "}]
[null,null,null,null,null,null,{"$f":"G1339+help2!$C$3","v":1322},{"$f":"help2!G1325","v":" "}]
[null,null,null,null,null,null,{"$f":"G1340+help2!$C$3","v":1323},{"$f":"help2!G1326","v":" "}]
[null,null,null,null,null,null,{"$f":"G1341+help2!$C$3","v":1324},{"$f":"help2!G1327","v":" "}]
[null,null,null,null,null,null,{"$f":"G1342+help2!$C$3","v":1325},{"$f":"help2!G1328","v":" "}]
[null,null,null,null,null,null,{"$f":"G1343+help2!$C$3","v":1326},{"$f":"help2!G1329","v":" "}]
[null,null,null,null,null,null,{"$f":"G1344+help2!$C$3","v":1327},{"$f":"help2!G1330","v":" "}]
[null,null,null,null,null,null,{"$f":"G1345+help2!$C$3","v":1328},{"$f":"help2!G1331","v":" "}]
[null,null,null,null,null,null,{"$f":"G1346+help2!$C$3","v":1329},{"$f":"help2!G1332","v":" "}]
[null,null,null,null,null,null,{"$f":"G1347+help2!$C$3","v":1330},{"$f":"help2!G1333","v":" "}]
[null,null,null,null,null,null,{"$f":"G1348+help2!$C$3","v":1331},{"$f":"help2!G1334","v":" "}]
[null,null,null,null,null,null,{"$f":"G1349+help2!$C$3","v":1332},{"$f":"help2!G1335","v":" "}]
[null,null,null,null,null,null,{"$f":"G1350+help2!$C$3","v":1333},{"$f":"help2!G1336","v":" "}]
[null,null,null,null,null,null,{"$f":"G1351+help2!$C$3","v":1334},{"$f":"help2!G1337","v":" "}]
[null,null,null,null,null,null,{"$f":"G1352+help2!$C$3","v":1335},{"$f":"help2!G1338","v":" "}]
[null,null,null,null,null,null,{"$f":"G1353+help2!$C$3","v":1336},{"$f":"help2!G1339","v":" "}]
[null,null,null,null,null,null,{"$f":"G1354+help2!$C$3","v":1337},{"$f":"help2!G1340","v":" "}]
[null,null,null,null,null,null,{"$f":"G1355+help2!$C$3","v":1338},{"$f":"help2!G1341","v":" "}]
[null,null,null,null,null,null,{"$f":"G1356+help2!$C$3","v":1339},{"$f":"help2!G1342","v":" "}]
[null,null,null,null,null,null,{"$f":"G1357+help2!$C$3","v":1340},{"$f":"help2!G1343","v":" "}]
[null,null,null,null,null,null,{"$f":"G1358+help2!$C$3","v":1341},{"$f":"help2!G1344","v":" "}]
[null,null,null,null,null,null,{"$f":"G1359+help2!$C$3","v":1342},{"$f":"help2!G1345","v":" "}]
[null,null,null,null,null,null,{"$f":"G1360+help2!$C$3","v":1343},{"$f":"help2!G1346","v":" "}]
[null,null,null,null,null,null,{"$f":"G1361+help2!$C$3","v":1344},{"$f":"help2!G1347","v":" "}]
[null,null,null,null,null,null,{"$f":"G1362+help2!$C$3","v":1345},{"$f":"help2!G1348","v":" "}]
[null,null,null,null,null,null,{"$f":"G1363+help2!$C$3","v":1346},{"$f":"help2!G1349","v":" "}]
[null,null,null,null,null,null,{"$f":"G1364+help2!$C$3","v":1347},{"$f":"help2!G1350","v":" "}]
[null,null,null,null,null,null,{"$f":"G1365+help2!$C$3","v":1348},{"$f":"help2!G1351","v":" "}]
[null,null,null,null,null,null,{"$f":"G1366+help2!$C$3","v":1349},{"$f":"help2!G1352","v":" "}]
[null,null,null,null,null,null,{"$f":"G1367+help2!$C$3","v":1350},{"$f":"help2!G1353","v":" "}]
[null,null,null,null,null,null,{"$f":"G1368+help2!$C$3","v":1351},{"$f":"help2!G1354","v":" "}]
[null,null,null,null,null,null,{"$f":"G1369+help2!$C$3","v":1352},{"$f":"help2!G1355","v":" "}]
[null,null,null,null,null,null,{"$f":"G1370+help2!$C$3","v":1353},{"$f":"help2!G1356","v":" "}]
[null,null,null,null,null,null,{"$f":"G1371+help2!$C$3","v":1354},{"$f":"help2!G1357","v":" "}]
[null,null,null,null,null,null,{"$f":"G1372+help2!$C$3","v":1355},{"$f":"help2!G1358","v":" "}]
[null,null,null,null,null,null,{"$f":"G1373+help2!$C$3","v":1356},{"$f":"help2!G1359","v":" "}]
[null,null,null,null,null,null,{"$f":"G1374+help2!$C$3","v":1357},{"$f":"help2!G1360","v":" "}]
[null,null,null,null,null,null,{"$f":"G1375+help2!$C$3","v":1358},{"$f":"help2!G1361","v":" "}]
[null,null,null,null,null,null,{"$f":"G1376+help2!$C$3","v":1359},{"$f":"help2!G1362","v":" "}]
[null,null,null,null,null,null,{"$f":"G1377+help2!$C$3","v":1360},{"$f":"help2!G1363","v":" "}]
[null,null,null,null,null,null,{"$f":"G1378+help2!$C$3","v":1361},{"$f":"help2!G1364","v":" "}]
[null,null,null,null,null,null,{"$f":"G1379+help2!$C$3","v":1362},{"$f":"help2!G1365","v":" "}]
[null,null,null,null,null,null,{"$f":"G1380+help2!$C$3","v":1363},{"$f":"help2!G1366","v":" "}]
[null,null,null,null,null,null,{"$f":"G1381+help2!$C$3","v":1364},{"$f":"help2!G1367","v":" "}]
[null,null,null,null,null,null,{"$f":"G1382+help2!$C$3","v":1365},{"$f":"help2!G1368","v":" "}]
[null,null,null,null,null,null,{"$f":"G1383+help2!$C$3","v":1366},{"$f":"help2!G1369","v":" "}]
[null,null,null,null,null,null,{"$f":"G1384+help2!$C$3","v":1367},{"$f":"help2!G1370","v":" "}]
[null,null,null,null,null,null,{"$f":"G1385+help2!$C$3","v":1368},{"$f":"help2!G1371","v":" "}]
[null,null,null,null,null,null,{"$f":"G1386+help2!$C$3","v":1369},{"$f":"help2!G1372","v":" "}]
[null,null,null,null,null,null,{"$f":"G1387+help2!$C$3","v":1370},{"$f":"help2!G1373","v":" "}]
[null,null,null,null,null,null,{"$f":"G1388+help2!$C$3","v":1371},{"$f":"help2!G1374","v":" "}]
[null,null,null,null,null,null,{"$f":"G1389+help2!$C$3","v":1372},{"$f":"help2!G1375","v":" "}]
[null,null,null,null,null,null,{"$f":"G1390+help2!$C$3","v":1373},{"$f":"help2!G1376","v":" "}]
[null,null,null,null,null,null,{"$f":"G1391+help2!$C$3","v":1374},{"$f":"help2!G1377","v":" "}]
[null,null,null,null,null,null,{"$f":"G1392+help2!$C$3","v":1375},{"$f":"help2!G1378","v":" "}]
[null,null,null,null,null,null,{"$f":"G1393+help2!$C$3","v":1376},{"$f":"help2!G1379","v":" "}]
[null,null,null,null,null,null,{"$f":"G1394+help2!$C$3","v":1377},{"$f":"help2!G1380","v":" "}]
[null,null,null,null,null,null,{"$f":"G1395+help2!$C$3","v":1378},{"$f":"help2!G1381","v":" "}]
[null,null,null,null,null,null,{"$f":"G1396+help2!$C$3","v":1379},{"$f":"help2!G1382","v":" "}]
[null,null,null,null,null,null,{"$f":"G1397+help2!$C$3","v":1380},{"$f":"help2!G1383","v":" "}]
[null,null,null,null,null,null,{"$f":"G1398+help2!$C$3","v":1381},{"$f":"help2!G1384","v":" "}]
[null,null,null,null,null,null,{"$f":"G1399+help2!$C$3","v":1382},{"$f":"help2!G1385","v":" "}]
[null,null,null,null,null,null,{"$f":"G1400+help2!$C$3","v":1383},{"$f":"help2!G1386","v":" "}]
[null,null,null,null,null,null,{"$f":"G1401+help2!$C$3","v":1384},{"$f":"help2!G1387","v":" "}]
[null,null,null,null,null,null,{"$f":"G1402+help2!$C$3","v":1385},{"$f":"help2!G1388","v":" "}]
[null,null,null,null,null,null,{"$f":"G1403+help2!$C$3","v":1386},{"$f":"help2!G1389","v":" "}]
[null,null,null,null,null,null,{"$f":"G1404+help2!$C$3","v":1387},{"$f":"help2!G1390","v":" "}]
[null,null,null,null,null,null,{"$f":"G1405+help2!$C$3","v":1388},{"$f":"help2!G1391","v":" "}]
[null,null,null,null,null,null,{"$f":"G1406+help2!$C$3","v":1389},{"$f":"help2!G1392","v":" "}]
[null,null,null,null,null,null,{"$f":"G1407+help2!$C$3","v":1390},{"$f":"help2!G1393","v":" "}]
[null,null,null,null,null,null,{"$f":"G1408+help2!$C$3","v":1391},{"$f":"help2!G1394","v":" "}]
[null,null,null,null,null,null,{"$f":"G1409+help2!$C$3","v":1392},{"$f":"help2!G1395","v":" "}]
[null,null,null,null,null,null,{"$f":"G1410+help2!$C$3","v":1393},{"$f":"help2!G1396","v":" "}]
[null,null,null,null,null,null,{"$f":"G1411+help2!$C$3","v":1394},{"$f":"help2!G1397","v":" "}]
[null,null,null,null,null,null,{"$f":"G1412+help2!$C$3","v":1395},{"$f":"help2!G1398","v":" "}]
[null,null,null,null,null,null,{"$f":"G1413+help2!$C$3","v":1396},{"$f":"help2!G1399","v":" "}]
[null,null,null,null,null,null,{"$f":"G1414+help2!$C$3","v":1397},{"$f":"help2!G1400","v":" "}]
[null,null,null,null,null,null,{"$f":"G1415+help2!$C$3","v":1398},{"$f":"help2!G1401","v":" "}]
[null,null,null,null,null,null,{"$f":"G1416+help2!$C$3","v":1399},{"$f":"help2!G1402","v":" "}]
[null,null,null,null,null,null,{"$f":"G1417+help2!$C$3","v":1400},{"$f":"help2!G1403","v":" "}]
[null,null,null,null,null,null,{"$f":"G1418+help2!$C$3","v":1401},{"$f":"help2!G1404","v":" "}]
[null,null,null,null,null,null,{"$f":"G1419+help2!$C$3","v":1402},{"$f":"help2!G1405","v":" "}]
[null,null,null,null,null,null,{"$f":"G1420+help2!$C$3","v":1403},{"$f":"help2!G1406","v":" "}]
[null,null,null,null,null,null,{"$f":"G1421+help2!$C$3","v":1404},{"$f":"help2!G1407","v":" "}]
[null,null,null,null,null,null,{"$f":"G1422+help2!$C$3","v":1405},{"$f":"help2!G1408","v":" "}]
[null,null,null,null,null,null,{"$f":"G1423+help2!$C$3","v":1406},{"$f":"help2!G1409","v":" "}]
[null,null,null,null,null,null,{"$f":"G1424+help2!$C$3","v":1407},{"$f":"help2!G1410","v":" "}]
[null,null,null,null,null,null,{"$f":"G1425+help2!$C$3","v":1408},{"$f":"help2!G1411","v":" "}]
[null,null,null,null,null,null,{"$f":"G1426+help2!$C$3","v":1409},{"$f":"help2!G1412","v":" "}]
[null,null,null,null,null,null,{"$f":"G1427+help2!$C$3","v":1410},{"$f":"help2!G1413","v":" "}]
[null,null,null,null,null,null,{"$f":"G1428+help2!$C$3","v":1411},{"$f":"help2!G1414","v":" "}]
[null,null,null,null,null,null,{"$f":"G1429+help2!$C$3","v":1412},{"$f":"help2!G1415","v":" "}]
[null,null,null,null,null,null,{"$f":"G1430+help2!$C$3","v":1413},{"$f":"help2!G1416","v":" "}]
[null,null,null,null,null,null,{"$f":"G1431+help2!$C$3","v":1414},{"$f":"help2!G1417","v":" "}]
[null,null,null,null,null,null,{"$f":"G1432+help2!$C$3","v":1415},{"$f":"help2!G1418","v":" "}]
[null,null,null,null,null,null,{"$f":"G1433+help2!$C$3","v":1416},{"$f":"help2!G1419","v":" "}]
[null,null,null,null,null,null,{"$f":"G1434+help2!$C$3","v":1417},{"$f":"help2!G1420","v":" "}]
[null,null,null,null,null,null,{"$f":"G1435+help2!$C$3","v":1418},{"$f":"help2!G1421","v":" "}]
[null,null,null,null,null,null,{"$f":"G1436+help2!$C$3","v":1419},{"$f":"help2!G1422","v":" "}]
[null,null,null,null,null,null,{"$f":"G1437+help2!$C$3","v":1420},{"$f":"help2!G1423","v":" "}]
[null,null,null,null,null,null,{"$f":"G1438+help2!$C$3","v":1421},{"$f":"help2!G1424","v":" "}]
[null,null,null,null,null,null,{"$f":"G1439+help2!$C$3","v":1422},{"$f":"help2!G1425","v":" "}]
[null,null,null,null,null,null,{"$f":"G1440+help2!$C$3","v":1423},{"$f":"help2!G1426","v":" "}]
[null,null,null,null,null,null,{"$f":"G1441+help2!$C$3","v":1424},{"$f":"help2!G1427","v":" "}]
[null,null,null,null,null,null,{"$f":"G1442+help2!$C$3","v":1425},{"$f":"help2!G1428","v":" "}]
[null,null,null,null,null,null,{"$f":"G1443+help2!$C$3","v":1426},{"$f":"help2!G1429","v":" "}]
[null,null,null,null,null,null,{"$f":"G1444+help2!$C$3","v":1427},{"$f":"help2!G1430","v":" "}]
[null,null,null,null,null,null,{"$f":"G1445+help2!$C$3","v":1428},{"$f":"help2!G1431","v":" "}]
[null,null,null,null,null,null,{"$f":"G1446+help2!$C$3","v":1429},{"$f":"help2!G1432","v":" "}]
[null,null,null,null,null,null,{"$f":"G1447+help2!$C$3","v":1430},{"$f":"help2!G1433","v":" "}]
[null,null,null,null,null,null,{"$f":"G1448+help2!$C$3","v":1431},{"$f":"help2!G1434","v":" "}]
[null,null,null,null,null,null,{"$f":"G1449+help2!$C$3","v":1432},{"$f":"help2!G1435","v":" "}]
[null,null,null,null,null,null,{"$f":"G1450+help2!$C$3","v":1433},{"$f":"help2!G1436","v":" "}]
[null,null,null,null,null,null,{"$f":"G1451+help2!$C$3","v":1434},{"$f":"help2!G1437","v":" "}]
[null,null,null,null,null,null,{"$f":"G1452+help2!$C$3","v":1435},{"$f":"help2!G1438","v":" "}]
[null,null,null,null,null,null,{"$f":"G1453+help2!$C$3","v":1436},{"$f":"help2!G1439","v":" "}]
[null,null,null,null,null,null,{"$f":"G1454+help2!$C$3","v":1437},{"$f":"help2!G1440","v":" "}]
[null,null,null,null,null,null,{"$f":"G1455+help2!$C$3","v":1438},{"$f":"help2!G1441","v":" "}]
[null,null,null,null,null,null,{"$f":"G1456+help2!$C$3","v":1439},{"$f":"help2!G1442","v":" "}]
[null,null,null,null,null,null,{"$f":"G1457+help2!$C$3","v":1440},{"$f":"help2!G1443","v":" "}]
[null,null,null,null,null,null,{"$f":"G1458+help2!$C$3","v":1441},{"$f":"help2!G1444","v":" "}]
[null,null,null,null,null,null,{"$f":"G1459+help2!$C$3","v":1442},{"$f":"help2!G1445","v":" "}]
[null,null,null,null,null,null,{"$f":"G1460+help2!$C$3","v":1443},{"$f":"help2!G1446","v":" "}]
[null,null,null,null,null,null,{"$f":"G1461+help2!$C$3","v":1444},{"$f":"help2!G1447","v":" "}]
[null,null,null,null,null,null,{"$f":"G1462+help2!$C$3","v":1445},{"$f":"help2!G1448","v":" "}]
[null,null,null,null,null,null,{"$f":"G1463+help2!$C$3","v":1446},{"$f":"help2!G1449","v":" "}]
[null,null,null,null,null,null,{"$f":"G1464+help2!$C$3","v":1447},{"$f":"help2!G1450","v":" "}]
[null,null,null,null,null,null,{"$f":"G1465+help2!$C$3","v":1448},{"$f":"help2!G1451","v":" "}]
[null,null,null,null,null,null,{"$f":"G1466+help2!$C$3","v":1449},{"$f":"help2!G1452","v":" "}]
[null,null,null,null,null,null,{"$f":"G1467+help2!$C$3","v":1450},{"$f":"help2!G1453","v":" "}]
[null,null,null,null,null,null,{"$f":"G1468+help2!$C$3","v":1451},{"$f":"help2!G1454","v":" "}]
[null,null,null,null,null,null,{"$f":"G1469+help2!$C$3","v":1452},{"$f":"help2!G1455","v":" "}]
[null,null,null,null,null,null,{"$f":"G1470+help2!$C$3","v":1453},{"$f":"help2!G1456","v":" "}]
[null,null,null,null,null,null,{"$f":"G1471+help2!$C$3","v":1454},{"$f":"help2!G1457","v":" "}]
[null,null,null,null,null,null,{"$f":"G1472+help2!$C$3","v":1455},{"$f":"help2!G1458","v":" "}]
[null,null,null,null,null,null,{"$f":"G1473+help2!$C$3","v":1456},{"$f":"help2!G1459","v":" "}]
[null,null,null,null,null,null,{"$f":"G1474+help2!$C$3","v":1457},{"$f":"help2!G1460","v":" "}]
[null,null,null,null,null,null,{"$f":"G1475+help2!$C$3","v":1458},{"$f":"help2!G1461","v":" "}]
[null,null,null,null,null,null,{"$f":"G1476+help2!$C$3","v":1459},{"$f":"help2!G1462","v":" "}]
[null,null,null,null,null,null,{"$f":"G1477+help2!$C$3","v":1460},{"$f":"help2!G1463","v":" "}]
[null,null,null,null,null,null,{"$f":"G1478+help2!$C$3","v":1461},{"$f":"help2!G1464","v":" "}]
[null,null,null,null,null,null,{"$f":"G1479+help2!$C$3","v":1462},{"$f":"help2!G1465","v":" "}]
[null,null,null,null,null,null,{"$f":"G1480+help2!$C$3","v":1463},{"$f":"help2!G1466","v":" "}]
[null,null,null,null,null,null,{"$f":"G1481+help2!$C$3","v":1464},{"$f":"help2!G1467","v":" "}]
[null,null,null,null,null,null,{"$f":"G1482+help2!$C$3","v":1465},{"$f":"help2!G1468","v":" "}]
[null,null,null,null,null,null,{"$f":"G1483+help2!$C$3","v":1466},{"$f":"help2!G1469","v":" "}]
[null,null,null,null,null,null,{"$f":"G1484+help2!$C$3","v":1467},{"$f":"help2!G1470","v":" "}]
[null,null,null,null,null,null,{"$f":"G1485+help2!$C$3","v":1468},{"$f":"help2!G1471","v":" "}]
[null,null,null,null,null,null,{"$f":"G1486+help2!$C$3","v":1469},{"$f":"help2!G1472","v":" "}]
[null,null,null,null,null,null,{"$f":"G1487+help2!$C$3","v":1470},{"$f":"help2!G1473","v":" "}]
[null,null,null,null,null,null,{"$f":"G1488+help2!$C$3","v":1471},{"$f":"help2!G1474","v":" "}]
[null,null,null,null,null,null,{"$f":"G1489+help2!$C$3","v":1472},{"$f":"help2!G1475","v":" "}]
[null,null,null,null,null,null,{"$f":"G1490+help2!$C$3","v":1473},{"$f":"help2!G1476","v":" "}]
[null,null,null,null,null,null,{"$f":"G1491+help2!$C$3","v":1474},{"$f":"help2!G1477","v":" "}]
[null,null,null,null,null,null,{"$f":"G1492+help2!$C$3","v":1475},{"$f":"help2!G1478","v":" "}]
[null,null,null,null,null,null,{"$f":"G1493+help2!$C$3","v":1476},{"$f":"help2!G1479","v":" "}]
[null,null,null,null,null,null,{"$f":"G1494+help2!$C$3","v":1477},{"$f":"help2!G1480","v":" "}]
[null,null,null,null,null,null,{"$f":"G1495+help2!$C$3","v":1478},{"$f":"help2!G1481","v":" "}]
[null,null,null,null,null,null,{"$f":"G1496+help2!$C$3","v":1479},{"$f":"help2!G1482","v":" "}]
[null,null,null,null,null,null,{"$f":"G1497+help2!$C$3","v":1480},{"$f":"help2!G1483","v":" "}]
[null,null,null,null,null,null,{"$f":"G1498+help2!$C$3","v":1481},{"$f":"help2!G1484","v":" "}]
[null,null,null,null,null,null,{"$f":"G1499+help2!$C$3","v":1482},{"$f":"help2!G1485","v":" "}]
[null,null,null,null,null,null,{"$f":"G1500+help2!$C$3","v":1483},{"$f":"help2!G1486","v":" "}]
[null,null,null,null,null,null,{"$f":"G1501+help2!$C$3","v":1484},{"$f":"help2!G1487","v":" "}]
[null,null,null,null,null,null,{"$f":"G1502+help2!$C$3","v":1485},{"$f":"help2!G1488","v":" "}]
[null,null,null,null,null,null,{"$f":"G1503+help2!$C$3","v":1486},{"$f":"help2!G1489","v":" "}]
[null,null,null,null,null,null,{"$f":"G1504+help2!$C$3","v":1487},{"$f":"help2!G1490","v":" "}]
[null,null,null,null,null,null,{"$f":"G1505+help2!$C$3","v":1488},{"$f":"help2!G1491","v":" "}]
[null,null,null,null,null,null,{"$f":"G1506+help2!$C$3","v":1489},{"$f":"help2!G1492","v":" "}]
[null,null,null,null,null,null,{"$f":"G1507+help2!$C$3","v":1490},{"$f":"help2!G1493","v":" "}]
[null,null,null,null,null,null,{"$f":"G1508+help2!$C$3","v":1491},{"$f":"help2!G1494","v":" "}]
[null,null,null,null,null,null,{"$f":"G1509+help2!$C$3","v":1492},{"$f":"help2!G1495","v":" "}]
[null,null,null,null,null,null,{"$f":"G1510+help2!$C$3","v":1493},{"$f":"help2!G1496","v":" "}]
[null,null,null,null,null,null,{"$f":"G1511+help2!$C$3","v":1494},{"$f":"help2!G1497","v":" "}]
[null,null,null,null,null,null,{"$f":"G1512+help2!$C$3","v":1495},{"$f":"help2!G1498","v":" "}]
[null,null,null,null,null,null,{"$f":"G1513+help2!$C$3","v":1496},{"$f":"help2!G1499","v":" "}]
[null,null,null,null,null,null,{"$f":"G1514+help2!$C$3","v":1497},{"$f":"help2!G1500","v":" "}]
[null,null,null,null,null,null,{"$f":"G1515+help2!$C$3","v":1498},{"$f":"help2!G1501","v":" "}]
[null,null,null,null,null,null,{"$f":"G1516+help2!$C$3","v":1499},{"$f":"help2!G1502","v":" "}]
[null,null,null,null,null,null,{"$f":"G1517+help2!$C$3","v":1500},{"$f":"help2!G1503","v":" "}]
[null,null,null,null,null,null,{"$f":"G1518+help2!$C$3","v":1501},{"$f":"help2!G1504","v":" "}]
[null,null,null,null,null,null,{"$f":"G1519+help2!$C$3","v":1502},{"$f":"help2!G1505","v":" "}]
[null,null,null,null,null,null,{"$f":"G1520+help2!$C$3","v":1503},{"$f":"help2!G1506","v":" "}]
[null,null,null,null,null,null,{"$f":"G1521+help2!$C$3","v":1504},{"$f":"help2!G1507","v":" "}]
[null,null,null,null,null,null,{"$f":"G1522+help2!$C$3","v":1505},{"$f":"help2!G1508","v":" "}]
[null,null,null,null,null,null,{"$f":"G1523+help2!$C$3","v":1506},{"$f":"help2!G1509","v":" "}]
[null,null,null,null,null,null,{"$f":"G1524+help2!$C$3","v":1507},{"$f":"help2!G1510","v":" "}]
[null,null,null,null,null,null,{"$f":"G1525+help2!$C$3","v":1508},{"$f":"help2!G1511","v":" "}]
[null,null,null,null,null,null,{"$f":"G1526+help2!$C$3","v":1509},{"$f":"help2!G1512","v":" "}]
[null,null,null,null,null,null,{"$f":"G1527+help2!$C$3","v":1510},{"$f":"help2!G1513","v":" "}]
[null,null,null,null,null,null,{"$f":"G1528+help2!$C$3","v":1511},{"$f":"help2!G1514","v":" "}]
[null,null,null,null,null,null,{"$f":"G1529+help2!$C$3","v":1512},{"$f":"help2!G1515","v":" "}]
[null,null,null,null,null,null,{"$f":"G1530+help2!$C$3","v":1513},{"$f":"help2!G1516","v":" "}]
[null,null,null,null,null,null,{"$f":"G1531+help2!$C$3","v":1514},{"$f":"help2!G1517","v":" "}]
[null,null,null,null,null,null,{"$f":"G1532+help2!$C$3","v":1515},{"$f":"help2!G1518","v":" "}]
[null,null,null,null,null,null,{"$f":"G1533+help2!$C$3","v":1516},{"$f":"help2!G1519","v":" "}]
[null,null,null,null,null,null,{"$f":"G1534+help2!$C$3","v":1517},{"$f":"help2!G1520","v":" "}]
[null,null,null,null,null,null,{"$f":"G1535+help2!$C$3","v":1518},{"$f":"help2!G1521","v":" "}]
[null,null,null,null,null,null,{"$f":"G1536+help2!$C$3","v":1519},{"$f":"help2!G1522","v":" "}]
[null,null,null,null,null,null,{"$f":"G1537+help2!$C$3","v":1520},{"$f":"help2!G1523","v":" "}]
[null,null,null,null,null,null,{"$f":"G1538+help2!$C$3","v":1521},{"$f":"help2!G1524","v":" "}]
[null,null,null,null,null,null,{"$f":"G1539+help2!$C$3","v":1522},{"$f":"help2!G1525","v":" "}]
[null,null,null,null,null,null,{"$f":"G1540+help2!$C$3","v":1523},{"$f":"help2!G1526","v":" "}]
[null,null,null,null,null,null,{"$f":"G1541+help2!$C$3","v":1524},{"$f":"help2!G1527","v":" "}]
[null,null,null,null,null,null,{"$f":"G1542+help2!$C$3","v":1525},{"$f":"help2!G1528","v":" "}]
[null,null,null,null,null,null,{"$f":"G1543+help2!$C$3","v":1526},{"$f":"help2!G1529","v":" "}]
[null,null,null,null,null,null,{"$f":"G1544+help2!$C$3","v":1527},{"$f":"help2!G1530","v":" "}]
[null,null,null,null,null,null,{"$f":"G1545+help2!$C$3","v":1528},{"$f":"help2!G1531","v":" "}]
[null,null,null,null,null,null,{"$f":"G1546+help2!$C$3","v":1529},{"$f":"help2!G1532","v":" "}]
[null,null,null,null,null,null,{"$f":"G1547+help2!$C$3","v":1530},{"$f":"help2!G1533","v":" "}]
[null,null,null,null,null,null,{"$f":"G1548+help2!$C$3","v":1531},{"$f":"help2!G1534","v":" "}]
[null,null,null,null,null,null,{"$f":"G1549+help2!$C$3","v":1532},{"$f":"help2!G1535","v":" "}]
[null,null,null,null,null,null,{"$f":"G1550+help2!$C$3","v":1533},{"$f":"help2!G1536","v":" "}]
[null,null,null,null,null,null,{"$f":"G1551+help2!$C$3","v":1534},{"$f":"help2!G1537","v":" "}]
[null,null,null,null,null,null,{"$f":"G1552+help2!$C$3","v":1535},{"$f":"help2!G1538","v":" "}]
[null,null,null,null,null,null,{"$f":"G1553+help2!$C$3","v":1536},{"$f":"help2!G1539","v":" "}]
[null,null,null,null,null,null,{"$f":"G1554+help2!$C$3","v":1537},{"$f":"help2!G1540","v":" "}]
[null,null,null,null,null,null,{"$f":"G1555+help2!$C$3","v":1538},{"$f":"help2!G1541","v":" "}]
[null,null,null,null,null,null,{"$f":"G1556+help2!$C$3","v":1539},{"$f":"help2!G1542","v":" "}]
[null,null,null,null,null,null,{"$f":"G1557+help2!$C$3","v":1540},{"$f":"help2!G1543","v":" "}]
[null,null,null,null,null,null,{"$f":"G1558+help2!$C$3","v":1541},{"$f":"help2!G1544","v":" "}]
[null,null,null,null,null,null,{"$f":"G1559+help2!$C$3","v":1542},{"$f":"help2!G1545","v":" "}]
[null,null,null,null,null,null,{"$f":"G1560+help2!$C$3","v":1543},{"$f":"help2!G1546","v":" "}]
[null,null,null,null,null,null,{"$f":"G1561+help2!$C$3","v":1544},{"$f":"help2!G1547","v":" "}]
[null,null,null,null,null,null,{"$f":"G1562+help2!$C$3","v":1545},{"$f":"help2!G1548","v":" "}]
[null,null,null,null,null,null,{"$f":"G1563+help2!$C$3","v":1546},{"$f":"help2!G1549","v":" "}]
[null,null,null,null,null,null,{"$f":"G1564+help2!$C$3","v":1547},{"$f":"help2!G1550","v":" "}]
[null,null,null,null,null,null,{"$f":"G1565+help2!$C$3","v":1548},{"$f":"help2!G1551","v":" "}]
[null,null,null,null,null,null,{"$f":"G1566+help2!$C$3","v":1549},{"$f":"help2!G1552","v":" "}]
[null,null,null,null,null,null,{"$f":"G1567+help2!$C$3","v":1550},{"$f":"help2!G1553","v":" "}]
[null,null,null,null,null,null,{"$f":"G1568+help2!$C$3","v":1551},{"$f":"help2!G1554","v":" "}]
[null,null,null,null,null,null,{"$f":"G1569+help2!$C$3","v":1552},{"$f":"help2!G1555","v":" "}]
[null,null,null,null,null,null,{"$f":"G1570+help2!$C$3","v":1553},{"$f":"help2!G1556","v":" "}]
[null,null,null,null,null,null,{"$f":"G1571+help2!$C$3","v":1554},{"$f":"help2!G1557","v":" "}]
[null,null,null,null,null,null,{"$f":"G1572+help2!$C$3","v":1555},{"$f":"help2!G1558","v":" "}]
[null,null,null,null,null,null,{"$f":"G1573+help2!$C$3","v":1556},{"$f":"help2!G1559","v":" "}]
[null,null,null,null,null,null,{"$f":"G1574+help2!$C$3","v":1557},{"$f":"help2!G1560","v":" "}]
[null,null,null,null,null,null,{"$f":"G1575+help2!$C$3","v":1558},{"$f":"help2!G1561","v":" "}]
[null,null,null,null,null,null,{"$f":"G1576+help2!$C$3","v":1559},{"$f":"help2!G1562","v":" "}]
[null,null,null,null,null,null,{"$f":"G1577+help2!$C$3","v":1560},{"$f":"help2!G1563","v":" "}]
[null,null,null,null,null,null,{"$f":"G1578+help2!$C$3","v":1561},{"$f":"help2!G1564","v":" "}]
[null,null,null,null,null,null,{"$f":"G1579+help2!$C$3","v":1562},{"$f":"help2!G1565","v":" "}]
[null,null,null,null,null,null,{"$f":"G1580+help2!$C$3","v":1563},{"$f":"help2!G1566","v":" "}]
[null,null,null,null,null,null,{"$f":"G1581+help2!$C$3","v":1564},{"$f":"help2!G1567","v":" "}]
[null,null,null,null,null,null,{"$f":"G1582+help2!$C$3","v":1565},{"$f":"help2!G1568","v":" "}]
[null,null,null,null,null,null,{"$f":"G1583+help2!$C$3","v":1566},{"$f":"help2!G1569","v":" "}]
[null,null,null,null,null,null,{"$f":"G1584+help2!$C$3","v":1567},{"$f":"help2!G1570","v":" "}]
[null,null,null,null,null,null,{"$f":"G1585+help2!$C$3","v":1568},{"$f":"help2!G1571","v":" "}]
[null,null,null,null,null,null,{"$f":"G1586+help2!$C$3","v":1569},{"$f":"help2!G1572","v":" "}]
[null,null,null,null,null,null,{"$f":"G1587+help2!$C$3","v":1570},{"$f":"help2!G1573","v":" "}]
[null,null,null,null,null,null,{"$f":"G1588+help2!$C$3","v":1571},{"$f":"help2!G1574","v":" "}]
[null,null,null,null,null,null,{"$f":"G1589+help2!$C$3","v":1572},{"$f":"help2!G1575","v":" "}]
[null,null,null,null,null,null,{"$f":"G1590+help2!$C$3","v":1573},{"$f":"help2!G1576","v":" "}]
[null,null,null,null,null,null,{"$f":"G1591+help2!$C$3","v":1574},{"$f":"help2!G1577","v":" "}]
[null,null,null,null,null,null,{"$f":"G1592+help2!$C$3","v":1575},{"$f":"help2!G1578","v":" "}]
[null,null,null,null,null,null,{"$f":"G1593+help2!$C$3","v":1576},{"$f":"help2!G1579","v":" "}]
[null,null,null,null,null,null,{"$f":"G1594+help2!$C$3","v":1577},{"$f":"help2!G1580","v":" "}]
[null,null,null,null,null,null,{"$f":"G1595+help2!$C$3","v":1578},{"$f":"help2!G1581","v":" "}]
[null,null,null,null,null,null,{"$f":"G1596+help2!$C$3","v":1579},{"$f":"help2!G1582","v":" "}]
[null,null,null,null,null,null,{"$f":"G1597+help2!$C$3","v":1580},{"$f":"help2!G1583","v":" "}]
[null,null,null,null,null,null,{"$f":"G1598+help2!$C$3","v":1581},{"$f":"help2!G1584","v":" "}]
[null,null,null,null,null,null,{"$f":"G1599+help2!$C$3","v":1582},{"$f":"help2!G1585","v":" "}]
[null,null,null,null,null,null,{"$f":"G1600+help2!$C$3","v":1583},{"$f":"help2!G1586","v":" "}]
[null,null,null,null,null,null,{"$f":"G1601+help2!$C$3","v":1584},{"$f":"help2!G1587","v":" "}]
[null,null,null,null,null,null,{"$f":"G1602+help2!$C$3","v":1585},{"$f":"help2!G1588","v":" "}]
[null,null,null,null,null,null,{"$f":"G1603+help2!$C$3","v":1586},{"$f":"help2!G1589","v":" "}]
[null,null,null,null,null,null,{"$f":"G1604+help2!$C$3","v":1587},{"$f":"help2!G1590","v":" "}]
[null,null,null,null,null,null,{"$f":"G1605+help2!$C$3","v":1588},{"$f":"help2!G1591","v":" "}]
[null,null,null,null,null,null,{"$f":"G1606+help2!$C$3","v":1589},{"$f":"help2!G1592","v":" "}]
[null,null,null,null,null,null,{"$f":"G1607+help2!$C$3","v":1590},{"$f":"help2!G1593","v":" "}]
[null,null,null,null,null,null,{"$f":"G1608+help2!$C$3","v":1591},{"$f":"help2!G1594","v":" "}]
[null,null,null,null,null,null,{"$f":"G1609+help2!$C$3","v":1592},{"$f":"help2!G1595","v":" "}]
[null,null,null,null,null,null,{"$f":"G1610+help2!$C$3","v":1593},{"$f":"help2!G1596","v":" "}]
[null,null,null,null,null,null,{"$f":"G1611+help2!$C$3","v":1594},{"$f":"help2!G1597","v":" "}]
[null,null,null,null,null,null,{"$f":"G1612+help2!$C$3","v":1595},{"$f":"help2!G1598","v":" "}]
[null,null,null,null,null,null,{"$f":"G1613+help2!$C$3","v":1596},{"$f":"help2!G1599","v":" "}]
[null,null,null,null,null,null,{"$f":"G1614+help2!$C$3","v":1597},{"$f":"help2!G1600","v":" "}]
[null,null,null,null,null,null,{"$f":"G1615+help2!$C$3","v":1598},{"$f":"help2!G1601","v":" "}]
[null,null,null,null,null,null,{"$f":"G1616+help2!$C$3","v":1599},{"$f":"help2!G1602","v":" "}]
[null,null,null,null,null,null,{"$f":"G1617+help2!$C$3","v":1600},{"$f":"help2!G1603","v":" "}]
[null,null,null,null,null,null,{"$f":"G1618+help2!$C$3","v":1601},{"$f":"help2!G1604","v":" "}]
[null,null,null,null,null,null,{"$f":"G1619+help2!$C$3","v":1602},{"$f":"help2!G1605","v":" "}]
[null,null,null,null,null,null,{"$f":"G1620+help2!$C$3","v":1603},{"$f":"help2!G1606","v":" "}]
[null,null,null,null,null,null,{"$f":"G1621+help2!$C$3","v":1604},{"$f":"help2!G1607","v":" "}]
[null,null,null,null,null,null,{"$f":"G1622+help2!$C$3","v":1605},{"$f":"help2!G1608","v":" "}]
[null,null,null,null,null,null,{"$f":"G1623+help2!$C$3","v":1606},{"$f":"help2!G1609","v":" "}]
[null,null,null,null,null,null,{"$f":"G1624+help2!$C$3","v":1607},{"$f":"help2!G1610","v":" "}]
[null,null,null,null,null,null,{"$f":"G1625+help2!$C$3","v":1608},{"$f":"help2!G1611","v":" "}]
[null,null,null,null,null,null,{"$f":"G1626+help2!$C$3","v":1609},{"$f":"help2!G1612","v":" "}]
[null,null,null,null,null,null,{"$f":"G1627+help2!$C$3","v":1610},{"$f":"help2!G1613","v":" "}]
[null,null,null,null,null,null,{"$f":"G1628+help2!$C$3","v":1611},{"$f":"help2!G1614","v":" "}]
[null,null,null,null,null,null,{"$f":"G1629+help2!$C$3","v":1612},{"$f":"help2!G1615","v":" "}]
[null,null,null,null,null,null,{"$f":"G1630+help2!$C$3","v":1613},{"$f":"help2!G1616","v":" "}]
[null,null,null,null,null,null,{"$f":"G1631+help2!$C$3","v":1614},{"$f":"help2!G1617","v":" "}]
[null,null,null,null,null,null,{"$f":"G1632+help2!$C$3","v":1615},{"$f":"help2!G1618","v":" "}]
[null,null,null,null,null,null,{"$f":"G1633+help2!$C$3","v":1616},{"$f":"help2!G1619","v":" "}]
[null,null,null,null,null,null,{"$f":"G1634+help2!$C$3","v":1617},{"$f":"help2!G1620","v":" "}]
[null,null,null,null,null,null,{"$f":"G1635+help2!$C$3","v":1618},{"$f":"help2!G1621","v":" "}]
[null,null,null,null,null,null,{"$f":"G1636+help2!$C$3","v":1619},{"$f":"help2!G1622","v":" "}]
[null,null,null,null,null,null,{"$f":"G1637+help2!$C$3","v":1620},{"$f":"help2!G1623","v":" "}]
[null,null,null,null,null,null,{"$f":"G1638+help2!$C$3","v":1621},{"$f":"help2!G1624","v":" "}]
[null,null,null,null,null,null,{"$f":"G1639+help2!$C$3","v":1622},{"$f":"help2!G1625","v":" "}]
[null,null,null,null,null,null,{"$f":"G1640+help2!$C$3","v":1623},{"$f":"help2!G1626","v":" "}]
[null,null,null,null,null,null,{"$f":"G1641+help2!$C$3","v":1624},{"$f":"help2!G1627","v":" "}]
[null,null,null,null,null,null,{"$f":"G1642+help2!$C$3","v":1625},{"$f":"help2!G1628","v":" "}]
[null,null,null,null,null,null,{"$f":"G1643+help2!$C$3","v":1626},{"$f":"help2!G1629","v":" "}]
[null,null,null,null,null,null,{"$f":"G1644+help2!$C$3","v":1627},{"$f":"help2!G1630","v":" "}]
[null,null,null,null,null,null,{"$f":"G1645+help2!$C$3","v":1628},{"$f":"help2!G1631","v":" "}]
[null,null,null,null,null,null,{"$f":"G1646+help2!$C$3","v":1629},{"$f":"help2!G1632","v":" "}]
[null,null,null,null,null,null,{"$f":"G1647+help2!$C$3","v":1630},{"$f":"help2!G1633","v":" "}]
[null,null,null,null,null,null,{"$f":"G1648+help2!$C$3","v":1631},{"$f":"help2!G1634","v":" "}]
[null,null,null,null,null,null,{"$f":"G1649+help2!$C$3","v":1632},{"$f":"help2!G1635","v":" "}]
[null,null,null,null,null,null,{"$f":"G1650+help2!$C$3","v":1633},{"$f":"help2!G1636","v":" "}]
[null,null,null,null,null,null,{"$f":"G1651+help2!$C$3","v":1634},{"$f":"help2!G1637","v":" "}]
[null,null,null,null,null,null,{"$f":"G1652+help2!$C$3","v":1635},{"$f":"help2!G1638","v":" "}]
[null,null,null,null,null,null,{"$f":"G1653+help2!$C$3","v":1636},{"$f":"help2!G1639","v":" "}]
[null,null,null,null,null,null,{"$f":"G1654+help2!$C$3","v":1637},{"$f":"help2!G1640","v":" "}]
[null,null,null,null,null,null,{"$f":"G1655+help2!$C$3","v":1638},{"$f":"help2!G1641","v":" "}]
[null,null,null,null,null,null,{"$f":"G1656+help2!$C$3","v":1639},{"$f":"help2!G1642","v":" "}]
[null,null,null,null,null,null,{"$f":"G1657+help2!$C$3","v":1640},{"$f":"help2!G1643","v":" "}]
[null,null,null,null,null,null,{"$f":"G1658+help2!$C$3","v":1641},{"$f":"help2!G1644","v":" "}]
[null,null,null,null,null,null,{"$f":"G1659+help2!$C$3","v":1642},{"$f":"help2!G1645","v":" "}]
[null,null,null,null,null,null,{"$f":"G1660+help2!$C$3","v":1643},{"$f":"help2!G1646","v":" "}]
[null,null,null,null,null,null,{"$f":"G1661+help2!$C$3","v":1644},{"$f":"help2!G1647","v":" "}]
[null,null,null,null,null,null,{"$f":"G1662+help2!$C$3","v":1645},{"$f":"help2!G1648","v":" "}]
[null,null,null,null,null,null,{"$f":"G1663+help2!$C$3","v":1646},{"$f":"help2!G1649","v":" "}]
[null,null,null,null,null,null,{"$f":"G1664+help2!$C$3","v":1647},{"$f":"help2!G1650","v":" "}]
[null,null,null,null,null,null,{"$f":"G1665+help2!$C$3","v":1648},{"$f":"help2!G1651","v":" "}]
[null,null,null,null,null,null,{"$f":"G1666+help2!$C$3","v":1649},{"$f":"help2!G1652","v":" "}]
[null,null,null,null,null,null,{"$f":"G1667+help2!$C$3","v":1650},{"$f":"help2!G1653","v":" "}]
[null,null,null,null,null,null,{"$f":"G1668+help2!$C$3","v":1651},{"$f":"help2!G1654","v":" "}]
[null,null,null,null,null,null,{"$f":"G1669+help2!$C$3","v":1652},{"$f":"help2!G1655","v":" "}]
[null,null,null,null,null,null,{"$f":"G1670+help2!$C$3","v":1653},{"$f":"help2!G1656","v":" "}]
[null,null,null,null,null,null,{"$f":"G1671+help2!$C$3","v":1654},{"$f":"help2!G1657","v":" "}]
[null,null,null,null,null,null,{"$f":"G1672+help2!$C$3","v":1655},{"$f":"help2!G1658","v":" "}]
[null,null,null,null,null,null,{"$f":"G1673+help2!$C$3","v":1656},{"$f":"help2!G1659","v":" "}]
[null,null,null,null,null,null,{"$f":"G1674+help2!$C$3","v":1657},{"$f":"help2!G1660","v":" "}]
[null,null,null,null,null,null,{"$f":"G1675+help2!$C$3","v":1658},{"$f":"help2!G1661","v":" "}]
[null,null,null,null,null,null,{"$f":"G1676+help2!$C$3","v":1659},{"$f":"help2!G1662","v":" "}]
[null,null,null,null,null,null,{"$f":"G1677+help2!$C$3","v":1660},{"$f":"help2!G1663","v":" "}]
[null,null,null,null,null,null,{"$f":"G1678+help2!$C$3","v":1661},{"$f":"help2!G1664","v":" "}]
[null,null,null,null,null,null,{"$f":"G1679+help2!$C$3","v":1662},{"$f":"help2!G1665","v":" "}]
[null,null,null,null,null,null,{"$f":"G1680+help2!$C$3","v":1663},{"$f":"help2!G1666","v":" "}]
[null,null,null,null,null,null,{"$f":"G1681+help2!$C$3","v":1664},{"$f":"help2!G1667","v":" "}]
[null,null,null,null,null,null,{"$f":"G1682+help2!$C$3","v":1665},{"$f":"help2!G1668","v":" "}]
[null,null,null,null,null,null,{"$f":"G1683+help2!$C$3","v":1666},{"$f":"help2!G1669","v":" "}]
[null,null,null,null,null,null,{"$f":"G1684+help2!$C$3","v":1667},{"$f":"help2!G1670","v":" "}]
[null,null,null,null,null,null,{"$f":"G1685+help2!$C$3","v":1668},{"$f":"help2!G1671","v":" "}]
[null,null,null,null,null,null,{"$f":"G1686+help2!$C$3","v":1669},{"$f":"help2!G1672","v":" "}]
[null,null,null,null,null,null,{"$f":"G1687+help2!$C$3","v":1670},{"$f":"help2!G1673","v":" "}]
[null,null,null,null,null,null,{"$f":"G1688+help2!$C$3","v":1671},{"$f":"help2!G1674","v":" "}]
[null,null,null,null,null,null,{"$f":"G1689+help2!$C$3","v":1672},{"$f":"help2!G1675","v":" "}]
[null,null,null,null,null,null,{"$f":"G1690+help2!$C$3","v":1673},{"$f":"help2!G1676","v":" "}]
[null,null,null,null,null,null,{"$f":"G1691+help2!$C$3","v":1674},{"$f":"help2!G1677","v":" "}]
[null,null,null,null,null,null,{"$f":"G1692+help2!$C$3","v":1675},{"$f":"help2!G1678","v":" "}]
[null,null,null,null,null,null,{"$f":"G1693+help2!$C$3","v":1676},{"$f":"help2!G1679","v":" "}]
[null,null,null,null,null,null,{"$f":"G1694+help2!$C$3","v":1677},{"$f":"help2!G1680","v":" "}]
[null,null,null,null,null,null,{"$f":"G1695+help2!$C$3","v":1678},{"$f":"help2!G1681","v":" "}]
[null,null,null,null,null,null,{"$f":"G1696+help2!$C$3","v":1679},{"$f":"help2!G1682","v":" "}]
[null,null,null,null,null,null,{"$f":"G1697+help2!$C$3","v":1680},{"$f":"help2!G1683","v":" "}]
[null,null,null,null,null,null,{"$f":"G1698+help2!$C$3","v":1681},{"$f":"help2!G1684","v":" "}]
[null,null,null,null,null,null,{"$f":"G1699+help2!$C$3","v":1682},{"$f":"help2!G1685","v":" "}]
[null,null,null,null,null,null,{"$f":"G1700+help2!$C$3","v":1683},{"$f":"help2!G1686","v":" "}]
[null,null,null,null,null,null,{"$f":"G1701+help2!$C$3","v":1684},{"$f":"help2!G1687","v":" "}]
[null,null,null,null,null,null,{"$f":"G1702+help2!$C$3","v":1685},{"$f":"help2!G1688","v":" "}]
[null,null,null,null,null,null,{"$f":"G1703+help2!$C$3","v":1686},{"$f":"help2!G1689","v":" "}]
[null,null,null,null,null,null,{"$f":"G1704+help2!$C$3","v":1687},{"$f":"help2!G1690","v":" "}]
[null,null,null,null,null,null,{"$f":"G1705+help2!$C$3","v":1688},{"$f":"help2!G1691","v":" "}]
[null,null,null,null,null,null,{"$f":"G1706+help2!$C$3","v":1689},{"$f":"help2!G1692","v":" "}]
[null,null,null,null,null,null,{"$f":"G1707+help2!$C$3","v":1690},{"$f":"help2!G1693","v":" "}]
[null,null,null,null,null,null,{"$f":"G1708+help2!$C$3","v":1691},{"$f":"help2!G1694","v":" "}]
[null,null,null,null,null,null,{"$f":"G1709+help2!$C$3","v":1692},{"$f":"help2!G1695","v":" "}]
[null,null,null,null,null,null,{"$f":"G1710+help2!$C$3","v":1693},{"$f":"help2!G1696","v":" "}]
[null,null,null,null,null,null,{"$f":"G1711+help2!$C$3","v":1694},{"$f":"help2!G1697","v":" "}]
[null,null,null,null,null,null,{"$f":"G1712+help2!$C$3","v":1695},{"$f":"help2!G1698","v":" "}]
[null,null,null,null,null,null,{"$f":"G1713+help2!$C$3","v":1696},{"$f":"help2!G1699","v":" "}]
[null,null,null,null,null,null,{"$f":"G1714+help2!$C$3","v":1697},{"$f":"help2!G1700","v":" "}]
[null,null,null,null,null,null,{"$f":"G1715+help2!$C$3","v":1698},{"$f":"help2!G1701","v":" "}]
[null,null,null,null,null,null,{"$f":"G1716+help2!$C$3","v":1699},{"$f":"help2!G1702","v":" "}]
[null,null,null,null,null,null,{"$f":"G1717+help2!$C$3","v":1700},{"$f":"help2!G1703","v":" "}]
[null,null,null,null,null,null,{"$f":"G1718+help2!$C$3","v":1701},{"$f":"help2!G1704","v":" "}]
[null,null,null,null,null,null,{"$f":"G1719+help2!$C$3","v":1702},{"$f":"help2!G1705","v":" "}]
[null,null,null,null,null,null,{"$f":"G1720+help2!$C$3","v":1703},{"$f":"help2!G1706","v":" "}]
[null,null,null,null,null,null,{"$f":"G1721+help2!$C$3","v":1704},{"$f":"help2!G1707","v":" "}]
[null,null,null,null,null,null,{"$f":"G1722+help2!$C$3","v":1705},{"$f":"help2!G1708","v":" "}]
[null,null,null,null,null,null,{"$f":"G1723+help2!$C$3","v":1706},{"$f":"help2!G1709","v":" "}]
[null,null,null,null,null,null,{"$f":"G1724+help2!$C$3","v":1707},{"$f":"help2!G1710","v":" "}]
[null,null,null,null,null,null,{"$f":"G1725+help2!$C$3","v":1708},{"$f":"help2!G1711","v":" "}]
[null,null,null,null,null,null,{"$f":"G1726+help2!$C$3","v":1709},{"$f":"help2!G1712","v":" "}]
[null,null,null,null,null,null,{"$f":"G1727+help2!$C$3","v":1710},{"$f":"help2!G1713","v":" "}]
[null,null,null,null,null,null,{"$f":"G1728+help2!$C$3","v":1711},{"$f":"help2!G1714","v":" "}]
[null,null,null,null,null,null,{"$f":"G1729+help2!$C$3","v":1712},{"$f":"help2!G1715","v":" "}]
[null,null,null,null,null,null,{"$f":"G1730+help2!$C$3","v":1713},{"$f":"help2!G1716","v":" "}]
[null,null,null,null,null,null,{"$f":"G1731+help2!$C$3","v":1714},{"$f":"help2!G1717","v":" "}]
[null,null,null,null,null,null,{"$f":"G1732+help2!$C$3","v":1715},{"$f":"help2!G1718","v":" "}]
[null,null,null,null,null,null,{"$f":"G1733+help2!$C$3","v":1716},{"$f":"help2!G1719","v":" "}]
[null,null,null,null,null,null,{"$f":"G1734+help2!$C$3","v":1717},{"$f":"help2!G1720","v":" "}]
[null,null,null,null,null,null,{"$f":"G1735+help2!$C$3","v":1718},{"$f":"help2!G1721","v":" "}]
[null,null,null,null,null,null,{"$f":"G1736+help2!$C$3","v":1719},{"$f":"help2!G1722","v":" "}]
[null,null,null,null,null,null,{"$f":"G1737+help2!$C$3","v":1720},{"$f":"help2!G1723","v":" "}]
[null,null,null,null,null,null,{"$f":"G1738+help2!$C$3","v":1721},{"$f":"help2!G1724","v":" "}]
[null,null,null,null,null,null,{"$f":"G1739+help2!$C$3","v":1722},{"$f":"help2!G1725","v":" "}]
[null,null,null,null,null,null,{"$f":"G1740+help2!$C$3","v":1723},{"$f":"help2!G1726","v":" "}]
[null,null,null,null,null,null,{"$f":"G1741+help2!$C$3","v":1724},{"$f":"help2!G1727","v":" "}]
[null,null,null,null,null,null,{"$f":"G1742+help2!$C$3","v":1725},{"$f":"help2!G1728","v":" "}]
[null,null,null,null,null,null,{"$f":"G1743+help2!$C$3","v":1726},{"$f":"help2!G1729","v":" "}]
[null,null,null,null,null,null,{"$f":"G1744+help2!$C$3","v":1727},{"$f":"help2!G1730","v":" "}]
[null,null,null,null,null,null,{"$f":"G1745+help2!$C$3","v":1728},{"$f":"help2!G1731","v":" "}]
[null,null,null,null,null,null,{"$f":"G1746+help2!$C$3","v":1729},{"$f":"help2!G1732","v":" "}]
[null,null,null,null,null,null,{"$f":"G1747+help2!$C$3","v":1730},{"$f":"help2!G1733","v":" "}]
[null,null,null,null,null,null,{"$f":"G1748+help2!$C$3","v":1731},{"$f":"help2!G1734","v":" "}]
[null,null,null,null,null,null,{"$f":"G1749+help2!$C$3","v":1732},{"$f":"help2!G1735","v":" "}]
[null,null,null,null,null,null,{"$f":"G1750+help2!$C$3","v":1733},{"$f":"help2!G1736","v":" "}]
[null,null,null,null,null,null,{"$f":"G1751+help2!$C$3","v":1734},{"$f":"help2!G1737","v":" "}]
[null,null,null,null,null,null,{"$f":"G1752+help2!$C$3","v":1735},{"$f":"help2!G1738","v":" "}]
[null,null,null,null,null,null,{"$f":"G1753+help2!$C$3","v":1736},{"$f":"help2!G1739","v":" "}]
[null,null,null,null,null,null,{"$f":"G1754+help2!$C$3","v":1737},{"$f":"help2!G1740","v":" "}]
[null,null,null,null,null,null,{"$f":"G1755+help2!$C$3","v":1738},{"$f":"help2!G1741","v":" "}]
[null,null,null,null,null,null,{"$f":"G1756+help2!$C$3","v":1739},{"$f":"help2!G1742","v":" "}]
[null,null,null,null,null,null,{"$f":"G1757+help2!$C$3","v":1740},{"$f":"help2!G1743","v":" "}]
[null,null,null,null,null,null,{"$f":"G1758+help2!$C$3","v":1741},{"$f":"help2!G1744","v":" "}]
[null,null,null,null,null,null,{"$f":"G1759+help2!$C$3","v":1742},{"$f":"help2!G1745","v":" "}]
[null,null,null,null,null,null,{"$f":"G1760+help2!$C$3","v":1743},{"$f":"help2!G1746","v":" "}]
[null,null,null,null,null,null,{"$f":"G1761+help2!$C$3","v":1744},{"$f":"help2!G1747","v":" "}]
[null,null,null,null,null,null,{"$f":"G1762+help2!$C$3","v":1745},{"$f":"help2!G1748","v":" "}]
[null,null,null,null,null,null,{"$f":"G1763+help2!$C$3","v":1746},{"$f":"help2!G1749","v":" "}]
[null,null,null,null,null,null,{"$f":"G1764+help2!$C$3","v":1747},{"$f":"help2!G1750","v":" "}]
[null,null,null,null,null,null,{"$f":"G1765+help2!$C$3","v":1748},{"$f":"help2!G1751","v":" "}]
[null,null,null,null,null,null,{"$f":"G1766+help2!$C$3","v":1749},{"$f":"help2!G1752","v":" "}]
[null,null,null,null,null,null,{"$f":"G1767+help2!$C$3","v":1750},{"$f":"help2!G1753","v":" "}]
[null,null,null,null,null,null,{"$f":"G1768+help2!$C$3","v":1751},{"$f":"help2!G1754","v":" "}]
[null,null,null,null,null,null,{"$f":"G1769+help2!$C$3","v":1752},{"$f":"help2!G1755","v":" "}]
[null,null,null,null,null,null,{"$f":"G1770+help2!$C$3","v":1753},{"$f":"help2!G1756","v":" "}]
[null,null,null,null,null,null,{"$f":"G1771+help2!$C$3","v":1754},{"$f":"help2!G1757","v":" "}]
[null,null,null,null,null,null,{"$f":"G1772+help2!$C$3","v":1755},{"$f":"help2!G1758","v":" "}]
[null,null,null,null,null,null,{"$f":"G1773+help2!$C$3","v":1756},{"$f":"help2!G1759","v":" "}]
[null,null,null,null,null,null,{"$f":"G1774+help2!$C$3","v":1757},{"$f":"help2!G1760","v":" "}]
[null,null,null,null,null,null,{"$f":"G1775+help2!$C$3","v":1758},{"$f":"help2!G1761","v":" "}]
[null,null,null,null,null,null,{"$f":"G1776+help2!$C$3","v":1759},{"$f":"help2!G1762","v":" "}]
[null,null,null,null,null,null,{"$f":"G1777+help2!$C$3","v":1760},{"$f":"help2!G1763","v":" "}]
[null,null,null,null,null,null,{"$f":"G1778+help2!$C$3","v":1761},{"$f":"help2!G1764","v":" "}]
[null,null,null,null,null,null,{"$f":"G1779+help2!$C$3","v":1762},{"$f":"help2!G1765","v":" "}]
[null,null,null,null,null,null,{"$f":"G1780+help2!$C$3","v":1763},{"$f":"help2!G1766","v":" "}]
[null,null,null,null,null,null,{"$f":"G1781+help2!$C$3","v":1764},{"$f":"help2!G1767","v":" "}]
[null,null,null,null,null,null,{"$f":"G1782+help2!$C$3","v":1765},{"$f":"help2!G1768","v":" "}]
[null,null,null,null,null,null,{"$f":"G1783+help2!$C$3","v":1766},{"$f":"help2!G1769","v":" "}]
[null,null,null,null,null,null,{"$f":"G1784+help2!$C$3","v":1767},{"$f":"help2!G1770","v":" "}]
[null,null,null,null,null,null,{"$f":"G1785+help2!$C$3","v":1768},{"$f":"help2!G1771","v":" "}]
[null,null,null,null,null,null,{"$f":"G1786+help2!$C$3","v":1769},{"$f":"help2!G1772","v":" "}]
[null,null,null,null,null,null,{"$f":"G1787+help2!$C$3","v":1770},{"$f":"help2!G1773","v":" "}]
[null,null,null,null,null,null,{"$f":"G1788+help2!$C$3","v":1771},{"$f":"help2!G1774","v":" "}]
[null,null,null,null,null,null,{"$f":"G1789+help2!$C$3","v":1772},{"$f":"help2!G1775","v":" "}]
[null,null,null,null,null,null,{"$f":"G1790+help2!$C$3","v":1773},{"$f":"help2!G1776","v":" "}]
[null,null,null,null,null,null,{"$f":"G1791+help2!$C$3","v":1774},{"$f":"help2!G1777","v":" "}]
[null,null,null,null,null,null,{"$f":"G1792+help2!$C$3","v":1775},{"$f":"help2!G1778","v":" "}]
[null,null,null,null,null,null,{"$f":"G1793+help2!$C$3","v":1776},{"$f":"help2!G1779","v":" "}]
[null,null,null,null,null,null,{"$f":"G1794+help2!$C$3","v":1777},{"$f":"help2!G1780","v":" "}]
[null,null,null,null,null,null,{"$f":"G1795+help2!$C$3","v":1778},{"$f":"help2!G1781","v":" "}]
[null,null,null,null,null,null,{"$f":"G1796+help2!$C$3","v":1779},{"$f":"help2!G1782","v":" "}]
[null,null,null,null,null,null,{"$f":"G1797+help2!$C$3","v":1780},{"$f":"help2!G1783","v":" "}]
[null,null,null,null,null,null,{"$f":"G1798+help2!$C$3","v":1781},{"$f":"help2!G1784","v":" "}]
[null,null,null,null,null,null,{"$f":"G1799+help2!$C$3","v":1782},{"$f":"help2!G1785","v":" "}]
[null,null,null,null,null,null,{"$f":"G1800+help2!$C$3","v":1783},{"$f":"help2!G1786","v":" "}]
[null,null,null,null,null,null,{"$f":"G1801+help2!$C$3","v":1784},{"$f":"help2!G1787","v":" "}]
[null,null,null,null,null,null,{"$f":"G1802+help2!$C$3","v":1785},{"$f":"help2!G1788","v":" "}]
[null,null,null,null,null,null,{"$f":"G1803+help2!$C$3","v":1786},{"$f":"help2!G1789","v":" "}]
[null,null,null,null,null,null,{"$f":"G1804+help2!$C$3","v":1787},{"$f":"help2!G1790","v":" "}]
[null,null,null,null,null,null,{"$f":"G1805+help2!$C$3","v":1788},{"$f":"help2!G1791","v":" "}]
[null,null,null,null,null,null,{"$f":"G1806+help2!$C$3","v":1789},{"$f":"help2!G1792","v":" "}]
[null,null,null,null,null,null,{"$f":"G1807+help2!$C$3","v":1790},{"$f":"help2!G1793","v":" "}]
[null,null,null,null,null,null,{"$f":"G1808+help2!$C$3","v":1791},{"$f":"help2!G1794","v":" "}]
[null,null,null,null,null,null,{"$f":"G1809+help2!$C$3","v":1792},{"$f":"help2!G1795","v":" "}]
[null,null,null,null,null,null,{"$f":"G1810+help2!$C$3","v":1793},{"$f":"help2!G1796","v":" "}]
[null,null,null,null,null,null,{"$f":"G1811+help2!$C$3","v":1794},{"$f":"help2!G1797","v":" "}]
[null,null,null,null,null,null,{"$f":"G1812+help2!$C$3","v":1795},{"$f":"help2!G1798","v":" "}]
[null,null,null,null,null,null,{"$f":"G1813+help2!$C$3","v":1796},{"$f":"help2!G1799","v":" "}]
[null,null,null,null,null,null,{"$f":"G1814+help2!$C$3","v":1797},{"$f":"help2!G1800","v":" "}]
[null,null,null,null,null,null,{"$f":"G1815+help2!$C$3","v":1798},{"$f":"help2!G1801","v":" "}]
[null,null,null,null,null,null,{"$f":"G1816+help2!$C$3","v":1799},{"$f":"help2!G1802","v":" "}]
[null,null,null,null,null,null,{"$f":"G1817+help2!$C$3","v":1800},{"$f":"help2!G1803","v":" "}]
[null,null,null,null,null,null,{"$f":"G1818+help2!$C$3","v":1801},{"$f":"help2!G1804","v":" "}]
[null,null,null,null,null,null,{"$f":"G1819+help2!$C$3","v":1802},{"$f":"help2!G1805","v":" "}]
[null,null,null,null,null,null,{"$f":"G1820+help2!$C$3","v":1803},{"$f":"help2!G1806","v":" "}]
[null,null,null,null,null,null,{"$f":"G1821+help2!$C$3","v":1804},{"$f":"help2!G1807","v":" "}]
[null,null,null,null,null,null,{"$f":"G1822+help2!$C$3","v":1805},{"$f":"help2!G1808","v":" "}]
[null,null,null,null,null,null,{"$f":"G1823+help2!$C$3","v":1806},{"$f":"help2!G1809","v":" "}]
[null,null,null,null,null,null,{"$f":"G1824+help2!$C$3","v":1807},{"$f":"help2!G1810","v":" "}]
[null,null,null,null,null,null,{"$f":"G1825+help2!$C$3","v":1808},{"$f":"help2!G1811","v":" "}]
[null,null,null,null,null,null,{"$f":"G1826+help2!$C$3","v":1809},{"$f":"help2!G1812","v":" "}]
[null,null,null,null,null,null,{"$f":"G1827+help2!$C$3","v":1810},{"$f":"help2!G1813","v":" "}]
[null,null,null,null,null,null,{"$f":"G1828+help2!$C$3","v":1811},{"$f":"help2!G1814","v":" "}]
[null,null,null,null,null,null,{"$f":"G1829+help2!$C$3","v":1812},{"$f":"help2!G1815","v":" "}]
[null,null,null,null,null,null,{"$f":"G1830+help2!$C$3","v":1813},{"$f":"help2!G1816","v":" "}]
[null,null,null,null,null,null,{"$f":"G1831+help2!$C$3","v":1814},{"$f":"help2!G1817","v":" "}]
[null,null,null,null,null,null,{"$f":"G1832+help2!$C$3","v":1815},{"$f":"help2!G1818","v":" "}]
[null,null,null,null,null,null,{"$f":"G1833+help2!$C$3","v":1816},{"$f":"help2!G1819","v":" "}]
[null,null,null,null,null,null,{"$f":"G1834+help2!$C$3","v":1817},{"$f":"help2!G1820","v":" "}]
[null,null,null,null,null,null,{"$f":"G1835+help2!$C$3","v":1818},{"$f":"help2!G1821","v":" "}]
[null,null,null,null,null,null,{"$f":"G1836+help2!$C$3","v":1819},{"$f":"help2!G1822","v":" "}]
[null,null,null,null,null,null,{"$f":"G1837+help2!$C$3","v":1820},{"$f":"help2!G1823","v":" "}]
[null,null,null,null,null,null,{"$f":"G1838+help2!$C$3","v":1821},{"$f":"help2!G1824","v":" "}]
[null,null,null,null,null,null,{"$f":"G1839+help2!$C$3","v":1822},{"$f":"help2!G1825","v":" "}]
[null,null,null,null,null,null,{"$f":"G1840+help2!$C$3","v":1823},{"$f":"help2!G1826","v":" "}]
[null,null,null,null,null,null,{"$f":"G1841+help2!$C$3","v":1824},{"$f":"help2!G1827","v":" "}]
[null,null,null,null,null,null,{"$f":"G1842+help2!$C$3","v":1825},{"$f":"help2!G1828","v":" "}]
[null,null,null,null,null,null,{"$f":"G1843+help2!$C$3","v":1826},{"$f":"help2!G1829","v":" "}]
[null,null,null,null,null,null,{"$f":"G1844+help2!$C$3","v":1827},{"$f":"help2!G1830","v":" "}]
[null,null,null,null,null,null,{"$f":"G1845+help2!$C$3","v":1828},{"$f":"help2!G1831","v":" "}]
[null,null,null,null,null,null,{"$f":"G1846+help2!$C$3","v":1829},{"$f":"help2!G1832","v":" "}]
[null,null,null,null,null,null,{"$f":"G1847+help2!$C$3","v":1830},{"$f":"help2!G1833","v":" "}]
[null,null,null,null,null,null,{"$f":"G1848+help2!$C$3","v":1831},{"$f":"help2!G1834","v":" "}]
[null,null,null,null,null,null,{"$f":"G1849+help2!$C$3","v":1832},{"$f":"help2!G1835","v":" "}]
[null,null,null,null,null,null,{"$f":"G1850+help2!$C$3","v":1833},{"$f":"help2!G1836","v":" "}]
[null,null,null,null,null,null,{"$f":"G1851+help2!$C$3","v":1834},{"$f":"help2!G1837","v":" "}]
[null,null,null,null,null,null,{"$f":"G1852+help2!$C$3","v":1835},{"$f":"help2!G1838","v":" "}]
[null,null,null,null,null,null,{"$f":"G1853+help2!$C$3","v":1836},{"$f":"help2!G1839","v":" "}]
[null,null,null,null,null,null,{"$f":"G1854+help2!$C$3","v":1837},{"$f":"help2!G1840","v":" "}]
[null,null,null,null,null,null,{"$f":"G1855+help2!$C$3","v":1838},{"$f":"help2!G1841","v":" "}]
[null,null,null,null,null,null,{"$f":"G1856+help2!$C$3","v":1839},{"$f":"help2!G1842","v":" "}]
[null,null,null,null,null,null,{"$f":"G1857+help2!$C$3","v":1840},{"$f":"help2!G1843","v":" "}]
[null,null,null,null,null,null,{"$f":"G1858+help2!$C$3","v":1841},{"$f":"help2!G1844","v":" "}]
[null,null,null,null,null,null,{"$f":"G1859+help2!$C$3","v":1842},{"$f":"help2!G1845","v":" "}]
[null,null,null,null,null,null,{"$f":"G1860+help2!$C$3","v":1843},{"$f":"help2!G1846","v":" "}]
[null,null,null,null,null,null,{"$f":"G1861+help2!$C$3","v":1844},{"$f":"help2!G1847","v":" "}]
[null,null,null,null,null,null,{"$f":"G1862+help2!$C$3","v":1845},{"$f":"help2!G1848","v":" "}]
[null,null,null,null,null,null,{"$f":"G1863+help2!$C$3","v":1846},{"$f":"help2!G1849","v":" "}]
[null,null,null,null,null,null,{"$f":"G1864+help2!$C$3","v":1847},{"$f":"help2!G1850","v":" "}]
[null,null,null,null,null,null,{"$f":"G1865+help2!$C$3","v":1848},{"$f":"help2!G1851","v":" "}]
[null,null,null,null,null,null,{"$f":"G1866+help2!$C$3","v":1849},{"$f":"help2!G1852","v":" "}]
[null,null,null,null,null,null,{"$f":"G1867+help2!$C$3","v":1850},{"$f":"help2!G1853","v":" "}]
[null,null,null,null,null,null,{"$f":"G1868+help2!$C$3","v":1851},{"$f":"help2!G1854","v":" "}]
[null,null,null,null,null,null,{"$f":"G1869+help2!$C$3","v":1852},{"$f":"help2!G1855","v":" "}]
[null,null,null,null,null,null,{"$f":"G1870+help2!$C$3","v":1853},{"$f":"help2!G1856","v":" "}]
[null,null,null,null,null,null,{"$f":"G1871+help2!$C$3","v":1854},{"$f":"help2!G1857","v":" "}]
[null,null,null,null,null,null,{"$f":"G1872+help2!$C$3","v":1855},{"$f":"help2!G1858","v":" "}]
[null,null,null,null,null,null,{"$f":"G1873+help2!$C$3","v":1856},{"$f":"help2!G1859","v":" "}]
[null,null,null,null,null,null,{"$f":"G1874+help2!$C$3","v":1857},{"$f":"help2!G1860","v":" "}]
[null,null,null,null,null,null,{"$f":"G1875+help2!$C$3","v":1858},{"$f":"help2!G1861","v":" "}]
[null,null,null,null,null,null,{"$f":"G1876+help2!$C$3","v":1859},{"$f":"help2!G1862","v":" "}]
[null,null,null,null,null,null,{"$f":"G1877+help2!$C$3","v":1860},{"$f":"help2!G1863","v":" "}]
[null,null,null,null,null,null,{"$f":"G1878+help2!$C$3","v":1861},{"$f":"help2!G1864","v":" "}]
[null,null,null,null,null,null,{"$f":"G1879+help2!$C$3","v":1862},{"$f":"help2!G1865","v":" "}]
[null,null,null,null,null,null,{"$f":"G1880+help2!$C$3","v":1863},{"$f":"help2!G1866","v":" "}]
[null,null,null,null,null,null,{"$f":"G1881+help2!$C$3","v":1864},{"$f":"help2!G1867","v":" "}]
[null,null,null,null,null,null,{"$f":"G1882+help2!$C$3","v":1865},{"$f":"help2!G1868","v":" "}]
[null,null,null,null,null,null,{"$f":"G1883+help2!$C$3","v":1866},{"$f":"help2!G1869","v":" "}]
[null,null,null,null,null,null,{"$f":"G1884+help2!$C$3","v":1867},{"$f":"help2!G1870","v":" "}]
[null,null,null,null,null,null,{"$f":"G1885+help2!$C$3","v":1868},{"$f":"help2!G1871","v":" "}]
[null,null,null,null,null,null,{"$f":"G1886+help2!$C$3","v":1869},{"$f":"help2!G1872","v":" "}]
[null,null,null,null,null,null,{"$f":"G1887+help2!$C$3","v":1870},{"$f":"help2!G1873","v":" "}]
[null,null,null,null,null,null,{"$f":"G1888+help2!$C$3","v":1871},{"$f":"help2!G1874","v":" "}]
[null,null,null,null,null,null,{"$f":"G1889+help2!$C$3","v":1872},{"$f":"help2!G1875","v":" "}]
[null,null,null,null,null,null,{"$f":"G1890+help2!$C$3","v":1873},{"$f":"help2!G1876","v":" "}]
[null,null,null,null,null,null,{"$f":"G1891+help2!$C$3","v":1874},{"$f":"help2!G1877","v":" "}]
[null,null,null,null,null,null,{"$f":"G1892+help2!$C$3","v":1875},{"$f":"help2!G1878","v":" "}]
[null,null,null,null,null,null,{"$f":"G1893+help2!$C$3","v":1876},{"$f":"help2!G1879","v":" "}]
[null,null,null,null,null,null,{"$f":"G1894+help2!$C$3","v":1877},{"$f":"help2!G1880","v":" "}]
[null,null,null,null,null,null,{"$f":"G1895+help2!$C$3","v":1878},{"$f":"help2!G1881","v":" "}]
[null,null,null,null,null,null,{"$f":"G1896+help2!$C$3","v":1879},{"$f":"help2!G1882","v":" "}]
[null,null,null,null,null,null,{"$f":"G1897+help2!$C$3","v":1880},{"$f":"help2!G1883","v":" "}]
[null,null,null,null,null,null,{"$f":"G1898+help2!$C$3","v":1881},{"$f":"help2!G1884","v":" "}]
[null,null,null,null,null,null,{"$f":"G1899+help2!$C$3","v":1882},{"$f":"help2!G1885","v":" "}]
[null,null,null,null,null,null,{"$f":"G1900+help2!$C$3","v":1883},{"$f":"help2!G1886","v":" "}]
[null,null,null,null,null,null,{"$f":"G1901+help2!$C$3","v":1884},{"$f":"help2!G1887","v":" "}]
[null,null,null,null,null,null,{"$f":"G1902+help2!$C$3","v":1885},{"$f":"help2!G1888","v":" "}]
[null,null,null,null,null,null,{"$f":"G1903+help2!$C$3","v":1886},{"$f":"help2!G1889","v":" "}]
[null,null,null,null,null,null,{"$f":"G1904+help2!$C$3","v":1887},{"$f":"help2!G1890","v":" "}]
[null,null,null,null,null,null,{"$f":"G1905+help2!$C$3","v":1888},{"$f":"help2!G1891","v":" "}]
[null,null,null,null,null,null,{"$f":"G1906+help2!$C$3","v":1889},{"$f":"help2!G1892","v":" "}]
[null,null,null,null,null,null,{"$f":"G1907+help2!$C$3","v":1890},{"$f":"help2!G1893","v":" "}]
[null,null,null,null,null,null,{"$f":"G1908+help2!$C$3","v":1891},{"$f":"help2!G1894","v":" "}]
[null,null,null,null,null,null,{"$f":"G1909+help2!$C$3","v":1892},{"$f":"help2!G1895","v":" "}]
[null,null,null,null,null,null,{"$f":"G1910+help2!$C$3","v":1893},{"$f":"help2!G1896","v":" "}]
[null,null,null,null,null,null,{"$f":"G1911+help2!$C$3","v":1894},{"$f":"help2!G1897","v":" "}]
[null,null,null,null,null,null,{"$f":"G1912+help2!$C$3","v":1895},{"$f":"help2!G1898","v":" "}]
[null,null,null,null,null,null,{"$f":"G1913+help2!$C$3","v":1896},{"$f":"help2!G1899","v":" "}]
[null,null,null,null,null,null,{"$f":"G1914+help2!$C$3","v":1897},{"$f":"help2!G1900","v":" "}]
[null,null,null,null,null,null,{"$f":"G1915+help2!$C$3","v":1898},{"$f":"help2!G1901","v":" "}]
[null,null,null,null,null,null,{"$f":"G1916+help2!$C$3","v":1899},{"$f":"help2!G1902","v":" "}]
[null,null,null,null,null,null,{"$f":"G1917+help2!$C$3","v":1900},{"$f":"help2!G1903","v":" "}]
[null,null,null,null,null,null,{"$f":"G1918+help2!$C$3","v":1901},{"$f":"help2!G1904","v":" "}]
[null,null,null,null,null,null,{"$f":"G1919+help2!$C$3","v":1902},{"$f":"help2!G1905","v":" "}]
[null,null,null,null,null,null,{"$f":"G1920+help2!$C$3","v":1903},{"$f":"help2!G1906","v":" "}]
[null,null,null,null,null,null,{"$f":"G1921+help2!$C$3","v":1904},{"$f":"help2!G1907","v":" "}]
[null,null,null,null,null,null,{"$f":"G1922+help2!$C$3","v":1905},{"$f":"help2!G1908","v":" "}]
[null,null,null,null,null,null,{"$f":"G1923+help2!$C$3","v":1906},{"$f":"help2!G1909","v":" "}]
[null,null,null,null,null,null,{"$f":"G1924+help2!$C$3","v":1907},{"$f":"help2!G1910","v":" "}]
[null,null,null,null,null,null,{"$f":"G1925+help2!$C$3","v":1908},{"$f":"help2!G1911","v":" "}]
[null,null,null,null,null,null,{"$f":"G1926+help2!$C$3","v":1909},{"$f":"help2!G1912","v":" "}]
[null,null,null,null,null,null,{"$f":"G1927+help2!$C$3","v":1910},{"$f":"help2!G1913","v":" "}]
[null,null,null,null,null,null,{"$f":"G1928+help2!$C$3","v":1911},{"$f":"help2!G1914","v":" "}]
[null,null,null,null,null,null,{"$f":"G1929+help2!$C$3","v":1912},{"$f":"help2!G1915","v":" "}]
[null,null,null,null,null,null,{"$f":"G1930+help2!$C$3","v":1913},{"$f":"help2!G1916","v":" "}]
[null,null,null,null,null,null,{"$f":"G1931+help2!$C$3","v":1914},{"$f":"help2!G1917","v":" "}]
[null,null,null,null,null,null,{"$f":"G1932+help2!$C$3","v":1915},{"$f":"help2!G1918","v":" "}]
[null,null,null,null,null,null,{"$f":"G1933+help2!$C$3","v":1916},{"$f":"help2!G1919","v":" "}]
[null,null,null,null,null,null,{"$f":"G1934+help2!$C$3","v":1917},{"$f":"help2!G1920","v":" "}]
[null,null,null,null,null,null,{"$f":"G1935+help2!$C$3","v":1918},{"$f":"help2!G1921","v":" "}]
[null,null,null,null,null,null,{"$f":"G1936+help2!$C$3","v":1919},{"$f":"help2!G1922","v":" "}]
[null,null,null,null,null,null,{"$f":"G1937+help2!$C$3","v":1920},{"$f":"help2!G1923","v":" "}]
[null,null,null,null,null,null,{"$f":"G1938+help2!$C$3","v":1921},{"$f":"help2!G1924","v":" "}]
[null,null,null,null,null,null,{"$f":"G1939+help2!$C$3","v":1922},{"$f":"help2!G1925","v":" "}]
[null,null,null,null,null,null,{"$f":"G1940+help2!$C$3","v":1923},{"$f":"help2!G1926","v":" "}]
[null,null,null,null,null,null,{"$f":"G1941+help2!$C$3","v":1924},{"$f":"help2!G1927","v":" "}]
[null,null,null,null,null,null,{"$f":"G1942+help2!$C$3","v":1925},{"$f":"help2!G1928","v":" "}]
[null,null,null,null,null,null,{"$f":"G1943+help2!$C$3","v":1926},{"$f":"help2!G1929","v":" "}]
[null,null,null,null,null,null,{"$f":"G1944+help2!$C$3","v":1927},{"$f":"help2!G1930","v":" "}]
[null,null,null,null,null,null,{"$f":"G1945+help2!$C$3","v":1928},{"$f":"help2!G1931","v":" "}]
[null,null,null,null,null,null,{"$f":"G1946+help2!$C$3","v":1929},{"$f":"help2!G1932","v":" "}]
[null,null,null,null,null,null,{"$f":"G1947+help2!$C$3","v":1930},{"$f":"help2!G1933","v":" "}]
[null,null,null,null,null,null,{"$f":"G1948+help2!$C$3","v":1931},{"$f":"help2!G1934","v":" "}]
[null,null,null,null,null,null,{"$f":"G1949+help2!$C$3","v":1932},{"$f":"help2!G1935","v":" "}]
[null,null,null,null,null,null,{"$f":"G1950+help2!$C$3","v":1933},{"$f":"help2!G1936","v":" "}]
[null,null,null,null,null,null,{"$f":"G1951+help2!$C$3","v":1934},{"$f":"help2!G1937","v":" "}]
[null,null,null,null,null,null,{"$f":"G1952+help2!$C$3","v":1935},{"$f":"help2!G1938","v":" "}]
[null,null,null,null,null,null,{"$f":"G1953+help2!$C$3","v":1936},{"$f":"help2!G1939","v":" "}]
[null,null,null,null,null,null,{"$f":"G1954+help2!$C$3","v":1937},{"$f":"help2!G1940","v":" "}]
[null,null,null,null,null,null,{"$f":"G1955+help2!$C$3","v":1938},{"$f":"help2!G1941","v":" "}]
[null,null,null,null,null,null,{"$f":"G1956+help2!$C$3","v":1939},{"$f":"help2!G1942","v":" "}]
[null,null,null,null,null,null,{"$f":"G1957+help2!$C$3","v":1940},{"$f":"help2!G1943","v":" "}]
[null,null,null,null,null,null,{"$f":"G1958+help2!$C$3","v":1941},{"$f":"help2!G1944","v":" "}]
[null,null,null,null,null,null,{"$f":"G1959+help2!$C$3","v":1942},{"$f":"help2!G1945","v":" "}]
[null,null,null,null,null,null,{"$f":"G1960+help2!$C$3","v":1943},{"$f":"help2!G1946","v":" "}]
[null,null,null,null,null,null,{"$f":"G1961+help2!$C$3","v":1944},{"$f":"help2!G1947","v":" "}]
[null,null,null,null,null,null,{"$f":"G1962+help2!$C$3","v":1945},{"$f":"help2!G1948","v":" "}]
[null,null,null,null,null,null,{"$f":"G1963+help2!$C$3","v":1946},{"$f":"help2!G1949","v":" "}]
[null,null,null,null,null,null,{"$f":"G1964+help2!$C$3","v":1947},{"$f":"help2!G1950","v":" "}]
[null,null,null,null,null,null,{"$f":"G1965+help2!$C$3","v":1948},{"$f":"help2!G1951","v":" "}]
[null,null,null,null,null,null,{"$f":"G1966+help2!$C$3","v":1949},{"$f":"help2!G1952","v":" "}]
[null,null,null,null,null,null,{"$f":"G1967+help2!$C$3","v":1950},{"$f":"help2!G1953","v":" "}]
[null,null,null,null,null,null,{"$f":"G1968+help2!$C$3","v":1951},{"$f":"help2!G1954","v":" "}]
[null,null,null,null,null,null,{"$f":"G1969+help2!$C$3","v":1952},{"$f":"help2!G1955","v":" "}]
[null,null,null,null,null,null,{"$f":"G1970+help2!$C$3","v":1953},{"$f":"help2!G1956","v":" "}]
[null,null,null,null,null,null,{"$f":"G1971+help2!$C$3","v":1954},{"$f":"help2!G1957","v":" "}]
[null,null,null,null,null,null,{"$f":"G1972+help2!$C$3","v":1955},{"$f":"help2!G1958","v":" "}]
[null,null,null,null,null,null,{"$f":"G1973+help2!$C$3","v":1956},{"$f":"help2!G1959","v":" "}]
[null,null,null,null,null,null,{"$f":"G1974+help2!$C$3","v":1957},{"$f":"help2!G1960","v":" "}]
[null,null,null,null,null,null,{"$f":"G1975+help2!$C$3","v":1958},{"$f":"help2!G1961","v":" "}]
[null,null,null,null,null,null,{"$f":"G1976+help2!$C$3","v":1959},{"$f":"help2!G1962","v":" "}]
[null,null,null,null,null,null,{"$f":"G1977+help2!$C$3","v":1960},{"$f":"help2!G1963","v":" "}]
[null,null,null,null,null,null,{"$f":"G1978+help2!$C$3","v":1961},{"$f":"help2!G1964","v":" "}]
[null,null,null,null,null,null,{"$f":"G1979+help2!$C$3","v":1962},{"$f":"help2!G1965","v":" "}]
[null,null,null,null,null,null,{"$f":"G1980+help2!$C$3","v":1963},{"$f":"help2!G1966","v":" "}]
[null,null,null,null,null,null,{"$f":"G1981+help2!$C$3","v":1964},{"$f":"help2!G1967","v":" "}]
[null,null,null,null,null,null,{"$f":"G1982+help2!$C$3","v":1965},{"$f":"help2!G1968","v":" "}]
[null,null,null,null,null,null,{"$f":"G1983+help2!$C$3","v":1966},{"$f":"help2!G1969","v":" "}]
[null,null,null,null,null,null,{"$f":"G1984+help2!$C$3","v":1967},{"$f":"help2!G1970","v":" "}]
[null,null,null,null,null,null,{"$f":"G1985+help2!$C$3","v":1968},{"$f":"help2!G1971","v":" "}]
[null,null,null,null,null,null,{"$f":"G1986+help2!$C$3","v":1969},{"$f":"help2!G1972","v":" "}]
[null,null,null,null,null,null,{"$f":"G1987+help2!$C$3","v":1970},{"$f":"help2!G1973","v":" "}]
[null,null,null,null,null,null,{"$f":"G1988+help2!$C$3","v":1971},{"$f":"help2!G1974","v":" "}]
[null,null,null,null,null,null,{"$f":"G1989+help2!$C$3","v":1972},{"$f":"help2!G1975","v":" "}]
[null,null,null,null,null,null,{"$f":"G1990+help2!$C$3","v":1973},{"$f":"help2!G1976","v":" "}]
[null,null,null,null,null,null,{"$f":"G1991+help2!$C$3","v":1974},{"$f":"help2!G1977","v":" "}]
[null,null,null,null,null,null,{"$f":"G1992+help2!$C$3","v":1975},{"$f":"help2!G1978","v":" "}]
[null,null,null,null,null,null,{"$f":"G1993+help2!$C$3","v":1976},{"$f":"help2!G1979","v":" "}]
[null,null,null,null,null,null,{"$f":"G1994+help2!$C$3","v":1977},{"$f":"help2!G1980","v":" "}]
[null,null,null,null,null,null,{"$f":"G1995+help2!$C$3","v":1978},{"$f":"help2!G1981","v":" "}]
[null,null,null,null,null,null,{"$f":"G1996+help2!$C$3","v":1979},{"$f":"help2!G1982","v":" "}]
[null,null,null,null,null,null,{"$f":"G1997+help2!$C$3","v":1980},{"$f":"help2!G1983","v":" "}]
[null,null,null,null,null,null,{"$f":"G1998+help2!$C$3","v":1981},{"$f":"help2!G1984","v":" "}]
[null,null,null,null,null,null,{"$f":"G1999+help2!$C$3","v":1982},{"$f":"help2!G1985","v":" "}]
[null,null,null,null,null,null,{"$f":"G2000+help2!$C$3","v":1983},{"$f":"help2!G1986","v":" "}]
[null,null,null,null,null,null,{"$f":"G2001+help2!$C$3","v":1984},{"$f":"help2!G1987","v":" "}]
[null,null,null,null,null,null,{"$f":"G2002+help2!$C$3","v":1985},{"$f":"help2!G1988","v":" "}]
[null,null,null,null,null,null,{"$f":"G2003+help2!$C$3","v":1986},{"$f":"help2!G1989","v":" "}]
[null,null,null,null,null,null,{"$f":"G2004+help2!$C$3","v":1987},{"$f":"help2!G1990","v":" "}]
[null,null,null,null,null,null,{"$f":"G2005+help2!$C$3","v":1988},{"$f":"help2!G1991","v":" "}]
[null,null,null,null,null,null,{"$f":"G2006+help2!$C$3","v":1989},{"$f":"help2!G1992","v":" "}]
[null,null,null,null,null,null,{"$f":"G2007+help2!$C$3","v":1990},{"$f":"help2!G1993","v":" "}]
[null,null,null,null,null,null,{"$f":"G2008+help2!$C$3","v":1991},{"$f":"help2!G1994","v":" "}]
[null,null,null,null,null,null,{"$f":"G2009+help2!$C$3","v":1992},{"$f":"help2!G1995","v":" "}]
[null,null,null,null,null,null,{"$f":"G2010+help2!$C$3","v":1993},{"$f":"help2!G1996","v":" "}]
[null,null,null,null,null,null,{"$f":"G2011+help2!$C$3","v":1994},{"$f":"help2!G1997","v":" "}]
[null,null,null,null,null,null,{"$f":"G2012+help2!$C$3","v":1995},{"$f":"help2!G1998","v":" "}]
[null,null,null,null,null,null,{"$f":"G2013+help2!$C$3","v":1996},{"$f":"help2!G1999","v":" "}]
[null,null,null,null,null,null,{"$f":"G2014+help2!$C$3","v":1997},{"$f":"help2!G2000","v":" "}]
[null,null,null,null,null,null,{"$f":"G2015+help2!$C$3","v":1998},{"$f":"help2!G2001","v":" "}]
[null,null,null,null,null,null,{"$f":"G2016+help2!$C$3","v":1999},{"$f":"help2!G2002","v":" "}]
[null,null,null,null,null,null,{"$f":"G2017+help2!$C$3","v":2000},{"$f":"help2!G2003","v":" "}]
[null,null,null,null,null,null,{"$f":"G2018+help2!$C$3","v":2001},{"$f":"help2!G2004","v":" "}]
[null,null,null,null,null,null,{"$f":"G2019+help2!$C$3","v":2002},{"$f":"help2!G2005","v":" "}]
[null,null,null,null,null,null,{"$f":"G2020+help2!$C$3","v":2003},{"$f":"help2!G2006","v":" "}]
[null,null,null,null,null,null,{"$f":"G2021+help2!$C$3","v":2004},{"$f":"help2!G2007","v":" "}]
[null,null,null,null,null,null,{"$f":"G2022+help2!$C$3","v":2005},{"$f":"help2!G2008","v":" "}]
[null,null,null,null,null,null,{"$f":"G2023+help2!$C$3","v":2006},{"$f":"help2!G2009","v":" "}]
[null,null,null,null,null,null,{"$f":"G2024+help2!$C$3","v":2007},{"$f":"help2!G2010","v":" "}]
[null,null,null,null,null,null,{"$f":"G2025+help2!$C$3","v":2008},{"$f":"help2!G2011","v":" "}]
[null,null,null,null,null,null,{"$f":"G2026+help2!$C$3","v":2009},{"$f":"help2!G2012","v":" "}]
[null,null,null,null,null,null,{"$f":"G2027+help2!$C$3","v":2010},{"$f":"help2!G2013","v":" "}]
[null,null,null,null,null,null,{"$f":"G2028+help2!$C$3","v":2011},{"$f":"help2!G2014","v":" "}]
[null,null,null,null,null,null,{"$f":"G2029+help2!$C$3","v":2012},{"$f":"help2!G2015","v":" "}]
[null,null,null,null,null,null,{"$f":"G2030+help2!$C$3","v":2013},{"$f":"help2!G2016","v":" "}]
[null,null,null,null,null,null,{"$f":"G2031+help2!$C$3","v":2014},{"$f":"help2!G2017","v":" "}]
[null,null,null,null,null,null,{"$f":"G2032+help2!$C$3","v":2015},{"$f":"help2!G2018","v":" "}]
[null,null,null,null,null,null,{"$f":"G2033+help2!$C$3","v":2016},{"$f":"help2!G2019","v":" "}]
[null,null,null,null,null,null,{"$f":"G2034+help2!$C$3","v":2017},{"$f":"help2!G2020","v":" "}]
[null,null,null,null,null,null,{"$f":"G2035+help2!$C$3","v":2018},{"$f":"help2!G2021","v":" "}]
[null,null,null,null,null,null,{"$f":"G2036+help2!$C$3","v":2019},{"$f":"help2!G2022","v":" "}]
[null,null,null,null,null,null,{"$f":"G2037+help2!$C$3","v":2020},{"$f":"help2!G2023","v":" "}]
[null,null,null,null,null,null,{"$f":"G2038+help2!$C$3","v":2021},{"$f":"help2!G2024","v":" "}]
[null,null,null,null,null,null,{"$f":"G2039+help2!$C$3","v":2022},{"$f":"help2!G2025","v":" "}]
[null,null,null,null,null,null,{"$f":"G2040+help2!$C$3","v":2023},{"$f":"help2!G2026","v":" "}]
[null,null,null,null,null,null,{"$f":"G2041+help2!$C$3","v":2024},{"$f":"help2!G2027","v":" "}]
[null,null,null,null,null,null,{"$f":"G2042+help2!$C$3","v":2025},{"$f":"help2!G2028","v":" "}]
[null,null,null,null,null,null,{"$f":"G2043+help2!$C$3","v":2026},{"$f":"help2!G2029","v":" "}]
[null,null,null,null,null,null,{"$f":"G2044+help2!$C$3","v":2027},{"$f":"help2!G2030","v":" "}]
[null,null,null,null,null,null,{"$f":"G2045+help2!$C$3","v":2028},{"$f":"help2!G2031","v":" "}]
[null,null,null,null,null,null,{"$f":"G2046+help2!$C$3","v":2029},{"$f":"help2!G2032","v":" "}]
[null,null,null,null,null,null,{"$f":"G2047+help2!$C$3","v":2030},{"$f":"help2!G2033","v":" "}]
[null,null,null,null,null,null,{"$f":"G2048+help2!$C$3","v":2031},{"$f":"help2!G2034","v":" "}]
[null,null,null,null,null,null,{"$f":"G2049+help2!$C$3","v":2032},{"$f":"help2!G2035","v":" "}]
[null,null,null,null,null,null,{"$f":"G2050+help2!$C$3","v":2033},{"$f":"help2!G2036","v":" "}]
[null,null,null,null,null,null,{"$f":"G2051+help2!$C$3","v":2034},{"$f":"help2!G2037","v":" "}]
[null,null,null,null,null,null,{"$f":"G2052+help2!$C$3","v":2035},{"$f":"help2!G2038","v":" "}]
[null,null,null,null,null,null,{"$f":"G2053+help2!$C$3","v":2036},{"$f":"help2!G2039","v":" "}]
[null,null,null,null,null,null,{"$f":"G2054+help2!$C$3","v":2037},{"$f":"help2!G2040","v":" "}]
[null,null,null,null,null,null,{"$f":"G2055+help2!$C$3","v":2038},{"$f":"help2!G2041","v":" "}]
[null,null,null,null,null,null,{"$f":"G2056+help2!$C$3","v":2039},{"$f":"help2!G2042","v":" "}]
[null,null,null,null,null,null,{"$f":"G2057+help2!$C$3","v":2040},{"$f":"help2!G2043","v":" "}]
[null,null,null,null,null,null,{"$f":"G2058+help2!$C$3","v":2041},{"$f":"help2!G2044","v":" "}]
[null,null,null,null,null,null,{"$f":"G2059+help2!$C$3","v":2042},{"$f":"help2!G2045","v":" "}]
[null,null,null,null,null,null,{"$f":"G2060+help2!$C$3","v":2043},{"$f":"help2!G2046","v":" "}]
[null,null,null,null,null,null,{"$f":"G2061+help2!$C$3","v":2044},{"$f":"help2!G2047","v":" "}]
[null,null,null,null,null,null,{"$f":"G2062+help2!$C$3","v":2045},{"$f":"help2!G2048","v":" "}]
[null,null,null,null,null,null,{"$f":"G2063+help2!$C$3","v":2046},{"$f":"help2!G2049","v":" "}]
[null,null,null,null,null,null,{"$f":"G2064+help2!$C$3","v":2047},{"$f":"help2!G2050","v":" "}]
[null,null,null,null,null,null,{"$f":"G2065+help2!$C$3","v":2048},{"$f":"help2!G2051","v":" "}]
[null,null,null,null,null,null,{"$f":"G2066+help2!$C$3","v":2049},{"$f":"help2!G2052","v":" "}]
[null,null,null,null,null,null,{"$f":"G2067+help2!$C$3","v":2050},{"$f":"help2!G2053","v":" "}]
[null,null,null,null,null,null,{"$f":"G2068+help2!$C$3","v":2051},{"$f":"help2!G2054","v":" "}]
[null,null,null,null,null,null,{"$f":"G2069+help2!$C$3","v":2052},{"$f":"help2!G2055","v":" "}]
[null,null,null,null,null,null,{"$f":"G2070+help2!$C$3","v":2053},{"$f":"help2!G2056","v":" "}]
[null,null,null,null,null,null,{"$f":"G2071+help2!$C$3","v":2054},{"$f":"help2!G2057","v":" "}]
[null,null,null,null,null,null,{"$f":"G2072+help2!$C$3","v":2055},{"$f":"help2!G2058","v":" "}]
[null,null,null,null,null,null,{"$f":"G2073+help2!$C$3","v":2056},{"$f":"help2!G2059","v":" "}]
[null,null,null,null,null,null,{"$f":"G2074+help2!$C$3","v":2057},{"$f":"help2!G2060","v":" "}]
[null,null,null,null,null,null,{"$f":"G2075+help2!$C$3","v":2058},{"$f":"help2!G2061","v":" "}]
[null,null,null,null,null,null,{"$f":"G2076+help2!$C$3","v":2059},{"$f":"help2!G2062","v":" "}]
[null,null,null,null,null,null,{"$f":"G2077+help2!$C$3","v":2060},{"$f":"help2!G2063","v":" "}]
[null,null,null,null,null,null,{"$f":"G2078+help2!$C$3","v":2061},{"$f":"help2!G2064","v":" "}]
[null,null,null,null,null,null,{"$f":"G2079+help2!$C$3","v":2062},{"$f":"help2!G2065","v":" "}]
[null,null,null,null,null,null,{"$f":"G2080+help2!$C$3","v":2063},{"$f":"help2!G2066","v":" "}]
[null,null,null,null,null,null,{"$f":"G2081+help2!$C$3","v":2064},{"$f":"help2!G2067","v":" "}]
[null,null,null,null,null,null,{"$f":"G2082+help2!$C$3","v":2065},{"$f":"help2!G2068","v":" "}]
[null,null,null,null,null,null,{"$f":"G2083+help2!$C$3","v":2066},{"$f":"help2!G2069","v":" "}]
[null,null,null,null,null,null,{"$f":"G2084+help2!$C$3","v":2067},{"$f":"help2!G2070","v":" "}]
[null,null,null,null,null,null,{"$f":"G2085+help2!$C$3","v":2068},{"$f":"help2!G2071","v":" "}]
[null,null,null,null,null,null,{"$f":"G2086+help2!$C$3","v":2069},{"$f":"help2!G2072","v":" "}]
[null,null,null,null,null,null,{"$f":"G2087+help2!$C$3","v":2070},{"$f":"help2!G2073","v":" "}]
[null,null,null,null,null,null,{"$f":"G2088+help2!$C$3","v":2071},{"$f":"help2!G2074","v":" "}]
[null,null,null,null,null,null,{"$f":"G2089+help2!$C$3","v":2072},{"$f":"help2!G2075","v":" "}]
[null,null,null,null,null,null,{"$f":"G2090+help2!$C$3","v":2073},{"$f":"help2!G2076","v":" "}]
[null,null,null,null,null,null,{"$f":"G2091+help2!$C$3","v":2074},{"$f":"help2!G2077","v":" "}]
[null,null,null,null,null,null,{"$f":"G2092+help2!$C$3","v":2075},{"$f":"help2!G2078","v":" "}]
[null,null,null,null,null,null,{"$f":"G2093+help2!$C$3","v":2076},{"$f":"help2!G2079","v":" "}]
[null,null,null,null,null,null,{"$f":"G2094+help2!$C$3","v":2077},{"$f":"help2!G2080","v":" "}]
[null,null,null,null,null,null,{"$f":"G2095+help2!$C$3","v":2078},{"$f":"help2!G2081","v":" "}]
[null,null,null,null,null,null,{"$f":"G2096+help2!$C$3","v":2079},{"$f":"help2!G2082","v":" "}]
[null,null,null,null,null,null,{"$f":"G2097+help2!$C$3","v":2080},{"$f":"help2!G2083","v":" "}]
[null,null,null,null,null,null,{"$f":"G2098+help2!$C$3","v":2081},{"$f":"help2!G2084","v":" "}]
[null,null,null,null,null,null,{"$f":"G2099+help2!$C$3","v":2082},{"$f":"help2!G2085","v":" "}]
[null,null,null,null,null,null,{"$f":"G2100+help2!$C$3","v":2083},{"$f":"help2!G2086","v":" "}]
[null,null,null,null,null,null,{"$f":"G2101+help2!$C$3","v":2084},{"$f":"help2!G2087","v":" "}]
[null,null,null,null,null,null,{"$f":"G2102+help2!$C$3","v":2085},{"$f":"help2!G2088","v":" "}]
[null,null,null,null,null,null,{"$f":"G2103+help2!$C$3","v":2086},{"$f":"help2!G2089","v":" "}]
[null,null,null,null,null,null,{"$f":"G2104+help2!$C$3","v":2087},{"$f":"help2!G2090","v":" "}]
[null,null,null,null,null,null,{"$f":"G2105+help2!$C$3","v":2088},{"$f":"help2!G2091","v":" "}]
[null,null,null,null,null,null,{"$f":"G2106+help2!$C$3","v":2089},{"$f":"help2!G2092","v":" "}]
[null,null,null,null,null,null,{"$f":"G2107+help2!$C$3","v":2090},{"$f":"help2!G2093","v":" "}]
[null,null,null,null,null,null,{"$f":"G2108+help2!$C$3","v":2091},{"$f":"help2!G2094","v":" "}]
[null,null,null,null,null,null,{"$f":"G2109+help2!$C$3","v":2092},{"$f":"help2!G2095","v":" "}]
[null,null,null,null,null,null,{"$f":"G2110+help2!$C$3","v":2093},{"$f":"help2!G2096","v":" "}]
[null,null,null,null,null,null,{"$f":"G2111+help2!$C$3","v":2094},{"$f":"help2!G2097","v":" "}]
[null,null,null,null,null,null,{"$f":"G2112+help2!$C$3","v":2095},{"$f":"help2!G2098","v":" "}]
[null,null,null,null,null,null,{"$f":"G2113+help2!$C$3","v":2096},{"$f":"help2!G2099","v":" "}]
[null,null,null,null,null,null,{"$f":"G2114+help2!$C$3","v":2097},{"$f":"help2!G2100","v":" "}]
[null,null,null,null,null,null,{"$f":"G2115+help2!$C$3","v":2098},{"$f":"help2!G2101","v":" "}]
[null,null,null,null,null,null,{"$f":"G2116+help2!$C$3","v":2099},{"$f":"help2!G2102","v":" "}]
[null,null,null,null,null,null,{"$f":"G2117+help2!$C$3","v":2100},{"$f":"help2!G2103","v":" "}]
[null,null,null,null,null,null,{"$f":"G2118+help2!$C$3","v":2101},{"$f":"help2!G2104","v":" "}]
[null,null,null,null,null,null,{"$f":"G2119+help2!$C$3","v":2102},{"$f":"help2!G2105","v":" "}]
[null,null,null,null,null,null,{"$f":"G2120+help2!$C$3","v":2103},{"$f":"help2!G2106","v":" "}]
[null,null,null,null,null,null,{"$f":"G2121+help2!$C$3","v":2104},{"$f":"help2!G2107","v":" "}]
[null,null,null,null,null,null,{"$f":"G2122+help2!$C$3","v":2105},{"$f":"help2!G2108","v":" "}]
[null,null,null,null,null,null,{"$f":"G2123+help2!$C$3","v":2106},{"$f":"help2!G2109","v":" "}]
[null,null,null,null,null,null,{"$f":"G2124+help2!$C$3","v":2107},{"$f":"help2!G2110","v":" "}]
[null,null,null,null,null,null,{"$f":"G2125+help2!$C$3","v":2108},{"$f":"help2!G2111","v":" "}]
[null,null,null,null,null,null,{"$f":"G2126+help2!$C$3","v":2109},{"$f":"help2!G2112","v":" "}]
[null,null,null,null,null,null,{"$f":"G2127+help2!$C$3","v":2110},{"$f":"help2!G2113","v":" "}]
[null,null,null,null,null,null,{"$f":"G2128+help2!$C$3","v":2111},{"$f":"help2!G2114","v":" "}]
[null,null,null,null,null,null,{"$f":"G2129+help2!$C$3","v":2112},{"$f":"help2!G2115","v":" "}]
[null,null,null,null,null,null,{"$f":"G2130+help2!$C$3","v":2113},{"$f":"help2!G2116","v":" "}]
[null,null,null,null,null,null,{"$f":"G2131+help2!$C$3","v":2114},{"$f":"help2!G2117","v":" "}]
[null,null,null,null,null,null,{"$f":"G2132+help2!$C$3","v":2115},{"$f":"help2!G2118","v":" "}]
[null,null,null,null,null,null,{"$f":"G2133+help2!$C$3","v":2116},{"$f":"help2!G2119","v":" "}]
[null,null,null,null,null,null,{"$f":"G2134+help2!$C$3","v":2117},{"$f":"help2!G2120","v":" "}]
[null,null,null,null,null,null,{"$f":"G2135+help2!$C$3","v":2118},{"$f":"help2!G2121","v":" "}]
[null,null,null,null,null,null,{"$f":"G2136+help2!$C$3","v":2119},{"$f":"help2!G2122","v":" "}]
[null,null,null,null,null,null,{"$f":"G2137+help2!$C$3","v":2120},{"$f":"help2!G2123","v":" "}]
[null,null,null,null,null,null,{"$f":"G2138+help2!$C$3","v":2121},{"$f":"help2!G2124","v":" "}]
[null,null,null,null,null,null,{"$f":"G2139+help2!$C$3","v":2122},{"$f":"help2!G2125","v":" "}]
[null,null,null,null,null,null,{"$f":"G2140+help2!$C$3","v":2123},{"$f":"help2!G2126","v":" "}]
[null,null,null,null,null,null,{"$f":"G2141+help2!$C$3","v":2124},{"$f":"help2!G2127","v":" "}]
[null,null,null,null,null,null,{"$f":"G2142+help2!$C$3","v":2125},{"$f":"help2!G2128","v":" "}]
[null,null,null,null,null,null,{"$f":"G2143+help2!$C$3","v":2126},{"$f":"help2!G2129","v":" "}]
[null,null,null,null,null,null,{"$f":"G2144+help2!$C$3","v":2127},{"$f":"help2!G2130","v":" "}]
[null,null,null,null,null,null,{"$f":"G2145+help2!$C$3","v":2128},{"$f":"help2!G2131","v":" "}]
[null,null,null,null,null,null,{"$f":"G2146+help2!$C$3","v":2129},{"$f":"help2!G2132","v":" "}]
[null,null,null,null,null,null,{"$f":"G2147+help2!$C$3","v":2130},{"$f":"help2!G2133","v":" "}]
[null,null,null,null,null,null,{"$f":"G2148+help2!$C$3","v":2131},{"$f":"help2!G2134","v":" "}]
[null,null,null,null,null,null,{"$f":"G2149+help2!$C$3","v":2132},{"$f":"help2!G2135","v":" "}]
[null,null,null,null,null,null,{"$f":"G2150+help2!$C$3","v":2133},{"$f":"help2!G2136","v":" "}]
[null,null,null,null,null,null,{"$f":"G2151+help2!$C$3","v":2134},{"$f":"help2!G2137","v":" "}]
[null,null,null,null,null,null,{"$f":"G2152+help2!$C$3","v":2135},{"$f":"help2!G2138","v":" "}]
[null,null,null,null,null,null,{"$f":"G2153+help2!$C$3","v":2136},{"$f":"help2!G2139","v":" "}]
[null,null,null,null,null,null,{"$f":"G2154+help2!$C$3","v":2137},{"$f":"help2!G2140","v":" "}]
[null,null,null,null,null,null,{"$f":"G2155+help2!$C$3","v":2138},{"$f":"help2!G2141","v":" "}]
[null,null,null,null,null,null,{"$f":"G2156+help2!$C$3","v":2139},{"$f":"help2!G2142","v":" "}]
[null,null,null,null,null,null,{"$f":"G2157+help2!$C$3","v":2140},{"$f":"help2!G2143","v":" "}]
[null,null,null,null,null,null,{"$f":"G2158+help2!$C$3","v":2141},{"$f":"help2!G2144","v":" "}]
[null,null,null,null,null,null,{"$f":"G2159+help2!$C$3","v":2142},{"$f":"help2!G2145","v":" "}]
[null,null,null,null,null,null,{"$f":"G2160+help2!$C$3","v":2143},{"$f":"help2!G2146","v":" "}]
[null,null,null,null,null,null,{"$f":"G2161+help2!$C$3","v":2144},{"$f":"help2!G2147","v":" "}]
[null,null,null,null,null,null,{"$f":"G2162+help2!$C$3","v":2145},{"$f":"help2!G2148","v":" "}]
[null,null,null,null,null,null,{"$f":"G2163+help2!$C$3","v":2146},{"$f":"help2!G2149","v":" "}]
[null,null,null,null,null,null,{"$f":"G2164+help2!$C$3","v":2147},{"$f":"help2!G2150","v":" "}]
[null,null,null,null,null,null,{"$f":"G2165+help2!$C$3","v":2148},{"$f":"help2!G2151","v":" "}]
[null,null,null,null,null,null,{"$f":"G2166+help2!$C$3","v":2149},{"$f":"help2!G2152","v":" "}]
[null,null,null,null,null,null,{"$f":"G2167+help2!$C$3","v":2150},{"$f":"help2!G2153","v":" "}]
[null,null,null,null,null,null,{"$f":"G2168+help2!$C$3","v":2151},{"$f":"help2!G2154","v":" "}]
[null,null,null,null,null,null,{"$f":"G2169+help2!$C$3","v":2152},{"$f":"help2!G2155","v":" "}]
[null,null,null,null,null,null,{"$f":"G2170+help2!$C$3","v":2153},{"$f":"help2!G2156","v":" "}]
[null,null,null,null,null,null,{"$f":"G2171+help2!$C$3","v":2154},{"$f":"help2!G2157","v":" "}]
[null,null,null,null,null,null,{"$f":"G2172+help2!$C$3","v":2155},{"$f":"help2!G2158","v":" "}]
[null,null,null,null,null,null,{"$f":"G2173+help2!$C$3","v":2156},{"$f":"help2!G2159","v":" "}]
[null,null,null,null,null,null,{"$f":"G2174+help2!$C$3","v":2157},{"$f":"help2!G2160","v":" "}]
[null,null,null,null,null,null,{"$f":"G2175+help2!$C$3","v":2158},{"$f":"help2!G2161","v":" "}]
[null,null,null,null,null,null,{"$f":"G2176+help2!$C$3","v":2159},{"$f":"help2!G2162","v":" "}]
[null,null,null,null,null,null,{"$f":"G2177+help2!$C$3","v":2160},{"$f":"help2!G2163","v":" "}]
[null,null,null,null,null,null,{"$f":"G2178+help2!$C$3","v":2161},{"$f":"help2!G2164","v":" "}]
[null,null,null,null,null,null,{"$f":"G2179+help2!$C$3","v":2162},{"$f":"help2!G2165","v":" "}]
[null,null,null,null,null,null,{"$f":"G2180+help2!$C$3","v":2163},{"$f":"help2!G2166","v":" "}]
[null,null,null,null,null,null,{"$f":"G2181+help2!$C$3","v":2164},{"$f":"help2!G2167","v":" "}]
[null,null,null,null,null,null,{"$f":"G2182+help2!$C$3","v":2165},{"$f":"help2!G2168","v":" "}]
[null,null,null,null,null,null,{"$f":"G2183+help2!$C$3","v":2166},{"$f":"help2!G2169","v":" "}]
[null,null,null,null,null,null,{"$f":"G2184+help2!$C$3","v":2167},{"$f":"help2!G2170","v":" "}]
[null,null,null,null,null,null,{"$f":"G2185+help2!$C$3","v":2168},{"$f":"help2!G2171","v":" "}]
[null,null,null,null,null,null,{"$f":"G2186+help2!$C$3","v":2169},{"$f":"help2!G2172","v":" "}]
[null,null,null,null,null,null,{"$f":"G2187+help2!$C$3","v":2170},{"$f":"help2!G2173","v":" "}]
[null,null,null,null,null,null,{"$f":"G2188+help2!$C$3","v":2171},{"$f":"help2!G2174","v":" "}]
[null,null,null,null,null,null,{"$f":"G2189+help2!$C$3","v":2172},{"$f":"help2!G2175","v":" "}]
[null,null,null,null,null,null,{"$f":"G2190+help2!$C$3","v":2173},{"$f":"help2!G2176","v":" "}]
[null,null,null,null,null,null,{"$f":"G2191+help2!$C$3","v":2174},{"$f":"help2!G2177","v":" "}]
[null,null,null,null,null,null,{"$f":"G2192+help2!$C$3","v":2175},{"$f":"help2!G2178","v":" "}]
[null,null,null,null,null,null,{"$f":"G2193+help2!$C$3","v":2176},{"$f":"help2!G2179","v":" "}]
[null,null,null,null,null,null,{"$f":"G2194+help2!$C$3","v":2177},{"$f":"help2!G2180","v":" "}]
[null,null,null,null,null,null,{"$f":"G2195+help2!$C$3","v":2178},{"$f":"help2!G2181","v":" "}]
[null,null,null,null,null,null,{"$f":"G2196+help2!$C$3","v":2179},{"$f":"help2!G2182","v":" "}]
[null,null,null,null,null,null,{"$f":"G2197+help2!$C$3","v":2180},{"$f":"help2!G2183","v":" "}]
[null,null,null,null,null,null,{"$f":"G2198+help2!$C$3","v":2181},{"$f":"help2!G2184","v":" "}]
[null,null,null,null,null,null,{"$f":"G2199+help2!$C$3","v":2182},{"$f":"help2!G2185","v":" "}]
[null,null,null,null,null,null,{"$f":"G2200+help2!$C$3","v":2183},{"$f":"help2!G2186","v":" "}]
[null,null,null,null,null,null,{"$f":"G2201+help2!$C$3","v":2184},{"$f":"help2!G2187","v":" "}]
[null,null,null,null,null,null,{"$f":"G2202+help2!$C$3","v":2185},{"$f":"help2!G2188","v":" "}]
[null,null,null,null,null,null,{"$f":"G2203+help2!$C$3","v":2186},{"$f":"help2!G2189","v":" "}]
[null,null,null,null,null,null,{"$f":"G2204+help2!$C$3","v":2187},{"$f":"help2!G2190","v":" "}]
[null,null,null,null,null,null,{"$f":"G2205+help2!$C$3","v":2188},{"$f":"help2!G2191","v":" "}]
[null,null,null,null,null,null,{"$f":"G2206+help2!$C$3","v":2189},{"$f":"help2!G2192","v":" "}]
[null,null,null,null,null,null,{"$f":"G2207+help2!$C$3","v":2190},{"$f":"help2!G2193","v":" "}]
[null,null,null,null,null,null,{"$f":"G2208+help2!$C$3","v":2191},{"$f":"help2!G2194","v":" "}]
[null,null,null,null,null,null,{"$f":"G2209+help2!$C$3","v":2192},{"$f":"help2!G2195","v":" "}]
[null,null,null,null,null,null,{"$f":"G2210+help2!$C$3","v":2193},{"$f":"help2!G2196","v":" "}]
[null,null,null,null,null,null,{"$f":"G2211+help2!$C$3","v":2194},{"$f":"help2!G2197","v":" "}]
[null,null,null,null,null,null,{"$f":"G2212+help2!$C$3","v":2195},{"$f":"help2!G2198","v":" "}]
[null,null,null,null,null,null,{"$f":"G2213+help2!$C$3","v":2196},{"$f":"help2!G2199","v":" "}]
[null,null,null,null,null,null,{"$f":"G2214+help2!$C$3","v":2197},{"$f":"help2!G2200","v":" "}]
[null,null,null,null,null,null,{"$f":"G2215+help2!$C$3","v":2198},{"$f":"help2!G2201","v":" "}]
[null,null,null,null,null,null,{"$f":"G2216+help2!$C$3","v":2199},{"$f":"help2!G2202","v":" "}]
[null,null,null,null,null,null,{"$f":"G2217+help2!$C$3","v":2200},{"$f":"help2!G2203","v":" "}]
[null,null,null,null,null,null,{"$f":"G2218+help2!$C$3","v":2201},{"$f":"help2!G2204","v":" "}]
[null,null,null,null,null,null,{"$f":"G2219+help2!$C$3","v":2202},{"$f":"help2!G2205","v":" "}]
[null,null,null,null,null,null,{"$f":"G2220+help2!$C$3","v":2203},{"$f":"help2!G2206","v":" "}]
[null,null,null,null,null,null,{"$f":"G2221+help2!$C$3","v":2204},{"$f":"help2!G2207","v":" "}]
[null,null,null,null,null,null,{"$f":"G2222+help2!$C$3","v":2205},{"$f":"help2!G2208","v":" "}]
[null,null,null,null,null,null,{"$f":"G2223+help2!$C$3","v":2206},{"$f":"help2!G2209","v":" "}]
[null,null,null,null,null,null,{"$f":"G2224+help2!$C$3","v":2207},{"$f":"help2!G2210","v":" "}]
[null,null,null,null,null,null,{"$f":"G2225+help2!$C$3","v":2208},{"$f":"help2!G2211","v":" "}]
[null,null,null,null,null,null,{"$f":"G2226+help2!$C$3","v":2209},{"$f":"help2!G2212","v":" "}]
[null,null,null,null,null,null,{"$f":"G2227+help2!$C$3","v":2210},{"$f":"help2!G2213","v":" "}]
[null,null,null,null,null,null,{"$f":"G2228+help2!$C$3","v":2211},{"$f":"help2!G2214","v":" "}]
[null,null,null,null,null,null,{"$f":"G2229+help2!$C$3","v":2212},{"$f":"help2!G2215","v":" "}]
[null,null,null,null,null,null,{"$f":"G2230+help2!$C$3","v":2213},{"$f":"help2!G2216","v":" "}]
[null,null,null,null,null,null,{"$f":"G2231+help2!$C$3","v":2214},{"$f":"help2!G2217","v":" "}]
[null,null,null,null,null,null,{"$f":"G2232+help2!$C$3","v":2215},{"$f":"help2!G2218","v":" "}]
[null,null,null,null,null,null,{"$f":"G2233+help2!$C$3","v":2216},{"$f":"help2!G2219","v":" "}]
[null,null,null,null,null,null,{"$f":"G2234+help2!$C$3","v":2217},{"$f":"help2!G2220","v":" "}]
[null,null,null,null,null,null,{"$f":"G2235+help2!$C$3","v":2218},{"$f":"help2!G2221","v":" "}]
[null,null,null,null,null,null,{"$f":"G2236+help2!$C$3","v":2219},{"$f":"help2!G2222","v":" "}]
[null,null,null,null,null,null,{"$f":"G2237+help2!$C$3","v":2220},{"$f":"help2!G2223","v":" "}]
[null,null,null,null,null,null,{"$f":"G2238+help2!$C$3","v":2221},{"$f":"help2!G2224","v":" "}]
[null,null,null,null,null,null,{"$f":"G2239+help2!$C$3","v":2222},{"$f":"help2!G2225","v":" "}]
[null,null,null,null,null,null,{"$f":"G2240+help2!$C$3","v":2223},{"$f":"help2!G2226","v":" "}]
[null,null,null,null,null,null,{"$f":"G2241+help2!$C$3","v":2224},{"$f":"help2!G2227","v":" "}]
[null,null,null,null,null,null,{"$f":"G2242+help2!$C$3","v":2225},{"$f":"help2!G2228","v":" "}]
[null,null,null,null,null,null,{"$f":"G2243+help2!$C$3","v":2226},{"$f":"help2!G2229","v":" "}]
[null,null,null,null,null,null,{"$f":"G2244+help2!$C$3","v":2227},{"$f":"help2!G2230","v":" "}]
[null,null,null,null,null,null,{"$f":"G2245+help2!$C$3","v":2228},{"$f":"help2!G2231","v":" "}]
[null,null,null,null,null,null,{"$f":"G2246+help2!$C$3","v":2229},{"$f":"help2!G2232","v":" "}]
[null,null,null,null,null,null,{"$f":"G2247+help2!$C$3","v":2230},{"$f":"help2!G2233","v":" "}]
[null,null,null,null,null,null,{"$f":"G2248+help2!$C$3","v":2231},{"$f":"help2!G2234","v":" "}]
[null,null,null,null,null,null,{"$f":"G2249+help2!$C$3","v":2232},{"$f":"help2!G2235","v":" "}]
[null,null,null,null,null,null,{"$f":"G2250+help2!$C$3","v":2233},{"$f":"help2!G2236","v":" "}]
[null,null,null,null,null,null,{"$f":"G2251+help2!$C$3","v":2234},{"$f":"help2!G2237","v":" "}]
[null,null,null,null,null,null,{"$f":"G2252+help2!$C$3","v":2235},{"$f":"help2!G2238","v":" "}]
[null,null,null,null,null,null,{"$f":"G2253+help2!$C$3","v":2236},{"$f":"help2!G2239","v":" "}]
[null,null,null,null,null,null,{"$f":"G2254+help2!$C$3","v":2237},{"$f":"help2!G2240","v":" "}]
[null,null,null,null,null,null,{"$f":"G2255+help2!$C$3","v":2238},{"$f":"help2!G2241","v":" "}]
[null,null,null,null,null,null,{"$f":"G2256+help2!$C$3","v":2239},{"$f":"help2!G2242","v":" "}]
[null,null,null,null,null,null,{"$f":"G2257+help2!$C$3","v":2240},{"$f":"help2!G2243","v":" "}]
[null,null,null,null,null,null,{"$f":"G2258+help2!$C$3","v":2241},{"$f":"help2!G2244","v":" "}]
[null,null,null,null,null,null,{"$f":"G2259+help2!$C$3","v":2242},{"$f":"help2!G2245","v":" "}]
[null,null,null,null,null,null,{"$f":"G2260+help2!$C$3","v":2243},{"$f":"help2!G2246","v":" "}]
[null,null,null,null,null,null,{"$f":"G2261+help2!$C$3","v":2244},{"$f":"help2!G2247","v":" "}]
[null,null,null,null,null,null,{"$f":"G2262+help2!$C$3","v":2245},{"$f":"help2!G2248","v":" "}]
[null,null,null,null,null,null,{"$f":"G2263+help2!$C$3","v":2246},{"$f":"help2!G2249","v":" "}]
[null,null,null,null,null,null,{"$f":"G2264+help2!$C$3","v":2247},{"$f":"help2!G2250","v":" "}]
[null,null,null,null,null,null,{"$f":"G2265+help2!$C$3","v":2248},{"$f":"help2!G2251","v":" "}]
[null,null,null,null,null,null,{"$f":"G2266+help2!$C$3","v":2249},{"$f":"help2!G2252","v":" "}]
[null,null,null,null,null,null,{"$f":"G2267+help2!$C$3","v":2250},{"$f":"help2!G2253","v":" "}]
[null,null,null,null,null,null,{"$f":"G2268+help2!$C$3","v":2251},{"$f":"help2!G2254","v":" "}]
[null,null,null,null,null,null,{"$f":"G2269+help2!$C$3","v":2252},{"$f":"help2!G2255","v":" "}]
[null,null,null,null,null,null,{"$f":"G2270+help2!$C$3","v":2253},{"$f":"help2!G2256","v":" "}]
[null,null,null,null,null,null,{"$f":"G2271+help2!$C$3","v":2254},{"$f":"help2!G2257","v":" "}]
[null,null,null,null,null,null,{"$f":"G2272+help2!$C$3","v":2255},{"$f":"help2!G2258","v":" "}]
[null,null,null,null,null,null,{"$f":"G2273+help2!$C$3","v":2256},{"$f":"help2!G2259","v":" "}]
[null,null,null,null,null,null,{"$f":"G2274+help2!$C$3","v":2257},{"$f":"help2!G2260","v":" "}]
[null,null,null,null,null,null,{"$f":"G2275+help2!$C$3","v":2258},{"$f":"help2!G2261","v":" "}]
[null,null,null,null,null,null,{"$f":"G2276+help2!$C$3","v":2259},{"$f":"help2!G2262","v":" "}]
[null,null,null,null,null,null,{"$f":"G2277+help2!$C$3","v":2260},{"$f":"help2!G2263","v":" "}]
[null,null,null,null,null,null,{"$f":"G2278+help2!$C$3","v":2261},{"$f":"help2!G2264","v":" "}]
[null,null,null,null,null,null,{"$f":"G2279+help2!$C$3","v":2262},{"$f":"help2!G2265","v":" "}]
[null,null,null,null,null,null,{"$f":"G2280+help2!$C$3","v":2263},{"$f":"help2!G2266","v":" "}]
[null,null,null,null,null,null,{"$f":"G2281+help2!$C$3","v":2264},{"$f":"help2!G2267","v":" "}]
[null,null,null,null,null,null,{"$f":"G2282+help2!$C$3","v":2265},{"$f":"help2!G2268","v":" "}]
[null,null,null,null,null,null,{"$f":"G2283+help2!$C$3","v":2266},{"$f":"help2!G2269","v":" "}]
[null,null,null,null,null,null,{"$f":"G2284+help2!$C$3","v":2267},{"$f":"help2!G2270","v":" "}]
[null,null,null,null,null,null,{"$f":"G2285+help2!$C$3","v":2268},{"$f":"help2!G2271","v":" "}]
[null,null,null,null,null,null,{"$f":"G2286+help2!$C$3","v":2269},{"$f":"help2!G2272","v":" "}]
[null,null,null,null,null,null,{"$f":"G2287+help2!$C$3","v":2270},{"$f":"help2!G2273","v":" "}]
[null,null,null,null,null,null,{"$f":"G2288+help2!$C$3","v":2271},{"$f":"help2!G2274","v":" "}]
[null,null,null,null,null,null,{"$f":"G2289+help2!$C$3","v":2272},{"$f":"help2!G2275","v":" "}]
[null,null,null,null,null,null,{"$f":"G2290+help2!$C$3","v":2273},{"$f":"help2!G2276","v":" "}]
[null,null,null,null,null,null,{"$f":"G2291+help2!$C$3","v":2274},{"$f":"help2!G2277","v":" "}]
[null,null,null,null,null,null,{"$f":"G2292+help2!$C$3","v":2275},{"$f":"help2!G2278","v":" "}]
[null,null,null,null,null,null,{"$f":"G2293+help2!$C$3","v":2276},{"$f":"help2!G2279","v":" "}]
[null,null,null,null,null,null,{"$f":"G2294+help2!$C$3","v":2277},{"$f":"help2!G2280","v":" "}]
[null,null,null,null,null,null,{"$f":"G2295+help2!$C$3","v":2278},{"$f":"help2!G2281","v":" "}]
[null,null,null,null,null,null,{"$f":"G2296+help2!$C$3","v":2279},{"$f":"help2!G2282","v":" "}]
[null,null,null,null,null,null,{"$f":"G2297+help2!$C$3","v":2280},{"$f":"help2!G2283","v":" "}]
[null,null,null,null,null,null,{"$f":"G2298+help2!$C$3","v":2281},{"$f":"help2!G2284","v":" "}]
[null,null,null,null,null,null,{"$f":"G2299+help2!$C$3","v":2282},{"$f":"help2!G2285","v":" "}]
[null,null,null,null,null,null,{"$f":"G2300+help2!$C$3","v":2283},{"$f":"help2!G2286","v":" "}]
[null,null,null,null,null,null,{"$f":"G2301+help2!$C$3","v":2284},{"$f":"help2!G2287","v":" "}]
[null,null,null,null,null,null,{"$f":"G2302+help2!$C$3","v":2285},{"$f":"help2!G2288","v":" "}]
[null,null,null,null,null,null,{"$f":"G2303+help2!$C$3","v":2286},{"$f":"help2!G2289","v":" "}]
[null,null,null,null,null,null,{"$f":"G2304+help2!$C$3","v":2287},{"$f":"help2!G2290","v":" "}]
[null,null,null,null,null,null,{"$f":"G2305+help2!$C$3","v":2288},{"$f":"help2!G2291","v":" "}]
[null,null,null,null,null,null,{"$f":"G2306+help2!$C$3","v":2289},{"$f":"help2!G2292","v":" "}]
[null,null,null,null,null,null,{"$f":"G2307+help2!$C$3","v":2290},{"$f":"help2!G2293","v":" "}]
[null,null,null,null,null,null,{"$f":"G2308+help2!$C$3","v":2291},{"$f":"help2!G2294","v":" "}]
[null,null,null,null,null,null,{"$f":"G2309+help2!$C$3","v":2292},{"$f":"help2!G2295","v":" "}]
[null,null,null,null,null,null,{"$f":"G2310+help2!$C$3","v":2293},{"$f":"help2!G2296","v":" "}]
[null,null,null,null,null,null,{"$f":"G2311+help2!$C$3","v":2294},{"$f":"help2!G2297","v":" "}]
[null,null,null,null,null,null,{"$f":"G2312+help2!$C$3","v":2295},{"$f":"help2!G2298","v":" "}]
[null,null,null,null,null,null,{"$f":"G2313+help2!$C$3","v":2296},{"$f":"help2!G2299","v":" "}]
[null,null,null,null,null,null,{"$f":"G2314+help2!$C$3","v":2297},{"$f":"help2!G2300","v":" "}]
[null,null,null,null,null,null,{"$f":"G2315+help2!$C$3","v":2298},{"$f":"help2!G2301","v":" "}]
[null,null,null,null,null,null,{"$f":"G2316+help2!$C$3","v":2299},{"$f":"help2!G2302","v":" "}]
[null,null,null,null,null,null,{"$f":"G2317+help2!$C$3","v":2300},{"$f":"help2!G2303","v":" "}]
[null,null,null,null,null,null,{"$f":"G2318+help2!$C$3","v":2301},{"$f":"help2!G2304","v":" "}]
[null,null,null,null,null,null,{"$f":"G2319+help2!$C$3","v":2302},{"$f":"help2!G2305","v":" "}]
[null,null,null,null,null,null,{"$f":"G2320+help2!$C$3","v":2303},{"$f":"help2!G2306","v":" "}]
[null,null,null,null,null,null,{"$f":"G2321+help2!$C$3","v":2304},{"$f":"help2!G2307","v":" "}]
[null,null,null,null,null,null,{"$f":"G2322+help2!$C$3","v":2305},{"$f":"help2!G2308","v":" "}]
[null,null,null,null,null,null,{"$f":"G2323+help2!$C$3","v":2306},{"$f":"help2!G2309","v":" "}]
[null,null,null,null,null,null,{"$f":"G2324+help2!$C$3","v":2307},{"$f":"help2!G2310","v":" "}]
[null,null,null,null,null,null,{"$f":"G2325+help2!$C$3","v":2308},{"$f":"help2!G2311","v":" "}]
[null,null,null,null,null,null,{"$f":"G2326+help2!$C$3","v":2309},{"$f":"help2!G2312","v":" "}]
[null,null,null,null,null,null,{"$f":"G2327+help2!$C$3","v":2310},{"$f":"help2!G2313","v":" "}]
[null,null,null,null,null,null,{"$f":"G2328+help2!$C$3","v":2311},{"$f":"help2!G2314","v":" "}]
[null,null,null,null,null,null,{"$f":"G2329+help2!$C$3","v":2312},{"$f":"help2!G2315","v":" "}]
[null,null,null,null,null,null,{"$f":"G2330+help2!$C$3","v":2313},{"$f":"help2!G2316","v":" "}]
[null,null,null,null,null,null,{"$f":"G2331+help2!$C$3","v":2314},{"$f":"help2!G2317","v":" "}]
[null,null,null,null,null,null,{"$f":"G2332+help2!$C$3","v":2315},{"$f":"help2!G2318","v":" "}]
[null,null,null,null,null,null,{"$f":"G2333+help2!$C$3","v":2316},{"$f":"help2!G2319","v":" "}]
[null,null,null,null,null,null,{"$f":"G2334+help2!$C$3","v":2317},{"$f":"help2!G2320","v":" "}]
[null,null,null,null,null,null,{"$f":"G2335+help2!$C$3","v":2318},{"$f":"help2!G2321","v":" "}]
[null,null,null,null,null,null,{"$f":"G2336+help2!$C$3","v":2319},{"$f":"help2!G2322","v":" "}]
[null,null,null,null,null,null,{"$f":"G2337+help2!$C$3","v":2320},{"$f":"help2!G2323","v":" "}]
[null,null,null,null,null,null,{"$f":"G2338+help2!$C$3","v":2321},{"$f":"help2!G2324","v":" "}]
[null,null,null,null,null,null,{"$f":"G2339+help2!$C$3","v":2322},{"$f":"help2!G2325","v":" "}]
[null,null,null,null,null,null,{"$f":"G2340+help2!$C$3","v":2323},{"$f":"help2!G2326","v":" "}]
[null,null,null,null,null,null,{"$f":"G2341+help2!$C$3","v":2324},{"$f":"help2!G2327","v":" "}]
[null,null,null,null,null,null,{"$f":"G2342+help2!$C$3","v":2325},{"$f":"help2!G2328","v":" "}]
[null,null,null,null,null,null,{"$f":"G2343+help2!$C$3","v":2326},{"$f":"help2!G2329","v":" "}]
[null,null,null,null,null,null,{"$f":"G2344+help2!$C$3","v":2327},{"$f":"help2!G2330","v":" "}]
[null,null,null,null,null,null,{"$f":"G2345+help2!$C$3","v":2328},{"$f":"help2!G2331","v":" "}]
[null,null,null,null,null,null,{"$f":"G2346+help2!$C$3","v":2329},{"$f":"help2!G2332","v":" "}]
[null,null,null,null,null,null,{"$f":"G2347+help2!$C$3","v":2330},{"$f":"help2!G2333","v":" "}]
[null,null,null,null,null,null,{"$f":"G2348+help2!$C$3","v":2331},{"$f":"help2!G2334","v":" "}]
[null,null,null,null,null,null,{"$f":"G2349+help2!$C$3","v":2332},{"$f":"help2!G2335","v":" "}]
[null,null,null,null,null,null,{"$f":"G2350+help2!$C$3","v":2333},{"$f":"help2!G2336","v":" "}]
[null,null,null,null,null,null,{"$f":"G2351+help2!$C$3","v":2334},{"$f":"help2!G2337","v":" "}]
[null,null,null,null,null,null,{"$f":"G2352+help2!$C$3","v":2335},{"$f":"help2!G2338","v":" "}]
[null,null,null,null,null,null,{"$f":"G2353+help2!$C$3","v":2336},{"$f":"help2!G2339","v":" "}]
[null,null,null,null,null,null,{"$f":"G2354+help2!$C$3","v":2337},{"$f":"help2!G2340","v":" "}]
[null,null,null,null,null,null,{"$f":"G2355+help2!$C$3","v":2338},{"$f":"help2!G2341","v":" "}]
[null,null,null,null,null,null,{"$f":"G2356+help2!$C$3","v":2339},{"$f":"help2!G2342","v":" "}]
[null,null,null,null,null,null,{"$f":"G2357+help2!$C$3","v":2340},{"$f":"help2!G2343","v":" "}]
[null,null,null,null,null,null,{"$f":"G2358+help2!$C$3","v":2341},{"$f":"help2!G2344","v":" "}]
[null,null,null,null,null,null,{"$f":"G2359+help2!$C$3","v":2342},{"$f":"help2!G2345","v":" "}]
[null,null,null,null,null,null,{"$f":"G2360+help2!$C$3","v":2343},{"$f":"help2!G2346","v":" "}]
[null,null,null,null,null,null,{"$f":"G2361+help2!$C$3","v":2344},{"$f":"help2!G2347","v":" "}]
[null,null,null,null,null,null,{"$f":"G2362+help2!$C$3","v":2345},{"$f":"help2!G2348","v":" "}]
[null,null,null,null,null,null,{"$f":"G2363+help2!$C$3","v":2346},{"$f":"help2!G2349","v":" "}]
[null,null,null,null,null,null,{"$f":"G2364+help2!$C$3","v":2347},{"$f":"help2!G2350","v":" "}]
[null,null,null,null,null,null,{"$f":"G2365+help2!$C$3","v":2348},{"$f":"help2!G2351","v":" "}]
[null,null,null,null,null,null,{"$f":"G2366+help2!$C$3","v":2349},{"$f":"help2!G2352","v":" "}]
[null,null,null,null,null,null,{"$f":"G2367+help2!$C$3","v":2350},{"$f":"help2!G2353","v":" "}]
[null,null,null,null,null,null,{"$f":"G2368+help2!$C$3","v":2351},{"$f":"help2!G2354","v":" "}]
[null,null,null,null,null,null,{"$f":"G2369+help2!$C$3","v":2352},{"$f":"help2!G2355","v":" "}]
[null,null,null,null,null,null,{"$f":"G2370+help2!$C$3","v":2353},{"$f":"help2!G2356","v":" "}]
[null,null,null,null,null,null,{"$f":"G2371+help2!$C$3","v":2354},{"$f":"help2!G2357","v":" "}]
[null,null,null,null,null,null,{"$f":"G2372+help2!$C$3","v":2355},{"$f":"help2!G2358","v":" "}]
[null,null,null,null,null,null,{"$f":"G2373+help2!$C$3","v":2356},{"$f":"help2!G2359","v":" "}]
[null,null,null,null,null,null,{"$f":"G2374+help2!$C$3","v":2357},{"$f":"help2!G2360","v":" "}]
[null,null,null,null,null,null,{"$f":"G2375+help2!$C$3","v":2358},{"$f":"help2!G2361","v":" "}]
[null,null,null,null,null,null,{"$f":"G2376+help2!$C$3","v":2359},{"$f":"help2!G2362","v":" "}]
[null,null,null,null,null,null,{"$f":"G2377+help2!$C$3","v":2360},{"$f":"help2!G2363","v":" "}]
[null,null,null,null,null,null,{"$f":"G2378+help2!$C$3","v":2361},{"$f":"help2!G2364","v":" "}]
[null,null,null,null,null,null,{"$f":"G2379+help2!$C$3","v":2362},{"$f":"help2!G2365","v":" "}]
[null,null,null,null,null,null,{"$f":"G2380+help2!$C$3","v":2363},{"$f":"help2!G2366","v":" "}]
[null,null,null,null,null,null,{"$f":"G2381+help2!$C$3","v":2364},{"$f":"help2!G2367","v":" "}]
[null,null,null,null,null,null,{"$f":"G2382+help2!$C$3","v":2365},{"$f":"help2!G2368","v":" "}]
[null,null,null,null,null,null,{"$f":"G2383+help2!$C$3","v":2366},{"$f":"help2!G2369","v":" "}]
[null,null,null,null,null,null,{"$f":"G2384+help2!$C$3","v":2367},{"$f":"help2!G2370","v":" "}]
[null,null,null,null,null,null,{"$f":"G2385+help2!$C$3","v":2368},{"$f":"help2!G2371","v":" "}]
[null,null,null,null,null,null,{"$f":"G2386+help2!$C$3","v":2369},{"$f":"help2!G2372","v":" "}]
[null,null,null,null,null,null,{"$f":"G2387+help2!$C$3","v":2370},{"$f":"help2!G2373","v":" "}]
[null,null,null,null,null,null,{"$f":"G2388+help2!$C$3","v":2371},{"$f":"help2!G2374","v":" "}]
[null,null,null,null,null,null,{"$f":"G2389+help2!$C$3","v":2372},{"$f":"help2!G2375","v":" "}]
[null,null,null,null,null,null,{"$f":"G2390+help2!$C$3","v":2373},{"$f":"help2!G2376","v":" "}]
[null,null,null,null,null,null,{"$f":"G2391+help2!$C$3","v":2374},{"$f":"help2!G2377","v":" "}]
[null,null,null,null,null,null,{"$f":"G2392+help2!$C$3","v":2375},{"$f":"help2!G2378","v":" "}]
[null,null,null,null,null,null,{"$f":"G2393+help2!$C$3","v":2376},{"$f":"help2!G2379","v":" "}]
[null,null,null,null,null,null,{"$f":"G2394+help2!$C$3","v":2377},{"$f":"help2!G2380","v":" "}]
[null,null,null,null,null,null,{"$f":"G2395+help2!$C$3","v":2378},{"$f":"help2!G2381","v":" "}]
[null,null,null,null,null,null,{"$f":"G2396+help2!$C$3","v":2379},{"$f":"help2!G2382","v":" "}]
[null,null,null,null,null,null,{"$f":"G2397+help2!$C$3","v":2380},{"$f":"help2!G2383","v":" "}]
[null,null,null,null,null,null,{"$f":"G2398+help2!$C$3","v":2381},{"$f":"help2!G2384","v":" "}]
[null,null,null,null,null,null,{"$f":"G2399+help2!$C$3","v":2382},{"$f":"help2!G2385","v":" "}]
[null,null,null,null,null,null,{"$f":"G2400+help2!$C$3","v":2383},{"$f":"help2!G2386","v":" "}]
[null,null,null,null,null,null,{"$f":"G2401+help2!$C$3","v":2384},{"$f":"help2!G2387","v":" "}]
[null,null,null,null,null,null,{"$f":"G2402+help2!$C$3","v":2385},{"$f":"help2!G2388","v":" "}]
[null,null,null,null,null,null,{"$f":"G2403+help2!$C$3","v":2386},{"$f":"help2!G2389","v":" "}]
[null,null,null,null,null,null,{"$f":"G2404+help2!$C$3","v":2387},{"$f":"help2!G2390","v":" "}]
[null,null,null,null,null,null,{"$f":"G2405+help2!$C$3","v":2388},{"$f":"help2!G2391","v":" "}]
[null,null,null,null,null,null,{"$f":"G2406+help2!$C$3","v":2389},{"$f":"help2!G2392","v":" "}]
[null,null,null,null,null,null,{"$f":"G2407+help2!$C$3","v":2390},{"$f":"help2!G2393","v":" "}]
[null,null,null,null,null,null,{"$f":"G2408+help2!$C$3","v":2391},{"$f":"help2!G2394","v":" "}]
[null,null,null,null,null,null,{"$f":"G2409+help2!$C$3","v":2392},{"$f":"help2!G2395","v":" "}]
[null,null,null,null,null,null,{"$f":"G2410+help2!$C$3","v":2393},{"$f":"help2!G2396","v":" "}]
[null,null,null,null,null,null,{"$f":"G2411+help2!$C$3","v":2394},{"$f":"help2!G2397","v":" "}]
[null,null,null,null,null,null,{"$f":"G2412+help2!$C$3","v":2395},{"$f":"help2!G2398","v":" "}]
[null,null,null,null,null,null,{"$f":"G2413+help2!$C$3","v":2396},{"$f":"help2!G2399","v":" "}]
[null,null,null,null,null,null,{"$f":"G2414+help2!$C$3","v":2397},{"$f":"help2!G2400","v":" "}]
[null,null,null,null,null,null,{"$f":"G2415+help2!$C$3","v":2398},{"$f":"help2!G2401","v":" "}]
[null,null,null,null,null,null,{"$f":"G2416+help2!$C$3","v":2399},{"$f":"help2!G2402","v":" "}]
[null,null,null,null,null,null,{"$f":"G2417+help2!$C$3","v":2400},{"$f":"help2!G2403","v":" "}]
[null,null,null,null,null,null,{"$f":"G2418+help2!$C$3","v":2401},{"$f":"help2!G2404","v":" "}]
[null,null,null,null,null,null,{"$f":"G2419+help2!$C$3","v":2402},{"$f":"help2!G2405","v":" "}]
[null,null,null,null,null,null,{"$f":"G2420+help2!$C$3","v":2403},{"$f":"help2!G2406","v":" "}]
[null,null,null,null,null,null,{"$f":"G2421+help2!$C$3","v":2404},{"$f":"help2!G2407","v":" "}]
[null,null,null,null,null,null,{"$f":"G2422+help2!$C$3","v":2405},{"$f":"help2!G2408","v":" "}]
[null,null,null,null,null,null,{"$f":"G2423+help2!$C$3","v":2406},{"$f":"help2!G2409","v":" "}]
[null,null,null,null,null,null,{"$f":"G2424+help2!$C$3","v":2407},{"$f":"help2!G2410","v":" "}]
[null,null,null,null,null,null,{"$f":"G2425+help2!$C$3","v":2408},{"$f":"help2!G2411","v":" "}]
[null,null,null,null,null,null,{"$f":"G2426+help2!$C$3","v":2409},{"$f":"help2!G2412","v":" "}]
[null,null,null,null,null,null,{"$f":"G2427+help2!$C$3","v":2410},{"$f":"help2!G2413","v":" "}]
[null,null,null,null,null,null,{"$f":"G2428+help2!$C$3","v":2411},{"$f":"help2!G2414","v":" "}]
[null,null,null,null,null,null,{"$f":"G2429+help2!$C$3","v":2412},{"$f":"help2!G2415","v":" "}]
[null,null,null,null,null,null,{"$f":"G2430+help2!$C$3","v":2413},{"$f":"help2!G2416","v":" "}]
[null,null,null,null,null,null,{"$f":"G2431+help2!$C$3","v":2414},{"$f":"help2!G2417","v":" "}]
[null,null,null,null,null,null,{"$f":"G2432+help2!$C$3","v":2415},{"$f":"help2!G2418","v":" "}]
[null,null,null,null,null,null,{"$f":"G2433+help2!$C$3","v":2416},{"$f":"help2!G2419","v":" "}]
[null,null,null,null,null,null,{"$f":"G2434+help2!$C$3","v":2417},{"$f":"help2!G2420","v":" "}]
[null,null,null,null,null,null,{"$f":"G2435+help2!$C$3","v":2418},{"$f":"help2!G2421","v":" "}]
[null,null,null,null,null,null,{"$f":"G2436+help2!$C$3","v":2419},{"$f":"help2!G2422","v":" "}]
[null,null,null,null,null,null,{"$f":"G2437+help2!$C$3","v":2420},{"$f":"help2!G2423","v":" "}]
[null,null,null,null,null,null,{"$f":"G2438+help2!$C$3","v":2421},{"$f":"help2!G2424","v":" "}]
[null,null,null,null,null,null,{"$f":"G2439+help2!$C$3","v":2422},{"$f":"help2!G2425","v":" "}]
[null,null,null,null,null,null,{"$f":"G2440+help2!$C$3","v":2423},{"$f":"help2!G2426","v":" "}]
[null,null,null,null,null,null,{"$f":"G2441+help2!$C$3","v":2424},{"$f":"help2!G2427","v":" "}]
[null,null,null,null,null,null,{"$f":"G2442+help2!$C$3","v":2425},{"$f":"help2!G2428","v":" "}]
[null,null,null,null,null,null,{"$f":"G2443+help2!$C$3","v":2426},{"$f":"help2!G2429","v":" "}]
[null,null,null,null,null,null,{"$f":"G2444+help2!$C$3","v":2427},{"$f":"help2!G2430","v":" "}]
[null,null,null,null,null,null,{"$f":"G2445+help2!$C$3","v":2428},{"$f":"help2!G2431","v":" "}]
[null,null,null,null,null,null,{"$f":"G2446+help2!$C$3","v":2429},{"$f":"help2!G2432","v":" "}]
[null,null,null,null,null,null,{"$f":"G2447+help2!$C$3","v":2430},{"$f":"help2!G2433","v":" "}]
[null,null,null,null,null,null,{"$f":"G2448+help2!$C$3","v":2431},{"$f":"help2!G2434","v":" "}]
[null,null,null,null,null,null,{"$f":"G2449+help2!$C$3","v":2432},{"$f":"help2!G2435","v":" "}]
[null,null,null,null,null,null,{"$f":"G2450+help2!$C$3","v":2433},{"$f":"help2!G2436","v":" "}]
[null,null,null,null,null,null,{"$f":"G2451+help2!$C$3","v":2434},{"$f":"help2!G2437","v":" "}]
[null,null,null,null,null,null,{"$f":"G2452+help2!$C$3","v":2435},{"$f":"help2!G2438","v":" "}]
[null,null,null,null,null,null,{"$f":"G2453+help2!$C$3","v":2436},{"$f":"help2!G2439","v":" "}]
[null,null,null,null,null,null,{"$f":"G2454+help2!$C$3","v":2437},{"$f":"help2!G2440","v":" "}]
[null,null,null,null,null,null,{"$f":"G2455+help2!$C$3","v":2438},{"$f":"help2!G2441","v":" "}]
[null,null,null,null,null,null,{"$f":"G2456+help2!$C$3","v":2439},{"$f":"help2!G2442","v":" "}]
[null,null,null,null,null,null,{"$f":"G2457+help2!$C$3","v":2440},{"$f":"help2!G2443","v":" "}]
[null,null,null,null,null,null,{"$f":"G2458+help2!$C$3","v":2441},{"$f":"help2!G2444","v":" "}]
[null,null,null,null,null,null,{"$f":"G2459+help2!$C$3","v":2442},{"$f":"help2!G2445","v":" "}]
[null,null,null,null,null,null,{"$f":"G2460+help2!$C$3","v":2443},{"$f":"help2!G2446","v":" "}]
[null,null,null,null,null,null,{"$f":"G2461+help2!$C$3","v":2444},{"$f":"help2!G2447","v":" "}]
[null,null,null,null,null,null,{"$f":"G2462+help2!$C$3","v":2445},{"$f":"help2!G2448","v":" "}]
[null,null,null,null,null,null,{"$f":"G2463+help2!$C$3","v":2446},{"$f":"help2!G2449","v":" "}]
[null,null,null,null,null,null,{"$f":"G2464+help2!$C$3","v":2447},{"$f":"help2!G2450","v":" "}]
[null,null,null,null,null,null,{"$f":"G2465+help2!$C$3","v":2448},{"$f":"help2!G2451","v":" "}]
[null,null,null,null,null,null,{"$f":"G2466+help2!$C$3","v":2449},{"$f":"help2!G2452","v":" "}]
[null,null,null,null,null,null,{"$f":"G2467+help2!$C$3","v":2450},{"$f":"help2!G2453","v":" "}]
[null,null,null,null,null,null,{"$f":"G2468+help2!$C$3","v":2451},{"$f":"help2!G2454","v":" "}]
[null,null,null,null,null,null,{"$f":"G2469+help2!$C$3","v":2452},{"$f":"help2!G2455","v":" "}]
[null,null,null,null,null,null,{"$f":"G2470+help2!$C$3","v":2453},{"$f":"help2!G2456","v":" "}]
[null,null,null,null,null,null,{"$f":"G2471+help2!$C$3","v":2454},{"$f":"help2!G2457","v":" "}]
[null,null,null,null,null,null,{"$f":"G2472+help2!$C$3","v":2455},{"$f":"help2!G2458","v":" "}]
[null,null,null,null,null,null,{"$f":"G2473+help2!$C$3","v":2456},{"$f":"help2!G2459","v":" "}]
[null,null,null,null,null,null,{"$f":"G2474+help2!$C$3","v":2457},{"$f":"help2!G2460","v":" "}]
[null,null,null,null,null,null,{"$f":"G2475+help2!$C$3","v":2458},{"$f":"help2!G2461","v":" "}]
[null,null,null,null,null,null,{"$f":"G2476+help2!$C$3","v":2459},{"$f":"help2!G2462","v":" "}]
[null,null,null,null,null,null,{"$f":"G2477+help2!$C$3","v":2460},{"$f":"help2!G2463","v":" "}]
[null,null,null,null,null,null,{"$f":"G2478+help2!$C$3","v":2461},{"$f":"help2!G2464","v":" "}]
[null,null,null,null,null,null,{"$f":"G2479+help2!$C$3","v":2462},{"$f":"help2!G2465","v":" "}]
[null,null,null,null,null,null,{"$f":"G2480+help2!$C$3","v":2463},{"$f":"help2!G2466","v":" "}]
[null,null,null,null,null,null,{"$f":"G2481+help2!$C$3","v":2464},{"$f":"help2!G2467","v":" "}]
[null,null,null,null,null,null,{"$f":"G2482+help2!$C$3","v":2465},{"$f":"help2!G2468","v":" "}]
[null,null,null,null,null,null,{"$f":"G2483+help2!$C$3","v":2466},{"$f":"help2!G2469","v":" "}]
[null,null,null,null,null,null,{"$f":"G2484+help2!$C$3","v":2467},{"$f":"help2!G2470","v":" "}]
[null,null,null,null,null,null,{"$f":"G2485+help2!$C$3","v":2468},{"$f":"help2!G2471","v":" "}]
[null,null,null,null,null,null,{"$f":"G2486+help2!$C$3","v":2469},{"$f":"help2!G2472","v":" "}]
[null,null,null,null,null,null,{"$f":"G2487+help2!$C$3","v":2470},{"$f":"help2!G2473","v":" "}]
[null,null,null,null,null,null,{"$f":"G2488+help2!$C$3","v":2471},{"$f":"help2!G2474","v":" "}]
[null,null,null,null,null,null,{"$f":"G2489+help2!$C$3","v":2472},{"$f":"help2!G2475","v":" "}]
[null,null,null,null,null,null,{"$f":"G2490+help2!$C$3","v":2473},{"$f":"help2!G2476","v":" "}]
[null,null,null,null,null,null,{"$f":"G2491+help2!$C$3","v":2474},{"$f":"help2!G2477","v":" "}]
[null,null,null,null,null,null,{"$f":"G2492+help2!$C$3","v":2475},{"$f":"help2!G2478","v":" "}]
[null,null,null,null,null,null,{"$f":"G2493+help2!$C$3","v":2476},{"$f":"help2!G2479","v":" "}]
[null,null,null,null,null,null,{"$f":"G2494+help2!$C$3","v":2477},{"$f":"help2!G2480","v":" "}]
[null,null,null,null,null,null,{"$f":"G2495+help2!$C$3","v":2478},{"$f":"help2!G2481","v":" "}]
[null,null,null,null,null,null,{"$f":"G2496+help2!$C$3","v":2479},{"$f":"help2!G2482","v":" "}]
[null,null,null,null,null,null,{"$f":"G2497+help2!$C$3","v":2480},{"$f":"help2!G2483","v":" "}]
[null,null,null,null,null,null,{"$f":"G2498+help2!$C$3","v":2481},{"$f":"help2!G2484","v":" "}]
[null,null,null,null,null,null,{"$f":"G2499+help2!$C$3","v":2482},{"$f":"help2!G2485","v":" "}]
[null,null,null,null,null,null,{"$f":"G2500+help2!$C$3","v":2483},{"$f":"help2!G2486","v":" "}]
[null,null,null,null,null,null,{"$f":"G2501+help2!$C$3","v":2484},{"$f":"help2!G2487","v":" "}]
[null,null,null,null,null,null,{"$f":"G2502+help2!$C$3","v":2485},{"$f":"help2!G2488","v":" "}]
[null,null,null,null,null,null,{"$f":"G2503+help2!$C$3","v":2486},{"$f":"help2!G2489","v":" "}]
[null,null,null,null,null,null,{"$f":"G2504+help2!$C$3","v":2487},{"$f":"help2!G2490","v":" "}]
[null,null,null,null,null,null,{"$f":"G2505+help2!$C$3","v":2488},{"$f":"help2!G2491","v":" "}]
[null,null,null,null,null,null,{"$f":"G2506+help2!$C$3","v":2489},{"$f":"help2!G2492","v":" "}]
[null,null,null,null,null,null,{"$f":"G2507+help2!$C$3","v":2490},{"$f":"help2!G2493","v":" "}]
[null,null,null,null,null,null,{"$f":"G2508+help2!$C$3","v":2491},{"$f":"help2!G2494","v":" "}]
[null,null,null,null,null,null,{"$f":"G2509+help2!$C$3","v":2492},{"$f":"help2!G2495","v":" "}]
[null,null,null,null,null,null,{"$f":"G2510+help2!$C$3","v":2493},{"$f":"help2!G2496","v":" "}]
[null,null,null,null,null,null,{"$f":"G2511+help2!$C$3","v":2494},{"$f":"help2!G2497","v":" "}]
[null,null,null,null,null,null,{"$f":"G2512+help2!$C$3","v":2495},{"$f":"help2!G2498","v":" "}]
[null,null,null,null,null,null,{"$f":"G2513+help2!$C$3","v":2496},{"$f":"help2!G2499","v":" "}]
[null,null,null,null,null,null,{"$f":"G2514+help2!$C$3","v":2497},{"$f":"help2!G2500","v":" "}]
[null,null,null,null,null,null,{"$f":"G2515+help2!$C$3","v":2498},{"$f":"help2!G2501","v":" "}]
[null,null,null,null,null,null,{"$f":"G2516+help2!$C$3","v":2499},{"$f":"help2!G2502","v":" "}]
[null,null,null,null,null,null,{"$f":"G2517+help2!$C$3","v":2500},{"$f":"help2!G2503","v":" "}]
[null,null,null,null,null,null,{"$f":"G2518+help2!$C$3","v":2501},{"$f":"help2!G2504","v":" "}]
[null,null,null,null,null,null,{"$f":"G2519+help2!$C$3","v":2502},{"$f":"help2!G2505","v":" "}]
[null,null,null,null,null,null,{"$f":"G2520+help2!$C$3","v":2503},{"$f":"help2!G2506","v":" "}]
[null,null,null,null,null,null,{"$f":"G2521+help2!$C$3","v":2504},{"$f":"help2!G2507","v":" "}]
[null,null,null,null,null,null,{"$f":"G2522+help2!$C$3","v":2505},{"$f":"help2!G2508","v":" "}]
[null,null,null,null,null,null,{"$f":"G2523+help2!$C$3","v":2506},{"$f":"help2!G2509","v":" "}]
[null,null,null,null,null,null,{"$f":"G2524+help2!$C$3","v":2507},{"$f":"help2!G2510","v":" "}]
[null,null,null,null,null,null,{"$f":"G2525+help2!$C$3","v":2508},{"$f":"help2!G2511","v":" "}]
[null,null,null,null,null,null,{"$f":"G2526+help2!$C$3","v":2509},{"$f":"help2!G2512","v":" "}]
[null,null,null,null,null,null,{"$f":"G2527+help2!$C$3","v":2510},{"$f":"help2!G2513","v":" "}]
[null,null,null,null,null,null,{"$f":"G2528+help2!$C$3","v":2511},{"$f":"help2!G2514","v":" "}]
[null,null,null,null,null,null,{"$f":"G2529+help2!$C$3","v":2512},{"$f":"help2!G2515","v":" "}]
[null,null,null,null,null,null,{"$f":"G2530+help2!$C$3","v":2513},{"$f":"help2!G2516","v":" "}]
[null,null,null,null,null,null,{"$f":"G2531+help2!$C$3","v":2514},{"$f":"help2!G2517","v":" "}]
[null,null,null,null,null,null,{"$f":"G2532+help2!$C$3","v":2515},{"$f":"help2!G2518","v":" "}]
[null,null,null,null,null,null,{"$f":"G2533+help2!$C$3","v":2516},{"$f":"help2!G2519","v":" "}]
[null,null,null,null,null,null,{"$f":"G2534+help2!$C$3","v":2517},{"$f":"help2!G2520","v":" "}]
[null,null,null,null,null,null,{"$f":"G2535+help2!$C$3","v":2518},{"$f":"help2!G2521","v":" "}]
[null,null,null,null,null,null,{"$f":"G2536+help2!$C$3","v":2519},{"$f":"help2!G2522","v":" "}]
[null,null,null,null,null,null,{"$f":"G2537+help2!$C$3","v":2520},{"$f":"help2!G2523","v":" "}]
[null,null,null,null,null,null,{"$f":"G2538+help2!$C$3","v":2521},{"$f":"help2!G2524","v":" "}]
[null,null,null,null,null,null,{"$f":"G2539+help2!$C$3","v":2522},{"$f":"help2!G2525","v":" "}]
[null,null,null,null,null,null,{"$f":"G2540+help2!$C$3","v":2523},{"$f":"help2!G2526","v":" "}]
[null,null,null,null,null,null,{"$f":"G2541+help2!$C$3","v":2524},{"$f":"help2!G2527","v":" "}]
[null,null,null,null,null,null,{"$f":"G2542+help2!$C$3","v":2525},{"$f":"help2!G2528","v":" "}]
[null,null,null,null,null,null,{"$f":"G2543+help2!$C$3","v":2526},{"$f":"help2!G2529","v":" "}]
[null,null,null,null,null,null,{"$f":"G2544+help2!$C$3","v":2527},{"$f":"help2!G2530","v":" "}]
[null,null,null,null,null,null,{"$f":"G2545+help2!$C$3","v":2528},{"$f":"help2!G2531","v":" "}]
[null,null,null,null,null,null,{"$f":"G2546+help2!$C$3","v":2529},{"$f":"help2!G2532","v":" "}]
[null,null,null,null,null,null,{"$f":"G2547+help2!$C$3","v":2530},{"$f":"help2!G2533","v":" "}]
[null,null,null,null,null,null,{"$f":"G2548+help2!$C$3","v":2531},{"$f":"help2!G2534","v":" "}]
[null,null,null,null,null,null,{"$f":"G2549+help2!$C$3","v":2532},{"$f":"help2!G2535","v":" "}]
[null,null,null,null,null,null,{"$f":"G2550+help2!$C$3","v":2533},{"$f":"help2!G2536","v":" "}]
[null,null,null,null,null,null,{"$f":"G2551+help2!$C$3","v":2534},{"$f":"help2!G2537","v":" "}]
[null,null,null,null,null,null,{"$f":"G2552+help2!$C$3","v":2535},{"$f":"help2!G2538","v":" "}]
[null,null,null,null,null,null,{"$f":"G2553+help2!$C$3","v":2536},{"$f":"help2!G2539","v":" "}]
[null,null,null,null,null,null,{"$f":"G2554+help2!$C$3","v":2537},{"$f":"help2!G2540","v":" "}]
[null,null,null,null,null,null,{"$f":"G2555+help2!$C$3","v":2538},{"$f":"help2!G2541","v":" "}]
[null,null,null,null,null,null,{"$f":"G2556+help2!$C$3","v":2539},{"$f":"help2!G2542","v":" "}]
[null,null,null,null,null,null,{"$f":"G2557+help2!$C$3","v":2540},{"$f":"help2!G2543","v":" "}]
[null,null,null,null,null,null,{"$f":"G2558+help2!$C$3","v":2541},{"$f":"help2!G2544","v":" "}]
[null,null,null,null,null,null,{"$f":"G2559+help2!$C$3","v":2542},{"$f":"help2!G2545","v":" "}]
[null,null,null,null,null,null,{"$f":"G2560+help2!$C$3","v":2543},{"$f":"help2!G2546","v":" "}]
[null,null,null,null,null,null,{"$f":"G2561+help2!$C$3","v":2544},{"$f":"help2!G2547","v":" "}]
[null,null,null,null,null,null,{"$f":"G2562+help2!$C$3","v":2545},{"$f":"help2!G2548","v":" "}]
[null,null,null,null,null,null,{"$f":"G2563+help2!$C$3","v":2546},{"$f":"help2!G2549","v":" "}]
[null,null,null,null,null,null,{"$f":"G2564+help2!$C$3","v":2547},{"$f":"help2!G2550","v":" "}]
[null,null,null,null,null,null,{"$f":"G2565+help2!$C$3","v":2548},{"$f":"help2!G2551","v":" "}]
[null,null,null,null,null,null,{"$f":"G2566+help2!$C$3","v":2549},{"$f":"help2!G2552","v":" "}]
[null,null,null,null,null,null,{"$f":"G2567+help2!$C$3","v":2550},{"$f":"help2!G2553","v":" "}]
[null,null,null,null,null,null,{"$f":"G2568+help2!$C$3","v":2551},{"$f":"help2!G2554","v":" "}]
[null,null,null,null,null,null,{"$f":"G2569+help2!$C$3","v":2552},{"$f":"help2!G2555","v":" "}]
[null,null,null,null,null,null,{"$f":"G2570+help2!$C$3","v":2553},{"$f":"help2!G2556","v":" "}]
[null,null,null,null,null,null,{"$f":"G2571+help2!$C$3","v":2554},{"$f":"help2!G2557","v":" "}]
[null,null,null,null,null,null,{"$f":"G2572+help2!$C$3","v":2555},{"$f":"help2!G2558","v":" "}]
[null,null,null,null,null,null,{"$f":"G2573+help2!$C$3","v":2556},{"$f":"help2!G2559","v":" "}]
[null,null,null,null,null,null,{"$f":"G2574+help2!$C$3","v":2557},{"$f":"help2!G2560","v":" "}]
[null,null,null,null,null,null,{"$f":"G2575+help2!$C$3","v":2558},{"$f":"help2!G2561","v":" "}]
[null,null,null,null,null,null,{"$f":"G2576+help2!$C$3","v":2559},{"$f":"help2!G2562","v":" "}]
[null,null,null,null,null,null,{"$f":"G2577+help2!$C$3","v":2560},{"$f":"help2!G2563","v":" "}]
[null,null,null,null,null,null,{"$f":"G2578+help2!$C$3","v":2561},{"$f":"help2!G2564","v":" "}]
[null,null,null,null,null,null,{"$f":"G2579+help2!$C$3","v":2562},{"$f":"help2!G2565","v":" "}]
[null,null,null,null,null,null,{"$f":"G2580+help2!$C$3","v":2563},{"$f":"help2!G2566","v":" "}]
[null,null,null,null,null,null,{"$f":"G2581+help2!$C$3","v":2564},{"$f":"help2!G2567","v":" "}]
[null,null,null,null,null,null,{"$f":"G2582+help2!$C$3","v":2565},{"$f":"help2!G2568","v":" "}]
[null,null,null,null,null,null,{"$f":"G2583+help2!$C$3","v":2566},{"$f":"help2!G2569","v":" "}]
[null,null,null,null,null,null,{"$f":"G2584+help2!$C$3","v":2567},{"$f":"help2!G2570","v":" "}]
[null,null,null,null,null,null,{"$f":"G2585+help2!$C$3","v":2568},{"$f":"help2!G2571","v":" "}]
[null,null,null,null,null,null,{"$f":"G2586+help2!$C$3","v":2569},{"$f":"help2!G2572","v":" "}]
[null,null,null,null,null,null,{"$f":"G2587+help2!$C$3","v":2570},{"$f":"help2!G2573","v":" "}]
[null,null,null,null,null,null,{"$f":"G2588+help2!$C$3","v":2571},{"$f":"help2!G2574","v":" "}]
[null,null,null,null,null,null,{"$f":"G2589+help2!$C$3","v":2572},{"$f":"help2!G2575","v":" "}]
[null,null,null,null,null,null,{"$f":"G2590+help2!$C$3","v":2573},{"$f":"help2!G2576","v":" "}]
[null,null,null,null,null,null,{"$f":"G2591+help2!$C$3","v":2574},{"$f":"help2!G2577","v":" "}]
[null,null,null,null,null,null,{"$f":"G2592+help2!$C$3","v":2575},{"$f":"help2!G2578","v":" "}]
[null,null,null,null,null,null,{"$f":"G2593+help2!$C$3","v":2576},{"$f":"help2!G2579","v":" "}]
[null,null,null,null,null,null,{"$f":"G2594+help2!$C$3","v":2577},{"$f":"help2!G2580","v":" "}]
[null,null,null,null,null,null,{"$f":"G2595+help2!$C$3","v":2578},{"$f":"help2!G2581","v":" "}]
[null,null,null,null,null,null,{"$f":"G2596+help2!$C$3","v":2579},{"$f":"help2!G2582","v":" "}]
[null,null,null,null,null,null,{"$f":"G2597+help2!$C$3","v":2580},{"$f":"help2!G2583","v":" "}]
[null,null,null,null,null,null,{"$f":"G2598+help2!$C$3","v":2581},{"$f":"help2!G2584","v":" "}]
[null,null,null,null,null,null,{"$f":"G2599+help2!$C$3","v":2582},{"$f":"help2!G2585","v":" "}]
[null,null,null,null,null,null,{"$f":"G2600+help2!$C$3","v":2583},{"$f":"help2!G2586","v":" "}]
[null,null,null,null,null,null,{"$f":"G2601+help2!$C$3","v":2584},{"$f":"help2!G2587","v":" "}]
[null,null,null,null,null,null,{"$f":"G2602+help2!$C$3","v":2585},{"$f":"help2!G2588","v":" "}]
[null,null,null,null,null,null,{"$f":"G2603+help2!$C$3","v":2586},{"$f":"help2!G2589","v":" "}]
[null,null,null,null,null,null,{"$f":"G2604+help2!$C$3","v":2587},{"$f":"help2!G2590","v":" "}]
[null,null,null,null,null,null,{"$f":"G2605+help2!$C$3","v":2588},{"$f":"help2!G2591","v":" "}]
[null,null,null,null,null,null,{"$f":"G2606+help2!$C$3","v":2589},{"$f":"help2!G2592","v":" "}]
[null,null,null,null,null,null,{"$f":"G2607+help2!$C$3","v":2590},{"$f":"help2!G2593","v":" "}]
[null,null,null,null,null,null,{"$f":"G2608+help2!$C$3","v":2591},{"$f":"help2!G2594","v":" "}]
[null,null,null,null,null,null,{"$f":"G2609+help2!$C$3","v":2592},{"$f":"help2!G2595","v":" "}]
[null,null,null,null,null,null,{"$f":"G2610+help2!$C$3","v":2593},{"$f":"help2!G2596","v":" "}]
[null,null,null,null,null,null,{"$f":"G2611+help2!$C$3","v":2594},{"$f":"help2!G2597","v":" "}]
[null,null,null,null,null,null,{"$f":"G2612+help2!$C$3","v":2595},{"$f":"help2!G2598","v":" "}]
[null,null,null,null,null,null,{"$f":"G2613+help2!$C$3","v":2596},{"$f":"help2!G2599","v":" "}]
[null,null,null,null,null,null,{"$f":"G2614+help2!$C$3","v":2597},{"$f":"help2!G2600","v":" "}]
[null,null,null,null,null,null,{"$f":"G2615+help2!$C$3","v":2598},{"$f":"help2!G2601","v":" "}]
[null,null,null,null,null,null,{"$f":"G2616+help2!$C$3","v":2599},{"$f":"help2!G2602","v":" "}]
[null,null,null,null,null,null,{"$f":"G2617+help2!$C$3","v":2600},{"$f":"help2!G2603","v":" "}]
[null,null,null,null,null,null,{"$f":"G2618+help2!$C$3","v":2601},{"$f":"help2!G2604","v":" "}]
[null,null,null,null,null,null,{"$f":"G2619+help2!$C$3","v":2602},{"$f":"help2!G2605","v":" "}]
[null,null,null,null,null,null,{"$f":"G2620+help2!$C$3","v":2603},{"$f":"help2!G2606","v":" "}]
[null,null,null,null,null,null,{"$f":"G2621+help2!$C$3","v":2604},{"$f":"help2!G2607","v":" "}]
[null,null,null,null,null,null,{"$f":"G2622+help2!$C$3","v":2605},{"$f":"help2!G2608","v":" "}]
[null,null,null,null,null,null,{"$f":"G2623+help2!$C$3","v":2606},{"$f":"help2!G2609","v":" "}]
[null,null,null,null,null,null,{"$f":"G2624+help2!$C$3","v":2607},{"$f":"help2!G2610","v":" "}]
[null,null,null,null,null,null,{"$f":"G2625+help2!$C$3","v":2608},{"$f":"help2!G2611","v":" "}]
[null,null,null,null,null,null,{"$f":"G2626+help2!$C$3","v":2609},{"$f":"help2!G2612","v":" "}]
[null,null,null,null,null,null,{"$f":"G2627+help2!$C$3","v":2610},{"$f":"help2!G2613","v":" "}]
[null,null,null,null,null,null,{"$f":"G2628+help2!$C$3","v":2611},{"$f":"help2!G2614","v":" "}]
[null,null,null,null,null,null,{"$f":"G2629+help2!$C$3","v":2612},{"$f":"help2!G2615","v":" "}]
[null,null,null,null,null,null,{"$f":"G2630+help2!$C$3","v":2613},{"$f":"help2!G2616","v":" "}]
[null,null,null,null,null,null,{"$f":"G2631+help2!$C$3","v":2614},{"$f":"help2!G2617","v":" "}]
[null,null,null,null,null,null,{"$f":"G2632+help2!$C$3","v":2615},{"$f":"help2!G2618","v":" "}]
[null,null,null,null,null,null,{"$f":"G2633+help2!$C$3","v":2616},{"$f":"help2!G2619","v":" "}]
[null,null,null,null,null,null,{"$f":"G2634+help2!$C$3","v":2617},{"$f":"help2!G2620","v":" "}]
[null,null,null,null,null,null,{"$f":"G2635+help2!$C$3","v":2618},{"$f":"help2!G2621","v":" "}]
[null,null,null,null,null,null,{"$f":"G2636+help2!$C$3","v":2619},{"$f":"help2!G2622","v":" "}]
[null,null,null,null,null,null,{"$f":"G2637+help2!$C$3","v":2620},{"$f":"help2!G2623","v":" "}]
[null,null,null,null,null,null,{"$f":"G2638+help2!$C$3","v":2621},{"$f":"help2!G2624","v":" "}]
[null,null,null,null,null,null,{"$f":"G2639+help2!$C$3","v":2622},{"$f":"help2!G2625","v":" "}]
[null,null,null,null,null,null,{"$f":"G2640+help2!$C$3","v":2623},{"$f":"help2!G2626","v":" "}]
[null,null,null,null,null,null,{"$f":"G2641+help2!$C$3","v":2624},{"$f":"help2!G2627","v":" "}]
[null,null,null,null,null,null,{"$f":"G2642+help2!$C$3","v":2625},{"$f":"help2!G2628","v":" "}]
[null,null,null,null,null,null,{"$f":"G2643+help2!$C$3","v":2626},{"$f":"help2!G2629","v":" "}]
[null,null,null,null,null,null,{"$f":"G2644+help2!$C$3","v":2627},{"$f":"help2!G2630","v":" "}]
[null,null,null,null,null,null,{"$f":"G2645+help2!$C$3","v":2628},{"$f":"help2!G2631","v":" "}]
[null,null,null,null,null,null,{"$f":"G2646+help2!$C$3","v":2629},{"$f":"help2!G2632","v":" "}]
[null,null,null,null,null,null,{"$f":"G2647+help2!$C$3","v":2630},{"$f":"help2!G2633","v":" "}]
[null,null,null,null,null,null,{"$f":"G2648+help2!$C$3","v":2631},{"$f":"help2!G2634","v":" "}]
[null,null,null,null,null,null,{"$f":"G2649+help2!$C$3","v":2632},{"$f":"help2!G2635","v":" "}]
[null,null,null,null,null,null,{"$f":"G2650+help2!$C$3","v":2633},{"$f":"help2!G2636","v":" "}]
[null,null,null,null,null,null,{"$f":"G2651+help2!$C$3","v":2634},{"$f":"help2!G2637","v":" "}]
[null,null,null,null,null,null,{"$f":"G2652+help2!$C$3","v":2635},{"$f":"help2!G2638","v":" "}]
[null,null,null,null,null,null,{"$f":"G2653+help2!$C$3","v":2636},{"$f":"help2!G2639","v":" "}]
[null,null,null,null,null,null,{"$f":"G2654+help2!$C$3","v":2637},{"$f":"help2!G2640","v":" "}]
[null,null,null,null,null,null,{"$f":"G2655+help2!$C$3","v":2638},{"$f":"help2!G2641","v":" "}]
[null,null,null,null,null,null,{"$f":"G2656+help2!$C$3","v":2639},{"$f":"help2!G2642","v":" "}]
[null,null,null,null,null,null,{"$f":"G2657+help2!$C$3","v":2640},{"$f":"help2!G2643","v":" "}]
[null,null,null,null,null,null,{"$f":"G2658+help2!$C$3","v":2641},{"$f":"help2!G2644","v":" "}]
[null,null,null,null,null,null,{"$f":"G2659+help2!$C$3","v":2642},{"$f":"help2!G2645","v":" "}]
[null,null,null,null,null,null,{"$f":"G2660+help2!$C$3","v":2643},{"$f":"help2!G2646","v":" "}]
[null,null,null,null,null,null,{"$f":"G2661+help2!$C$3","v":2644},{"$f":"help2!G2647","v":" "}]
[null,null,null,null,null,null,{"$f":"G2662+help2!$C$3","v":2645},{"$f":"help2!G2648","v":" "}]
[null,null,null,null,null,null,{"$f":"G2663+help2!$C$3","v":2646},{"$f":"help2!G2649","v":" "}]
[null,null,null,null,null,null,{"$f":"G2664+help2!$C$3","v":2647},{"$f":"help2!G2650","v":" "}]
[null,null,null,null,null,null,{"$f":"G2665+help2!$C$3","v":2648},{"$f":"help2!G2651","v":" "}]
[null,null,null,null,null,null,{"$f":"G2666+help2!$C$3","v":2649},{"$f":"help2!G2652","v":" "}]
[null,null,null,null,null,null,{"$f":"G2667+help2!$C$3","v":2650},{"$f":"help2!G2653","v":" "}]
[null,null,null,null,null,null,{"$f":"G2668+help2!$C$3","v":2651},{"$f":"help2!G2654","v":" "}]
[null,null,null,null,null,null,{"$f":"G2669+help2!$C$3","v":2652},{"$f":"help2!G2655","v":" "}]
[null,null,null,null,null,null,{"$f":"G2670+help2!$C$3","v":2653},{"$f":"help2!G2656","v":" "}]
[null,null,null,null,null,null,{"$f":"G2671+help2!$C$3","v":2654},{"$f":"help2!G2657","v":" "}]
[null,null,null,null,null,null,{"$f":"G2672+help2!$C$3","v":2655},{"$f":"help2!G2658","v":" "}]
[null,null,null,null,null,null,{"$f":"G2673+help2!$C$3","v":2656},{"$f":"help2!G2659","v":" "}]
[null,null,null,null,null,null,{"$f":"G2674+help2!$C$3","v":2657},{"$f":"help2!G2660","v":" "}]
[null,null,null,null,null,null,{"$f":"G2675+help2!$C$3","v":2658},{"$f":"help2!G2661","v":" "}]
[null,null,null,null,null,null,{"$f":"G2676+help2!$C$3","v":2659},{"$f":"help2!G2662","v":" "}]
[null,null,null,null,null,null,{"$f":"G2677+help2!$C$3","v":2660},{"$f":"help2!G2663","v":" "}]
[null,null,null,null,null,null,{"$f":"G2678+help2!$C$3","v":2661},{"$f":"help2!G2664","v":" "}]
[null,null,null,null,null,null,{"$f":"G2679+help2!$C$3","v":2662},{"$f":"help2!G2665","v":" "}]
[null,null,null,null,null,null,{"$f":"G2680+help2!$C$3","v":2663},{"$f":"help2!G2666","v":" "}]
[null,null,null,null,null,null,{"$f":"G2681+help2!$C$3","v":2664},{"$f":"help2!G2667","v":" "}]
[null,null,null,null,null,null,{"$f":"G2682+help2!$C$3","v":2665},{"$f":"help2!G2668","v":" "}]
[null,null,null,null,null,null,{"$f":"G2683+help2!$C$3","v":2666},{"$f":"help2!G2669","v":" "}]
[null,null,null,null,null,null,{"$f":"G2684+help2!$C$3","v":2667},{"$f":"help2!G2670","v":" "}]
[null,null,null,null,null,null,{"$f":"G2685+help2!$C$3","v":2668},{"$f":"help2!G2671","v":" "}]
[null,null,null,null,null,null,{"$f":"G2686+help2!$C$3","v":2669},{"$f":"help2!G2672","v":" "}]
[null,null,null,null,null,null,{"$f":"G2687+help2!$C$3","v":2670},{"$f":"help2!G2673","v":" "}]
[null,null,null,null,null,null,{"$f":"G2688+help2!$C$3","v":2671},{"$f":"help2!G2674","v":" "}]
[null,null,null,null,null,null,{"$f":"G2689+help2!$C$3","v":2672},{"$f":"help2!G2675","v":" "}]
[null,null,null,null,null,null,{"$f":"G2690+help2!$C$3","v":2673},{"$f":"help2!G2676","v":" "}]
[null,null,null,null,null,null,{"$f":"G2691+help2!$C$3","v":2674},{"$f":"help2!G2677","v":" "}]
[null,null,null,null,null,null,{"$f":"G2692+help2!$C$3","v":2675},{"$f":"help2!G2678","v":" "}]
[null,null,null,null,null,null,{"$f":"G2693+help2!$C$3","v":2676},{"$f":"help2!G2679","v":" "}]
[null,null,null,null,null,null,{"$f":"G2694+help2!$C$3","v":2677},{"$f":"help2!G2680","v":" "}]
[null,null,null,null,null,null,{"$f":"G2695+help2!$C$3","v":2678},{"$f":"help2!G2681","v":" "}]
[null,null,null,null,null,null,{"$f":"G2696+help2!$C$3","v":2679},{"$f":"help2!G2682","v":" "}]
[null,null,null,null,null,null,{"$f":"G2697+help2!$C$3","v":2680},{"$f":"help2!G2683","v":" "}]
[null,null,null,null,null,null,{"$f":"G2698+help2!$C$3","v":2681},{"$f":"help2!G2684","v":" "}]
[null,null,null,null,null,null,{"$f":"G2699+help2!$C$3","v":2682},{"$f":"help2!G2685","v":" "}]
[null,null,null,null,null,null,{"$f":"G2700+help2!$C$3","v":2683},{"$f":"help2!G2686","v":" "}]
[null,null,null,null,null,null,{"$f":"G2701+help2!$C$3","v":2684},{"$f":"help2!G2687","v":" "}]
[null,null,null,null,null,null,{"$f":"G2702+help2!$C$3","v":2685},{"$f":"help2!G2688","v":" "}]
[null,null,null,null,null,null,{"$f":"G2703+help2!$C$3","v":2686},{"$f":"help2!G2689","v":" "}]
[null,null,null,null,null,null,{"$f":"G2704+help2!$C$3","v":2687},{"$f":"help2!G2690","v":" "}]
[null,null,null,null,null,null,{"$f":"G2705+help2!$C$3","v":2688},{"$f":"help2!G2691","v":" "}]
[null,null,null,null,null,null,{"$f":"G2706+help2!$C$3","v":2689},{"$f":"help2!G2692","v":" "}]
[null,null,null,null,null,null,{"$f":"G2707+help2!$C$3","v":2690},{"$f":"help2!G2693","v":" "}]
[null,null,null,null,null,null,{"$f":"G2708+help2!$C$3","v":2691},{"$f":"help2!G2694","v":" "}]
[null,null,null,null,null,null,{"$f":"G2709+help2!$C$3","v":2692},{"$f":"help2!G2695","v":" "}]
[null,null,null,null,null,null,{"$f":"G2710+help2!$C$3","v":2693},{"$f":"help2!G2696","v":" "}]
[null,null,null,null,null,null,{"$f":"G2711+help2!$C$3","v":2694},{"$f":"help2!G2697","v":" "}]
[null,null,null,null,null,null,{"$f":"G2712+help2!$C$3","v":2695},{"$f":"help2!G2698","v":" "}]
[null,null,null,null,null,null,{"$f":"G2713+help2!$C$3","v":2696},{"$f":"help2!G2699","v":" "}]
[null,null,null,null,null,null,{"$f":"G2714+help2!$C$3","v":2697},{"$f":"help2!G2700","v":" "}]
[null,null,null,null,null,null,{"$f":"G2715+help2!$C$3","v":2698},{"$f":"help2!G2701","v":" "}]
[null,null,null,null,null,null,{"$f":"G2716+help2!$C$3","v":2699},{"$f":"help2!G2702","v":" "}]
[null,null,null,null,null,null,{"$f":"G2717+help2!$C$3","v":2700},{"$f":"help2!G2703","v":" "}]
[null,null,null,null,null,null,{"$f":"G2718+help2!$C$3","v":2701},{"$f":"help2!G2704","v":" "}]
[null,null,null,null,null,null,{"$f":"G2719+help2!$C$3","v":2702},{"$f":"help2!G2705","v":" "}]
[null,null,null,null,null,null,{"$f":"G2720+help2!$C$3","v":2703},{"$f":"help2!G2706","v":" "}]
[null,null,null,null,null,null,{"$f":"G2721+help2!$C$3","v":2704},{"$f":"help2!G2707","v":" "}]
[null,null,null,null,null,null,{"$f":"G2722+help2!$C$3","v":2705},{"$f":"help2!G2708","v":" "}]
[null,null,null,null,null,null,{"$f":"G2723+help2!$C$3","v":2706},{"$f":"help2!G2709","v":" "}]
[null,null,null,null,null,null,{"$f":"G2724+help2!$C$3","v":2707},{"$f":"help2!G2710","v":" "}]
[null,null,null,null,null,null,{"$f":"G2725+help2!$C$3","v":2708},{"$f":"help2!G2711","v":" "}]
[null,null,null,null,null,null,{"$f":"G2726+help2!$C$3","v":2709},{"$f":"help2!G2712","v":" "}]
[null,null,null,null,null,null,{"$f":"G2727+help2!$C$3","v":2710},{"$f":"help2!G2713","v":" "}]
[null,null,null,null,null,null,{"$f":"G2728+help2!$C$3","v":2711},{"$f":"help2!G2714","v":" "}]
[null,null,null,null,null,null,{"$f":"G2729+help2!$C$3","v":2712},{"$f":"help2!G2715","v":" "}]
[null,null,null,null,null,null,{"$f":"G2730+help2!$C$3","v":2713},{"$f":"help2!G2716","v":" "}]
[null,null,null,null,null,null,{"$f":"G2731+help2!$C$3","v":2714},{"$f":"help2!G2717","v":" "}]
[null,null,null,null,null,null,{"$f":"G2732+help2!$C$3","v":2715},{"$f":"help2!G2718","v":" "}]
[null,null,null,null,null,null,{"$f":"G2733+help2!$C$3","v":2716},{"$f":"help2!G2719","v":" "}]
[null,null,null,null,null,null,{"$f":"G2734+help2!$C$3","v":2717},{"$f":"help2!G2720","v":" "}]
[null,null,null,null,null,null,{"$f":"G2735+help2!$C$3","v":2718},{"$f":"help2!G2721","v":" "}]
[null,null,null,null,null,null,{"$f":"G2736+help2!$C$3","v":2719},{"$f":"help2!G2722","v":" "}]
[null,null,null,null,null,null,{"$f":"G2737+help2!$C$3","v":2720},{"$f":"help2!G2723","v":" "}]
[null,null,null,null,null,null,{"$f":"G2738+help2!$C$3","v":2721},{"$f":"help2!G2724","v":" "}]
[null,null,null,null,null,null,{"$f":"G2739+help2!$C$3","v":2722},{"$f":"help2!G2725","v":" "}]
[null,null,null,null,null,null,{"$f":"G2740+help2!$C$3","v":2723},{"$f":"help2!G2726","v":" "}]
[null,null,null,null,null,null,{"$f":"G2741+help2!$C$3","v":2724},{"$f":"help2!G2727","v":" "}]
[null,null,null,null,null,null,{"$f":"G2742+help2!$C$3","v":2725},{"$f":"help2!G2728","v":" "}]
[null,null,null,null,null,null,{"$f":"G2743+help2!$C$3","v":2726},{"$f":"help2!G2729","v":" "}]
[null,null,null,null,null,null,{"$f":"G2744+help2!$C$3","v":2727},{"$f":"help2!G2730","v":" "}]
[null,null,null,null,null,null,{"$f":"G2745+help2!$C$3","v":2728},{"$f":"help2!G2731","v":" "}]
[null,null,null,null,null,null,{"$f":"G2746+help2!$C$3","v":2729},{"$f":"help2!G2732","v":" "}]
[null,null,null,null,null,null,{"$f":"G2747+help2!$C$3","v":2730},{"$f":"help2!G2733","v":" "}]
[null,null,null,null,null,null,{"$f":"G2748+help2!$C$3","v":2731},{"$f":"help2!G2734","v":" "}]
[null,null,null,null,null,null,{"$f":"G2749+help2!$C$3","v":2732},{"$f":"help2!G2735","v":" "}]
[null,null,null,null,null,null,{"$f":"G2750+help2!$C$3","v":2733},{"$f":"help2!G2736","v":" "}]
[null,null,null,null,null,null,{"$f":"G2751+help2!$C$3","v":2734},{"$f":"help2!G2737","v":" "}]
[null,null,null,null,null,null,{"$f":"G2752+help2!$C$3","v":2735},{"$f":"help2!G2738","v":" "}]
[null,null,null,null,null,null,{"$f":"G2753+help2!$C$3","v":2736},{"$f":"help2!G2739","v":" "}]
[null,null,null,null,null,null,{"$f":"G2754+help2!$C$3","v":2737},{"$f":"help2!G2740","v":" "}]
[null,null,null,null,null,null,{"$f":"G2755+help2!$C$3","v":2738},{"$f":"help2!G2741","v":" "}]
[null,null,null,null,null,null,{"$f":"G2756+help2!$C$3","v":2739},{"$f":"help2!G2742","v":" "}]
[null,null,null,null,null,null,{"$f":"G2757+help2!$C$3","v":2740},{"$f":"help2!G2743","v":" "}]
[null,null,null,null,null,null,{"$f":"G2758+help2!$C$3","v":2741},{"$f":"help2!G2744","v":" "}]
[null,null,null,null,null,null,{"$f":"G2759+help2!$C$3","v":2742},{"$f":"help2!G2745","v":" "}]
[null,null,null,null,null,null,{"$f":"G2760+help2!$C$3","v":2743},{"$f":"help2!G2746","v":" "}]
[null,null,null,null,null,null,{"$f":"G2761+help2!$C$3","v":2744},{"$f":"help2!G2747","v":" "}]
[null,null,null,null,null,null,{"$f":"G2762+help2!$C$3","v":2745},{"$f":"help2!G2748","v":" "}]
[null,null,null,null,null,null,{"$f":"G2763+help2!$C$3","v":2746},{"$f":"help2!G2749","v":" "}]
[null,null,null,null,null,null,{"$f":"G2764+help2!$C$3","v":2747},{"$f":"help2!G2750","v":" "}]
[null,null,null,null,null,null,{"$f":"G2765+help2!$C$3","v":2748},{"$f":"help2!G2751","v":" "}]
[null,null,null,null,null,null,{"$f":"G2766+help2!$C$3","v":2749},{"$f":"help2!G2752","v":" "}]
[null,null,null,null,null,null,{"$f":"G2767+help2!$C$3","v":2750},{"$f":"help2!G2753","v":" "}]
[null,null,null,null,null,null,{"$f":"G2768+help2!$C$3","v":2751},{"$f":"help2!G2754","v":" "}]
[null,null,null,null,null,null,{"$f":"G2769+help2!$C$3","v":2752},{"$f":"help2!G2755","v":" "}]
[null,null,null,null,null,null,{"$f":"G2770+help2!$C$3","v":2753},{"$f":"help2!G2756","v":" "}]
[null,null,null,null,null,null,{"$f":"G2771+help2!$C$3","v":2754},{"$f":"help2!G2757","v":" "}]
[null,null,null,null,null,null,{"$f":"G2772+help2!$C$3","v":2755},{"$f":"help2!G2758","v":" "}]
[null,null,null,null,null,null,{"$f":"G2773+help2!$C$3","v":2756},{"$f":"help2!G2759","v":" "}]
[null,null,null,null,null,null,{"$f":"G2774+help2!$C$3","v":2757},{"$f":"help2!G2760","v":" "}]
[null,null,null,null,null,null,{"$f":"G2775+help2!$C$3","v":2758},{"$f":"help2!G2761","v":" "}]
[null,null,null,null,null,null,{"$f":"G2776+help2!$C$3","v":2759},{"$f":"help2!G2762","v":" "}]
[null,null,null,null,null,null,{"$f":"G2777+help2!$C$3","v":2760},{"$f":"help2!G2763","v":" "}]
[null,null,null,null,null,null,{"$f":"G2778+help2!$C$3","v":2761},{"$f":"help2!G2764","v":" "}]
[null,null,null,null,null,null,{"$f":"G2779+help2!$C$3","v":2762},{"$f":"help2!G2765","v":" "}]
[null,null,null,null,null,null,{"$f":"G2780+help2!$C$3","v":2763},{"$f":"help2!G2766","v":" "}]
[null,null,null,null,null,null,{"$f":"G2781+help2!$C$3","v":2764},{"$f":"help2!G2767","v":" "}]
[null,null,null,null,null,null,{"$f":"G2782+help2!$C$3","v":2765},{"$f":"help2!G2768","v":" "}]
[null,null,null,null,null,null,{"$f":"G2783+help2!$C$3","v":2766},{"$f":"help2!G2769","v":" "}]
[null,null,null,null,null,null,{"$f":"G2784+help2!$C$3","v":2767},{"$f":"help2!G2770","v":" "}]
[null,null,null,null,null,null,{"$f":"G2785+help2!$C$3","v":2768},{"$f":"help2!G2771","v":" "}]
[null,null,null,null,null,null,{"$f":"G2786+help2!$C$3","v":2769},{"$f":"help2!G2772","v":" "}]
[null,null,null,null,null,null,{"$f":"G2787+help2!$C$3","v":2770},{"$f":"help2!G2773","v":" "}]
[null,null,null,null,null,null,{"$f":"G2788+help2!$C$3","v":2771},{"$f":"help2!G2774","v":" "}]
[null,null,null,null,null,null,{"$f":"G2789+help2!$C$3","v":2772},{"$f":"help2!G2775","v":" "}]
[null,null,null,null,null,null,{"$f":"G2790+help2!$C$3","v":2773},{"$f":"help2!G2776","v":" "}]
[null,null,null,null,null,null,{"$f":"G2791+help2!$C$3","v":2774},{"$f":"help2!G2777","v":" "}]
[null,null,null,null,null,null,{"$f":"G2792+help2!$C$3","v":2775},{"$f":"help2!G2778","v":" "}]
[null,null,null,null,null,null,{"$f":"G2793+help2!$C$3","v":2776},{"$f":"help2!G2779","v":" "}]
[null,null,null,null,null,null,{"$f":"G2794+help2!$C$3","v":2777},{"$f":"help2!G2780","v":" "}]
[null,null,null,null,null,null,{"$f":"G2795+help2!$C$3","v":2778},{"$f":"help2!G2781","v":" "}]
[null,null,null,null,null,null,{"$f":"G2796+help2!$C$3","v":2779},{"$f":"help2!G2782","v":" "}]
[null,null,null,null,null,null,{"$f":"G2797+help2!$C$3","v":2780},{"$f":"help2!G2783","v":" "}]
[null,null,null,null,null,null,{"$f":"G2798+help2!$C$3","v":2781},{"$f":"help2!G2784","v":" "}]
[null,null,null,null,null,null,{"$f":"G2799+help2!$C$3","v":2782},{"$f":"help2!G2785","v":" "}]
[null,null,null,null,null,null,{"$f":"G2800+help2!$C$3","v":2783},{"$f":"help2!G2786","v":" "}]
[null,null,null,null,null,null,{"$f":"G2801+help2!$C$3","v":2784},{"$f":"help2!G2787","v":" "}]
[null,null,null,null,null,null,{"$f":"G2802+help2!$C$3","v":2785},{"$f":"help2!G2788","v":" "}]
[null,null,null,null,null,null,{"$f":"G2803+help2!$C$3","v":2786},{"$f":"help2!G2789","v":" "}]
[null,null,null,null,null,null,{"$f":"G2804+help2!$C$3","v":2787},{"$f":"help2!G2790","v":" "}]
[null,null,null,null,null,null,{"$f":"G2805+help2!$C$3","v":2788},{"$f":"help2!G2791","v":" "}]
[null,null,null,null,null,null,{"$f":"G2806+help2!$C$3","v":2789},{"$f":"help2!G2792","v":" "}]
[null,null,null,null,null,null,{"$f":"G2807+help2!$C$3","v":2790},{"$f":"help2!G2793","v":" "}]
[null,null,null,null,null,null,{"$f":"G2808+help2!$C$3","v":2791},{"$f":"help2!G2794","v":" "}]
[null,null,null,null,null,null,{"$f":"G2809+help2!$C$3","v":2792},{"$f":"help2!G2795","v":" "}]
[null,null,null,null,null,null,{"$f":"G2810+help2!$C$3","v":2793},{"$f":"help2!G2796","v":" "}]
[null,null,null,null,null,null,{"$f":"G2811+help2!$C$3","v":2794},{"$f":"help2!G2797","v":" "}]
[null,null,null,null,null,null,{"$f":"G2812+help2!$C$3","v":2795},{"$f":"help2!G2798","v":" "}]
[null,null,null,null,null,null,{"$f":"G2813+help2!$C$3","v":2796},{"$f":"help2!G2799","v":" "}]
[null,null,null,null,null,null,{"$f":"G2814+help2!$C$3","v":2797},{"$f":"help2!G2800","v":" "}]
[null,null,null,null,null,null,{"$f":"G2815+help2!$C$3","v":2798},{"$f":"help2!G2801","v":" "}]
[null,null,null,null,null,null,{"$f":"G2816+help2!$C$3","v":2799},{"$f":"help2!G2802","v":" "}]
[null,null,null,null,null,null,{"$f":"G2817+help2!$C$3","v":2800},{"$f":"help2!G2803","v":" "}]
[null,null,null,null,null,null,{"$f":"G2818+help2!$C$3","v":2801},{"$f":"help2!G2804","v":" "}]
[null,null,null,null,null,null,{"$f":"G2819+help2!$C$3","v":2802},{"$f":"help2!G2805","v":" "}]
[null,null,null,null,null,null,{"$f":"G2820+help2!$C$3","v":2803},{"$f":"help2!G2806","v":" "}]
[null,null,null,null,null,null,{"$f":"G2821+help2!$C$3","v":2804},{"$f":"help2!G2807","v":" "}]
[null,null,null,null,null,null,{"$f":"G2822+help2!$C$3","v":2805},{"$f":"help2!G2808","v":" "}]
[null,null,null,null,null,null,{"$f":"G2823+help2!$C$3","v":2806},{"$f":"help2!G2809","v":" "}]
[null,null,null,null,null,null,{"$f":"G2824+help2!$C$3","v":2807},{"$f":"help2!G2810","v":" "}]
[null,null,null,null,null,null,{"$f":"G2825+help2!$C$3","v":2808},{"$f":"help2!G2811","v":" "}]
[null,null,null,null,null,null,{"$f":"G2826+help2!$C$3","v":2809},{"$f":"help2!G2812","v":" "}]
[null,null,null,null,null,null,{"$f":"G2827+help2!$C$3","v":2810},{"$f":"help2!G2813","v":" "}]
[null,null,null,null,null,null,{"$f":"G2828+help2!$C$3","v":2811},{"$f":"help2!G2814","v":" "}]
[null,null,null,null,null,null,{"$f":"G2829+help2!$C$3","v":2812},{"$f":"help2!G2815","v":" "}]
[null,null,null,null,null,null,{"$f":"G2830+help2!$C$3","v":2813},{"$f":"help2!G2816","v":" "}]
[null,null,null,null,null,null,{"$f":"G2831+help2!$C$3","v":2814},{"$f":"help2!G2817","v":" "}]
[null,null,null,null,null,null,{"$f":"G2832+help2!$C$3","v":2815},{"$f":"help2!G2818","v":" "}]
[null,null,null,null,null,null,{"$f":"G2833+help2!$C$3","v":2816},{"$f":"help2!G2819","v":" "}]
[null,null,null,null,null,null,{"$f":"G2834+help2!$C$3","v":2817},{"$f":"help2!G2820","v":" "}]
[null,null,null,null,null,null,{"$f":"G2835+help2!$C$3","v":2818},{"$f":"help2!G2821","v":" "}]
[null,null,null,null,null,null,{"$f":"G2836+help2!$C$3","v":2819},{"$f":"help2!G2822","v":" "}]
[null,null,null,null,null,null,{"$f":"G2837+help2!$C$3","v":2820},{"$f":"help2!G2823","v":" "}]
[null,null,null,null,null,null,{"$f":"G2838+help2!$C$3","v":2821},{"$f":"help2!G2824","v":" "}]
[null,null,null,null,null,null,{"$f":"G2839+help2!$C$3","v":2822},{"$f":"help2!G2825","v":" "}]
[null,null,null,null,null,null,{"$f":"G2840+help2!$C$3","v":2823},{"$f":"help2!G2826","v":" "}]
[null,null,null,null,null,null,{"$f":"G2841+help2!$C$3","v":2824},{"$f":"help2!G2827","v":" "}]
[null,null,null,null,null,null,{"$f":"G2842+help2!$C$3","v":2825},{"$f":"help2!G2828","v":" "}]
[null,null,null,null,null,null,{"$f":"G2843+help2!$C$3","v":2826},{"$f":"help2!G2829","v":" "}]
[null,null,null,null,null,null,{"$f":"G2844+help2!$C$3","v":2827},{"$f":"help2!G2830","v":" "}]
[null,null,null,null,null,null,{"$f":"G2845+help2!$C$3","v":2828},{"$f":"help2!G2831","v":" "}]
[null,null,null,null,null,null,{"$f":"G2846+help2!$C$3","v":2829},{"$f":"help2!G2832","v":" "}]
[null,null,null,null,null,null,{"$f":"G2847+help2!$C$3","v":2830},{"$f":"help2!G2833","v":" "}]
[null,null,null,null,null,null,{"$f":"G2848+help2!$C$3","v":2831},{"$f":"help2!G2834","v":" "}]
[null,null,null,null,null,null,{"$f":"G2849+help2!$C$3","v":2832},{"$f":"help2!G2835","v":" "}]
[null,null,null,null,null,null,{"$f":"G2850+help2!$C$3","v":2833},{"$f":"help2!G2836","v":" "}]
[null,null,null,null,null,null,{"$f":"G2851+help2!$C$3","v":2834},{"$f":"help2!G2837","v":" "}]
[null,null,null,null,null,null,{"$f":"G2852+help2!$C$3","v":2835},{"$f":"help2!G2838","v":" "}]
[null,null,null,null,null,null,{"$f":"G2853+help2!$C$3","v":2836},{"$f":"help2!G2839","v":" "}]
[null,null,null,null,null,null,{"$f":"G2854+help2!$C$3","v":2837},{"$f":"help2!G2840","v":" "}]
[null,null,null,null,null,null,{"$f":"G2855+help2!$C$3","v":2838},{"$f":"help2!G2841","v":" "}]
[null,null,null,null,null,null,{"$f":"G2856+help2!$C$3","v":2839},{"$f":"help2!G2842","v":" "}]
[null,null,null,null,null,null,{"$f":"G2857+help2!$C$3","v":2840},{"$f":"help2!G2843","v":" "}]
[null,null,null,null,null,null,{"$f":"G2858+help2!$C$3","v":2841},{"$f":"help2!G2844","v":" "}]
[null,null,null,null,null,null,{"$f":"G2859+help2!$C$3","v":2842},{"$f":"help2!G2845","v":" "}]
[null,null,null,null,null,null,{"$f":"G2860+help2!$C$3","v":2843},{"$f":"help2!G2846","v":" "}]
[null,null,null,null,null,null,{"$f":"G2861+help2!$C$3","v":2844},{"$f":"help2!G2847","v":" "}]
[null,null,null,null,null,null,{"$f":"G2862+help2!$C$3","v":2845},{"$f":"help2!G2848","v":" "}]
[null,null,null,null,null,null,{"$f":"G2863+help2!$C$3","v":2846},{"$f":"help2!G2849","v":" "}]
[null,null,null,null,null,null,{"$f":"G2864+help2!$C$3","v":2847},{"$f":"help2!G2850","v":" "}]
[null,null,null,null,null,null,{"$f":"G2865+help2!$C$3","v":2848},{"$f":"help2!G2851","v":" "}]
[null,null,null,null,null,null,{"$f":"G2866+help2!$C$3","v":2849},{"$f":"help2!G2852","v":" "}]
[null,null,null,null,null,null,{"$f":"G2867+help2!$C$3","v":2850},{"$f":"help2!G2853","v":" "}]
[null,null,null,null,null,null,{"$f":"G2868+help2!$C$3","v":2851},{"$f":"help2!G2854","v":" "}]
[null,null,null,null,null,null,{"$f":"G2869+help2!$C$3","v":2852},{"$f":"help2!G2855","v":" "}]
[null,null,null,null,null,null,{"$f":"G2870+help2!$C$3","v":2853},{"$f":"help2!G2856","v":" "}]
[null,null,null,null,null,null,{"$f":"G2871+help2!$C$3","v":2854},{"$f":"help2!G2857","v":" "}]
[null,null,null,null,null,null,{"$f":"G2872+help2!$C$3","v":2855},{"$f":"help2!G2858","v":" "}]
[null,null,null,null,null,null,{"$f":"G2873+help2!$C$3","v":2856},{"$f":"help2!G2859","v":" "}]
[null,null,null,null,null,null,{"$f":"G2874+help2!$C$3","v":2857},{"$f":"help2!G2860","v":" "}]
[null,null,null,null,null,null,{"$f":"G2875+help2!$C$3","v":2858},{"$f":"help2!G2861","v":" "}]
[null,null,null,null,null,null,{"$f":"G2876+help2!$C$3","v":2859},{"$f":"help2!G2862","v":" "}]
[null,null,null,null,null,null,{"$f":"G2877+help2!$C$3","v":2860},{"$f":"help2!G2863","v":" "}]
[null,null,null,null,null,null,{"$f":"G2878+help2!$C$3","v":2861},{"$f":"help2!G2864","v":" "}]
[null,null,null,null,null,null,{"$f":"G2879+help2!$C$3","v":2862},{"$f":"help2!G2865","v":" "}]
[null,null,null,null,null,null,{"$f":"G2880+help2!$C$3","v":2863},{"$f":"help2!G2866","v":" "}]
[null,null,null,null,null,null,{"$f":"G2881+help2!$C$3","v":2864},{"$f":"help2!G2867","v":" "}]
[null,null,null,null,null,null,{"$f":"G2882+help2!$C$3","v":2865},{"$f":"help2!G2868","v":" "}]
[null,null,null,null,null,null,{"$f":"G2883+help2!$C$3","v":2866},{"$f":"help2!G2869","v":" "}]
[null,null,null,null,null,null,{"$f":"G2884+help2!$C$3","v":2867},{"$f":"help2!G2870","v":" "}]
[null,null,null,null,null,null,{"$f":"G2885+help2!$C$3","v":2868},{"$f":"help2!G2871","v":" "}]
[null,null,null,null,null,null,{"$f":"G2886+help2!$C$3","v":2869},{"$f":"help2!G2872","v":" "}]
[null,null,null,null,null,null,{"$f":"G2887+help2!$C$3","v":2870},{"$f":"help2!G2873","v":" "}]
[null,null,null,null,null,null,{"$f":"G2888+help2!$C$3","v":2871},{"$f":"help2!G2874","v":" "}]
[null,null,null,null,null,null,{"$f":"G2889+help2!$C$3","v":2872},{"$f":"help2!G2875","v":" "}]
[null,null,null,null,null,null,{"$f":"G2890+help2!$C$3","v":2873},{"$f":"help2!G2876","v":" "}]
[null,null,null,null,null,null,{"$f":"G2891+help2!$C$3","v":2874},{"$f":"help2!G2877","v":" "}]
[null,null,null,null,null,null,{"$f":"G2892+help2!$C$3","v":2875},{"$f":"help2!G2878","v":" "}]
[null,null,null,null,null,null,{"$f":"G2893+help2!$C$3","v":2876},{"$f":"help2!G2879","v":" "}]
[null,null,null,null,null,null,{"$f":"G2894+help2!$C$3","v":2877},{"$f":"help2!G2880","v":" "}]
[null,null,null,null,null,null,{"$f":"G2895+help2!$C$3","v":2878},{"$f":"help2!G2881","v":" "}]
[null,null,null,null,null,null,{"$f":"G2896+help2!$C$3","v":2879},{"$f":"help2!G2882","v":" "}]

{"sheet":"Tables","index":5,"n_rows":48,"n_cols":12,"rows_kept":48,"cut":false,"hidden":true,"merged":[]}
["LAMBDA"]
[]
["Variabel","b_0","b_1","V(b_0)","Cov","V(b_1)","Res.var.",null,"E(lambda)","V(lambda)",null,"z_0"]
["i1m",-0.83220000000000005,7.2909999999999997E-3,1.353,-1.8829999999999999E-3,2.694E-6,0.35709999999999997,null,{"$f":"B4+C4*Beregn!$B$5","v":4.0943009723462538},{"$f":"D4+2*E4*Beregn!$B$5+F4*Beregn!$B$5^2+G4","v":0.39541517672253712},null,15.8]
["i2m",-0.37459999999999999,6.6309999999999997E-3,1.427,-1.9840000000000001E-3,2.8389999999999998E-6,0.39290000000000003,null,{"$f":"B5+C5*Beregn!$B$5","v":4.1059414823245106},{"$f":"D5+2*E5*Beregn!$B$5+F5*Beregn!$B$5^2+G5","v":0.43492652077135907},null,12.8]
["i5m",0.27929999999999999,5.4900000000000001E-3,1.4379999999999999,-2E-3,2.8600000000000001E-6,0.39739999999999998,null,{"$f":"B6+C6*Beregn!$B$5","v":3.9888721215444982},{"$f":"D6+2*E6*Beregn!$B$5+F6*Beregn!$B$5^2+G6","v":0.43839211483079499},null,9]
["i10m",0.4209,5.875E-3,1.84,-2.5630000000000002E-3,3.6660000000000001E-6,0.52359999999999995,null,{"$f":"B7+C7*Beregn!$B$5","v":4.3906151573905143},{"$f":"D7+2*E7*Beregn!$B$5+F7*Beregn!$B$5^2+G7","v":0.57374986962474972},null,6]
["i30m",1.0660000000000001,4.339E-3,1.587,-2.2060000000000001E-3,3.1489999999999998E-6,0.41870000000000002,null,{"$f":"B8+C8*Beregn!$B$5","v":3.9978457987944589},{"$f":"D8+2*E8*Beregn!$B$5+F8*Beregn!$B$5^2+G8","v":0.46225266800177439},null,3.2]
["i60m",1.6950000000000001,3.258E-3,1.6439999999999999,-2.2829999999999999E-3,3.2540000000000001E-6,0.4128,null,{"$f":"B9+C9*Beregn!$B$5","v":3.8964182098346036},{"$f":"D9+2*E9*Beregn!$B$5+F9*Beregn!$B$5^2+G9","v":0.45723481548097017},null,2.1]
["i3h",1.2,3.3519999999999999E-3,1.3939999999999999,-1.9300000000000001E-3,2.7460000000000001E-6,0.31069999999999998,null,{"$f":"B10+C10*Beregn!$B$5","v":3.464933652352852},{"$f":"D10+2*E10*Beregn!$B$5+F10*Beregn!$B$5^2+G10","v":0.35024113243776789},null,1.1000000000000001]
["i6h",0.18429999999999999,4.3620000000000004E-3,1.3560000000000001,-1.8730000000000001E-3,2.6620000000000001E-6,0.311,null,{"$f":"B11+C11*Beregn!$B$5","v":3.1316868113255194},{"$f":"D11+2*E11*Beregn!$B$5+F11*Beregn!$B$5^2+G11","v":0.35121900944198742},null,0.73]
["i12h",-0.92510000000000003,5.5240000000000003E-3,1.3009999999999999,-1.7949999999999999E-3,2.553E-6,0.313,null,{"$f":"B12+C12*Beregn!$B$5","v":2.8074457922425879},{"$f":"D12+2*E12*Beregn!$B$5+F12*Beregn!$B$5^2+G12","v":0.35386199295422155},null,0.45]
["i24h",-3.0720000000000001,8.8509999999999995E-3,1.2809999999999999,-1.761E-3,2.5009999999999999E-6,0.28889999999999999,null,{"$f":"B13+C13*Beregn!$B$5","v":2.9085870396703735},{"$f":"D13+2*E13*Beregn!$B$5+F13*Beregn!$B$5^2+G13","v":0.33196793611692194},null,0.26]
["i48h",-5.1680000000000001,1.239E-2,1.111,-1.5200000000000001E-3,2.154E-6,0.2094,null,{"$f":"B14+C14*Beregn!$B$5","v":3.2038758808627188},{"$f":"D14+2*E14*Beregn!$B$5+F14*Beregn!$B$5^2+G14","v":0.24972532639878506},null,0.15]
[]
[]
["MEAN"]
[]
["Variabel","b_0","b_1","V(b_0)","Cov","V(b_1)","Res.var.",null,"E(Mean)","V(Mean)"]
["i1m",6.2229999999999999,0,1.9910000000000001E-2,0,0,0.22120000000000001,null,{"$f":"B20+C20*Beregn!$B$6","v":6.2229999999999999},{"$f":"D20+2*E20*Beregn!$B$6+F20*Beregn!$B$6^2+G20","v":0.24111000000000002}]
["i2m",5.9939999999999998,0,1.6650000000000002E-2,0,0,0.1275,null,{"$f":"B21+C21*Beregn!$B$6","v":5.9939999999999998},{"$f":"D21+2*E21*Beregn!$B$6+F21*Beregn!$B$6^2+G21","v":0.14415}]
["i5m",4.8959999999999999,0,1.09E-2,0,0,7.6399999999999996E-2,null,{"$f":"B22+C22*Beregn!$B$6","v":4.8959999999999999},{"$f":"D22+2*E22*Beregn!$B$6+F22*Beregn!$B$6^2+G22","v":8.7299999999999989E-2}]
["i10m",3.577,0,6.2230000000000002E-3,0,0,4.4209999999999999E-2,null,{"$f":"B23+C23*Beregn!$B$6","v":3.577},{"$f":"D23+2*E23*Beregn!$B$6+F23*Beregn!$B$6^2+G23","v":5.0432999999999999E-2}]
["i30m",1.8220000000000001,0,2.434E-3,0,0,2.4709999999999999E-2,null,{"$f":"B24+C24*Beregn!$B$6","v":1.8220000000000001},{"$f":"D24+2*E24*Beregn!$B$6+F24*Beregn!$B$6^2+G24","v":2.7143999999999998E-2}]
["i60m",1.0960000000000001,0,1.1039999999999999E-3,0,0,1.188E-2,null,{"$f":"B25+C25*Beregn!$B$6","v":1.0960000000000001},{"$f":"D25+2*E25*Beregn!$B$6+F25*Beregn!$B$6^2+G25","v":1.2983999999999999E-2}]
["i3h",-0.38919999999999999,3.3320000000000002E-2,0.1145,-4.3270000000000001E-3,1.639E-4,1.2210000000000001E-3,null,{"$f":"B26+C26*Beregn!$B$6","v":0.470310010800296},{"$f":"D26+2*E26*Beregn!$B$6+F26*Beregn!$B$6^2+G26","v":1.5470612362585292E-3}]
["i6h",-0.4425,2.7709999999999999E-2,4.5999999999999999E-2,-1.735E-3,6.5649999999999997E-5,4.6460000000000002E-4,null,{"$f":"B27+C27*Beregn!$B$6","v":0.27229659061453171},{"$f":"D27+2*E27*Beregn!$B$6+F27*Beregn!$B$6^2+G27","v":6.3822855287681585E-4}]
["i12h",-0.3382,1.942E-2,1.371E-2,-5.1599999999999997E-4,1.9490000000000001E-5,4.2490000000000001E-5,null,{"$f":"B28+C28*Beregn!$B$6","v":0.16275091265731528},{"$f":"D28+2*E28*Beregn!$B$6+F28*Beregn!$B$6^2+G28","v":1.0032927582195259E-4}]
["i24h",-0.25219999999999998,1.353E-2,4.1099999999999999E-3,-1.5469999999999999E-4,5.8459999999999996E-6,9.2779999999999999E-6,null,{"$f":"B29+C29*Beregn!$B$6","v":9.6814719271548721E-2},{"$f":"D29+2*E29*Beregn!$B$6+F29*Beregn!$B$6^2+G29","v":2.8123492523388367E-5}]
["i48h",-7.7249999999999999E-2,5.2579999999999997E-3,1.4790000000000001E-3,-5.5770000000000003E-5,2.1129999999999999E-6,1.4100000000000001E-5,null,{"$f":"B30+C30*Beregn!$B$6","v":5.8383362448618123E-2},{"$f":"D30+2*E30*Beregn!$B$6+F30*Beregn!$B$6^2+G30","v":2.1876354443633002E-5}]
[]
[]
["L-CV"]
[]
[null,"L-CV",null,null,"Kappa"]
["Variabel","mean","res. var","pred. var.","mean","res.var.","pred. var."]
["i1m",0.54290000000000005,4.9419999999999998E-4,5.1119999999999996E-4,{"$f":"1/B37-2","v":-0.15804015472462707},{"$f":"1/B37^4*C37","v":5.6888354826815819E-3},{"$f":"1/B37^4*D37","v":5.8845258979093977E-3}]
["i2m",0.52900000000000003,3.4400000000000001E-4,3.6279999999999998E-4,{"$f":"1/B38-2","v":-0.10964083175803419},{"$f":"1/B38^4*C38","v":4.3927425860578731E-3},{"$f":"1/B38^4*D38","v":4.6328110762261518E-3}]
["i5m",0.51929999999999998,9.7979999999999994E-5,1.16E-4,{"$f":"1/B39-2","v":-7.4330829963412226E-2},{"$f":"1/B39^4*C39","v":1.3472994879938722E-3},{"$f":"1/B39^4*D39","v":1.5950881874595754E-3}]
["i10m",0.53259999999999996,1.2070000000000001E-4,1.3999999999999999E-4,{"$f":"1/B40-2","v":-0.12241832519714602},{"$f":"1/B40^4*C40","v":1.5000392456470061E-3},{"$f":"1/B40^4*D40","v":1.7398963909741577E-3}]
["i30m",0.55779999999999996,2.1680000000000001E-4,2.4159999999999999E-4,-0.20724273933309423,2.2394699440359653E-3,2.4956454726895259E-3]
["i60m",0.55769999999999997,4.8500000000000003E-4,5.195E-4,-0.20692128384436059,5.0134785438703307E-3,5.3701074299806941E-3]
["i3h",0.54800000000000004,4.8670000000000001E-4,5.3209999999999998E-4,-0.17518248175182505,5.3968346511750476E-3,5.9002583067397632E-3]
["i6h",0.54949999999999999,0,4.5380000000000003E-5,-0.18016378525932653,0,4.9772986988451862E-4]
["i12h",0.53690000000000004,3.2670000000000003E-4,3.8460000000000002E-4,-0.13745576457440878,3.9316560576596257E-3,4.6284509328922314E-3]
["i24h",0.53300000000000003,2.7149999999999999E-4,3.3520000000000002E-4,-0.12382739212007521,3.3640388125297242E-3,4.1533179004050232E-3]
["i48h",0.52339999999999998,2.7280000000000002E-4,3.4850000000000001E-4,-8.9415361100496638E-2,3.6350424990183447E-3,4.6437401426242409E-3]
["i48h"]

{"sheet":"CGD mean","index":6,"n_rows":620,"n_cols":34,"rows_kept":620,"cut":false,"hidden":true,"merged":[]}
[null,null,null,"Northing",{"$f":"Beregn!B3","v":6140000},null,null,null,null,"mean",null,null,null,null,null,null,null,null,null,null,null,null,"Std(mean)"]
[null,null,null,"Easting",{"$f":"Beregn!B4","v":589900},null,null,null,null,"b_0",6.2229999999999999,5.9939999999999998,4.8959999999999999,3.577,1.8220000000000001,1.0960000000000001,-0.38919999999999999,-0.4425,-0.3382,-0.25219999999999998,-7.7249999999999999E-2,null,"V(b_0)",1.9910000000000001E-2,1.6650000000000002E-2,1.09E-2,6.2230000000000002E-3,2.434E-3,1.1039999999999999E-3,0.1145,4.5999999999999999E-2,1.371E-2,4.1099999999999999E-3,1.4790000000000001E-3]
[null,null,null,null,null,null,null,null,null,"b_1",0,0,0,0,0,0,3.3320000000000002E-2,2.7709999999999999E-2,1.942E-2,1.353E-2,5.2579999999999997E-3,null,"Cov",0,0,0,0,0,0,-4.3270000000000001E-3,-1.735E-3,-5.1599999999999997E-4,-1.5469999999999999E-4,-5.5770000000000003E-5]
[null,null,null,"Mean",null,null,null,{"$f":"SUM(H8:H616)","v":25.795618571437451},null,null,null,null,null,null,null,null,null,null,null,null,null,null,"V(b_1)",0,0,0,0,0,0,1.639E-4,6.5649999999999997E-5,1.9490000000000001E-5,5.8459999999999996E-6,2.1129999999999999E-6]
[null,null,null,null,null,null,null,null,null,null,null,null,null,null,null,null,null,null,null,null,null,null,"Res.var.",0.22120000000000001,0.1275,7.6399999999999996E-2,4.4209999999999999E-2,2.4709999999999999E-2,1.188E-2,1.2210000000000001E-3,4.6460000000000002E-4,4.2490000000000001E-5,9.2779999999999999E-6,1.4100000000000001E-5]
[]
["Northing","Easting","CGD Mean [mm]",null,"dist","dist = 0?","1/dist^2","w*mean",null,null,1,2,5,10,30,60,180,360,720,1440,2880,null,null,1,2,5,10,30,60,180,360,720,1440,2880]
[6055000,655000,25.650769160344101,null,{"$f":"(SQRT(($A8-E$1)^2+($B8-E$2)^2)/1000)","v":107.06544727408559},{"$f":"IF(E8=0,1,0)","v":0},{"$f":"IF($F$618=0,1/E8^2,F8)","v":8.7237121837981468E-5},{"$f":"G8/$G$618*C8","v":1.048472617908569E-2},null,null,{"$f":"K$2+K$3*$C8","v":6.2229999999999999},{"$f":"L$2+L$3*$C8","v":5.9939999999999998},4.8959999999999999,3.577,1.8220000000000001,1.0960000000000001,0.46548362842266555,0.26828281343313498,0.15993793709388243,9.4854906739455735E-2,5.7621744245089271E-2,null,null,{"$f":"SQRT(X$2+2*X$3*$C8+X$4*$C8^2+X$5)","v":0.49102953068018224},{"$f":"SQRT(Y$2+2*Y$3*$C8+Y$4*$C8^2+Y$5)","v":0.37967091013139259},0.2954657340538831,0.22457292802116643,0.16475436261295176,0.11394735626595291,3.9739258767131726E-2,2.5527114804930008E-2,1.0226181986757624E-2,5.4199290845395251E-3,4.7208925217790123E-3]
[6055000,665000,26.747540989860202,null,{"$f":"(SQRT(($A9-E$1)^2+($B9-E$2)^2)/1000)","v":113.42402743687072},{"$f":"IF(E9=0,1,0)","v":0},{"$f":"IF($F$618=0,1/E9^2,F9)","v":7.7730215522568572E-5},{"$f":"G9/$G$618*C9","v":9.7415733602577662E-3},null,null,6.2229999999999999,5.9939999999999998,4.8959999999999999,3.577,1.8220000000000001,1.0960000000000001,0.50202806578214199,0.2986743608290261,0.18123724602308516,0.10969422959280856,6.3388570524684926E-2,null,null,0.49102953068018224,0.37967091013139259,0.2954657340538831,0.22457292802116643,0.16475436261295176,0.11394735626595291,3.881897494198755E-2,2.4873169627416074E-2,9.6320763367582652E-3,5.0988376730495191E-3,4.6243781459755894E-3]
[6055000,685000,27.811764698402602,null,127.55002940023181,0,6.1466555125357978E-5,8.009820654868818E-3,null,null,6.2229999999999999,5.9939999999999998,4.8959999999999999,3.577,1.8220000000000001,1.0960000000000001,0.53748799975077477,0.32816399979273603,0.20190447044297849,0.12409317636938721,6.8984258784200878E-2,null,null,0.49102953068018224,0.37967091013139259,0.2954657340538831,0.22457292802116643,0.16475436261295176,0.11394735626595291,4.2587519290365611E-2,2.7160161620724359E-2,1.1231735113451047E-2,6.0137692657483343E-3,5.0367775120648411E-3]
[6055000,695000,28.873469294333901,null,135.17029999226901,0,5.4731511832131889E-5,7.4044326330317232E-3,null,null,6.2229999999999999,5.9939999999999998,4.8959999999999999,3.577,1.8220000000000001,1.0960000000000001,0.57286399688720568,0.35758383414599237,0.22252277369596435,0.13845803955233771,7.4566701549607636E-2,null,null,0.49102953068018224,0.37967091013139259,0.2954657340538831,0.22457292802116643,0.16475436261295176,0.11394735626595291,4.989683932699053E-2,3.1694978127065739E-2,1.4263200315074444E-2,7.7138629491426986E-3,5.8406523590218157E-3]
[6065000,605000,28.282222281561999,null,76.504967159002163,0,1.708522623402318E-4,2.2640688883637815E-2,null,null,6.2229999999999999,5.9939999999999998,4.8959999999999999,3.577,1.8220000000000001,1.0960000000000001,0.55316364642164595,0.34120037942208292,0.21104075670793404,0.13045846746953388,7.1457924756452976E-2,null,null,0.49102953068018224,0.37967091013139259,0.2954657340538831,0.22457292802116643,0.16475436261295176,0.11394735626595291,4.5471440528841015E-2,2.8942696195907221E-2,1.2449002351111561E-2,6.6993177429140738E-3,5.3531321731949029E-3]
[6065000,615000,28.123404320250199,null,79.088621179029289,0,1.598718467276631E-4,2.1066639040146821E-2,null,null,6.2229999999999999,5.9939999999999998,4.8959999999999999,3.577,1.8220000000000001,1.0960000000000001,0.54787183195073674,0.33679953371413296,0.20795651189925884,0.1283096604529852,7.0622859915875538E-2,null,null,0.49102953068018224,0.37967091013139259,0.2954657340538831,0.22457292802116643,0.16475436261295176,0.11394735626595291,4.4427572490319915E-2,2.8296120069956056E-2,1.2011742534762043E-2,6.453630188499461E-3,5.2384965985612644E-3]
[6065000,635000,25.953846307901198,null,87.515770007467793,0,1.3056517748377404E-4,1.5877585634144688E-2,null,null,6.2229999999999999,5.9939999999999998,4.8959999999999999,3.577,1.8220000000000001,1.0960000000000001,0.47558215897926803,0.27668108119194212,0.16582369529944124,9.895554054590322E-2,5.921532388694449E-2,null,null,0.49102953068018224,0.37967091013139259,0.2954657340538831,0.22457292802116643,0.16475436261295176,0.11394735626595291,3.8984670040508394E-2,2.5034649642370184E-2,9.8298668994183016E-3,5.1996203805170799E-3,4.6399677562126394E-3]
[6065000,645000,26.7555555061058,null,93.064547492587096,0,1.1545997522228934E-4,1.4474407795626004E-2,null,null,6.2229999999999999,5.9939999999999998,4.8959999999999999,3.577,1.8220000000000001,1.0960000000000001,0.50229510946344536,0.29889644307419172,0.18139288792857461,0.10980266599761151,6.3430710851104286E-2,null,null,0.49102953068018224,0.37967091013139259,0.2954657340538831,0.22457292802116643,0.16475436261295176,0.11394735626595291,3.8830860759542139E-2,2.4880012263242865E-2,9.636558191617307E-3,5.1014926722390413E-3,4.6256882222357569E-3]
[6065000,655000,26.3492306929368,null,99.312688011149916,0,1.0138892690973648E-4,1.2517391572201433E-2,null,null,6.2229999999999999,5.9939999999999998,4.8959999999999999,3.577,1.8220000000000001,1.0960000000000001,0.4887563666886543,0.28763718250127868,0.17350206005683261,0.10430509127543491,6.129425498346168E-2,null,null,0.49102953068018224,0.37967091013139259,0.2954657340538831,0.22457292802116643,0.16475436261295176,0.11394735626595291,3.8569035734495744E-2,2.4746313774069904E-2,9.5728411898130979E-3,5.0594812692697734E-3,4.5961490397309259E-3]
[6065000,665000,25.2338028491383,null,106.13675141062119,0,8.8770449382645928E-5,1.0495581269178137E-2,null,null,6.2229999999999999,5.9939999999999998,4.8959999999999999,3.577,1.8220000000000001,1.0960000000000001,0.45159031093328827,0.2567286769496222,0.1518404513302658,8.9213352548841218E-2,5.5429335380769176E-2,null,null,0.49102953068018224,0.37967091013139259,0.2954657340538831,0.22457292802116643,0.16475436261295176,0.11394735626595291,4.1353885966372912E-2,2.6563144438032357E-2,1.1016430143018122E-2,5.8608476940112796E-3,4.8952431777565036E-3]
[6065000,675000,25.183333339113201,null,113.43284356834224,0,7.7718133428045837E-5,9.1704563355811917E-3,null,null,6.2229999999999999,5.9939999999999998,4.8959999999999999,3.577,1.8220000000000001,1.0960000000000001,0.4499086668592519,0.25533016682682674,0.15086033344557837,8.8530500078201624E-2,5.5163966697057212E-2,null,null,0.49102953068018224,0.37967091013139259,0.2954657340538831,0.22457292802116643,0.16475436261295176,0.11394735626595291,4.1591571968434736E-2,2.6714819267587096E-2,1.1128944855549038E-2,5.9236382797322705E-3,4.9209945046584935E-3]
[6065000,685000,25.7762711735095,null,121.11568849657752,0,6.8170926326998214E-5,8.2333136284200373E-3,null,null,6.2229999999999999,5.9939999999999998,4.8959999999999999,3.577,1.8220000000000001,1.0960000000000001,0.46966535550133659,0.27176047421794824,0.16237518618955443,9.6552948977583541E-2,5.8281633830312943E-2,null,null,0.49102953068018224,0.37967091013139259,0.2954657340538831,0.22457292802116643,0.16475436261295176,0.11394735626595291,3.9382193552117202E-2,2.5295447095040866E-2,1.0042361364882449E-2,5.3175694272811084E-3,4.6825260395760007E-3]
[6065000,695000,27.1701754519814,null,129.11626543545938,0,5.9984368073679995E-5,7.6363513588377082E-3,null,null,6.2229999999999999,5.9939999999999998,4.8959999999999999,3.577,1.8220000000000001,1.0960000000000001,0.51611024606002032,0.31038556177440457,0.18944480727747876,0.1154124738653084,6.5610782526518183E-2,null,null,0.49102953068018224,0.37967091013139259,0.2954657340538831,0.22457292802116643,0.16475436261295176,0.11394735626595291,3.9803303708888953E-2,2.5458424533509574E-2,1.0037241353958313E-2,5.3339179648347404E-3,4.7322490764153697E-3]
[6075000,515000,25.325510180726301,null,99.171618923964331,0,1.0167757836545158E-4,1.2065317888936057E-2,null,null,6.2229999999999999,5.9939999999999998,4.8959999999999999,3.577,1.8220000000000001,1.0960000000000001,0.45464599922180038,0.25926988710792576,0.15362140770970478,9.045415274522689E-2,5.5911532530258892E-2,null,null,0.49102953068018224,0.37967091013139259,0.2954657340538831,0.22457292802116643,0.16475436261295176,0.11394735626595291,4.094456202367943E-2,2.6301576191143598E-2,1.0820733069238737E-2,5.75162584118137E-3,4.8509413435148209E-3]
[6075000,525000,25.880188672047701,null,91.853198093479577,0,1.1852540177148065E-4,1.4372563828689372E-2,null,null,6.2229999999999999,5.9939999999999998,4.8959999999999999,3.577,1.8220000000000001,1.0960000000000001,0.4731278865526295,0.27464002810244181,0.16439326401116633,9.7958952732805415E-2,5.8828032037626807E-2,null,null,0.49102953068018224,0.37967091013139259,0.2954657340538831,0.22457292802116643,0.16475436261295176,0.11394735626595291,3.9134025993476006E-2,2.5133161087517179E-2,9.9110382884487463E-3,5.2446027070920977E-3,4.6559314476869599E-3]
[6075000,545000,26.2499999727522,null,79.000063291113875,0,1.6023047551598222E-4,1.9707421286267724E-2,null,null,6.2229999999999999,5.9939999999999998,4.8959999999999999,3.577,1.8220000000000001,1.0960000000000001,0.4854499990921034,0.28488749924496337,0.1715749994708477,0.1029624996313373,6.0772499856731069E-2,null,null,0.49102953068018224,0.37967091013139259,0.2954657340538831,0.22457292802116643,0.16475436261295176,0.11394735626595291,3.861144585925206E-2,2.4780095351650919E-2,9.6082321599294269E-3,5.0781271220510047E-3,4.6004415566935188E-3]
[6075000,595000,27.141666611035699,null,65.199769938244415,0,2.3523821397738418E-4,2.9915740463536445E-2,null,null,6.2229999999999999,{"$f":"L$2+L$3*$C24","v":5.9939999999999998},4.8959999999999999,3.577,1.8220000000000001,1.0960000000000001,0.51516033147970952,0.30959558179179913,0.1888911655863133,0.11502674924731304,6.5460883040825688E-2,null,null,0.49102953068018224,{"$f":"SQRT(Y$2+2*Y$3*$C24+Y$4*$C24^2+Y$5)","v":0.37967091013139259},0.2954657340538831,0.22457292802116643,0.16475436261295176,0.11394735626595291,3.9714494017809743E-2,2.5404856238163936E-2,9.9994825879548294E-3,5.3122084733024637E-3,4.7225370893492465E-3]
[6075000,605000,27.897674427476002,null,66.730877410685977,0,2.2456720285829134E-4,2.9354163102963165E-2,null,null,6.2229999999999999,5.9939999999999998,4.8959999999999999,3.577,1.8220000000000001,1.0960000000000001,0.54035051192350048,0.33054455838536001,0.20357283738158399,0.12525553500375031,6.9435972139668803E-2,null,null,0.49102953068018224,0.37967091013139259,0.2954657340538831,0.22457292802116643,0.16475436261295176,0.11394735626595291,4.306572405584401E-2,2.7454824560582486E-2,1.1435551515270219E-2,6.1289318958977317E-3,5.089158892033839E-3]
[6075000,615000,27.9249998439442,null,69.677901805378724,0,2.0597279923213342E-4,2.6949978457267605E-2,null,null,6.2229999999999999,5.9939999999999998,4.8959999999999999,3.577,1.8220000000000001,1.0960000000000001,0.54126099480022083,0.3313017456756937,0.20410349696939639,0.12562524788856505,6.9579649179458594E-2,null,null,0.49102953068018224,0.37967091013139259,0.2954657340538831,0.22457292802116643,0.16475436261295176,0.11394735626595291,4.3222585062684088E-2,2.7551574375647682E-2,1.1502244234508158E-2,6.1665777447126651E-3,5.1063474828055766E-3]
[6075000,625000,26.514634109124898,null,73.871577754911939,0,1.8325053463343478E-4,2.2765975312331224E-2,null,null,6.2229999999999999,5.9939999999999998,4.8959999999999999,3.577,1.8220000000000001,1.0960000000000001,0.49426760851604168,0.29222051116385084,0.17671419439920549,0.1065429994964599,6.2163946145778706E-2,null,null,0.49102953068018224,0.37967091013139259,0.2954657340538831,0.22457292802116643,0.16475436261295176,0.11394735626595291,3.859130259171395E-2,2.4748027229420006E-2,9.5582879747736736E-3,5.0536285679198068E-3,4.5990513401194732E-3]
[6075000,635000,26.6782608446868,null,79.113905225314213,0,1.5976967603502793E-4,1.9971341634157962E-2,null,null,6.2229999999999999,5.9939999999999998,4.8959999999999999,3.577,1.8220000000000001,1.0960000000000001,0.49971965134496421,0.29675460800627118,0.17989182560381761,0.10875686922861244,6.3024295521363197E-2,null,null,0.49102953068018224,0.37967091013139259,0.2954657340538831,0.22457292802116643,0.16475436261295176,0.11394735626595291,3.872741107075367E-2,2.4821023757182484E-2,9.5986845640772499E-3,5.0789119086114588E-3,4.6142641634077811E-3]
[6075000,645000,28.1000001196768,null,85.211560248595376,0,1.377218871754756E-4,1.8132791116491881E-2,null,null,6.2229999999999999,5.9939999999999998,4.8959999999999999,3.577,1.8220000000000001,1.0960000000000001,0.54709200398763103,0.33615100331624403,0.20750200232412347,0.12799300161922711,7.0499800629260603E-2,null,null,0.49102953068018224,0.37967091013139259,0.2954657340538831,0.22457292802116643,0.16475436261295176,0.11394735626595291,4.427955585460986E-2,2.8204547971429142E-2,1.1949431265967978E-2,6.4185716706472882E-3,5.2222534276824776E-3]
[6075000,655000,27.845762608415001,null,91.994619407876229,0,1.1816126886296958E-4,1.5416636554889679E-2,null,null,6.2229999999999999,5.9939999999999998,4.8959999999999999,3.577,1.8220000000000001,1.0960000000000001,0.53862081011238794,0.32910608187917967,0.20256470985541936,0.12455316809185502,6.9163019795046063E-2,null,null,0.49102953068018224,0.37967091013139259,0.2954657340538831,0.22457292802116643,0.16475436261295176,0.11394735626595291,4.2774021991173701E-2,2.7275028168305817E-2,1.1311312055868595E-2,6.0587540100262788E-3,5.05720309147177E-3]
[6075000,665000,25.518918991088899,null,99.322756707614587,0,1.0136837164888836E-4,1.2120488259162643E-2,null,null,6.2229999999999999,5.9939999999999998,4.8959999999999999,3.577,1.8220000000000001,1.0960000000000001,0.46109038078308218,0.26462924524307341,0.1573774068069464,9.3070973949432811E-2,5.6928476055145436E-2,null,null,0.49102953068018224,0.37967091013139259,0.2954657340538831,0.22457292802116643,0.16475436261295176,0.11394735626595291,4.0180227353333105E-2,2.5811445502406747E-2,1.0447505212719211E-2,5.543345390888273E-3,4.7683906376254212E-3]
[6075000,675000,24.7070422374027,null,107.08412580770317,0,8.7206691195002009E-5,1.0095455951347646E-2,null,null,6.2229999999999999,5.9939999999999998,4.8959999999999999,3.577,1.8220000000000001,1.0960000000000001,0.43403864735025799,0.24213214039842879,0.1416107602503604,8.2086281472058542E-2,5.2659628084263374E-2,null,null,0.49102953068018224,0.37967091013139259,0.2954657340538831,0.22457292802116643,0.16475436261295176,0.11394735626595291,4.4238379352281053E-2,2.8397428449477843E-2,1.2339278179651766E-2,6.5984321099642794E-3,5.208825958251586E-3]
[6075000,685000,25.360317563253702,null,115.19118889915148,0,7.5363572715673582E-5,8.9551226404593759E-3,null,null,6.2229999999999999,5.9939999999999998,4.8959999999999999,3.577,1.8220000000000001,1.0960000000000001,0.45580578120761339,0.26023439967776008,0.15429736707838687,9.0925096630822599E-2,5.6094549747587943E-2,null,null,0.49102953068018224,0.37967091013139259,0.2954657340538831,0.22457292802116643,0.16475436261295176,0.11394735626595291,4.0796975010406217E-2,2.6207130977853509E-2,1.0749516378890678E-2,5.7118778453107821E-3,4.834982698371907E-3]
[6075000,695000,25.518644041934301,null,123.57592807662826,0,6.5483553478126201E-5,7.8297014807108579E-3,null,null,6.2229999999999999,{"$f":"L$2+L$3*$C34","v":5.9939999999999998},4.8959999999999999,3.577,1.8220000000000001,1.0960000000000001,0.461081219477251,0.26462162640199949,0.15737206729436415,9.3067253887371137E-2,5.6927030372490542E-2,null,null,0.49102953068018224,{"$f":"SQRT(Y$2+2*Y$3*$C34+Y$4*$C34^2+Y$5)","v":0.37967091013139259},0.2954657340538831,0.22457292802116643,0.16475436261295176,0.11394735626595291,4.0181215946189376E-2,2.5812081346725285E-2,1.0447995726258555E-2,5.5436190366422817E-3,4.7684972405409864E-3]
[6085000,475000,24.694117770475501,null,127.38528172438133,0,6.1625647608524309E-5,7.1303423636527438E-3,null,null,6.2229999999999999,5.9939999999999998,4.8959999999999999,3.577,1.8220000000000001,1.0960000000000001,0.43360800411224376,0.24177400341987609,0.1413597671026342,8.1911413434533564E-2,5.2591671237160173E-2,null,null,0.49102953068018224,0.37967091013139259,0.2954657340538831,0.22457292802116643,0.16475436261295176,0.11394735626595291,4.4319691705216928E-2,2.8448996301939807E-2,1.2375451076865208E-2,6.6185769549350834E-3,5.2176955577735119E-3]
[6085000,485000,24.632857077462301,null,118.44412184654838,0,7.1280867288568472E-5,8.2270310049191199E-3,null,null,6.2229999999999999,5.9939999999999998,4.8959999999999999,3.577,1.8220000000000001,1.0960000000000001,0.4315667978210439,0.24007646961648033,0.14017008444431789,8.1082556258064986E-2,5.2269562513296772E-2,null,null,0.49102953068018224,0.37967091013139259,0.2954657340538831,0.22457292802116643,0.16475436261295176,0.11394735626595291,4.4711422766957887E-2,2.869736084014449E-2,1.2549017955811235E-2,6.7152177376667592E-3,5.260445929621888E-3]
[6085000,495000,24.869620238678401,null,109.68596081541156,0,8.3118541169860212E-5,9.685508745573777E-3,null,null,6.2229999999999999,5.9939999999999998,4.8959999999999999,3.577,1.8220000000000001,1.0960000000000001,0.43945574635276441,0.2466371768137785,0.14476802503513453,8.4285961829318801E-2,5.3514463214971011E-2,null,null,0.49102953068018224,0.37967091013139259,0.2954657340538831,0.22457292802116643,0.16475436261295176,0.11394735626595291,4.3256565134474075E-2,2.7774307945685063E-2,1.1898241235129579E-2,6.3527056742556801E-3,5.1018482368836889E-3]
[6085000,505000,24.614141406434999,null,101.15834122799761,0,9.7722957370314302E-5,1.1270330829042864E-2,null,null,6.2229999999999999,5.9939999999999998,4.8959999999999999,3.577,1.8220000000000001,1.0960000000000001,0.43094319166241424,0.2395578583723138,0.13980662611296768,8.0829333229065548E-2,5.217115551503522E-2,null,null,0.49102953068018224,0.37967091013139259,0.2954657340538831,0.22457292802116643,0.16475436261295176,0.11394735626595291,4.483315346765495E-2,2.8774518384735683E-2,1.2602724860874074E-2,6.7451148618669051E-3,5.2737372933320406E-3]
[6085000,515000,24.8205882053749,null,92.924754505998024,0,1.1580762500564562E-4,1.3468046161243606E-2,null,null,6.2229999999999999,5.9939999999999998,4.8959999999999999,3.577,1.8220000000000001,1.0960000000000001,0.43782199900309171,0.24527849917093847,0.14381582294838058,8.3622558418722404E-2,5.3256652783861227E-2,null,null,0.49102953068018224,0.37967091013139259,0.2954657340538831,0.22457292802116643,0.16475436261295176,0.11394735626595291,4.3544525763521733E-2,2.7957161740068109E-2,1.2028446859425087E-2,6.4252716827552566E-3,5.1332007524881188E-3]
[6085000,525000,26.148936129630901,null,85.070617724335349,0,1.3817861243800963E-4,1.6929737461581874E-2,null,null,6.2229999999999999,5.9939999999999998,4.8959999999999999,3.577,1.8220000000000001,1.0960000000000001,0.48208255183930171,0.28208702015207221,0.16961233963743211,0.10159510583390613,6.0241106169599254E-2,null,null,0.49102953068018224,0.37967091013139259,0.2954657340538831,0.22457292802116643,0.16475436261295176,0.11394735626595291,3.8697483184203324E-2,2.4841216473671827E-2,9.664576011826076E-3,5.1086425997249121E-3,4.6094512454741381E-3]
[6085000,535000,26.003999964396201,null,77.711067422858122,0,1.6559005532363745E-4,2.0175754270421287E-2,null,null,6.2229999999999999,5.9939999999999998,4.8959999999999999,3.577,1.8220000000000001,1.0960000000000001,0.47725327881368151,0.27807083901341867,0.1667976793085742,9.9634119518280606E-2,5.9479031812795222E-2,null,null,0.49102953068018224,0.37967091013139259,0.2954657340538831,0.22457292802116643,0.16475436261295176,0.11394735626595291,3.8895730190144806E-2,2.4975513055435522E-2,9.7804004260476744E-3,5.17227819503946E-3,4.6304835456616004E-3]
[6085000,545000,26.0114754536113,null,71.000070422500286,0,1.9837294510425488E-4,2.4177021699089623E-2,null,null,6.2229999999999999,5.9939999999999998,4.8959999999999999,3.577,1.8220000000000001,1.0960000000000001,0.47750236211432862,0.27827798481956911,0.16694285330913144,9.9735262887360898E-2,5.951833793508822E-2,null,null,0.49102953068018224,0.37967091013139259,0.2954657340538831,0.22457292802116643,0.16475436261295176,0.11394735626595291,3.8883364101212063E-2,2.4967253046646428E-2,9.773435484002271E-3,5.1684340552466609E-3,4.6291665662172507E-3]
[6085000,555000,26.0884615091177,null,65.138391137638635,0,2.3568174479909312E-4,2.8809106234632332E-2,null,null,6.2229999999999999,5.9939999999999998,4.8959999999999999,3.577,1.8220000000000001,1.0960000000000001,0.48006753748380182,0.2804112684176514,0.16843792250706574,0.10077688421836251,5.9923130614940853E-2,null,null,0.49102953068018224,0.37967091013139259,0.2954657340538831,0.22457292802116643,0.16475436261295176,0.11394735626595291,3.87695297803511E-2,2.4890604718073053E-2,9.7079457481675981E-3,5.1323822609699544E-3,4.6170699800392742E-3]
[6085000,565000,27.517999992370601,null,60.373918209770018,0,2.7434766982806631E-4,3.5373131928327257E-2,null,null,6.2229999999999999,{"$f":"L$2+L$3*$C44","v":5.9939999999999998},4.8959999999999999,3.577,1.8220000000000001,1.0960000000000001,0.52769975974578853,0.32002377978858931,0.19619955985183707,0.12011853989677429,6.7439643959884624E-2,null,null,0.49102953068018224,{"$f":"SQRT(Y$2+2*Y$3*$C44+Y$4*$C44^2+Y$5)","v":0.37967091013139259},0.2954657340538831,0.22457292802116643,0.16475436261295176,0.11394735626595291,4.1132919915860267E-2,2.6267228051473596E-2,1.0607917535965983E-2,5.6600118383136168E-3,4.8776105395728388E-3]
[6085000,575000,26.784782534060302,null,56.982541185875519,0,3.0797564528597081E-4,3.8650923071257406E-2,null,null,6.2229999999999999,5.9939999999999998,4.8959999999999999,3.577,1.8220000000000001,1.0960000000000001,0.50326895403488936,0.29970632401881092,0.18196047681145106,0.11019810768583593,6.358438656408906E-2,null,null,0.49102953068018224,0.37967091013139259,0.2954657340538831,0.22457292802116643,0.16475436261295176,0.11394735626595291,3.8876469204318913E-2,2.4906384354565624E-2,9.6539835992913905E-3,5.1117855717968206E-3,4.6307109567070952E-3]
[6085000,585000,27.011904716491699,null,55.217841319631468,0,3.2797531001866177E-4,4.1509904299955235E-2,null,null,{"$f":"K$2+K$3*$C46","v":6.2229999999999999},5.9939999999999998,4.8959999999999999,3.577,1.8220000000000001,1.0960000000000001,0.51083666515350346,0.3059998796939849,0.18637118959426874,0.11327107081413273,6.4778594999313335E-2,null,null,{"$f":"SQRT(X$2+2*X$3*$C46+X$4*$C46^2+X$5)","v":0.49102953068018224},0.37967091013139259,0.2954657340538831,0.22457292802116643,0.16475436261295176,0.11394735626595291,3.9350523446875639E-2,2.5186372273033969E-2,9.8461328787782017E-3,5.2237570528166901E-3,4.6827128187428117E-3]
[6085000,595000,25.960416674613999,null,55.2359484393995,0,3.2776031543652756E-4,3.9867903599321949E-2,null,null,6.2229999999999999,5.9939999999999998,4.8959999999999999,3.577,1.8220000000000001,1.0960000000000001,0.47580108359813855,0.27686314605355389,0.16595129182100382,9.9044437607527458E-2,5.9249870875120389E-2,null,null,0.49102953068018224,0.37967091013139259,0.2954657340538831,0.22457292802116643,0.16475436261295176,0.11394735626595291,3.8972427911397246E-2,2.5026534836241617E-2,9.8231166587241202E-3,5.1958855230145769E-3,4.6386611630533483E-3]
[6085000,605000,28.3023809251331,null,57.035164591679759,0,3.0740760096034127E-4,4.076551613527498E-2,null,null,6.2229999999999999,5.9939999999999998,4.8959999999999999,3.577,1.8220000000000001,1.0960000000000001,0.55383533242543492,0.34175897543543821,0.21143223756608481,0.13073121391705089,7.1563918904349835E-2,null,null,0.49102953068018224,0.37967091013139259,0.2954657340538831,0.22457292802116643,0.16475436261295176,0.11394735626595291,4.5608712176890727E-2,2.9027815621322197E-2,1.2506221460274131E-2,6.7314280790202055E-3,5.3682177894410332E-3]
[6085000,615000,28.193750103314699,null,60.456678704672484,0,2.7359706266193531E-4,3.6142621387117428E-2,null,null,6.2229999999999999,5.9939999999999998,4.8959999999999999,3.577,1.8220000000000001,1.0960000000000001,0.55021575344244589,0.33874881536285029,0.20932262700637144,0.12926143889784791,7.0992738043228684E-2,null,null,0.49102953068018224,0.37967091013139259,0.2954657340538831,0.22457292802116643,0.16475436261295176,0.11394735626595291,4.488156874579588E-2,2.8577166819079996E-2,1.2202382687386305E-2,6.5608159134822926E-3,5.2883358275505991E-3]
[6085000,625000,26.7075002193451,null,65.245766146164613,0,2.3490665983871308E-4,2.9395709174191372E-2,null,null,6.2229999999999999,5.9939999999999998,4.8959999999999999,3.577,1.8220000000000001,1.0960000000000001,0.50069390730857877,0.29756483107805265,0.18045965425968186,0.10915247796773925,6.3178036153316533E-2,null,null,0.49102953068018224,0.37967091013139259,0.2954657340538831,0.22457292802116643,0.16475436261295176,0.11394735626595291,3.8763606533282369E-2,2.4841498059925977E-2,9.6116046162650886E-3,5.086658280809132E-3,4.6182676023676511E-3]
[6085000,635000,26.384615482428099,null,71.126717905439733,0,1.9766713250220889E-4,2.4436590056934285E-2,null,null,6.2229999999999999,5.9939999999999998,4.8959999999999999,3.577,1.8220000000000001,1.0960000000000001,0.4899353878745043,0.28861769501808254,0.17418923266875369,0.10478384747725222,6.1480308206606951E-2,null,null,0.49102953068018224,0.37967091013139259,0.2954657340538831,0.22457292802116643,0.16475436261295176,0.11394735626595291,3.8564024986605765E-2,2.4740577060542238E-2,9.5650435872790592E-3,5.0555704732793945E-3,4.5957125628916162E-3]
[6085000,645000,27.3891303435616,null,77.852488720656837,0,1.6498900348291785E-4,2.1173303073857452E-2,null,null,6.2229999999999999,5.9939999999999998,4.8959999999999999,3.577,1.8220000000000001,1.0960000000000001,0.52340582304747263,0.31645280182009194,0.19369691127196625,0.11837493354838846,6.6762047346446876E-2,null,null,0.49102953068018224,0.37967091013139259,0.2954657340538831,0.22457292802116643,0.16475436261295176,0.11394735626595291,4.0588436295129024E-2,2.5934813879329648E-2,1.0373660389587496E-2,5.5265278947349188E-3,4.8180813113426115E-3]
[6085000,655000,26.685454594005201,null,85.22329493747587,0,1.3768396298504339E-4,1.7215250050567166E-2,null,null,6.2229999999999999,5.9939999999999998,4.8959999999999999,3.577,1.8220000000000001,1.0960000000000001,0.49995934707225331,0.29695394679988407,0.18003152821558094,0.10885420065689039,6.3062120255279339E-2,null,null,0.49102953068018224,0.37967091013139259,0.2954657340538831,0.22457292802116643,0.16475436261295176,0.11394735626595291,3.8735983846277702E-2,2.4825852916787575E-2,9.6017039345971146E-3,5.0807276020476636E-3,4.6152131457291336E-3]
[6085000,665000,26.528571537562801,null,93.086035472566991,0,1.1540667581456917E-4,1.4344987331153138E-2,null,null,6.2229999999999999,{"$f":"L$2+L$3*$C54","v":5.9939999999999998},4.8959999999999999,3.577,1.8220000000000001,1.0960000000000001,0.49473200363159264,0.29260671730586518,0.17698485925946955,0.10673157290322471,6.2237229144505204E-2,null,null,0.49102953068018224,{"$f":"SQRT(Y$2+2*Y$3*$C54+Y$4*$C54^2+Y$5)","v":0.37967091013139259},0.2954657340538831,0.22457292802116643,0.16475436261295176,0.11394735626595291,3.8598485543055373E-2,2.4751486688188631E-2,9.5596090253161816E-3,5.0545807555879415E-3,4.5998699472360027E-3]
[6085000,675000,26.252830325432502,null,101.32625523525479,0,9.7399340216869387E-5,1.1980846899133672E-2,null,null,6.2229999999999999,5.9939999999999998,4.8959999999999999,3.577,1.8220000000000001,1.0960000000000001,0.48554430644341107,0.2849659283177346,0.17162996491989918,0.10300079430310177,6.0787381851124075E-2,null,null,0.49102953068018224,0.37967091013139259,0.2954657340538831,0.22457292802116643,0.16475436261295176,0.11394735626595291,3.8609657722298699E-2,2.4778770995516088E-2,9.6069477475259693E-3,5.0774391647854539E-3,4.6002565150214704E-3]
[6085000,685000,25.164615425696699,null,109.85904605447837,0,8.2856837470513328E-5,9.769537907945167E-3,null,null,6.2229999999999999,5.9939999999999998,4.8959999999999999,3.577,1.8220000000000001,1.0960000000000001,0.44928498598421407,0.25481149344605547,0.15049683156702987,8.8277246709676349E-2,5.5065547908313237E-2,null,null,0.49102953068018224,0.37967091013139259,0.2954657340538831,0.22457292802116643,0.16475436261295176,0.11394735626595291,4.1681925589819299E-2,2.677244118550532E-2,1.1171515460689065E-2,5.947393758793872E-3,4.9307883467390326E-3]
[6085000,695000,25.5879310410598,null,118.6212881400299,0,7.1068103853241536E-5,8.5205037461375897E-3,null,null,6.2229999999999999,5.9939999999999998,4.8959999999999999,3.577,1.8220000000000001,1.0960000000000001,0.46338986228811263,0.26654156914776705,0.15871762081738133,9.4004706985539144E-2,5.729134141389243E-2,null,null,0.49102953068018224,0.37967091013139259,0.2954657340538831,0.22457292802116643,0.16475436261295176,0.11394735626595291,3.9941129214701381E-2,2.5657468693927474E-2,1.0328162239057173E-2,5.4767804926010534E-3,4.7426228919198957E-3]
[6085000,705000,25.939655007987199,null,127.56570855837396,0,6.1451446290514166E-5,7.4688145524006311E-3,null,null,6.2229999999999999,5.9939999999999998,4.8959999999999999,3.577,1.8220000000000001,1.0960000000000001,0.47510930486613356,0.27628784027132525,0.16554810025511141,9.8763532258066833E-2,5.9140706031996684E-2,null,null,0.49102953068018224,0.37967091013139259,0.2954657340538831,0.22457292802116643,0.16475436261295176,0.11394735626595291,3.9011717570010561E-2,2.5052553846101788E-2,9.8447225679086838E-3,5.2078435106472608E-3,4.6428556508222247E-3]
[6095000,475000,24.7971830771003,null,123.39777145475522,0,6.5672774891459325E-5,7.630325894467254E-3,null,null,6.2229999999999999,5.9939999999999998,4.8959999999999999,3.577,1.8220000000000001,1.0960000000000001,0.43704214012898202,0.24462994306644925,0.14336129535728781,8.3305887033167103E-2,5.3133588619393365E-2,null,null,0.49102953068018224,0.37967091013139259,0.2954657340538831,0.22457292802116643,0.16475436261295176,0.11394735626595291,4.3684493194172572E-2,2.8046009812010195E-2,1.2091471723982795E-2,6.4603903026382668E-3,5.1484472713512475E-3]
[6095000,485000,24.927777740690399,null,114.14468888213766,0,7.6751802324198071E-5,8.964529859969695E-3,null,null,6.2229999999999999,5.9939999999999998,4.8959999999999999,3.577,1.8220000000000001,1.0960000000000001,0.4413935543198042,0.2482487211945309,0.14589744372420754,8.5072832831541101E-2,5.3820255360550115E-2,null,null,0.49102953068018224,0.37967091013139259,0.2954657340538831,0.22457292802116643,0.16475436261295176,0.11394735626595291,4.2924409470544461E-2,2.7563274617037406E-2,1.1747103507553803E-2,6.2684522563550612E-3,5.0657092919944406E-3]
[6095000,495000,24.852747173099701,null,105.02861514844419,0,9.0653530365759802E-5,1.0556367361479918E-2,null,null,6.2229999999999999,5.9939999999999998,4.8959999999999999,3.577,1.8220000000000001,1.0960000000000001,0.43889353580768209,0.24616962416659272,0.14444035010159617,8.4057669252039002E-2,5.3425744636158221E-2,null,null,0.49102953068018224,0.37967091013139259,0.2954657340538831,0.22457292802116643,0.16475436261295176,0.11394735626595291,4.3354849278860248E-2,2.7836727895489778E-2,1.1942765463489061E-2,6.3775218123767697E-3,5.1125469351528873E-3]
[6095000,505000,25.632183820351798,null,96.08855290824188,0,1.0830704179893666E-4,1.3007615018500686E-2,null,null,6.2229999999999999,5.9939999999999998,4.8959999999999999,3.577,1.8220000000000001,1.0960000000000001,0.46486436489412197,0.26776781366194824,0.15957700979123191,9.460344708935986E-2,5.7524022527409749E-2,null,null,0.49102953068018224,0.37967091013139259,0.2954657340538831,0.22457292802116643,0.16475436261295176,0.11394735626595291,3.9797378149639753E-2,2.5564682184788429E-2,1.0255668346279638E-2,5.4363634798763145E-3,4.7271462040859068E-3]
[6095000,515000,24.502222167121001,null,87.378544277185128,0,1.3097559793634844E-4,1.5036654984064635E-2,null,null,6.2229999999999999,5.9939999999999998,4.8959999999999999,3.577,1.8220000000000001,1.0960000000000001,0.42721404260847184,0.23645657625092287,0.13763315448548985,7.9315065921147176E-2,5.1582684154722211E-2,null,null,0.49102953068018224,0.37967091013139259,0.2954657340538831,0.22457292802116643,0.16475436261295176,0.11394735626595291,4.5580605759938234E-2,2.9248081690510477E-2,1.2930255666285112E-2,6.9273760559786192E-3,5.3554156169788444E-3]
[6095000,525000,25.7676767869429,null,78.974742797935093,0,1.6033323659894722E-4,1.9357719645000483E-2,null,null,6.2229999999999999,{"$f":"L$2+L$3*$C64","v":5.9939999999999998},4.8959999999999999,3.577,1.8220000000000001,1.0960000000000001,0.46937899054093746,0.27152232376618768,0.16220828320243114,9.6436666927337489E-2,5.8236444545745766E-2,null,null,0.49102953068018224,{"$f":"SQRT(Y$2+2*Y$3*$C64+Y$4*$C64^2+Y$5)","v":0.37967091013139259},0.2954657340538831,0.22457292802116643,0.16475436261295176,0.11394735626595291,3.9404659070963945E-2,2.5310076306066274E-2,1.0054082784317405E-2,5.3240901927525215E-3,4.6849368243007177E-3]
[6095000,535000,25.2226666005452,null,70.985984532159591,0,1.9845167999269693E-4,2.3453148362249182E-2,null,null,6.2229999999999999,5.9939999999999998,4.8959999999999999,3.577,1.8220000000000001,1.0960000000000001,0.45121925113016614,0.25642009150110745,0.15162418538258776,8.9062679105376574E-2,5.5370780985666654E-2,null,null,0.49102953068018224,0.37967091013139259,0.2954657340538831,0.22457292802116643,0.16475436261295176,0.11394735626595291,4.1405582478308382E-2,2.6596145710279462E-2,1.1040968832352295E-2,5.8745423853060735E-3,4.9008424928455151E-3]
[6095000,545000,25.5333333192048,null,63.568938956065644,0,2.4746288675355914E-4,2.9605538250882558E-2,null,null,6.2229999999999999,5.9939999999999998,4.8959999999999999,3.577,1.8220000000000001,1.0960000000000001,0.46157066619590403,0.26502866627516497,0.15765733305895724,9.3265999808840983E-2,5.7004266592378824E-2,null,null,0.49102953068018224,0.37967091013139259,0.2954657340538831,0.22457292802116643,0.16475436261295176,0.11394735626595291,4.0128798243398461E-2,2.5778358742121237E-2,1.0421955482260869E-2,5.5290923645494108E-3,4.7628455600775962E-3]
[6095000,555000,24.7048387527466,null,56.947431899954893,0,3.0835550923370572E-4,3.5693497687292894E-2,null,null,6.2229999999999999,5.9939999999999998,4.8959999999999999,3.577,1.8220000000000001,1.0960000000000001,0.43396522724151676,0.24207108183860826,0.14156796857833898,8.2056468324661513E-2,5.2648042161941619E-2,null,null,0.49102953068018224,0.37967091013139259,0.2954657340538831,0.22457292802116643,0.16475436261295176,0.11394735626595291,4.4252209063746016E-2,2.840619954318855E-2,1.2345434122464888E-2,6.6018604797726871E-3,5.210334408497717E-3]
[6095000,565000,25.539393916274602,null,51.429660702750127,0,3.7807040427068316E-4,4.5241671304634259E-2,null,null,6.2229999999999999,5.9939999999999998,4.8959999999999999,3.577,1.8220000000000001,1.0960000000000001,0.46177260529026976,0.26519660541996914,0.15777502985405273,9.3347999687195371E-2,5.7036133211771853E-2,null,null,0.49102953068018224,0.37967091013139259,0.2954657340538831,0.22457292802116643,0.16475436261295176,0.11394735626595291,4.0107408399747892E-2,2.5764592608188433E-2,1.041131035922311E-2,5.5231542763590769E-3,4.7605397070103177E-3]
[6095000,575000,26.918750166892998,null,47.402637057446498,0,4.4503584763752726E-4,5.6131320394997519E-2,null,null,6.2229999999999999,5.9939999999999998,4.8959999999999999,3.577,1.8220000000000001,1.0960000000000001,0.50773275556087483,0.30341856712460491,0.18456212824106205,0.11201068975806228,6.4288788377523373E-2,null,null,0.49102953068018224,0.37967091013139259,0.2954657340538831,0.22457292802116643,0.16475436261295176,0.11394735626595291,3.9130656453220065E-2,2.5055568808777084E-2,9.7553212319835513E-3,5.1710751903822983E-3,4.6586250087163623E-3]
[6095000,585000,27.192307582268299,null,45.265991649360778,0,4.8804056593184031E-4,6.2180950716174362E-2,null,null,6.2229999999999999,5.9939999999999998,4.8959999999999999,3.577,1.8220000000000001,1.0960000000000001,0.5168476886411798,0.31099884310465453,0.18987461324765037,0.11571192158809013,6.5727153267566715E-2,null,null,0.49102953068018224,0.37967091013139259,0.2954657340538831,0.22457292802116643,0.16475436261295176,0.11394735626595291,3.9874416036724349E-2,2.5501376066111262E-2,1.006754172238729E-2,5.3513230910128256E-3,4.740024834055937E-3]
[6095000,595000,26.131034587991699,null,45.288077901363849,0,4.8756466326346516E-4,5.9695858013205039E-2,null,null,6.2229999999999999,5.9939999999999998,4.8959999999999999,3.577,1.8220000000000001,1.0960000000000001,0.48148607247188346,0.28159096843324993,0.16926469169879882,0.10135289797552771,6.0146979863660341E-2,null,null,0.49102953068018224,0.37967091013139259,0.2954657340538831,0.22457292802116643,0.16475436261295176,0.11394735626595291,3.8717211100777561E-2,2.4854839987560429E-2,9.6766669862685777E-3,5.1152459508708214E-3,4.6115332362706802E-3]
[6095000,605000,28.002083500226298,null,47.465882484159081,0,4.4385067088028907E-4,5.823480140209418E-2,null,null,6.2229999999999999,5.9939999999999998,4.8959999999999999,3.577,1.8220000000000001,1.0960000000000001,0.54382942222754038,0.33343773379127073,0.20560046157439466,0.12666818975806182,6.9984955044189875E-2,null,null,0.49102953068018224,0.37967091013139259,0.2954657340538831,0.22457292802116643,0.16475436261295176,0.11394735626595291,4.3677148476110463E-2,2.7832181363155767E-2,1.1695038600151041E-2,6.2753070345121639E-3,5.156176099786797E-3]
[6095000,615000,27.612727286598901,null,{"$f":"(SQRT(($A73-E$1)^2+($B73-E$2)^2)/1000)","v":51.526789148946591},{"$f":"IF(E73=0,1,0)","v":0},{"$f":"IF($F$618=0,1/E73^2,F73)","v":3.7664641564438551E-4},{"$f":"G73/$G$618*C73","v":4.873023595549475E-2},null,null,6.2229999999999999,5.9939999999999998,4.8959999999999999,3.577,1.8220000000000001,1.0960000000000001,0.53085607318947547,0.32264867311165546,0.19803916390575066,0.12140020018768316,6.7937720072937011E-2,null,null,0.49102953068018224,0.37967091013139259,0.2954657340538831,0.22457292802116643,0.16475436261295176,0.11394735626595291,4.1570373301455896E-2,2.653512971703522E-2,1.0796000330100159E-2,5.7669029545651413E-3,4.9254543839108598E-3]
[6095000,625000,27.400000024349101,null,57.070219904955685,0,3.0703006745450581E-4,3.9417297302162188E-2,null,null,6.2229999999999999,{"$f":"L$2+L$3*$C74","v":5.9939999999999998},4.8959999999999999,3.577,1.8220000000000001,1.0960000000000001,0.52376800081131214,0.31675400067471349,0.19390800047285955,0.11852200032944338,6.681920012802757E-2,null,null,0.49102953068018224,{"$f":"SQRT(Y$2+2*Y$3*$C74+Y$4*$C74^2+Y$5)","v":0.37967091013139259},0.2954657340538831,0.22457292802116643,0.16475436261295176,0.11394735626595291,4.0632056408452639E-2,2.5961394475401849E-2,1.0392420357060143E-2,5.537233990620719E-3,4.822849790688262E-3]
[6095000,635000,25.578260919322101,null,63.710360225005786,0,2.4636549306357957E-4,2.9526112062066946E-2,null,null,6.2229999999999999,5.9939999999999998,4.8959999999999999,3.577,1.8220000000000001,1.0960000000000001,0.46306765383181248,0.26627361007441541,0.15852982705323521,9.3873870238428081E-2,5.7240495913795611E-2,null,null,0.49102953068018224,0.37967091013139259,0.2954657340538831,0.22457292802116643,0.16475436261295176,0.11394735626595291,3.9973541909064873E-2,2.567836634657893E-2,1.0344427207582338E-2,5.4858506202864433E-3,4.7461142158491234E-3]
[6095000,645000,26.470000038146999,null,71.140775930544933,0,1.9758901879269155E-4,2.4505982456914606E-2,null,null,6.2229999999999999,5.9939999999999998,4.8959999999999999,3.577,1.8220000000000001,1.0960000000000001,0.49278040127105804,0.29098370105705329,0.17584740074081467,0.10593910051612893,6.1929260200576916E-2,null,null,0.49102953068018224,0.37967091013139259,0.2954657340538831,0.22457292802116643,0.16475436261295176,0.11394735626595291,3.8573844906520119E-2,2.4740414006443567E-2,9.5567222933596076E-3,5.0520907952378525E-3,4.5970296618894884E-3]
[6095000,655000,26.972548952289699,null,79.139181193641377,0,1.5966763584921624E-4,2.0178749853288661E-2,null,null,6.2229999999999999,5.9939999999999998,4.8959999999999999,3.577,1.8220000000000001,1.0960000000000001,0.50952533109029285,0.30490933146794752,0.18560690065346591,0.11273858732447967,6.457166239113922E-2,null,null,0.49102953068018224,0.37967091013139259,0.2954657340538831,0.22457292802116643,0.16475436261295176,0.11394735626595291,3.9253364601107586E-2,2.5128428075235579E-2,9.8057655717771197E-3,5.2003752680039187E-3,4.672072633006597E-3]
[6095000,665000,26.6898306507175,null,87.550042832656573,0,1.304629739556765E-4,1.6315052068629227E-2,null,null,6.2229999999999999,5.9939999999999998,4.8959999999999999,3.577,1.8220000000000001,1.0960000000000001,0.50010515728190719,0.29707520733138193,0.1801165112369339,0.10891340870420779,6.3085129561472594E-2,null,null,0.49102953068018224,0.37967091013139259,0.2954657340538831,0.22457292802116643,0.16475436261295176,0.11394735626595291,3.8741304954363204E-2,2.4828857037236314E-2,9.6035915706312956E-3,5.0818609176785127E-3,4.6158019179182788E-3]
[6095000,675000,25.208474692651802,null,96.265310470594741,0,1.0790967097262226E-4,1.2745659390867617E-2,null,null,6.2229999999999999,5.9939999999999998,4.8959999999999999,3.577,1.8220000000000001,1.0960000000000001,0.45074637675915807,0.25602683373338142,0.15134857853129796,8.8870662591578886E-2,5.5296159933963154E-2,null,null,0.49102953068018224,0.37967091013139259,0.2954657340538831,0.22457292802116643,0.16475436261295176,0.11394735626595291,4.1472080829025135E-2,2.6638585840226409E-2,1.1072478207535057E-2,5.8921269367776764E-3,4.9080463146804329E-3]
[6095000,685000,26.0873016478523,null,105.20936270123492,0,9.0342316069820134E-5,1.1042712159604734E-2,null,null,6.2229999999999999,5.9939999999999998,4.8959999999999999,3.577,1.8220000000000001,1.0960000000000001,0.48002889090643874,0.28037912866198722,0.16841539800129163,0.10076119129544164,5.9917032064407391E-2,null,null,0.49102953068018224,0.37967091013139259,0.2954657340538831,0.22457292802116643,0.16475436261295176,0.11394735626595291,3.877106137816843E-2,2.4891645264382711E-2,9.708847410042961E-3,5.1328772079364069E-3,4.6172323367674887E-3]
[6095000,695000,26.057142742096399,null,114.32851787721206,0,7.6505182078508101E-5,9.3405622024980706E-3,null,null,6.2229999999999999,5.9939999999999998,4.8959999999999999,3.577,1.8220000000000001,1.0960000000000001,0.47902399616665214,0.2795434253834912,0.16782971205151204,0.10035314130056433,5.9758456537942858E-2,null,null,0.49102953068018224,0.37967091013139259,0.2954657340538831,0.22457292802116643,0.16475436261295176,0.11394735626595291,3.8812859386489984E-2,2.4919930665592487E-2,9.7332089763060327E-3,5.1462667005772464E-3,4.6216678852126405E-3]
[6095000,705000,25.841269750443701,null,123.58402000258771,0,6.5474978409625878E-5,7.927652138028712E-3,null,null,6.2229999999999999,5.9939999999999998,4.8959999999999999,3.577,1.8220000000000001,1.0960000000000001,0.47183110808478412,0.27356158478479486,0.16363745855361661,9.7432379723503271E-2,5.8623396347832965E-2,null,null,0.49102953068018224,0.37967091013139259,0.2954657340538831,0.22457292802116643,0.16475436261295176,0.11394735626595291,3.9221867843346352E-2,2.5190766382804E-2,9.9579486072828433E-3,5.2706455835464612E-3,4.665336513856218E-3]
[6095000,715000,25.788709763557701,null,132.94739561194871,0,5.6577054270407772E-5,6.8363661964292964E-3,null,null,6.2229999999999999,5.9939999999999998,4.8959999999999999,3.577,1.8220000000000001,1.0960000000000001,0.47007980932174265,0.27210514754818382,0.16261674360829054,9.6721243100935717E-2,5.8347035936786376E-2,null,null,0.49102953068018224,0.37967091013139259,0.2954657340538831,0.22457292802116643,0.16475436261295176,0.11394735626595291,3.9350201513631854E-2,2.5274599131651952E-2,1.002562707473122E-2,5.3082618505418009E-3,4.6790938016036329E-3]
[6095000,725000,25.784615590022199,null,142.39736654868307,0,4.931693578096573E-5,5.9581593963136557E-3,null,null,6.2229999999999999,{"$f":"L$2+L$3*$C84","v":5.9939999999999998},4.8959999999999999,3.577,1.8220000000000001,1.0960000000000001,0.46994339145953978,0.27199169799951506,0.16253723475823106,9.6665848933000398E-2,5.8325508772336707E-2,null,null,0.49102953068018224,{"$f":"SQRT(Y$2+2*Y$3*$C84+Y$4*$C84^2+Y$5)","v":0.37967091013139259},0.2954657340538831,0.22457292802116643,0.16475436261295176,0.11394735626595291,3.936066346456555E-2,2.52814187990585E-2,1.0031105075092733E-2,5.3113084475619717E-3,4.6802160918599711E-3]
[6105000,465000,25.404761677696602,null,129.71125625788997,0,5.9435328716000758E-5,7.0748162700754059E-3,null,null,6.2229999999999999,5.9939999999999998,4.8959999999999999,3.577,1.8220000000000001,1.0960000000000001,0.45728665910085087,0.26146594608897278,0.155160471780868,9.1526425499235065E-2,5.6328236901328724E-2,null,null,0.49102953068018224,0.37967091013139259,0.2954657340538831,0.22457292802116643,0.16475436261295176,0.11394735626595291,4.0614855131044167E-2,2.6090472538163927E-2,1.0661111082765372E-2,5.6625380595061768E-3,4.8153017317306259E-3]
[6105000,475000,25.243902345982999,null,120.11248894265742,0,6.9314431749891339E-5,8.1985213210093288E-3,null,null,6.2229999999999999,5.9939999999999998,4.8959999999999999,3.577,1.8220000000000001,1.0960000000000001,0.45192682616815361,0.25700853400718882,0.15203658355898986,8.9349998741150016E-2,5.5482438535178605E-2,null,null,0.49102953068018224,0.37967091013139259,0.2954657340538831,0.22457292802116643,0.16475436261295176,0.11394735626595291,4.1307371793373904E-2,2.653344532082047E-2,1.0994318675241702E-2,5.8485073996168415E-3,4.8902059337983337E-3]
[6105000,485000,24.889772718602998,null,110.58485429750314,0,8.1772768196280827E-5,9.5364119330794382E-3,null,null,6.2229999999999999,5.9939999999999998,4.8959999999999999,3.577,1.8220000000000001,1.0960000000000001,0.44012722698385198,0.24719560203248903,0.14515938619527025,8.4558624882698608E-2,5.3620424954414561E-2,null,null,0.49102953068018224,0.37967091013139259,0.2954657340538831,0.22457292802116643,0.16475436261295176,0.11394735626595291,4.314030268716685E-2,2.7700456066253223E-2,1.1845457915348747E-2,6.3232836188981392E-3,5.0891955897380591E-3]
[6105000,495000,25.291304380997399,null,101.14845525266314,0,9.774206065676802E-5,1.1582654207819971E-2,null,null,6.2229999999999999,5.9939999999999998,4.8959999999999999,3.577,1.8220000000000001,1.0960000000000001,0.45350626197483346,0.25832204439743789,0.15295713107896947,8.9991348274894856E-2,5.5731678435284329E-2,null,null,0.49102953068018224,0.37967091013139259,0.2954657340538831,0.22457292802116643,0.16475436261295176,0.11394735626595291,4.1093789738227277E-2,2.6396995514182627E-2,1.0892377391405479E-2,5.7916125880402404E-3,4.8670856435953135E-3]
[6105000,505000,25.816831702053001,null,91.831421637694362,0,1.1858162150880884E-4,1.4344179131211571E-2,null,null,6.2229999999999999,5.9939999999999998,4.8959999999999999,3.577,1.8220000000000001,1.0960000000000001,0.4710168323124061,0.27288440646388867,0.16316287165386928,9.7101732928777162E-2,5.849490108939466E-2,null,null,0.49102953068018224,0.37967091013139259,0.2954657340538831,0.22457292802116643,0.16475436261295176,0.11394735626595291,3.9280155653831729E-2,2.5228885367775254E-2,9.9888026593029054E-3,5.2877888678754086E-3,4.671582656787329E-3]
[6105000,515000,25.548936052525299,null,82.674119287719066,0,1.4630556502477681E-4,1.7514148865641468E-2,null,null,6.2229999999999999,5.9939999999999998,4.8959999999999999,3.577,1.8220000000000001,1.0960000000000001,0.46209054927014304,0.26546101801547595,0.15796033814004129,9.3477104790667342E-2,5.7086305764178016E-2,null,null,0.49102953068018224,0.37967091013139259,0.2954657340538831,0.22457292802116643,0.16475436261295176,0.11394735626595291,4.0074012381253937E-2,2.5743093374716815E-2,1.0394667578727968E-2,5.5138709903992649E-3,4.7569400468571469E-3]
[6105000,525000,25.388888946687299,null,73.736083432740031,0,1.8392462033360249E-4,2.1879577729068546E-2,null,null,6.2229999999999999,5.9939999999999998,4.8959999999999999,3.577,1.8220000000000001,1.0960000000000001,0.45675777970362086,0.26102611271270504,0.15485222334466736,9.131166744867919E-2,5.6244778081681809E-2,null,null,0.49102953068018224,0.37967091013139259,0.2954657340538831,0.22457292802116643,0.16475436261295176,0.11394735626595291,4.0679077257449778E-2,2.6131625950753648E-2,1.0692354659757585E-2,5.6799750491002294E-3,4.8222404379059574E-3]
[6105000,535000,24.647368355801198,null,65.10768003853309,0,2.3590413799448454E-4,2.7243411254908676E-2,null,null,6.2229999999999999,5.9939999999999998,4.8959999999999999,3.577,1.8220000000000001,1.0960000000000001,0.432050313615296,0.24047857713925114,0.14045189346965925,8.1278893853990231E-2,5.2345862814802704E-2,null,null,0.49102953068018224,0.37967091013139259,0.2954657340538831,0.22457292802116643,0.16475436261295176,0.11394735626595291,4.4617695349760109E-2,2.8637945983587119E-2,1.2507593015533803E-2,6.6921555433927188E-3,5.2502142797179992E-3]
[6105000,545000,25.308474556874401,null,56.929869137386923,0,3.0854579282384192E-4,3.6588193735949397E-2,null,null,6.2229999999999999,5.9939999999999998,4.8959999999999999,3.577,1.8220000000000001,1.0960000000000001,0.45407837223505509,0.25879782997098966,0.15329057589450085,9.0223660754510659E-2,5.5821959220045583E-2,null,null,0.49102953068018224,0.37967091013139259,0.2954657340538831,0.22457292802116643,0.16475436261295176,0.11394735626595291,4.1018365853683153E-2,2.6348776978078834E-2,1.0856210857516623E-2,5.7714270576553154E-3,4.8589248455692593E-3]
[6105000,555000,24.848214285714299,null,49.426814584797995,0,4.0933111202983211E-4,4.7656847541439076E-2,null,null,6.2229999999999999,{"$f":"L$2+L$3*$C94","v":5.9939999999999998},4.8959999999999999,3.577,1.8220000000000001,1.0960000000000001,0.43874250000000048,0.24604401785714314,0.14435232142857168,8.3996339285714483E-2,5.340191071428578E-2,null,null,0.49102953068018224,{"$f":"SQRT(Y$2+2*Y$3*$C94+Y$4*$C94^2+Y$5)","v":0.37967091013139259},0.2954657340538831,0.22457292802116643,0.16475436261295176,0.11394735626595291,4.3381398306980262E-2,2.7853587298847925E-2,1.1954777571836888E-2,6.3842165644330687E-3,5.1154373282556445E-3]
[6105000,565000,26.198333390553799,null,42.95357959472063,0,5.4200248237136917E-4,6.6531959105311622E-2,null,null,6.2229999999999999,5.9939999999999998,4.8959999999999999,3.577,1.8220000000000001,1.0960000000000001,0.48372846857325269,0.28345581825224575,0.17057163444455475,0.10226345077419291,6.0500836967531876E-2,null,null,0.49102953068018224,0.37967091013139259,0.2954657340538831,0.22457292802116643,0.16475436261295176,0.11394735626595291,3.865004335690405E-2,2.480798421144698E-2,9.6344967099935772E-3,5.092285544048997E-3,4.6044641912882543E-3]
[6105000,575000,26.627586167434199,null,38.039584645471614,0,6.9108022750361106E-4,8.6221512714640139E-2,null,null,6.2229999999999999,5.9939999999999998,4.8959999999999999,3.577,1.8220000000000001,1.0960000000000001,0.4980311710989076,0.29535041269960161,0.17890772337157218,0.10807124084538472,6.2757848068368996E-2,null,null,0.49102953068018224,0.37967091013139259,0.2954657340538831,0.22457292802116643,0.16475436261295176,0.11394735626595291,3.8673182822103823E-2,2.4790862330497029E-2,9.5803716675013952E-3,5.0677949124467185E-3,4.6082460968813813E-3]
[6105000,585000,26.382352941176499,null,35.341335571820146,0,8.0063410220894947E-4,9.8969866006534082E-2,null,null,6.2229999999999999,5.9939999999999998,4.8959999999999999,3.577,1.8220000000000001,1.0960000000000001,0.48986000000000107,0.28855500000000078,0.17414529411764762,0.10475323529411806,6.1468411764706035E-2,null,null,0.49102953068018224,0.37967091013139259,0.2954657340538831,0.22457292802116643,0.16475436261295176,0.11394735626595291,3.8564186148383965E-2,2.4740844484640159E-2,9.5654660178379567E-3,5.0557772976116046E-3,4.5957232450756546E-3]
[6105000,595000,25.872499918937699,null,35.369619732193897,0,7.9935412186952961E-4,9.6902054454330949E-2,null,null,6.2229999999999999,5.9939999999999998,4.8959999999999999,3.577,1.8220000000000001,1.0960000000000001,0.47287169729900425,0.2744269727537636,0.16424394842577011,9.7854923903227087E-2,5.8787604573774424E-2,null,null,0.49102953068018224,0.37967091013139259,0.2954657340538831,0.22457292802116643,0.16475436261295176,0.11394735626595291,3.9150892881240074E-2,2.5144238479724291E-2,9.9200875105340085E-3,5.2496242338596049E-3,4.6577365355733582E-3]
[6105000,605000,26.5605264211956,null,38.118368275675181,0,6.8822650910867786E-4,8.564922683595888E-2,null,null,6.2229999999999999,5.9939999999999998,4.8959999999999999,3.577,1.8220000000000001,1.0960000000000001,0.49579674035423749,0.29349218713133007,0.17760542309961852,0.10716392247877649,6.240524792264647E-2,null,null,0.49102953068018224,0.37967091013139259,0.2954657340538831,0.22457292802116643,0.16475436261295176,0.11394735626595291,3.861806122845917E-2,2.4761360625364562E-2,9.5641314934241193E-3,5.0576108082294831E-3,4.6020829227674939E-3]
[6105000,615000,26.083870918519999,null,43.069827025424651,0,5.3908065185632439E-4,6.5884182112556644E-2,null,null,6.2229999999999999,5.9939999999999998,4.8959999999999999,3.577,1.8220000000000001,1.0960000000000001,0.47991457900508638,0.28028406315218912,0.16834877323765834,0.10071477352757563,5.9898993289578137E-2,null,null,0.49102953068018224,0.37967091013139259,0.2954657340538831,0.22457292802116643,0.16475436261295176,0.11394735626595291,3.8775624589898125E-2,2.4894743585897428E-2,9.7115297301549504E-3,5.1343498879133096E-3,4.61771613819318E-3]
[6105000,625000,26.759615457974899,null,49.568235796727727,0,4.0699875051383586E-4,5.1030322848295784E-2,null,null,6.2229999999999999,5.9939999999999998,4.8959999999999999,3.577,1.8220000000000001,1.0960000000000001,0.50243038705972376,0.29900894434048442,0.18147173219387253,0.10985759714640042,6.3452058078032017E-2,null,null,0.49102953068018224,0.37967091013139259,0.2954657340538831,0.22457292802116643,0.16475436261295176,0.11394735626595291,3.8836983868014159E-2,2.4883542518902572E-2,9.6388773526671478E-3,5.102865181254755E-3,4.6263629271480252E-3]
[6105000,655000,26.0687500635783,null,73.912177616411768,0,1.8304927137237527E-4,2.2358547391976711E-2,null,null,6.2229999999999999,5.9939999999999998,4.8959999999999999,3.577,1.8220000000000001,1.0960000000000001,0.47941075211842898,0.27986506426175461,0.1680551262346906,0.10051018836021441,5.981948783429468E-2,null,null,0.49102953068018224,0.37967091013139259,0.2954657340538831,0.22457292802116643,0.16475436261295176,0.11394735626595291,3.8796322978925539E-2,2.4908764438023392E-2,9.7236243086640042E-3,5.1409951557698768E-3,4.6199120272187345E-3]
[6105000,665000,25.257894750226999,null,82.855355892060473,0,1.456662117025321E-4,1.7238971306288927E-2,null,null,6.2229999999999999,5.9939999999999998,4.8959999999999999,3.577,1.8220000000000001,1.0960000000000001,0.45239305307756372,0.25739626352879008,0.15230831604940831,8.9539315970571354E-2,5.5556010596693559E-2,null,null,0.49102953068018224,0.37967091013139259,0.2954657340538831,0.22457292802116643,0.16475436261295176,0.11394735626595291,4.1243511608924879E-2,2.6492661177796389E-2,1.0963910158229321E-2,5.8315362890193241E-3,4.883291402517375E-3]
[6105000,675000,25.0661018177614,null,92.01635724152527,0,1.1810544690510581E-4,1.3871138194317864E-2,null,null,6.2229999999999999,{"$f":"L$2+L$3*$C104","v":5.9939999999999998},4.8959999999999999,3.577,1.8220000000000001,1.0960000000000001,0.44600251256780987,0.2520816813701684,0.14858369730092635,8.6944357594311794E-2,5.4547563357789444E-2,null,null,0.49102953068018224,{"$f":"SQRT(Y$2+2*Y$3*$C104+Y$4*$C104^2+Y$5)","v":0.37967091013139259},0.2954657340538831,0.22457292802116643,0.16475436261295176,0.11394735626595291,4.2176716545430044E-2,2.7087686567565643E-2,1.1402820092647757E-2,6.0764465539326603E-3,4.984465161067232E-3]
[6105000,685000,25.9439393823797,null,101.33612386508574,0,9.738037064916676E-5,1.1837574246125939E-2,null,null,6.2229999999999999,5.9939999999999998,4.8959999999999999,3.577,1.8220000000000001,1.0960000000000001,0.47525206022089161,0.2764065602857414,0.16563130280581378,9.8821499843597393E-2,5.9163233272552448E-2,null,null,0.49102953068018224,0.37967091013139259,0.2954657340538831,0.22457292802116643,0.16475436261295176,0.11394735626595291,3.9003464676609791E-2,2.5047094263820874E-2,9.8401979487678665E-3,5.2053384699824509E-3,4.6419743201581622E-3]
[6105000,695000,25.815384556697001,null,110.7745909493689,0,8.1492884448794339E-5,9.8572020937672689E-3,null,null,6.2229999999999999,5.9939999999999998,4.8959999999999999,3.577,1.8220000000000001,1.0960000000000001,0.4709686134291442,0.27284430606607391,0.1631347680910557,9.7082153052110431E-2,5.8487291999112831E-2,null,null,0.49102953068018224,0.37967091013139259,0.2954657340538831,0.22457292802116643,0.16475436261295176,0.11394735626595291,3.9283682709589839E-2,2.5231189583484713E-2,9.9906632907190828E-3,5.2888230002605388E-3,4.6719607430781244E-3]
[6105000,705000,25.095161314933499,null,120.30382371313058,0,6.9094127620999366E-5,8.124310278085219E-3,null,null,6.2229999999999999,5.9939999999999998,4.8959999999999999,3.577,1.8220000000000001,1.0960000000000001,0.44697077501358429,0.25288692003680724,0.14914803273600852,8.733753259105026E-2,5.4700358193920343E-2,null,null,0.49102953068018224,0.37967091013139259,0.2954657340538831,0.22457292802116643,0.16475436261295176,0.11394735626595291,4.2027433679906689E-2,2.699262415124111E-2,1.1333345468741197E-2,6.0376883817993311E-3,4.9682627243467607E-3]
[6105000,715000,24.8777777353923,null,129.90384905767806,0,5.9259224142681971E-5,6.907532171757812E-3,null,null,6.2229999999999999,5.9939999999999998,4.8959999999999999,3.577,1.8220000000000001,1.0960000000000001,0.43972755414327147,0.24686322104772063,0.14492644362131846,8.4396332759857862E-2,5.3557355332692694E-2,null,null,0.49102953068018224,0.37967091013139259,0.2954657340538831,0.22457292802116643,0.16475436261295176,0.11394735626595291,4.3209355513235126E-2,2.7744321451875494E-2,1.1876823116071947E-2,6.340767297509365E-3,5.0967100887075161E-3]
[6105000,725000,25.956923118004401,null,139.56005875607821,0,5.1342582870779444E-5,6.2443364521850833E-3,null,null,6.2229999999999999,5.9939999999999998,4.8959999999999999,3.577,1.8220000000000001,1.0960000000000001,0.47568467829190675,0.27676633959990193,0.16588344695164542,9.8997169786599559E-2,5.9231501754467134E-2,null,null,0.49102953068018224,0.37967091013139259,0.2954657340538831,0.22457292802116643,0.16475436261295176,0.11394735626595291,3.8978915103797925E-2,2.5030835824523607E-2,9.8266957745090072E-3,5.1978656888448868E-3,4.6393534950435354E-3]
[6115000,465000,25.926027428613899,null,127.37743128199752,0,6.1633243985673974E-5,7.4869748591881134E-3,null,null,{"$f":"K$2+K$3*$C110","v":6.2229999999999999},5.9939999999999998,4.8959999999999999,3.577,1.8220000000000001,1.0960000000000001,0.47465523392141518,0.27591022004689114,0.16528345266368188,9.8579151109146113E-2,5.9069052219651877E-2,null,null,{"$f":"SQRT(X$2+2*X$3*$C110+X$4*$C110^2+X$5)","v":0.49102953068018224},0.37967091013139259,0.2954657340538831,0.22457292802116643,0.16475436261295176,0.11394735626595291,3.9038468880679328E-2,2.5070231180812575E-2,9.8593417710489076E-3,5.2159402445769573E-3,4.645713354350438E-3]
[6115000,475000,25.671232955096499,null,117.5883072418342,0,7.2322215721258622E-5,8.6990899711863242E-3,null,null,6.2229999999999999,5.9939999999999998,4.8959999999999999,3.577,1.8220000000000001,1.0960000000000001,0.46616548206381547,0.26884986518572396,0.160335343987974,9.513178188245569E-2,5.7729342877897397E-2,null,null,0.49102953068018224,0.37967091013139259,0.2954657340538831,0.22457292802116643,0.16475436261295176,0.11394735626595291,3.9676817182883538E-2,2.5486715559520388E-2,1.0194380623917429E-2,5.4022081856565903E-3,4.714176261059559E-3]
[6115000,485000,25.662352887321902,null,107.83788759058665,0,8.5991842813790665E-5,1.0339727674117205E-2,null,null,6.2229999999999999,5.9939999999999998,4.8959999999999999,3.577,1.8220000000000001,1.0960000000000001,0.46586959820556584,0.26860379850768989,0.16016289307179132,9.5011634565465353E-2,5.7682651481538547E-2,null,null,0.49102953068018224,0.37967091013139259,0.2954657340538831,0.22457292802116643,0.16475436261295176,0.11394735626595291,3.9703712855964406E-2,2.5504121893926389E-2,1.0208094491075325E-2,5.4098495508993587E-3,4.7170688537068323E-3]
[6115000,495000,25.395699019073199,null,98.137709368010007,0,1.0383127003294567E-4,1.2355027298380528E-2,null,null,6.2229999999999999,5.9939999999999998,4.8959999999999999,3.577,1.8220000000000001,1.0960000000000001,0.456984691315519,0.26121481981851824,0.15498447495040152,9.1403807728060393E-2,5.6280585442286882E-2,null,null,0.49102953068018224,0.37967091013139259,0.2954657340538831,0.22457292802116643,0.16475436261295176,0.11394735626595291,4.0651411261112234E-2,2.6113899762920875E-2,1.0678904721141601E-2,5.6724686061812284E-3,4.8192511333917032E-3]
[6115000,505000,25.020952242896701,null,88.504293681154252,0,1.2766484403824329E-4,1.4966854088978188E-2,null,null,6.2229999999999999,{"$f":"L$2+L$3*$C114","v":5.9939999999999998},4.8959999999999999,3.577,1.8220000000000001,1.0960000000000001,0.44449812873331818,0.2508305866506676,0.14770689255705394,8.6333483846392389E-2,5.4310166893150838E-2,null,null,0.49102953068018224,{"$f":"SQRT(Y$2+2*Y$3*$C114+Y$4*$C114^2+Y$5)","v":0.37967091013139259},0.2954657340538831,0.22457292802116643,0.16475436261295176,0.11394735626595291,4.2414088131585259E-2,2.7238764189587254E-2,1.1512766916553275E-2,6.1377750871063055E-3,5.0102414002626437E-3]
[6115000,515000,25.0771429334368,null,78.962079506558084,0,1.6038466658433587E-4,1.8845005682784466E-2,null,null,6.2229999999999999,5.9939999999999998,4.8959999999999999,3.577,1.8220000000000001,1.0960000000000001,0.44637040254211424,0.25238763068553371,0.14879811576734264,8.7093743889399944E-2,5.4605617544010679E-2,null,null,0.49102953068018224,0.37967091013139259,0.2954657340538831,0.22457292802116643,0.16475436261295176,0.11394735626595291,4.2119671980283498E-2,2.7051365681665034E-2,1.1376302868004061E-2,6.0616536994742868E-3,4.9782730593100196E-3]
[6115000,525000,25.117977485228099,null,69.548616089754077,0,2.0673928728698104E-4,2.4331173374321703E-2,null,null,6.2229999999999999,5.9939999999999998,4.8959999999999999,3.577,1.8220000000000001,1.0960000000000001,0.44773100980780034,0.25351915611567055,0.14959112276312969,8.7646235375136217E-2,5.4820325617329344E-2,null,null,0.49102953068018224,0.37967091013139259,0.2954657340538831,0.22457292802116643,0.16475436261295176,0.11394735626595291,4.1912165382893364E-2,2.6919193586038951E-2,1.1279519928144983E-2,6.0076579169359538E-3,4.9557565313159812E-3]
[6115000,535000,25.097674391990498,null,60.324207412944929,0,2.7480001428960076E-4,3.231510737945608E-2,null,null,6.2229999999999999,5.9939999999999998,4.8959999999999999,3.577,1.8220000000000001,1.0960000000000001,0.44705451074112346,0.25295655740205669,0.14919683669245548,8.7371534523631444E-2,5.4713571953086029E-2,null,null,0.49102953068018224,0.37967091013139259,0.2954657340538831,0.22457292802116643,0.16475436261295176,0.11394735626595291,4.201465348055608E-2,2.6984483899706539E-2,1.1327385517023249E-2,6.0343632981360454E-3,4.9668759252966621E-3]
[6115000,545000,24.624242406902901,null,51.390757923969169,0,3.7864301914797749E-4,4.3686595754060621E-2,null,null,6.2229999999999999,5.9939999999999998,4.8959999999999999,3.577,1.8220000000000001,1.0960000000000001,0.43127975699800469,0.23983775709527932,0.14000278754205436,8.0965999765396257E-2,5.2224266575495434E-2,null,null,0.49102953068018224,0.37967091013139259,0.2954657340538831,0.22457292802116643,0.16475436261295176,0.11394735626595291,4.476733623896987E-2,2.8732802154079345E-2,1.2573699859485137E-2,6.7289578401257735E-3,5.2665505463019213E-3]
[6115000,565000,25.792982603374298,null,35.28469923352047,0,8.0320639994859474E-4,9.7069791608271477E-2,null,null,6.2229999999999999,5.9939999999999998,4.8959999999999999,3.577,1.8220000000000001,1.0960000000000001,0.47022218034443164,0.27222354793950176,0.16269972215752887,9.677905462365427E-2,5.8369502528542047E-2,null,null,0.49102953068018224,0.37967091013139259,0.2954657340538831,0.22457292802116643,0.16475436261295176,0.11394735626595291,3.9339354519716957E-2,2.5267526340836469E-2,1.0019941595256298E-2,5.3051001348514105E-3,4.6779303226832684E-3]
[6115000,575000,25.776923076923101,null,29.103436223236596,0,1.1806236053883662E-3,0.14259290260783489,null,null,6.2229999999999999,5.9939999999999998,4.8959999999999999,3.577,1.8220000000000001,1.0960000000000001,0.46968707692307776,0.2717785384615391,0.16238784615384666,9.656176923076959E-2,5.8285061538461649E-2,null,null,0.49102953068018224,0.37967091013139259,0.2954657340538831,0.22457292802116643,0.16475436261295176,0.11394735626595291,3.9380501512909623E-2,2.5294344913742672E-2,1.004147756048049E-2,5.3170778000100876E-3,4.6823444855816259E-3]
[6115000,585000,26.427026954857102,null,25.475674672125958,0,1.5408083080383969E-3,0.19078854279130381,null,null,6.2229999999999999,5.9939999999999998,4.8959999999999999,3.577,1.8220000000000001,1.0960000000000001,0.49134853813583867,0.28979291691909026,0.17501286346332495,0.10535767469921659,6.1703307728638621E-2,null,null,0.49102953068018224,0.37967091013139259,0.2954657340538831,0.22457292802116643,0.16475436261295176,0.11394735626595291,3.8565030268746671E-2,2.4738077840880796E-2,9.5590533877182669E-3,5.0527881548777702E-3,4.5959478854471596E-3]
[6115000,595000,26.428205147767699,null,25.514897609044016,0,1.5360747146741214E-3,0.19021089164930752,null,null,6.2229999999999999,5.9939999999999998,4.8959999999999999,3.577,1.8220000000000001,1.0960000000000001,0.49138779552361977,0.28982556464464293,0.17503574396964866,0.10537361564929698,6.1709502666962554E-2,null,null,0.49102953068018224,0.37967091013139259,0.2954657340538831,0.22457292802116643,0.16475436261295176,0.11394735626595291,3.8565167327710127E-2,2.4738076554663296E-2,9.558939282894658E-3,5.0527405500817128E-3,4.5959662282868277E-3]
[6115000,605000,26.657692273457801,null,29.206334929258073,0,1.1723191990715229E-3,0.14642788840424234,null,null,6.2229999999999999,5.9939999999999998,4.8959999999999999,3.577,1.8220000000000001,1.0960000000000001,0.49903430655161396,0.29618465289751561,0.1794923839505505,0.10847857645988407,6.2916145973841112E-2,null,null,0.49102953068018224,0.37967091013139259,0.2954657340538831,0.22457292802116643,0.16475436261295176,0.11394735626595291,3.8704098162423491E-2,2.4807966480361297E-2,9.5906264900858414E-3,5.0740458057693576E-3,4.6116805495827985E-3]
[6115000,615000,25.498591570786999,null,35.426120306914783,0,7.9680639994900442E-4,9.5197244546894974E-2,null,null,6.2229999999999999,{"$f":"L$2+L$3*$C124","v":5.9939999999999998},4.8959999999999999,3.577,1.8220000000000001,1.0960000000000001,0.46041307113862284,0.26406597242650776,0.1569826483046835,9.279594395274815E-2,5.6821594479198032E-2,null,null,0.49102953068018224,{"$f":"SQRT(Y$2+2*Y$3*$C124+Y$4*$C124^2+Y$5)","v":0.37967091013139259},0.2954657340538831,0.22457292802116643,0.16475436261295176,0.11394735626595291,4.0254079949549625E-2,2.5858929740569716E-2,1.0484086658177459E-2,5.5637543133134479E-3,4.7763557058324363E-3]
[6115000,625000,26.983636162497799,null,43.093038881007217,0,5.385000619275072E-4,6.8083457371711203E-2,null,null,6.2229999999999999,5.9939999999999998,4.8959999999999999,3.577,1.8220000000000001,1.0960000000000001,0.50989475693442676,0.305216558062814,0.18582221427570728,0.11288859727859524,6.4629958942413426E-2,null,null,0.49102953068018224,0.37967091013139259,0.2954657340538831,0.22457292802116643,0.16475436261295176,0.11394735626595291,3.928010638858704E-2,2.5144356329880522E-2,9.8168434245904743E-3,5.206797005725009E-3,4.6750017815258855E-3]
[6115000,635000,26.41428565979,null,51.565589301393622,0,3.7607981918082292E-4,4.6545132548339793E-2,null,null,6.2229999999999999,5.9939999999999998,4.8959999999999999,3.577,1.8220000000000001,1.0960000000000001,0.49092399818420285,0.28943985563278085,0.1747654275131218,0.10518528497695873,6.163631399917581E-2,null,null,0.49102953068018224,0.37967091013139259,0.2954657340538831,0.22457292802116643,0.16475436261295176,0.11394735626595291,3.8563924928249026E-2,2.4738327078218918E-2,9.5604680381669686E-3,5.0534055227819692E-3,4.5957902870581852E-3]
[6115000,655000,25.6022727706216,null,69.73528518619537,0,2.0563395921456055E-4,2.4667704056240455E-2,null,null,6.2229999999999999,5.9939999999999998,4.8959999999999999,3.577,1.8220000000000001,1.0960000000000001,0.46386772871711179,0.26693897847392445,0.15899613720547146,9.4198750586510283E-2,5.7366750227928351E-2,null,null,0.49102953068018224,0.37967091013139259,0.2954657340538831,0.22457292802116643,0.16475436261295176,0.11394735626595291,3.9893716966882507E-2,2.5626885169528244E-2,1.0304318120277834E-2,5.4634851295000449E-3,4.737516979695087E-3]
[6115000,665000,24.699999915229,null,79.151816150989234,0,1.596166646182528E-4,1.8472707560156919E-2,null,null,6.2229999999999999,5.9939999999999998,4.8959999999999999,3.577,1.8220000000000001,1.0960000000000001,0.43380399717543039,0.24193699765099552,0.14147399835374719,8.1990998853048391E-2,5.2622599554274077E-2,null,null,0.49102953068018224,0.37967091013139259,0.2954657340538831,0.22457292802116643,0.16475436261295176,0.11394735626595291,4.4282626923504424E-2,2.8425490659506551E-2,1.2358968640855382E-2,6.6093979867252219E-3,5.2136523289124008E-3]
[6115000,675000,24.6032786760174,null,88.69616677173822,0,1.2711309633520234E-4,1.4653408451290241E-2,null,null,6.2229999999999999,5.9939999999999998,4.8959999999999999,3.577,1.8220000000000001,1.0960000000000001,0.43058124548489984,0.23925685211244208,0.13959567188825789,8.0682360486515448E-2,5.2114039278499488E-2,null,null,0.49102953068018224,0.37967091013139259,0.2954657340538831,0.22457292802116643,0.16475436261295176,0.11394735626595291,4.4904241999917313E-2,2.8819572479500594E-2,1.2634039913048999E-2,6.7625456575868687E-3,5.2815006426647692E-3]
[6115000,685000,25.201612933989502,null,98.331124268971919,0,1.0342320465073469E-4,1.2212419089832494E-2,null,null,6.2229999999999999,5.9939999999999998,4.8959999999999999,3.577,1.8220000000000001,1.0960000000000001,0.45051774296053027,0.255836694400849,0.15121532317807612,8.8777822996877975E-2,5.5260080806916786E-2,null,null,0.49102953068018224,0.37967091013139259,0.2954657340538831,0.22457292802116643,0.16475436261295176,0.11394735626595291,4.1504479681670522E-2,2.66592592041805E-2,1.1087807783025231E-2,5.900681801479987E-3,4.9115566338684942E-3]
[6115000,695000,25.3378786607222,null,108.03244882904394,0,8.568238738549621E-5,1.0172253689078016E-2,null,null,6.2229999999999999,5.9939999999999998,4.8959999999999999,3.577,1.8220000000000001,1.0960000000000001,0.45505811697526377,0.2596126176886121,0.15386160359122514,9.0621498279571389E-2,5.5976565998077335E-2,null,null,0.49102953068018224,0.37967091013139259,0.2954657340538831,0.22457292802116643,0.16475436261295176,0.11394735626595291,4.0891623161553203E-2,2.6267708040802223E-2,1.0795230158793526E-2,5.7373919067391374E-3,4.8452160913511457E-3]
[6115000,705000,24.919999949137399,null,117.78374251143492,0,7.2082410378137104E-5,8.4165229028443766E-3,null,null,6.2229999999999999,5.9939999999999998,4.8959999999999999,3.577,1.8220000000000001,1.0960000000000001,0.44113439830525825,0.24803319859059725,0.14574639901224828,8.4967599311829012E-2,5.3779359732564438E-2,null,null,0.49102953068018224,0.37967091013139259,0.2954657340538831,0.22457292802116643,0.16475436261295176,0.11394735626595291,4.29682322731543E-2,2.7591124842437972E-2,1.1767104107774774E-2,6.279603117819217E-3,5.0704756696760044E-3]
[6115000,865000,28.560344597389001,null,276.23361489869404,0,1.3105299376803698E-5,1.7537422358240781E-3,null,null,6.2229999999999999,5.9939999999999998,4.8959999999999999,3.577,1.8220000000000001,1.0960000000000001,0.56243068198500157,0.34890714879364915,0.21644189208129444,0.13422146240267324,7.2920291893071351E-2,null,null,0.49102953068018224,0.37967091013139259,0.2954657340538831,0.22457292802116643,0.16475436261295176,0.11394735626595291,4.7454262436445183E-2,3.0173967426469991E-2,1.3269380970138507E-2,7.1589326742998527E-3,5.5712719991386573E-3]
[6115000,875000,28.069999885559099,null,286.19400762419883,0,1.2208967217824217E-5,1.6057454876259171E-3,null,null,6.2229999999999999,{"$f":"L$2+L$3*$C134","v":5.9939999999999998},4.8959999999999999,3.577,1.8220000000000001,1.0960000000000001,0.54609239618682925,0.33531969682884255,0.20691939777755769,0.12758709845161464,7.0342059398269721E-2,null,null,0.49102953068018224,{"$f":"SQRT(Y$2+2*Y$3*$C134+Y$4*$C134^2+Y$5)","v":0.37967091013139259},0.2954657340538831,0.22457292802116643,0.16475436261295176,0.11394735626595291,4.4092074654763662E-2,2.8088603744714124E-2,1.1870395692030295E-2,6.374085287250756E-3,5.2016836590974011E-3]
[6115000,885000,28.508196908919501,null,296.15706981262497,0,1.1401337217236858E-5,1.5229334040891306E-3,null,null,6.2229999999999999,5.9939999999999998,4.8959999999999999,3.577,1.8220000000000001,1.0960000000000001,0.56069312100519786,0.3474621363461593,0.21542918397121674,0.13351590417768089,7.2646099347098717E-2,null,null,0.49102953068018224,0.37967091013139259,0.2954657340538831,0.22457292802116643,0.16475436261295176,0.11394735626595291,4.7068332716787079E-2,2.9934042160225185E-2,1.3110712854028421E-2,7.0701597968518964E-3,5.5287749689525989E-3]
[6115000,895000,28.966153893104,null,306.12254082311551,0,1.0671104707974013E-5,1.448290182760562E-3,null,null,6.2229999999999999,5.9939999999999998,4.8959999999999999,3.577,1.8220000000000001,1.0960000000000001,0.5759522477182254,0.36015212437791178,0.22432270860407971,0.13971206217369714,7.5054037169940815E-2,null,null,0.49102953068018224,0.37967091013139259,0.2954657340538831,0.22457292802116643,0.16475436261295176,0.11394735626595291,5.0658109960947585E-2,3.216978979798317E-2,1.4569529611599468E-2,7.8845767570772888E-3,5.9247480574884347E-3]
[6125000,475000,25.116867456091502,null,{"$f":"(SQRT(($A137-E$1)^2+($B137-E$2)^2)/1000)","v":115.8749757281528},{"$f":"IF(E137=0,1,0)","v":0},{"$f":"IF($F$618=0,1/E137^2,F137)","v":7.447674500875473E-5},{"$f":"G137/$G$618*C137","v":8.76479036573591E-3},null,null,6.2229999999999999,5.9939999999999998,4.8959999999999999,3.577,1.8220000000000001,1.0960000000000001,0.44769402363696886,0.25348839720829541,0.14956956599729693,8.7631216680918056E-2,5.48144890841291E-2,null,null,0.49102953068018224,0.37967091013139259,0.2954657340538831,0.22457292802116643,0.16475436261295176,0.11394735626595291,4.1917733529257713E-2,2.692274131349533E-2,1.128212372469997E-2,6.0091106814770907E-3,4.9563605642110485E-3]
[6125000,485000,25.995294077256101,null,105.96702317230583,0,8.9055045814368311E-5,1.0846974970723209E-2,null,null,6.2229999999999999,5.9939999999999998,4.8959999999999999,3.577,1.8220000000000001,1.0960000000000001,0.47696319865417336,0.27782959888076653,0.16662861098031351,9.9516328865275061E-2,5.9433256258212566E-2,null,null,0.49102953068018224,0.37967091013139259,0.2954657340538831,0.22457292802116643,0.16475436261295176,0.11394735626595291,3.8910423368882549E-2,2.4985314221037776E-2,9.7886457341699231E-3,5.1768309895159513E-3,4.6320489472077451E-3]
[6125000,495000,25.422123799281799,null,96.07814527768528,0,1.0833050771259052E-4,1.2903810591258927E-2,null,null,6.2229999999999999,5.9939999999999998,4.8959999999999999,3.577,1.8220000000000001,1.0960000000000001,0.45786516499206964,0.26194705047809863,0.15549764418205253,9.1761335004282796E-2,5.6419526936623679E-2,null,null,0.49102953068018224,0.37967091013139259,0.2954657340538831,0.22457292802116643,0.16475436261295176,0.11394735626595291,4.0545656630449942E-2,2.6046110319694928E-2,1.0627359758835732E-2,5.6437020664193965E-3,4.8078272771374941E-3]
[6125000,505000,24.955238106137202,null,86.214905903793692,0,1.3453499995291275E-4,1.5730856619881484E-2,null,null,6.2229999999999999,5.9939999999999998,4.8959999999999999,3.577,1.8220000000000001,1.0960000000000001,0.44230853369649159,0.24900964792106184,0.14643072402118446,8.5444371576036349E-2,5.396464196206939E-2,null,null,0.49102953068018224,0.37967091013139259,0.2954657340538831,0.22457292802116643,0.16475436261295176,0.11394735626595291,4.2771183099975608E-2,2.7465876887897891E-2,1.1677022719431362E-2,6.2293773034973257E-3,5.0490475556290229E-3]
[6125000,515000,24.825490222257699,null,76.387237153859672,0,1.7137931211771705E-4,1.9934787027397725E-2,null,null,6.2229999999999999,5.9939999999999998,4.8959999999999999,3.577,1.8220000000000001,1.0960000000000001,0.43798533420562658,0.24541433405876079,0.14391102011624451,8.3688882707146695E-2,5.3282427588630984E-2,null,null,0.49102953068018224,0.37967091013139259,0.2954657340538831,0.22457292802116643,0.16475436261295176,0.11394735626595291,4.3515415007465967E-2,2.7938680467617348E-2,1.201531747823791E-2,6.4179552281494103E-3,5.1300303293277802E-3]
[6125000,525000,24.875824268047602,null,66.610884996372789,0,2.2537699937570565E-4,2.6268933699611547E-2,null,null,6.2229999999999999,5.9939999999999998,4.8959999999999999,3.577,1.8220000000000001,1.0960000000000001,0.43966246461134617,0.24680909046759902,0.14488850728548441,8.4369902346684067E-2,5.3547084001394282E-2,null,null,0.49102953068018224,0.37967091013139259,0.2954657340538831,0.22457292802116643,0.16475436261295176,0.11394735626595291,4.3220642469073416E-2,2.7751490902211517E-2,1.1881945666979673E-2,6.3436226298946453E-3,5.0979384757187402E-3]
[6125000,535000,25.2200000762939,null,56.912300955065938,0,3.0873631140379321E-4,3.6482800345132751E-2,null,null,6.2229999999999999,5.9939999999999998,4.8959999999999999,3.577,1.8220000000000001,1.0960000000000001,0.45113040254211279,0.25634620211410397,0.15157240148162754,8.9026601032256514E-2,5.5356760401153324E-2,null,null,0.49102953068018224,0.37967091013139259,0.2954657340538831,0.22457292802116643,0.16475436261295176,0.11394735626595291,4.1418024222349269E-2,2.6604087052532272E-2,1.1046868889751876E-2,5.8778350854392812E-3,4.902190206587327E-3]
[6125000,545000,25.208450774071899,null,47.339307134769093,0,4.4622737069446362E-4,5.2705717940306006E-2,null,null,6.2229999999999999,{"$f":"L$2+L$3*$C144","v":5.9939999999999998},4.8959999999999999,3.577,1.8220000000000001,1.0960000000000001,0.45074557979207575,0.25602617094953228,0.15134811403247628,8.8870338973192797E-2,5.5296034170070049E-2,null,null,0.49102953068018224,{"$f":"SQRT(Y$2+2*Y$3*$C144+Y$4*$C144^2+Y$5)","v":0.37967091013139259},0.2954657340538831,0.22457292802116643,0.16475436261295176,0.11394735626595291,4.1472193485070218E-2,2.6638657729353171E-2,1.1072531535978286E-2,5.8921566975900291E-3,4.9080585200349663E-3]
[6125000,555000,25.8051722954059,null,37.986971450748747,0,6.9299589053436886E-4,8.3790116476815127E-2,null,null,6.2229999999999999,5.9939999999999998,4.8959999999999999,3.577,1.8220000000000001,1.0960000000000001,0.4706283408829246,0.27256132430569746,0.16293644597678253,9.694398115684183E-2,5.84335959292442E-2,null,null,0.49102953068018224,0.37967091013139259,0.2954657340538831,0.22457292802116643,0.16475436261295176,0.11394735626595291,3.9308811784555191E-2,2.5247598872598337E-2,1.0003899603807005E-2,5.2961806735419038E-3,4.67465487546357E-3]
[6125000,565000,25.877419440977,null,29.069055712217416,0,1.1834179477165951E-3,0.14348763864705913,null,null,6.2229999999999999,5.9939999999999998,4.8959999999999999,3.577,1.8220000000000001,1.0960000000000001,0.47303561577335373,0.27456329270947266,0.16433948554377337,9.7921485036418843E-2,5.8813471420657057E-2,null,null,0.49102953068018224,0.37967091013139259,0.2954657340538831,0.22457292802116643,0.16475436261295176,0.11394735626595291,3.9140073194493544E-2,2.5137133565446529E-2,9.9142850758617788E-3,5.246404256336574E-3,4.6565785695480985E-3]
[6125000,575000,25.344067848334898,null,21.142611002428247,0,2.2370864186483526E-3,0.26565283534649237,null,null,6.2229999999999999,5.9939999999999998,4.8959999999999999,3.577,1.8220000000000001,1.0960000000000001,0.45526434070651889,0.25978412007735996,0.15398179761466374,9.0705237987971199E-2,5.6009108746544897E-2,null,null,0.49102953068018224,0.37967091013139259,0.2954657340538831,0.22457292802116643,0.16475436261295176,0.11394735626595291,4.0865337139978912E-2,2.6250887635634872E-2,1.0782549663086656E-2,5.7303145607937008E-3,4.842373693256628E-3]
[6125000,585000,24.865789488742202,null,15.78005069700348,0,4.0159029757841046E-3,0.4678868463830172,null,null,6.2229999999999999,5.9939999999999998,4.8959999999999999,3.577,1.8220000000000001,1.0960000000000001,0.43932810576489023,0.24653102673304639,0.14469363187137357,8.423413178268202E-2,5.349432113180648E-2,null,null,0.49102953068018224,0.37967091013139259,0.2954657340538831,0.22457292802116643,0.16475436261295176,0.11394735626595291,4.3278803900751131E-2,2.7788432646468068E-2,1.1908323444913972E-2,6.3583252977065874E-3,5.1042688254149607E-3]
[6125000,595000,26.417142868041999,null,15.843295111813074,0,3.9839050237042341E-3,0.49311724763571801,null,null,6.2229999999999999,5.9939999999999998,4.8959999999999999,3.577,1.8220000000000001,1.0960000000000001,0.49101920036315949,0.28951902887344372,0.17482091449737563,0.1052239430046083,6.1651337200164816E-2,null,null,0.49102953068018224,0.37967091013139259,0.2954657340538831,0.22457292802116643,0.16475436261295176,0.11394735626595291,3.85641127884776E-2,2.4738233714866609E-2,9.5601220370415893E-3,5.0532507502829178E-3,4.5958191365382418E-3]
[6125000,605000,27.294029862133399,null,21.284031572989175,0,2.2074567890333543E-3,0.28230283866410527,null,null,6.2229999999999999,5.9939999999999998,4.8959999999999999,3.577,1.8220000000000001,1.0960000000000001,0.52023707500628491,0.31381756747971645,0.19185005992263066,0.1170882240346649,6.6262009015097392E-2,null,null,0.49102953068018224,0.37967091013139259,0.2954657340538831,0.22457292802116643,0.16475436261295176,0.11394735626595291,4.022531552829535E-2,2.5713951832590728E-2,1.0217672477637099E-2,5.4373790712428892E-3,4.7783868490002095E-3]
[6125000,615000,26.3892855644226,null,29.240554030318918,0,1.1695769640121167E-3,0.14461449001108204,null,null,6.2229999999999999,5.9939999999999998,4.8959999999999999,3.577,1.8220000000000001,1.0960000000000001,0.49009099500656117,0.28874710299015016,0.17427992566108691,0.10484703368663784,6.1504863497734027E-2,null,null,0.49102953068018224,0.37967091013139259,0.2954657340538831,0.22457292802116643,0.16475436261295176,0.11394735626595291,3.8563761133118449E-2,2.4740068021042002E-2,9.5642045828397658E-3,5.055162263568452E-3,4.595697956726672E-3]
[6125000,635000,25.846808453823702,null,47.529043752215337,0,4.4267178985484798E-4,5.3609794530008296E-2,null,null,6.2229999999999999,5.9939999999999998,4.8959999999999999,3.577,1.8220000000000001,1.0960000000000001,0.47201565768140585,0.27371506225545472,0.16374502017325626,9.7507318380234687E-2,5.8652518850205018E-2,null,null,0.49102953068018224,0.37967091013139259,0.2954657340538831,0.22457292802116643,0.16475436261295176,0.11394735626595291,3.9208992318902985E-2,2.5182335398167121E-2,9.9511050607546895E-3,5.2668445736102302E-3,4.6639573193701387E-3]
[6125000,645000,25.578260753465699,null,57.105253698762255,0,3.0665346012431728E-4,3.6751430797185902E-2,null,null,6.2229999999999999,5.9939999999999998,4.8959999999999999,3.577,1.8220000000000001,1.0960000000000001,0.4630676483054772,0.26627360547853451,0.15852982383230385,9.3873867994390958E-2,5.7240495041722642E-2,null,null,0.49102953068018224,0.37967091013139259,0.2954657340538831,0.22457292802116643,0.16475436261295176,0.11394735626595291,3.9973542468051654E-2,2.5678366706908103E-2,1.034442748784155E-2,5.4858507765782223E-3,4.7461142760653503E-3]
[6125000,655000,25.2754716333353,null,66.805763224440454,0,2.2406402853679467E-4,2.6535469735675471E-2,null,null,6.2229999999999999,{"$f":"L$2+L$3*$C154","v":5.9939999999999998},4.8959999999999999,3.577,1.8220000000000001,1.0960000000000001,0.45297871482273222,0.25788331895972116,0.15264965911937151,8.9777131199026639E-2,5.5648429848077011E-2,null,null,0.49102953068018224,{"$f":"SQRT(Y$2+2*Y$3*$C154+Y$4*$C154^2+Y$5)","v":0.37967091013139259},0.2954657340538831,0.22457292802116643,0.16475436261295176,0.11394735626595291,4.1164256456830438E-2,2.6442028933183967E-2,1.0926086780823107E-2,5.8104265388181789E-3,4.8747119179851865E-3]
[6125000,665000,25.2323529860553,null,76.583353282550902,0,1.7050269309003735E-4,2.0157857297524107E-2,null,null,6.2229999999999999,5.9939999999999998,4.8959999999999999,3.577,1.8220000000000001,1.0960000000000001,0.45154200149536272,0.25668850124359233,0.15181229498919391,8.919373590132823E-2,5.5421712000678761E-2,null,null,0.49102953068018224,0.37967091013139259,0.2954657340538831,0.22457292802116643,0.16475436261295176,0.11394735626595291,4.1360592329785964E-2,2.6567425946346208E-2,1.1019615586318554E-2,5.8626254580237229E-3,4.8959695021759059E-3]
[6125000,675000,25.572881375329001,null,86.411862611565084,0,1.3392241338902722E-4,1.6046794942122491E-2,null,null,6.2229999999999999,5.9939999999999998,4.8959999999999999,3.577,1.8220000000000001,1.0960000000000001,0.46288840742596238,0.26612454291036658,0.15842535630888921,9.380108500820139E-2,5.7212210271479866E-2,null,null,0.49102953068018224,0.37967091013139259,0.2954657340538831,0.22457292802116643,0.16475436261295176,0.11394735626595291,3.9991727806254825E-2,2.5690087917022941E-2,1.0353540643507365E-2,5.4909329963364938E-3,4.7480733626011273E-3]
[6125000,685000,26.078688418278901,null,96.275697868153628,0,1.0788638700357428E-4,1.318280313513835E-2,null,null,6.2229999999999999,5.9939999999999998,4.8959999999999999,3.577,1.8220000000000001,1.0960000000000001,0.47974189809705303,0.2801404560705083,0.16824812908297621,0.10064465429931357,5.9871743703310457E-2,null,null,0.49102953068018224,0.37967091013139259,0.2954657340538831,0.22457292802116643,0.16475436261295176,0.11394735626595291,3.8782611136322198E-2,2.489948206233435E-2,9.7156250434361838E-3,5.1365991365329841E-3,4.6184570894744455E-3]
[6125000,695000,26.520588341881201,null,106.16501306927816,0,8.8723193396155248E-5,1.1024926200942071E-2,null,null,6.2229999999999999,5.9939999999999998,4.8959999999999999,3.577,1.8220000000000001,1.0960000000000001,0.49446600355148174,0.29238550295352805,0.17682982559933286,0.10662356026565267,6.2195253501611356E-2,null,null,0.49102953068018224,0.37967091013139259,0.2954657340538831,0.22457292802116643,0.16475436261295176,0.11394735626595291,3.8594270464438481E-2,2.4749442166260169E-2,9.558803905790109E-3,5.0540078843607046E-3,4.5993901577890883E-3]
[6125000,705000,26.755714280264701,null,116.07329580915673,0,7.4222464022516112E-5,9.3048052808792636E-3,null,null,6.2229999999999999,5.9939999999999998,4.8959999999999999,3.577,1.8220000000000001,1.0960000000000001,0.5023003998184199,0.29890084270613482,0.18139597132274049,0.10980481421198146,6.3431545685631793E-2,null,null,0.49102953068018224,0.37967091013139259,0.2954657340538831,0.22457292802116643,0.16475436261295176,0.11394735626595291,3.8831098929323044E-2,2.488014951457419E-2,9.6366482720907868E-3,5.1015459995380286E-3,4.6257144685686261E-3]
[6125000,715000,27.705263137817401,null,125.99607136732479,0,6.299208630419759E-5,8.1771816159856587E-3,null,null,6.2229999999999999,5.9939999999999998,4.8959999999999999,3.577,1.8220000000000001,1.0960000000000001,0.53393936775207584,0.32521284154892016,0.19983621013641389,0.12265221025466944,6.8424273578643877E-2,null,null,0.49102953068018224,0.37967091013139259,0.2954657340538831,0.22457292802116643,0.16475436261295176,0.11394735626595291,4.2027109734432619E-2,2.681546783467631E-2,1.0991994071291603E-2,5.8780652532122299E-3,4.9754278313316018E-3]
[6125000,865000,28.364999930063899,null,275.50863870303596,0,1.3174360954566768E-5,1.7509256978615465E-3,null,null,6.2229999999999999,5.9939999999999998,4.8959999999999999,3.577,1.8220000000000001,1.0960000000000001,0.55592179766972916,0.34349414806207057,0.21264829864184093,0.13157844905376459,7.1893169632275974E-2,null,null,0.49102953068018224,0.37967091013139259,0.2954657340538831,0.22457292802116643,0.16475436261295176,0.11394735626595291,4.6041736853183968E-2,2.9296453769416021E-2,1.2686297730148611E-2,6.8324279574958095E-3,5.4158216220992752E-3]
[6125000,875000,29.105128166003102,null,285.49432568791974,0,1.2268883375797984E-5,1.6731309233396672E-3,null,null,6.2229999999999999,5.9939999999999998,4.8959999999999999,3.577,1.8220000000000001,1.0960000000000001,0.58058287049122348,0.36400310147994586,0.22702158898378028,0.14159238408602198,7.5784763896844312E-2,null,null,0.49102953068018224,0.37967091013139259,0.2954657340538831,0.22457292802116643,0.16475436261295176,0.11394735626595291,5.1829544032393475E-2,3.2901023402749217E-2,1.5038022351320556E-2,8.1454006665900754E-3,6.0542740564966139E-3]
[6125000,885000,28.6696202483358,null,295.48098077541306,0,1.1453571630236097E-5,1.5385735015432439E-3,null,null,6.2229999999999999,5.9939999999999998,4.8959999999999999,3.577,1.8220000000000001,1.0960000000000001,0.56607174667454896,0.351935177081385,0.2185640252226812,0.13569996195998341,7.3494863265749624E-2,null,null,0.49102953068018224,0.37967091013139259,0.2954657340538831,0.22457292802116643,0.16475436261295176,0.11394735626595291,4.8282918185674546E-2,3.0689517861809526E-2,1.360850372191779E-2,7.3484956956724797E-3,5.6625818328713395E-3]
[6125000,895000,27.855000138282801,null,305.46850901525022,0,1.0716848954908965E-5,1.3987034511762533E-3,null,null,6.2229999999999999,{"$f":"L$2+L$3*$C164","v":5.9939999999999998},4.8959999999999999,3.577,1.8220000000000001,1.0960000000000001,0.53892860460758296,0.32936205383181638,0.20274410268545201,0.12467815187096631,6.9211590727090946E-2,null,null,0.49102953068018224,{"$f":"SQRT(Y$2+2*Y$3*$C164+Y$4*$C164^2+Y$5)","v":0.37967091013139259},0.2954657340538831,0.22457292802116643,0.16475436261295176,0.11394735626595291,4.2825320354234094E-2,2.7306635039104792E-2,1.1333180695989337E-2,6.0711114634254175E-3,5.0628220074310027E-3]
[6135000,465000,25.158333369663801,null,125.0000399999936,0,6.3999959040026208E-5,7.5442650066456819E-3,null,null,6.2229999999999999,5.9939999999999998,4.8959999999999999,3.577,1.8220000000000001,1.0960000000000001,0.44907566787719788,0.25463741767338388,0.15037483403887103,8.8192250491551272E-2,5.5032516857692268E-2,null,null,0.49102953068018224,0.37967091013139259,0.2954657340538831,0.22457292802116643,0.16475436261295176,0.11394735626595291,4.1712514514883607E-2,2.6791944740371079E-2,1.1185903402979178E-2,5.9554223543109948E-3,4.9341046009484264E-3]
[6135000,475000,24.417441833850901,null,115.00873879840609,0,7.5602876235823536E-5,8.6495567358088055E-3,null,null,6.2229999999999999,5.9939999999999998,4.8959999999999999,3.577,1.8220000000000001,1.0960000000000001,0.42438916190391207,0.23410731321600842,0.1359867204133845,7.8167988012002698E-2,5.1136909162388042E-2,null,null,0.49102953068018224,0.37967091013139259,0.2954657340538831,0.22457292802116643,0.16475436261295176,0.11394735626595291,4.6168361457171569E-2,2.9620255913234722E-2,1.3185275656726839E-2,7.069209654849788E-3,5.4197200016630719E-3]
[6135000,485000,26.3531249562899,null,105.01909350208656,0,9.0669969471421282E-5,1.1195692523400826E-2,null,null,6.2229999999999999,5.9939999999999998,4.8959999999999999,3.577,1.8220000000000001,1.0960000000000001,0.48888612354357952,0.2877450925387931,0.17357768665114987,0.10435778065860235,6.1314731020172278E-2,null,null,0.49102953068018224,0.37967091013139259,0.2954657340538831,0.22457292802116643,0.16475436261295176,0.11394735626595291,3.8568223740679031E-2,2.4745519815072677E-2,9.5718584880307642E-3,5.0589801611354152E-3,4.5960728159778232E-3]
[6135000,495000,26.275510281932601,null,95.031626314611714,0,1.1072958617031758E-4,1.3632333672366237E-2,null,null,6.2229999999999999,5.9939999999999998,4.8959999999999999,3.577,1.8220000000000001,1.0960000000000001,0.48630000259399431,0.28559438991235231,0.17207040967513104,0.10330765411454812,6.0906633062401613E-2,null,null,0.49102953068018224,0.37967091013139259,0.2954657340538831,0.22457292802116643,0.16475436261295176,0.11394735626595291,3.8596554646144032E-2,2.4768922978294895E-2,9.5972368872890082E-3,5.0722565369895195E-3,4.598906401549291E-3]
[6135000,505000,26.4895238967169,null,85.047104595041915,0,1.3825502798973043E-4,1.7159730346486858E-2,null,null,6.2229999999999999,5.9939999999999998,4.8959999999999999,3.577,1.8220000000000001,1.0960000000000001,0.49343093623860723,0.29152470717802526,0.1762265540742422,0.10620325832257971,6.2031916648937438E-2,null,null,0.49102953068018224,0.37967091013139259,0.2954657340538831,0.22457292802116643,0.16475436261295176,0.11394735626595291,3.8580440889667708E-2,2.4743094103784953E-2,9.5569073021956018E-3,5.0524798918844451E-3,4.5978014451162732E-3]
[6135000,515000,25.110476230439701,null,75.066703670802013,0,1.7746197433544928E-4,2.0879285367760091E-2,null,null,6.2229999999999999,5.9939999999999998,4.8959999999999999,3.577,1.8220000000000001,1.0960000000000001,0.44748106799825094,0.2533112963454841,0.14944544839513901,8.7544743397849178E-2,5.4780884019651935E-2,null,null,0.49102953068018224,0.37967091013139259,0.2954657340538831,0.22457292802116643,0.16475436261295176,0.11394735626595291,4.1949872578079875E-2,2.6943217418821896E-2,1.1297145309804794E-2,6.0174917428128284E-3,4.9598471914375844E-3]
[6135000,525000,25.671568627450998,null,65.092319055323259,0,2.3601549205689865E-4,2.838888197413841E-2,null,null,6.2229999999999999,5.9939999999999998,4.8959999999999999,3.577,1.8220000000000001,1.0960000000000001,0.46617666666666735,0.26885916666666709,0.16034186274509837,9.5136323529412037E-2,5.7731107843137355E-2,null,null,0.49102953068018224,0.37967091013139259,0.2954657340538831,0.22457292802116643,0.16475436261295176,0.11394735626595291,3.9675806540807698E-2,2.548606133980488E-2,1.0193864826168634E-2,5.4019207989339253E-3,4.7140675776532982E-3]
[6135000,535000,25.702325643495101,null,55.127216508726427,0,3.2905452762577294E-4,3.9627407814594472E-2,null,null,6.2229999999999999,5.9939999999999998,4.8959999999999999,3.577,1.8220000000000001,1.0960000000000001,0.46720149044125681,0.26971144358124921,0.16093916399667485,9.5552465956488752E-2,5.7892828233497243E-2,null,null,0.49102953068018224,0.37967091013139259,0.2954657340538831,0.22457292802116643,0.16475436261295176,0.11394735626595291,3.958507368017105E-2,2.5427279579499942E-2,1.0147410429336149E-2,5.3760428859555964E-3,4.7043132449710564E-3]
[6135000,545000,24.8000000462388,null,45.177538666908362,0,4.8995350341252608E-4,5.6932718404061597E-2,null,null,6.2229999999999999,5.9939999999999998,4.8959999999999999,3.577,1.8220000000000001,1.0960000000000001,0.43713600154067689,0.24470800128127712,0.14341600089795747,8.3344000625610981E-2,5.3148400243123603E-2,null,null,0.49102953068018224,0.37967091013139259,0.2954657340538831,0.22457292802116643,0.16475436261295176,0.11394735626595291,4.3667562054057425E-2,2.8035263332381738E-2,1.2083856875219557E-2,6.4561473884346202E-3,5.1466027327327617E-3]
[6135000,555000,24.659016312145798,null,35.256346946330098,0,8.0449875704942061E-4,9.2951520238323121E-2,null,null,{"$f":"K$2+K$3*$C174","v":6.2229999999999999},{"$f":"L$2+L$3*$C174","v":5.9939999999999998},4.8959999999999999,3.577,1.8220000000000001,1.0960000000000001,0.43243842352069806,0.24080134200956005,0.14067809678187138,8.1436490703332698E-2,5.2407107769262593E-2,null,null,{"$f":"SQRT(X$2+2*X$3*$C174+X$4*$C174^2+X$5)","v":0.49102953068018224},{"$f":"SQRT(Y$2+2*Y$3*$C174+Y$4*$C174^2+Y$5)","v":0.37967091013139259},0.2954657340538831,0.22457292802116643,0.16475436261295176,0.11394735626595291,4.4542879849649587E-2,2.8590515189334018E-2,1.2474480426968793E-2,6.6737197089625135E-3,5.2420484706023774E-3]
[6135000,565000,25.115151665427501,null,25.397047072445254,0,1.5503635602548797E-3,0.18244195991076581,null,null,6.2229999999999999,5.9939999999999998,4.8959999999999999,3.577,1.8220000000000001,1.0960000000000001,0.44763685349204441,0.25344085264899596,0.14953624534260207,8.76080020332341E-2,5.4805467456817789E-2,null,null,0.49102953068018224,0.37967091013139259,0.2954657340538831,0.22457292802116643,0.16475436261295176,0.11394735626595291,4.1926348328592426E-2,2.6928230086000281E-2,1.1286151461275446E-2,6.0113579108186767E-3,4.9572951165042503E-3]
[6135000,575000,24.454545512343898,null,15.716551784663199,0,4.0484190923444395E-3,0.46387442815004232,null,null,6.2229999999999999,5.9939999999999998,4.8959999999999999,3.577,1.8220000000000001,1.0960000000000001,0.42562545647129879,0.23513545614704934,0.13670727384971848,7.8670000782012972E-2,5.133200030390421E-2,null,null,0.49102953068018224,0.37967091013139259,0.2954657340538831,0.22457292802116643,0.16475436261295176,0.11394735626595291,4.590890148831081E-2,2.9455983156246229E-2,1.3072961007257685E-2,7.0067522544640139E-3,5.3913252504452589E-3]
[6135000,585000,25.015714291163899,null,7.0007142492748553,0,2.0403999183840033E-2,2.3915726455192603,null,null,6.2229999999999999,5.9939999999999998,4.8959999999999999,3.577,1.8220000000000001,1.0960000000000001,0.44432360018158124,0.25068544300815165,0.14760517153440289,8.6262614359447598E-2,5.428262574293978E-2,null,null,0.49102953068018224,0.37967091013139259,0.2954657340538831,0.22457292802116643,0.16475436261295176,0.11394735626595291,4.2442050064165737E-2,2.7256554843718417E-2,1.1525677468077563E-2,6.1449759337348902E-3,5.0132788279766789E-3]
[6135000,595000,26.305263184664501,null,7.1421285342676386,0,1.960399921584003E-2,2.4162546316627735,null,null,6.2229999999999999,5.9939999999999998,4.8959999999999999,3.577,1.8220000000000001,1.0960000000000001,0.48729136931302119,0.28641884284705332,0.17264821104618461,0.10371021088851073,6.1063073824965938E-2,null,null,0.49102953068018224,0.37967091013139259,0.2954657340538831,0.22457292802116643,0.16475436261295176,0.11394735626595291,3.8582672172418363E-2,2.4758066250089767E-2,9.5860687143464861E-3,5.0663497495305604E-3,4.5974931493899243E-3]
[6135000,605000,26.285714217594698,null,15.906288064787461,0,3.9524129481048175E-3,0.48678531360903848,null,null,6.2229999999999999,5.9939999999999998,4.8959999999999999,3.577,1.8220000000000001,1.0960000000000001,0.48663999773025546,0.28587714096954908,0.17226857010568902,0.10344571336405628,6.0960285356112906E-2,null,null,0.49102953068018224,0.37967091013139259,0.2954657340538831,0.22457292802116643,0.16475436261295176,0.11394735626595291,3.8591370539388978E-2,2.4764935737634771E-2,9.593205529939107E-3,5.0701165443691049E-3,4.5983759367402011E-3]
[6135000,615000,26.360377401675802,null,25.593163149560077,0,1.5266942489427645E-3,0.18856412281604071,null,null,6.2229999999999999,5.9939999999999998,4.8959999999999999,3.577,1.8220000000000001,1.0960000000000001,0.48912777502383775,0.28794605780043647,0.17371852914054403,0.1044559062446736,6.1352864378011365E-2,null,null,0.49102953068018224,0.37967091013139259,0.2954657340538831,0.22457292802116643,0.16475436261295176,0.11394735626595291,3.8566883263516351E-2,2.4744148366813854E-2,9.5701104120696247E-3,5.0580935117233239E-3,4.5959494414520982E-3]
[6135000,635000,25.627450980392201,null,45.376315407930598,0,4.8567029786159374E-4,5.8317960500174189E-2,null,null,6.2229999999999999,5.9939999999999998,4.8959999999999999,3.577,1.8220000000000001,1.0960000000000001,0.46470666666666816,0.26763666666666786,0.15948509803921651,9.4539411764706482E-2,5.7499137254902175E-2,null,null,0.49102953068018224,0.37967091013139259,0.2954657340538831,0.22457292802116643,0.16475436261295176,0.11394735626595291,3.9812392124878693E-2,2.5574381720473022E-2,1.0263268435037151E-2,5.4405999341261843E-3,4.728762068013764E-3]
[6135000,645000,26.269387848523198,null,55.326395147343554,0,3.2668955671494049E-4,4.021060208702873E-2,null,null,6.2229999999999999,5.9939999999999998,4.8959999999999999,3.577,1.8220000000000001,1.0960000000000001,0.486096003112793,0.28542473728257778,0.17195151201832054,0.10322481759051888,6.0874441307534957E-2,null,null,0.49102953068018224,0.37967091013139259,0.2954657340538831,0.22457292802116643,0.16475436261295176,0.11394735626595291,3.859987702847395E-2,2.477144749771349E-2,9.5997563875026299E-3,5.0735977019849294E-3,4.5992476161631499E-3]
[6135000,655000,26.214814680593999,null,65.291729951043564,0,2.3457603899592076E-4,2.8812823064441207E-2,null,null,6.2229999999999999,5.9939999999999998,4.8959999999999999,3.577,1.8220000000000001,1.0960000000000001,0.48427762515739214,0.28391251479925972,0.17089170109713542,0.10248644262843687,6.0587495590563242E-2,null,null,0.49102953068018224,0.37967091013139259,0.2954657340538831,0.22457292802116643,0.16475436261295176,0.11394735626595291,3.8636505228593666E-2,2.4798323672802575E-2,9.6255392019567714E-3,5.0874402115310535E-3,4.6030482823558976E-3]
[6135000,665000,25.859722243415,null,75.266260701591918,0,1.7652219501819062E-4,2.1388412275157261E-2,null,null,6.2229999999999999,{"$f":"L$2+L$3*$C184","v":5.9939999999999998},4.8959999999999999,3.577,1.8220000000000001,1.0960000000000001,0.47244594515058791,0.27407290336502965,0.16399580596711932,9.7682041953404963E-2,5.8720419555876049E-2,null,null,0.49102953068018224,{"$f":"SQRT(Y$2+2*Y$3*$C184+Y$4*$C184^2+Y$5)","v":0.37967091013139259},0.2954657340538831,0.22457292802116643,0.16475436261295176,0.11394735626595291,3.9179454323839458E-2,2.516297797770424E-2,9.9353643782612595E-3,5.2581041082145497E-3,4.6607940827586907E-3]
[6135000,675000,26.4241934437906,null,85.246759469202104,0,1.3760817722832365E-4,1.7037322882219826E-2,null,null,6.2229999999999999,5.9939999999999998,4.8959999999999999,3.577,1.8220000000000001,1.0960000000000001,0.4912541255471029,0.28971440032743745,0.17495783667841341,0.10531933729448684,6.1688409127450952E-2,null,null,0.49102953068018224,0.37967091013139259,0.2954657340538831,0.22457292802116643,0.16475436261295176,0.11394735626595291,3.8564724800246072E-2,2.4738096017348801E-2,9.5593393880771677E-3,5.0529092165340472E-3,4.5959063843629992E-3]
[6135000,685000,27.592307692307699,null,95.231349880173397,0,1.1026561884924593E-4,1.425553482472895E-2,null,null,6.2229999999999999,5.9939999999999998,4.8959999999999999,3.577,1.8220000000000001,1.0960000000000001,0.53017569230769257,0.3220828461538463,0.19764261538461553,0.12112392307692321,6.7830353846153865E-2,null,null,0.49102953068018224,0.37967091013139259,0.2954657340538831,0.22457292802116643,0.16475436261295176,0.11394735626595291,4.1473467029603445E-2,2.6475728362175297E-2,1.0754360090063383E-2,5.7432572969264755E-3,4.914854293048135E-3]
[6135000,695000,27.365217402361399,null,105.21886712942693,0,9.0325995550541473E-5,1.1581559200547627E-2,null,null,6.2229999999999999,5.9939999999999998,4.8959999999999999,3.577,1.8220000000000001,1.0960000000000001,0.52260904384668183,0.31579017421943434,0.19323252195385837,0.11805139145394977,6.6636313101616232E-2,null,null,0.49102953068018224,0.37967091013139259,0.2954657340538831,0.22457292802116643,0.16475436261295176,0.11394735626595291,4.0493991382563328E-2,2.5877296423113327E-2,1.0333053631868363E-2,5.5033433079095242E-3,4.8077569458830462E-3]
[6135000,705000,28.170588184805499,null,115.20855002993486,0,7.5340860889881037E-5,9.9444751092253158E-3,null,null,6.2229999999999999,5.9939999999999998,4.8959999999999999,3.577,1.8220000000000001,1.0960000000000001,0.54944399831771928,0.33810699860096038,0.20887282254892275,0.12894805814041843,7.0870952675707297E-2,null,null,0.49102953068018224,0.37967091013139259,0.2954657340538831,0.22457292802116643,0.16475436261295176,0.11394735626595291,4.4730593423311003E-2,2.8483676692612019E-2,1.2139066154900818E-2,6.525229017605539E-3,5.2717588709275719E-3]
[6135000,715000,28.142622994594898,null,125.19988019163597,0,6.3795812570454494E-5,8.412248977376937E-3,null,null,6.2229999999999999,5.9939999999999998,4.8959999999999999,3.577,1.8220000000000001,1.0960000000000001,0.54851219817990204,0.33733208318022456,0.20832973855503295,0.128569689116869,7.072391170557997E-2,null,null,0.49102953068018224,0.37967091013139259,0.2954657340538831,0.22457292802116643,0.16475436261295176,0.11394735626595291,4.4550257468190156E-2,2.8372042465244506E-2,1.206333134328943E-2,6.4826465505455092E-3,5.2519621184358148E-3]
[6135000,865000,29.0630770756648,null,275.14543427067804,0,1.3209165417189693E-5,1.7987563673126867E-3,null,null,6.2229999999999999,5.9939999999999998,4.8959999999999999,3.577,1.8220000000000001,1.0960000000000001,0.57918172816115121,0.36283786576667154,0.22620495680941038,0.1410234328337448,7.556365926384552E-2,null,null,0.49102953068018224,0.37967091013139259,0.2954657340538831,0.22457292802116643,0.16475436261295176,0.11394735626595291,5.1471413383309822E-2,3.2677397865408277E-2,1.489515327180318E-2,8.0658930232913074E-3,6.0146602515350183E-3]
[6135000,875000,29.368055582046502,null,285.1438408943809,0,1.2299062528556884E-5,1.6923982777092795E-3,null,null,6.2229999999999999,5.9939999999999998,4.8959999999999999,3.577,1.8220000000000001,1.0960000000000001,0.58934361199378948,0.37128882017850851,0.23212763940334308,0.14514979202508921,7.7167236250400492E-2,null,null,0.49102953068018224,0.37967091013139259,0.2954657340538831,0.22457292802116643,0.16475436261295176,0.11394735626595291,5.413649107589847E-2,3.4342912536584093E-2,1.5951308457605621E-2,8.6530573140735506E-3,6.3097544753031153E-3]
[6135000,885000,28.955882352941199,null,295.1423554829093,0,1.1479868729997047E-5,1.5575037365406666E-3,null,null,6.2229999999999999,5.9939999999999998,4.8959999999999999,3.577,1.8220000000000001,1.0960000000000001,0.57561000000000084,0.35986750000000056,0.22412323529411809,0.13957308823529446,7.5000029411764826E-2,null,null,0.49102953068018224,0.37967091013139259,0.2954657340538831,0.22457292802116643,0.16475436261295176,0.11394735626595291,5.057293693955358E-2,3.2116650659237245E-2,1.4535331983310829E-2,7.8655257997966351E-3,5.9153360773758776E-3]
[6145000,455000,25.363013777014299,null,134.99262942842472,0,5.4875676411306366E-5,6.5213290757379725E-3,null,null,6.2229999999999999,5.9939999999999998,4.8959999999999999,3.577,1.8220000000000001,1.0960000000000001,0.45589561905011655,0.26030911176106619,0.15434972754961768,9.0961576403003508E-2,5.6108726439541165E-2,null,null,0.49102953068018224,0.37967091013139259,0.2954657340538831,0.22457292802116643,0.16475436261295176,0.11394735626595291,4.0785723664387367E-2,2.6199927639421982E-2,1.0744071880648893E-2,5.7088391517464733E-3,4.8337664284955019E-3]
[6145000,465000,25.1753086749418,null,125.0000399999936,0,6.3999959040026208E-5,7.5493554154459864E-3,null,null,6.2229999999999999,{"$f":"L$2+L$3*$C194","v":5.9939999999999998},4.8959999999999999,3.577,1.8220000000000001,1.0960000000000001,0.44964128504906087,0.25510780338263728,0.15070449446736972,8.8421926371962556E-2,5.5121773012843975E-2,null,null,0.49102953068018224,{"$f":"SQRT(Y$2+2*Y$3*$C194+Y$4*$C194^2+Y$5)","v":0.37967091013139259},0.2954657340538831,0.22457292802116643,0.16475436261295176,0.11394735626595291,4.1630163084669519E-2,2.673943255815342E-2,1.1147140437079622E-2,5.9337920038792973E-3,4.9251772568581799E-3]
[6145000,475000,25.1246914333767,null,115.00873879840609,0,7.5602876235823536E-5,8.9000905787519954E-3,null,null,6.2229999999999999,5.9939999999999998,4.8959999999999999,3.577,1.8220000000000001,1.0960000000000001,0.44795471856011171,0.25370519961886828,0.14972150763617553,8.7737075093586803E-2,5.4855627556694694E-2,null,null,0.49102953068018224,0.37967091013139259,0.2954657340538831,0.22457292802116643,0.16475436261295176,0.11394735626595291,4.187857377786601E-2,2.6897789488969405E-2,1.1263803629133359E-2,5.9988890492953702E-3,4.9521127090644945E-3]
[6145000,485000,25.7146067672901,null,105.01909350208656,0,9.0669969471421282E-5,1.092442855275228E-2,null,null,6.2229999999999999,5.9939999999999998,4.8959999999999999,3.577,1.8220000000000001,1.0960000000000001,0.46761069748610617,0.2700517535216086,0.16117766342077372,9.5718629561435065E-2,5.795740238241133E-2,null,null,0.49102953068018224,0.37967091013139259,0.2954657340538831,0.22457292802116643,0.16475436261295176,0.11394735626595291,3.9549881566891709E-2,2.5404453271907004E-2,1.0129310414520457E-2,5.3659630258112911E-3,4.7005315342389222E-3]
[6145000,495000,26.300000062355601,null,95.031626314611714,0,1.1072958617031758E-4,1.3645039528682902E-2,null,null,6.2229999999999999,5.9939999999999998,4.8959999999999999,3.577,1.8220000000000001,1.0960000000000001,0.48711600207768868,0.28627300172787362,0.17254600121094571,0.10363900084367128,6.1035400327865738E-2,null,null,0.49102953068018224,0.37967091013139259,0.2954657340538831,0.22457292802116643,0.16475436261295176,0.11394735626595291,3.8584854515094254E-2,2.4759816214015119E-2,9.5879142452549738E-3,5.0673207794157222E-3,4.5977135595092001E-3]
[6145000,505000,25.562930879921701,null,85.047104595041915,0,1.3825502798973043E-4,1.6559489799652643E-2,null,null,6.2229999999999999,5.9939999999999998,4.8959999999999999,3.577,1.8220000000000001,1.0960000000000001,0.46255685691899118,0.26584881468263033,0.15823211768807943,9.3666454805340638E-2,5.7159890566628305E-2,null,null,0.49102953068018224,0.37967091013139259,0.2954657340538831,0.22457292802116643,0.16475436261295176,0.11394735626595291,4.0025656644104818E-2,2.5711949861704733E-2,1.0370519920252556E-2,5.5004025094276951E-3,4.7517289665172631E-3]
[6145000,515000,25.888775416782899,null,75.066703670802013,0,1.7746197433544928E-4,2.1526438797429253E-2,null,null,6.2229999999999999,5.9939999999999998,4.8959999999999999,3.577,1.8220000000000001,1.0960000000000001,0.47341399688720631,0.27487796679905407,0.16456001859392394,9.8075131389072645E-2,5.8873181141444478E-2,null,null,0.49102953068018224,0.37967091013139259,0.2954657340538831,0.22457292802116643,0.16475436261295176,0.11394735626595291,3.9115473372117619E-2,2.5120966774413896E-2,9.9010599572159873E-3,5.2390669850357167E-3,4.6539464366160401E-3]
[6145000,525000,25.7677776972453,null,65.092319055323259,0,2.3601549205689865E-4,2.8495274690799734E-2,null,null,6.2229999999999999,5.9939999999999998,4.8959999999999999,3.577,1.8220000000000001,1.0960000000000001,0.46938235287221353,0.2715251199906672,0.16221024288050373,9.6438032243728933E-2,5.8236975132115773E-2,null,null,0.49102953068018224,0.37967091013139259,0.2954657340538831,0.22457292802116643,0.16475436261295176,0.11394735626595291,3.940439358569911E-2,2.5309903475847703E-2,1.0053944406750323E-2,5.3240132054871402E-3,4.6849083321810472E-3]
[6145000,535000,25.150537695935999,null,{"$f":"(SQRT(($A201-E$1)^2+($B201-E$2)^2)/1000)","v":55.127216508726427},{"$f":"IF(E201=0,1,0)","v":0},{"$f":"IF($F$618=0,1/E201^2,F201)","v":3.2905452762577294E-4},{"$f":"G201/$G$618*C201","v":3.8776670557258516E-2},null,null,6.2229999999999999,5.9939999999999998,4.8959999999999999,3.577,1.8220000000000001,1.0960000000000001,0.4488159160285875,0.25442139955438647,0.15022344205507709,8.8086775026014086E-2,5.4991527205231469E-2,null,null,0.49102953068018224,0.37967091013139259,0.2954657340538831,0.22457292802116643,0.16475436261295176,0.11394735626595291,4.1750657880575075E-2,2.6816262154035982E-2,1.1203827784588213E-2,5.9654241341923885E-3,4.9382402662583053E-3]
[6145000,545000,25.252857044764902,null,45.177538666908362,0,4.8995350341252608E-4,5.7972330497865009E-2,null,null,6.2229999999999999,5.9939999999999998,4.8959999999999999,3.577,1.8220000000000001,1.0960000000000001,0.45222519673156658,0.2572566687104354,0.15221048380933438,8.9471155815669168E-2,5.5529522341373858E-2,null,null,0.49102953068018224,0.37967091013139259,0.2954657340538831,0.22457292802116643,0.16475436261295176,0.11394735626595291,4.1266425083095283E-2,2.6507296117909595E-2,1.0974827830921491E-2,5.8376295185237652E-3,4.885772223704672E-3]
[6145000,555000,25.363235277288101,null,35.256346946330098,0,8.0449875704942061E-4,9.5606055300145293E-2,null,null,6.2229999999999999,5.9939999999999998,4.8959999999999999,3.577,1.8220000000000001,1.0960000000000001,0.45590299943923962,0.26031524953365326,0.1543540290849349,9.096457330170804E-2,5.6109891087980826E-2,null,null,0.49102953068018224,0.37967091013139259,0.2954657340538831,0.22457292802116643,0.16475436261295176,0.11394735626595291,4.0784800500571428E-2,2.619933658998131E-2,1.0743625065929416E-2,5.7085897749712972E-3,4.8336666367303121E-3]
[6145000,565000,25.454545338948598,null,25.397047072445254,0,1.5503635602548797E-3,0.18490738985534147,null,null,6.2229999999999999,{"$f":"L$2+L$3*$C204","v":5.9939999999999998},4.8959999999999999,3.577,1.8220000000000001,1.0960000000000001,0.45894545069376735,0.26284545134226567,0.15612727048238179,9.2199998435974539E-2,5.6589999392191712E-2,null,null,0.49102953068018224,{"$f":"SQRT(Y$2+2*Y$3*$C204+Y$4*$C204^2+Y$5)","v":0.37967091013139259},0.2954657340538831,0.22457292802116643,0.16475436261295176,0.11394735626595291,4.0419392728766997E-2,2.5965107194750561E-2,1.0565533610112757E-2,5.6092000614440451E-3,4.7941941950108069E-3]
[6145000,575000,25.633333399675902,null,15.716551784663199,0,4.0484190923444395E-3,0.48623467021098421,null,null,6.2229999999999999,5.9939999999999998,4.8959999999999999,3.577,1.8220000000000001,1.0960000000000001,0.46490266887720111,0.26779966850501924,0.159599334621706,9.4619000897614991E-2,5.7530067015495887E-2,null,null,0.49102953068018224,0.37967091013139259,0.2954657340538831,0.22457292802116643,0.16475436261295176,0.11394735626595291,3.9793744413324873E-2,2.5562334351972613E-2,1.0253827905324678E-2,5.4353376079467044E-3,4.7267551482227475E-3]
[6145000,585000,25.227118669930199,null,7.0007142492748553,0,2.0403999183840033E-2,2.4117834987260007,null,null,6.2229999999999999,5.9939999999999998,4.8959999999999999,3.577,1.8220000000000001,1.0960000000000001,0.45136759408207427,0.2565434583437658,0.15171064457004446,8.9122915604155639E-2,5.5394189966492993E-2,null,null,0.49102953068018224,0.37967091013139259,0.2954657340538831,0.22457292802116643,0.16475436261295176,0.11394735626595291,4.1384863974777905E-2,2.6582920571896162E-2,1.1031138971548457E-2,5.8690565102479109E-3,4.898598338419758E-3]
[6145000,595000,26.072222215158,null,7.1421285342676386,0,1.960399921584003E-2,2.394848789113913,null,null,6.2229999999999999,5.9939999999999998,4.8959999999999999,3.577,1.8220000000000001,1.0960000000000001,0.47952644420906465,0.27996127758202816,0.16812255541836835,0.10055716657108776,5.9837744407300761E-2,null,null,0.49102953068018224,0.37967091013139259,0.2954657340538831,0.22457292802116643,0.16475436261295176,0.11394735626595291,3.8791485608285797E-2,2.4905492267431703E-2,9.7208078552072606E-3,5.1394469818407187E-3,4.619398634472506E-3]
[6145000,605000,26.1333332061768,null,15.906288064787461,0,3.9524129481048175E-3,0.48396336866141093,null,null,6.2229999999999999,5.9939999999999998,4.8959999999999999,3.577,1.8220000000000001,1.0960000000000001,0.48156266242981105,0.28165466314315912,0.16930933086395344,0.10138399827957212,6.0159065998077618E-2,null,null,0.49102953068018224,0.37967091013139259,0.2954657340538831,0.22457292802116643,0.16475436261295176,0.11394735626595291,3.8714602614127604E-2,2.485304373105816E-2,9.6750791857030619E-3,5.1143780376167094E-3,4.6112577370732008E-3]
[6145000,615000,25.625999984741199,null,25.593163149560077,0,1.5266942489427645E-3,0.18331088871661619,null,null,6.2229999999999999,5.9939999999999998,4.8959999999999999,3.577,1.8220000000000001,1.0960000000000001,0.46465831949157688,0.26759645957717859,0.15945691970367409,9.4519779793548475E-2,5.7491507919769216E-2,null,null,0.49102953068018224,0.37967091013139259,0.2954657340538831,0.22457292802116643,0.16475436261295176,0.11394735626595291,3.9817012447854891E-2,2.5577366185884819E-2,1.0265605863515567E-2,5.4419029066351543E-3,4.7292593540117439E-3]
[6145000,635000,25.733333269755001,null,45.376315407930598,0,4.8567029786159374E-4,5.8558906787553766E-2,null,null,6.2229999999999999,5.9939999999999998,4.8959999999999999,3.577,1.8220000000000001,1.0960000000000001,0.4682346645482367,0.270570664904911,0.16154133209864213,9.5971999139785213E-2,5.8055866332371794E-2,null,null,0.49102953068018224,0.37967091013139259,0.2954657340538831,0.22457292802116643,0.16475436261295176,0.11394735626595291,3.9497364363674285E-2,2.5370359022100934E-2,1.010220887036941E-2,5.3508737072510155E-3,4.6948899122933509E-3]
[6145000,645000,26.7052633385909,null,55.326395147343554,0,3.2668955671494049E-4,4.0877797531081922E-2,null,null,6.2229999999999999,5.9939999999999998,4.8959999999999999,3.577,1.8220000000000001,1.0960000000000001,0.5006193744418489,0.29750284711235375,0.18041621403543523,0.10912221297113489,6.3166274634310945E-2,null,null,0.49102953068018224,0.37967091013139259,0.2954657340538831,0.22457292802116643,0.16475436261295176,0.11394735626595291,3.8760710985841225E-2,2.4839852505711437E-2,9.6105555693913672E-3,5.0860313687039324E-3,4.6179476338173439E-3]
[6145000,655000,26.838709738946701,null,65.291729951043564,0,2.3457603899592076E-4,2.9498548984922452E-2,null,null,6.2229999999999999,5.9939999999999998,4.8959999999999999,3.577,1.8220000000000001,1.0960000000000001,0.50506580850170413,0.30120064686621306,0.1830077431303449,0.11092774276794887,6.3867935807381745E-2,null,null,0.49102953068018224,0.37967091013139259,0.2954657340538831,0.22457292802116643,0.16475436261295176,0.11394735626595291,3.8969912998940884E-2,2.4960868504350503E-2,9.6905636990541784E-3,5.1332770282700637E-3,4.6409851423767513E-3]
[6145000,665000,27.080597009231798,null,75.266260701591918,0,1.7652219501819062E-4,2.239819005164808E-2,null,null,6.2229999999999999,5.9939999999999998,4.8959999999999999,3.577,1.8220000000000001,1.0960000000000001,0.51312549234760363,0.30790334312581313,0.18770519391928148,0.11420047753490625,6.5139779074540785E-2,null,null,0.49102953068018224,0.37967091013139259,0.2954657340538831,0.22457292802116643,0.16475436261295176,0.11394735626595291,3.9534921859064077E-2,2.5296823709257368E-2,9.9234882712230139E-3,5.2684387163750004E-3,4.70289435642012E-3]
[6145000,675000,27.7718749940395,null,85.246759469202104,0,1.3760817722832365E-4,1.7906257094453905E-2,null,null,6.2229999999999999,{"$f":"L$2+L$3*$C214","v":5.9939999999999998},4.8959999999999999,3.577,1.8220000000000001,1.0960000000000001,0.53615887480139623,0.32705865608483453,0.20112981238424704,0.12355346866935446,6.877451871865968E-2,null,null,0.49102953068018224,{"$f":"SQRT(Y$2+2*Y$3*$C214+Y$4*$C214^2+Y$5)","v":0.37967091013139259},0.2954657340538831,0.22457292802116643,0.16475436261295176,0.11394735626595291,4.2373349758792575E-2,2.7028346076370599E-2,1.1140221231790938E-2,5.9620010639126874E-3,5.0133272515667402E-3]
[6145000,685000,27.992063370962001,null,95.231349880173397,0,1.1026561884924593E-4,1.4462068147783632E-2,null,null,6.2229999999999999,5.9939999999999998,4.8959999999999999,3.577,1.8220000000000001,1.0960000000000001,0.54349555152045392,0.33316007600935704,0.20540587066408206,0.12653261740911592,6.9932269204518185E-2,null,null,0.49102953068018224,0.37967091013139259,0.2954657340538831,0.22457292802116643,0.16475436261295176,0.11394735626595291,4.3617064960938062E-2,2.7795071776581862E-2,1.1669596156108032E-2,6.2609663308808156E-3,5.1495882612233954E-3]
[6145000,695000,27.0764705153073,null,105.21886712942693,0,9.0325995550541473E-5,1.1459355195469914E-2,null,null,6.2229999999999999,5.9939999999999998,4.8959999999999999,3.577,1.8220000000000001,1.0960000000000001,0.51298799757003932,0.30778899797916526,0.1876250574072677,0.11414464607210778,6.5118081969485778E-2,null,null,0.49102953068018224,0.37967091013139259,0.2954657340538831,0.22457292802116643,0.16475436261295176,0.11394735626595291,3.9523316508715656E-2,2.5289856460874255E-2,9.9185966341093397E-3,5.2656174001291557E-3,4.70162458456939E-3]
[6145000,705000,28.2890625,null,115.20855002993486,0,7.5340860889881037E-5,9.9862976253476347E-3,null,null,6.2229999999999999,5.9939999999999998,4.8959999999999999,3.577,1.8220000000000001,1.0960000000000001,0.5533915625000001,0.34138992187499995,0.21117359374999994,0.13055101562500004,7.1493890624999987E-2,null,null,0.49102953068018224,0.37967091013139259,0.2954657340538831,0.22457292802116643,0.16475436261295176,0.11394735626595291,4.5517901845622294E-2,2.8971503680559924E-2,1.2468376134941716E-2,6.7101909418127628E-3,5.3582378132534247E-3]
[6145000,715000,27.982539888412202,null,125.19988019163597,0,6.3795812570454494E-5,8.364397753752922E-3,null,null,6.2229999999999999,5.9939999999999998,4.8959999999999999,3.577,1.8220000000000001,1.0960000000000001,0.54317822908189461,0.33289618030790202,0.20522092463296498,0.12640376469021714,6.9882194733271355E-2,null,null,0.49102953068018224,0.37967091013139259,0.2954657340538831,0.22457292802116643,0.16475436261295176,0.11394735626595291,4.3560232819617337E-2,2.7759975625558958E-2,1.164551899233579E-2,6.2473929938279531E-3,5.1433573589831855E-3]
[6145000,865000,29.9370967188189,null,275.14543427067804,0,1.3209165417189693E-5,1.852850721953345E-3,null,null,6.2229999999999999,5.9939999999999998,4.8959999999999999,3.577,1.8220000000000001,1.0960000000000001,0.60830406267104586,0.38705695007847163,0.24317841827946302,0.15284891860561972,8.0159254547549755E-2,null,null,0.49102953068018224,0.37967091013139259,0.2954657340538831,0.22457292802116643,0.16475436261295176,0.11394735626595291,5.9476236022973993E-2,3.7687638909087842E-2,1.8025654152950175E-2,9.8030327897208353E-3,6.9028772813473187E-3]
[6145000,895000,29.351724032698002,null,305.14096742325501,0,1.0739868464534972E-5,1.4770253519506252E-3,null,null,6.2229999999999999,5.9939999999999998,4.8959999999999999,3.577,1.8220000000000001,1.0960000000000001,0.58879944476949753,0.37083627294606158,0.23181048071499516,0.14492882616240399,7.7081364963926077E-2,null,null,0.49102953068018224,0.37967091013139259,0.2954657340538831,0.22457292802116643,0.16475436261295176,0.11394735626595291,5.3989955140699777E-2,3.4251259157810708E-2,1.5893639709209106E-2,8.6210298726249E-3,6.2935115232551544E-3]
[6155000,445000,25.897561050042899,null,145.67432855517131,0,4.7123110539979008E-5,5.7180531425446799E-3,null,null,6.2229999999999999,5.9939999999999998,4.8959999999999999,3.577,1.8220000000000001,1.0960000000000001,0.47370673418742948,0.27512141669668866,0.16473063559183304,9.8194001007080478E-2,5.8919376001125554E-2,null,null,0.49102953068018224,0.37967091013139259,0.2954657340538831,0.22457292802116643,0.16475436261295176,0.11394735626595291,3.9096801838121358E-2,2.5108683416659592E-2,9.8909904618272922E-3,5.2334822285409503E-3,4.6519492346877448E-3]
[6155000,455000,25.354929561346299,null,135.73138914783124,0,5.4279946653668432E-5,6.4484775515892441E-3,null,null,6.2229999999999999,5.9939999999999998,4.8959999999999999,3.577,1.8220000000000001,1.0960000000000001,0.45562625298405879,0.26008509814490588,0.15419273208134515,9.0852196965015453E-2,5.6066219633558831E-2,null,null,0.49102953068018224,0.37967091013139259,0.2954657340538831,0.22457292802116643,0.16475436261295176,0.11394735626595291,4.0819537390562793E-2,2.622157442969408E-2,1.0760427633056449E-2,5.7179676733155266E-3,4.83742183864223E-3]
[6155000,465000,25.502531582796099,null,125.79749600051663,0,6.3191113307353367E-5,7.5508296538718935E-3,null,null,6.2229999999999999,5.9939999999999998,4.8959999999999999,3.577,1.8220000000000001,1.0960000000000001,0.46054435233876612,0.26417515015927984,0.15705916333790021,9.2849252315231223E-2,5.6842311062341874E-2,null,null,0.49102953068018224,0.37967091013139259,0.2954657340538831,0.22457292802116643,0.16475436261295176,0.11394735626595291,4.0239644386319454E-2,2.5849650817396538E-2,1.0476946093571755E-2,5.559770411960323E-3,4.7747986087173181E-3]
[6155000,475000,26.3590908917514,null,115.8749757281528,0,7.447674500875473E-5,9.1982770662568641E-3,null,null,6.2229999999999999,{"$f":"L$2+L$3*$C224","v":5.9939999999999998},4.8959999999999999,3.577,1.8220000000000001,1.0960000000000001,0.48908490851315667,0.28791040861043127,0.17369354511781215,0.10443849976539649,6.1346099908828847E-2,null,null,0.49102953068018224,{"$f":"SQRT(Y$2+2*Y$3*$C224+Y$4*$C224^2+Y$5)","v":0.37967091013139259},0.2954657340538831,0.22457292802116643,0.16475436261295176,0.11394735626595291,3.8567104745050984E-2,2.4744381471621751E-2,9.5704127109852693E-3,5.0582463703625928E-3,4.595969562730849E-3]
[6155000,485000,25.735848984628401,null,105.96702317230583,0,8.9055045814368311E-5,1.0738717129221356E-2,null,null,6.2229999999999999,5.9939999999999998,4.8959999999999999,3.577,1.8220000000000001,1.0960000000000001,0.4683184881678184,0.27064037536405294,0.16159018728148355,9.6006036762022295E-2,5.8069093961176113E-2,null,null,0.49102953068018224,0.37967091013139259,0.2954657340538831,0.22457292802116643,0.16475436261295176,0.11394735626595291,3.9490414787692968E-2,2.5365844469228693E-2,1.0098614080460373E-2,5.348872570718595E-3,4.694143528715348E-3]
[6155000,495000,25.891525446358401,null,96.07814527768528,0,1.0833050771259052E-4,1.3142070383907431E-2,null,null,6.2229999999999999,5.9939999999999998,4.8959999999999999,3.577,1.8220000000000001,1.0960000000000001,0.47350562787266193,0.27495417011859125,0.16461342416828012,9.8112339289229189E-2,5.8887640796952453E-2,null,null,0.49102953068018224,0.37967091013139259,0.2954657340538831,0.22457292802116643,0.16475436261295176,0.11394735626595291,3.910959509233107E-2,2.5117100860958592E-2,9.8978928200661367E-3,5.2373102526570804E-3,4.6533176073837966E-3]
[6155000,505000,25.9065420025977,null,86.214905903793692,0,1.3453499995291275E-4,1.6330523316448662E-2,null,null,6.2229999999999999,5.9939999999999998,4.8959999999999999,3.577,1.8220000000000001,1.0960000000000001,0.47400597952655543,0.27537027889198218,0.16490504569044734,9.8315513295146928E-2,5.89665978496587E-2,null,null,0.49102953068018224,0.37967091013139259,0.2954657340538831,0.22457292802116643,0.16475436261295176,0.11394735626595291,3.9078040597925717E-2,2.5096329465388777E-2,9.8808438665354478E-3,5.2278563614966689E-3,4.6499429984814683E-3]
[6155000,515000,26.1340206972103,null,76.387237153859672,0,1.7137931211771705E-4,2.0985532696607211E-2,null,null,6.2229999999999999,5.9939999999999998,4.8959999999999999,3.577,1.8220000000000001,1.0960000000000001,0.48158556963104726,0.28167371351969739,0.16932268193982397,0.10139330003325536,6.016268082593175E-2,null,null,0.49102953068018224,0.37967091013139259,0.2954657340538831,0.22457292802116643,0.16475436261295176,0.11394735626595291,3.8713826756410087E-2,2.4852509177058241E-2,9.6746063095182275E-3,5.1141195991969771E-3,4.6111758055018956E-3]
[6155000,525000,25.037362612210799,null,66.610884996372789,0,2.2537699937570565E-4,2.6439518601926473E-2,null,null,6.2229999999999999,5.9939999999999998,4.8959999999999999,3.577,1.8220000000000001,1.0960000000000001,0.44504492223886394,0.25128531798436116,0.14802558192913373,8.6555516143212163E-2,5.4396452615004379E-2,null,null,0.49102953068018224,0.37967091013139259,0.2954657340538831,0.22457292802116643,0.16475436261295176,0.11394735626595291,4.232705233800868E-2,2.7183380130127614E-2,1.1472526188754648E-2,6.1153299290688402E-3,5.0007883266223255E-3]
[6155000,535000,24.774026078063201,null,56.912300955065938,0,3.0873631140379321E-4,3.583766234801336E-2,null,null,6.2229999999999999,5.9939999999999998,4.8959999999999999,3.577,1.8220000000000001,1.0960000000000001,0.43627054892106598,0.24398826262313122,0.14291158643598734,8.2992572836195155E-2,5.3011829118456297E-2,null,null,0.49102953068018224,0.37967091013139259,0.2954657340538831,0.22457292802116643,0.16475436261295176,0.11394735626595291,4.382455310376273E-2,2.8134897831208872E-2,1.2154371313665152E-2,6.4954349705488509E-3,5.1637084622499956E-3]
[6155000,545000,24.779729636939798,null,47.339307134769093,0,4.4622737069446362E-4,5.1809349673519342E-2,null,null,6.2229999999999999,5.9939999999999998,4.8959999999999999,3.577,1.8220000000000001,1.0960000000000001,0.43646059150283412,0.24414630823960182,0.14302234954937088,8.3069741987795487E-2,5.3041818431029439E-2,null,null,0.49102953068018224,0.37967091013139259,0.2954657340538831,0.22457292802116643,0.16475436261295176,0.11394735626595291,4.378991169353446E-2,2.8112914604855765E-2,1.2138829508073228E-2,6.4867762004194177E-3,5.1599334448053846E-3]
[6155000,555000,24.926315759357699,null,37.986971450748747,0,6.9299589053436886E-4,8.0936444713693476E-2,null,null,6.2229999999999999,5.9939999999999998,4.8959999999999999,3.577,1.8220000000000001,1.0960000000000001,0.44134484110179861,0.2482082096918018,0.14586905204672651,8.5053052224109693E-2,5.3812568262702767E-2,null,null,0.49102953068018224,0.37967091013139259,0.2954657340538831,0.22457292802116643,0.16475436261295176,0.11394735626595291,4.2932632574283258E-2,2.756850074060822E-2,1.1750857934890595E-2,6.2705454783718861E-3,5.0666036385855267E-3]
[6155000,565000,25.5810344301421,null,29.069055712217416,0,1.1834179477165951E-3,0.14184421413820952,null,null,6.2229999999999999,5.9939999999999998,4.8959999999999999,3.577,1.8220000000000001,1.0960000000000001,0.46316006721233483,0.26635046405923757,0.15858368863335959,9.3911395839822664E-2,5.7255079033687165E-2,null,null,0.49102953068018224,0.37967091013139259,0.2954657340538831,0.22457292802116643,0.16475436261295176,0.11394735626595291,3.9964209011834548E-2,2.5672349923407924E-2,1.0339746802144103E-2,5.4832405330466696E-3,4.7451088647682783E-3]
[6155000,575000,25.834545412930598,null,21.142611002428247,0,2.2370864186483526E-3,0.27079394988613203,null,null,6.2229999999999999,{"$f":"L$2+L$3*$C234","v":5.9939999999999998},4.8959999999999999,3.577,1.8220000000000001,1.0960000000000001,0.47160705315884766,0.27337525339230684,0.16350687191911223,9.7341399436951026E-2,5.858803978118908E-2,null,null,0.49102953068018224,{"$f":"SQRT(Y$2+2*Y$3*$C234+Y$4*$C234^2+Y$5)","v":0.37967091013139259},0.2954657340538831,0.22457292802116643,0.16475436261295176,0.11394735626595291,3.9237666093234431E-2,2.5201105749776215E-2,9.9663314212291611E-3,5.2753022610299008E-3,4.6670290628569502E-3]
[6155000,585000,25.490566109711299,null,15.78005069700348,0,4.0159029757841046E-3,0.47964294859772533,null,null,6.2229999999999999,5.9939999999999998,4.8959999999999999,3.577,1.8220000000000001,1.0960000000000001,0.46014566277558056,0.26384358690010001,0.15682679385059339,9.2687359464393881E-2,5.677939660486199E-2,null,null,0.49102953068018224,0.37967091013139259,0.2954657340538831,0.22457292802116643,0.16475436261295176,0.11394735626595291,4.0283663287284055E-2,2.5877941615768982E-2,1.0498705479556515E-2,5.571910739171064E-3,4.7795470347093191E-3]
[6155000,595000,25.643137239942401,null,15.843295111813074,0,3.9839050237042341E-3,0.47866922322635769,null,null,6.2229999999999999,5.9939999999999998,4.8959999999999999,3.577,1.8220000000000001,1.0960000000000001,0.46522933283488088,0.26807133291880392,0.15978972519968143,9.4751646856420735E-2,5.758161560761714E-2,null,null,0.49102953068018224,0.37967091013139259,0.2954657340538831,0.22457292802116643,0.16475436261295176,0.11394735626595291,3.9762963016571055E-2,2.5542440803551818E-2,1.0238221031093963E-2,5.4266387317511346E-3,4.7234428500938517E-3]
[6155000,605000,26.670312434434901,null,21.284031572989175,0,2.2074567890333543E-3,0.27585171359195743,null,null,6.2229999999999999,5.9939999999999998,4.8959999999999999,3.577,1.8220000000000001,1.0960000000000001,0.49945481031537098,0.29653435755819102,0.17973746747672575,0.10864932723790427,6.2982502780258701E-2,null,null,0.49102953068018224,0.37967091013139259,0.2954657340538831,0.22457292802116643,0.16475436261295176,0.11394735626595291,3.8718191503820054E-2,2.4815846102095359E-2,9.5954695738121321E-3,5.0769742784577306E-3,4.6132429643873062E-3]
[6155000,615000,26.708163280876299,null,29.240554030318918,0,1.1695769640121167E-3,0.14636195445941938,null,null,{"$f":"K$2+K$3*$C238","v":6.2229999999999999},5.9939999999999998,4.8959999999999999,3.577,1.8220000000000001,1.0960000000000001,0.50071600051879839,0.29758320451308218,0.18047253091461773,0.10916144919025633,6.3181522530847564E-2,null,null,{"$f":"SQRT(X$2+2*X$3*$C238+X$4*$C238^2+X$5)","v":0.49102953068018224},0.37967091013139259,0.2954657340538831,0.22457292802116643,0.16475436261295176,0.11394735626595291,3.8764468861785646E-2,2.4841988358836983E-2,9.6119175047067618E-3,5.0868452016473694E-3,4.6183628838197249E-3]
[6155000,635000,27.576000022888199,null,47.529043752215337,0,4.4267178985484798E-4,5.7196372922701737E-2,null,null,6.2229999999999999,5.9939999999999998,4.8959999999999999,3.577,1.8220000000000001,1.0960000000000001,0.52963232076263489,0.32163096063423191,0.19732592044448877,0.12090328030967734,6.7744608120346148E-2,null,null,0.49102953068018224,0.37967091013139259,0.2954657340538831,0.22457292802116643,0.16475436261295176,0.11394735626595291,4.1397097666640799E-2,2.6428936752164497E-2,1.0721533249596037E-2,5.7246088769427189E-3,4.9065012791553557E-3]
[6155000,645000,26.8910713876997,null,57.105253698762255,0,3.0665346012431728E-4,3.8637707180044473E-2,null,null,6.2229999999999999,5.9939999999999998,4.8959999999999999,3.577,1.8220000000000001,1.0960000000000001,0.50681049863815408,0.30265158815315862,0.18402460634912815,0.11163619587557699,6.4143253356525001E-2,null,null,0.49102953068018224,0.37967091013139259,0.2954657340538831,0.22457292802116643,0.16475436261295176,0.11394735626595291,3.9072104894160076E-2,2.5020959764195258E-2,9.7315249610828991E-3,5.1572141682902778E-3,4.6522034107993795E-3]
[6155000,655000,26.683050769870601,null,66.805763224440454,0,2.2406402853679467E-4,2.8013217574368206E-2,null,null,6.2229999999999999,5.9939999999999998,4.8959999999999999,3.577,1.8220000000000001,1.0960000000000001,0.49987925165208846,0.2968873368331143,0.1799848459508871,0.10882167691634925,6.3049480947979616E-2,null,null,0.49102953068018224,0.37967091013139259,0.2954657340538831,0.22457292802116643,0.16475436261295176,0.11394735626595291,3.8733095064166605E-2,2.4824224110490657E-2,9.600683416599155E-3,5.080114326992494E-3,4.6148934247069477E-3]
[6155000,665000,26.6645160490467,null,76.583353282550902,0,1.7050269309003735E-4,2.1301997071825788E-2,null,null,6.2229999999999999,5.9939999999999998,4.8959999999999999,3.577,1.8220000000000001,1.0960000000000001,0.49926167475423611,0.29637373971908398,0.17962490167248696,0.10857090214360188,6.2952025385887553E-2,null,null,0.49102953068018224,0.37967091013139259,0.2954657340538831,0.22457292802116643,0.16475436261295176,0.11394735626595291,3.8711635398616176E-2,2.4812175010140578E-2,9.593205290983578E-3,5.0756066750847987E-3,4.6125163600516236E-3]
[6155000,675000,28.336065605038499,null,86.411862611565084,0,1.3392241338902722E-4,1.7780672719549303E-2,null,null,6.2229999999999999,5.9939999999999998,4.8959999999999999,3.577,1.8220000000000001,1.0960000000000001,0.55495770595988281,0.3426923779156168,0.21208639404984769,0.13118696763617094,7.174103295129243E-2,null,null,0.49102953068018224,0.37967091013139259,0.2954657340538831,0.22457292802116643,0.16475436261295176,0.11394735626595291,4.5840415401466689E-2,2.9171535061543425E-2,1.2602656146024712E-2,6.7855259993249714E-3,5.3936866556235407E-3]
[6155000,685000,27.7874999046326,null,96.275697868153628,0,1.0788638700357428E-4,1.404660905429932E-2,null,null,6.2229999999999999,{"$f":"L$2+L$3*$C244","v":5.9939999999999998},4.8959999999999999,3.577,1.8220000000000001,1.0960000000000001,0.53667949682235827,0.32749162235736928,0.20143324814796509,0.12376487370967909,6.8856674498558215E-2,null,null,0.49102953068018224,{"$f":"SQRT(Y$2+2*Y$3*$C244+Y$4*$C244^2+Y$5)","v":0.37967091013139259},0.2954657340538831,0.22457292802116643,0.16475436261295176,0.11394735626595291,4.2456637478813598E-2,2.7079595469458838E-2,1.1175826163367911E-2,5.982146935684606E-3,5.0224460768173813E-3]
[6155000,695000,27.430302937825498,null,106.16501306927816,0,8.8723193396155248E-5,1.1403105453789456E-2,null,null,6.2229999999999999,5.9939999999999998,4.8959999999999999,3.577,1.8220000000000001,1.0960000000000001,0.52477769388834572,0.31759369440714447,0.19449648305257122,0.11893199874877902,6.697853284708645E-2,null,null,0.49102953068018224,0.37967091013139259,0.2954657340538831,0.22457292802116643,0.16475436261295176,0.11394735626595291,4.075592451308227E-2,2.603692657020349E-2,1.0445706225938175E-2,5.5676271997938823E-3,4.8363912696533715E-3]
[6155000,705000,27.896721292714599,null,116.07329580915673,0,7.4222464022516112E-5,9.7016120326539734E-3,null,null,6.2229999999999999,5.9939999999999998,4.8959999999999999,3.577,1.8220000000000001,1.0960000000000001,0.54031875347325053,0.33051814702112148,0.20355432750451746,0.12524263909042854,6.9430960557093344E-2,null,null,0.49102953068018224,0.37967091013139259,0.2954657340538831,0.22457292802116643,0.16475436261295176,0.11394735626595291,4.3060293587439173E-2,2.7451475916155991E-2,1.1433241165825348E-2,6.1276274581959769E-3,5.0885638869163528E-3]
[6165000,445000,25.0545454458757,null,147.04084466569142,0,4.6251308333884508E-5,5.4295760694492226E-3,null,null,6.2229999999999999,5.9939999999999998,4.8959999999999999,3.577,1.8220000000000001,1.0960000000000001,0.44561745425657839,0.25176145430521557,0.14835927255890607,8.6787999882698252E-2,5.4486799954414425E-2,null,null,0.49102953068018224,0.37967091013139259,0.2954657340538831,0.22457292802116643,0.16475436261295176,0.11394735626595291,4.2236847379411385E-2,2.7125966363436001E-2,1.143073154354422E-2,6.0920165731757174E-3,4.990993281238071E-3]
[6165000,455000,25.265116358912302,null,137.19697518531521,0,5.3126465958420048E-5,6.2890869850484891E-3,null,null,6.2229999999999999,5.9939999999999998,4.8959999999999999,3.577,1.8220000000000001,1.0960000000000001,0.45263367707895796,0.25759637430545979,0.15244855969007687,8.9637024336083448E-2,5.5593981815160884E-2,null,null,0.49102953068018224,0.37967091013139259,0.2954657340538831,0.22457292802116643,0.16475436261295176,0.11394735626595291,4.1210818709751539E-2,2.6471777490243802E-2,1.0948319360937781E-2,5.8228348951243243E-3,4.8797520847680045E-3]
[6165000,465000,25.864705815034799,null,127.37743128199752,0,6.1633243985673974E-5,7.4692662696074028E-3,null,null,6.2229999999999999,5.9939999999999998,4.8959999999999999,3.577,1.8220000000000001,1.0960000000000001,0.47261199775695961,0.27421099813461425,0.16409258692797585,9.7749469677420875E-2,5.8746623175452969E-2,null,null,0.49102953068018224,0.37967091013139259,0.2954657340538831,0.22457292802116643,0.16475436261295176,0.11394735626595291,3.9168235948525712E-2,2.5155620141477531E-2,9.9293707419885417E-3,5.2547767940861832E-3,4.6595930044495901E-3]
[6165000,475000,26.942391333372701,null,117.5883072418342,0,7.2322215721258622E-5,9.1298414321541021E-3,null,null,6.2229999999999999,5.9939999999999998,4.8959999999999999,3.577,1.8220000000000001,1.0960000000000001,0.50852047922797849,0.30407366384775747,0.18502123969409784,0.11233055474053266,6.441309363087365E-2,null,null,0.49102953068018224,0.37967091013139259,0.2954657340538831,0.22457292802116643,0.16475436261295176,0.11394735626595291,3.9183135156013155E-2,2.5086679047452352E-2,9.7768097702367988E-3,5.1835690986937414E-3,4.6643776790424151E-3]
[6165000,485000,25.886734670522301,null,107.83788759058665,0,8.5991842813790665E-5,1.0430134292072768E-2,null,null,6.2229999999999999,5.9939999999999998,4.8959999999999999,3.577,1.8220000000000001,1.0960000000000001,0.4733459992218032,0.27482141772017288,0.16452038730154311,9.8047520092166773E-2,5.8862450897606264E-2,null,null,0.49102953068018224,0.37967091013139259,0.2954657340538831,0.22457292802116643,0.16475436261295176,0.11394735626595291,3.9119855445046252E-2,2.5123847986630511E-2,9.9034191969936368E-3,5.2403756964188031E-3,4.6544152434987518E-3]
[6165000,495000,26.0189654744905,null,98.137709368010007,0,1.0383127003294567E-4,1.2658246913050801E-2,null,null,6.2229999999999999,5.9939999999999998,4.8959999999999999,3.577,1.8220000000000001,1.0960000000000001,0.47775192961002355,0.27848553329813175,0.16708830951460546,9.9836602869856517E-2,5.9557720464871053E-2,null,null,0.49102953068018224,0.37967091013139259,0.2954657340538831,0.22457292802116643,0.16475436261295176,0.11394735626595291,3.8871206346220252E-2,2.4959121657844911E-2,9.7665638663446339E-3,5.1646430135249893E-3,4.6278722404335384E-3]
[6165000,505000,25.275862118293499,null,88.504293681154252,0,1.2766484403824329E-4,1.5119334253356688E-2,null,null,6.2229999999999999,5.9939999999999998,4.8959999999999999,3.577,1.8220000000000001,1.0960000000000001,0.45299172578153946,0.25789413929791283,0.15265724233725975,8.9782414460511051E-2,5.565048301798721E-2,null,null,0.49102953068018224,0.37967091013139259,0.2954657340538831,0.22457292802116643,0.16475436261295176,0.11394735626595291,4.1162507973581577E-2,2.6440911705167724E-2,1.0925251274505039E-2,5.8099602271580236E-3,4.8745226668371134E-3]
[6165000,515000,25.036633652035601,null,78.962079506558084,0,1.6038466658433587E-4,1.8814563712571297E-2,null,null,6.2229999999999999,{"$f":"L$2+L$3*$C254","v":5.9939999999999998},4.8959999999999999,3.577,1.8220000000000001,1.0960000000000001,0.44502063328582631,0.25126511849790645,0.14801142552253138,8.6545653312041726E-2,5.4392619742403184E-2,null,null,0.49102953068018224,{"$f":"SQRT(Y$2+2*Y$3*$C254+Y$4*$C254^2+Y$5)","v":0.37967091013139259},0.2954657340538831,0.22457292802116643,0.16475436261295176,0.11394735626595291,4.2330900197431229E-2,2.7185828921502803E-2,1.1474306997144012E-2,6.1163232440080264E-3,5.0012062032270682E-3]
[6165000,525000,24.7500001552493,null,69.548616089754077,0,2.0673928728698104E-4,2.3974722691984734E-2,null,null,6.2229999999999999,5.9939999999999998,4.8959999999999999,3.577,1.8220000000000001,1.0960000000000001,0.43547000517290668,0.24332250430195801,0.1424450030149414,8.2667502100523038E-2,5.2885500816300821E-2,null,null,0.49102953068018224,0.37967091013139259,0.2954657340538831,0.22457292802116643,0.16475436261295176,0.11394735626595291,4.3971509708195015E-2,2.8228143594552849E-2,1.2220192901925265E-2,6.5321031751988824E-3,5.1797259986953829E-3]
[6165000,535000,24.874117570764898,null,60.324207412944929,0,2.7480001428960076E-4,3.2027261479055817E-2,null,null,6.2229999999999999,5.9939999999999998,4.8959999999999999,3.577,1.8220000000000001,1.0960000000000001,0.43960559745788652,0.24676179788589525,0.1448553632242543,8.4346810732449096E-2,5.3538110187081836E-2,null,null,0.49102953068018224,0.37967091013139259,0.2954657340538831,0.22457292802116643,0.16475436261295176,0.11394735626595291,4.3230513039781288E-2,2.7757760549472328E-2,1.1886424430583348E-2,6.3461190906268748E-3,5.0990127399126789E-3]
[6165000,545000,25.1089743589744,null,51.390757923969169,0,3.7864301914797749E-4,4.4546573027241132E-2,null,null,6.2229999999999999,5.9939999999999998,4.8959999999999999,3.577,1.8220000000000001,1.0960000000000001,0.4474310256410271,0.2532696794871806,0.14941628205128282,8.7524423076923652E-2,5.4772987179487378E-2,null,null,0.49102953068018224,0.37967091013139259,0.2954657340538831,0.22457292802116643,0.16475436261295176,0.11394735626595291,4.1957444501298402E-2,2.6948041272396573E-2,1.1300682550965124E-2,6.0194652680898289E-3,4.9606686816296847E-3]
[6165000,555000,24.4107691544753,null,42.930292335366175,0,5.4259065333340573E-4,6.2059624550035941E-2,null,null,6.2229999999999999,5.9939999999999998,4.8959999999999999,3.577,1.8220000000000001,1.0960000000000001,0.42416682822711704,0.23392241327051055,0.13585713697991031,7.8077706660050816E-2,5.1101824214231109E-2,null,null,0.49102953068018224,0.37967091013139259,0.2954657340538831,0.22457292802116643,0.16475436261295176,0.11394735626595291,4.6215385847626772E-2,2.9650025350488222E-2,1.3205588399593448E-2,7.0805040550814217E-3,5.4248675989897344E-3]
[6165000,575000,24.814893722534201,null,29.103436223236596,0,1.1806236053883662E-3,0.13727114416417238,null,null,6.2229999999999999,5.9939999999999998,4.8959999999999999,3.577,1.8220000000000001,1.0960000000000001,0.43763225883483969,0.24512070505142269,0.14370523609161417,8.3545512065887784E-2,5.3226711193084822E-2,null,null,0.49102953068018224,0.37967091013139259,0.2954657340538831,0.22457292802116643,0.16475436261295176,0.11394735626595291,4.3578431657098349E-2,2.7978686183399232E-2,1.2043729606027814E-2,6.4337878921346785E-3,5.1368936636770265E-3]
[6165000,585000,25.371428557804698,null,25.475674672125958,0,1.5408083080383969E-3,0.18316770521882578,null,null,6.2229999999999999,5.9939999999999998,4.8959999999999999,3.577,1.8220000000000001,1.0960000000000001,0.45617599954605259,0.26054228533676815,0.15451314259256721,9.107542838709759E-2,5.6152971356937101E-2,null,null,0.49102953068018224,0.37967091013139259,0.2954657340538831,0.22457292802116643,0.16475436261295176,0.11394735626595291,4.0750776686008829E-2,2.6177550786033385E-2,1.0727146974791418E-2,5.6993930369935069E-3,4.8299889780668267E-3]
[6165000,605000,26.8647059272317,null,29.206334929258073,0,1.1723191990715229E-3,0.14756499254221533,null,null,6.2229999999999999,5.9939999999999998,4.8959999999999999,3.577,1.8220000000000001,1.0960000000000001,0.50593200149536033,0.30192100124359034,0.1835125891068396,0.11127947119544496,6.400462376538428E-2,null,null,0.49102953068018224,0.37967091013139259,0.2954657340538831,0.22457292802116643,0.16475436261295176,0.11394735626595291,3.9019242567864404E-2,2.4989820020346255E-2,9.7102336586595804E-3,5.1447857168806796E-3,4.6464022603248866E-3]
[6165000,635000,26.3166666030884,null,51.565589301393622,0,3.7607981918082292E-4,4.6373116087552568E-2,null,null,6.2229999999999999,5.9939999999999998,4.8959999999999999,3.577,1.8220000000000001,1.0960000000000001,0.48767133121490558,0.28673483157157953,0.17286966543197674,0.10386449913978607,6.1123032999038804E-2,null,null,0.49102953068018224,0.37967091013139259,0.2954657340538831,0.22457292802116643,0.16475436261295176,0.11394735626595291,3.8578347072586359E-2,2.4754526260343888E-2,9.5822621345329918E-3,5.0643549109428403E-3,4.5970592373627854E-3]
[6165000,645000,26.3136363462968,null,60.506280665729236,0,2.7314866662478393E-4,3.3677149518415758E-2,null,null,6.2229999999999999,5.9939999999999998,4.8959999999999999,3.577,1.8220000000000001,1.0960000000000001,0.48757036305860946,0.28665086315588428,0.17281081784508384,0.10382349976539573,6.1107099908828552E-2,null,null,0.49102953068018224,0.37967091013139259,0.2954657340538831,0.22457292802116643,0.16475436261295176,0.11394735626595291,3.8579442542057418E-2,2.4755433355777297E-2,9.5832480122617358E-3,5.0648704377159225E-3,4.5971687147440066E-3]
[6165000,655000,26.777965998245499,null,69.73528518619537,0,2.0563395921456055E-4,2.5800480542913611E-2,null,null,6.2229999999999999,{"$f":"L$2+L$3*$C264","v":5.9939999999999998},4.8959999999999999,3.577,1.8220000000000001,1.0960000000000001,0.5030418270615401,0.29951743781138274,0.18182809968592756,0.11010587995626164,6.354854521877483E-2,null,null,0.49102953068018224,{"$f":"SQRT(Y$2+2*Y$3*$C264+Y$4*$C264^2+Y$5)","v":0.37967091013139259},0.2954657340538831,0.22457292802116643,0.16475436261295176,0.11394735626595291,3.8865514758029816E-2,2.4900034784065529E-2,9.6497680667911555E-3,5.1092994489951808E-3,4.6295051443368913E-3]
[6165000,665000,27.880000038146999,null,{"$f":"(SQRT(($A265-E$1)^2+($B265-E$2)^2)/1000)","v":79.151816150989234},{"$f":"IF(E265=0,1,0)","v":0},{"$f":"IF($F$618=0,1/E265^2,F265)","v":1.596166646182528E-4},{"$f":"G265/$G$618*C265","v":2.085097527325552E-2},null,null,6.2229999999999999,5.9939999999999998,4.8959999999999999,3.577,1.8220000000000001,1.0960000000000001,0.5397616012710581,0.33005480105705332,0.2032296007408147,0.12501640051612894,6.9343040200576925E-2,null,null,0.49102953068018224,0.37967091013139259,0.2954657340538831,0.22457292802116643,0.16475436261295176,0.11394735626595291,4.2965476588811828E-2,2.7393016761074182E-2,1.1392886293166603E-2,6.1048393125625704E-3,5.0781756014927557E-3]
[6165000,675000,27.018032730602801,null,88.69616677173822,0,1.2711309633520234E-4,1.6091606097108104E-2,null,null,6.2229999999999999,5.9939999999999998,4.8959999999999999,3.577,1.8220000000000001,1.0960000000000001,0.51104085058368542,0.30616968696500357,0.18649019562830643,0.11335398284505593,6.4810816097509508E-2,null,null,0.49102953068018224,0.37967091013139259,0.2954657340538831,0.22457292802116643,0.16475436261295176,0.11394735626595291,3.9366210533092222E-2,2.519574579356804E-2,9.8526791997971888E-3,5.227544230106693E-3,4.6844302705685986E-3]
[6165000,685000,26.621538514357301,null,98.331124268971919,0,1.0342320465073469E-4,1.2900499107141136E-2,null,null,6.2229999999999999,5.9939999999999998,4.8959999999999999,3.577,1.8220000000000001,1.0960000000000001,0.49782966329838529,0.29518283223284081,0.1787902779488188,0.10798941609925433,6.2726049508490686E-2,null,null,0.49102953068018224,0.37967091013139259,0.2954657340538831,0.22457292802116643,0.16475436261295176,0.11394735626595291,3.8667433020254646E-2,2.4787714601959089E-2,9.5785328232999047E-3,5.0666644554487978E-3,4.6076060167807289E-3]
[6165000,695000,28.279365085420199,null,108.03244882904394,0,8.568238738549621E-5,1.1353155473937785E-2,null,null,6.2229999999999999,5.9939999999999998,4.8959999999999999,3.577,1.8220000000000001,1.0960000000000001,0.55306844464620109,0.34112120651699362,0.2109852699588603,0.13041980960573535,7.1442901619139396E-2,null,null,0.49102953068018224,0.37967091013139259,0.2954657340538831,0.22457292802116643,0.16475436261295176,0.11394735626595291,4.5452069280345751E-2,2.8930686097908366E-2,1.2440922587269431E-2,6.6947828175510865E-3,5.3510035479238192E-3]
[6165000,705000,28.910937488079099,null,117.78374251143492,0,7.2082410378137104E-5,9.7644288927674176E-3,null,null,6.2229999999999999,5.9939999999999998,4.8959999999999999,3.577,1.8220000000000001,1.0960000000000001,0.57411243710279569,0.35862207779467181,0.22325040601849605,0.13896498421371023,7.476370931231989E-2,null,null,0.49102953068018224,0.37967091013139259,0.2954657340538831,0.22457292802116643,0.16475436261295176,0.11394735626595291,5.0202599570308593E-2,3.1885644640282922E-2,1.4386419457617546E-2,7.7825487235435829E-3,5.8744213405720822E-3]
[6165000,715000,27.826086984164501,null,127.57354741481481,0,6.1443894658129238E-5,8.0109910417296808E-3,null,null,6.2229999999999999,5.9939999999999998,4.8959999999999999,3.577,1.8220000000000001,1.0960000000000001,0.53796521831236122,0.3285608703311983,0.20218260923247461,0.1242869568957457,6.9059565362736927E-2,null,null,0.49102953068018224,0.37967091013139259,0.2954657340538831,0.22457292802116643,0.16475436261295176,0.11394735626595291,4.2665645322704233E-2,2.720827054721894E-2,1.1265083211160666E-2,6.032624321660747E-3,5.0453332586611211E-3]
[6165000,725000,26.6861111852858,null,137.39363158458255,0,5.2974491193255718E-5,6.6238037551590127E-3,null,null,6.2229999999999999,5.9939999999999998,4.8959999999999999,3.577,1.8220000000000001,1.0960000000000001,0.49998122469372286,0.29697214094426949,0.18004427921825022,0.10886308433691688,6.3065572612232737E-2,null,null,0.49102953068018224,0.37967091013139259,0.2954657340538831,0.22457292802116643,0.16475436261295176,0.11394735626595291,3.8736777114788658E-2,2.4826300454504579E-2,9.6019847039620805E-3,5.080896257885879E-3,4.6153009318950769E-3]
[6165000,735000,27.581818176038301,null,147.23793668752629,0,4.6127567633392859E-5,5.9612703401534742E-3,null,null,6.2229999999999999,5.9939999999999998,4.8959999999999999,3.577,1.8220000000000001,1.0960000000000001,0.52982618162559625,0.32179218165802126,0.19743890897866384,0.12098199992179826,6.7775199969609387E-2,null,null,0.49102953068018224,0.37967091013139259,0.2954657340538831,0.22457292802116643,0.16475436261295176,0.11394735626595291,4.1424239692780841E-2,2.6445564532108383E-2,1.0733201123720389E-2,5.7312379858090448E-3,4.909469915073684E-3]
[6175000,445000,24.875581364298998,null,149.06713252759644,0,4.5002454883913916E-5,5.2452333800531254E-3,null,null,6.2229999999999999,5.9939999999999998,4.8959999999999999,3.577,1.8220000000000001,1.0960000000000001,0.43965437105844274,0.24680235960472519,0.14488379009468655,8.4366615858965488E-2,5.3545806813484129E-2,null,null,0.49102953068018224,0.37967091013139259,0.2954657340538831,0.22457292802116643,0.16475436261295176,0.11394735626595291,4.3222046750243666E-2,2.7752382888520527E-2,1.1882582913347558E-2,6.3439778319616625E-3,5.0980913092792748E-3]
[6175000,455000,25.743955968500501,null,139.36645937957954,0,5.148532590983582E-5,6.2103220486545499E-3,null,null,6.2229999999999999,{"$f":"L$2+L$3*$C274","v":5.9939999999999998},4.8959999999999999,3.577,1.8220000000000001,1.0960000000000001,0.46858861287043674,0.27086501988714884,0.16174762490827971,9.6115724253811818E-2,5.8111720482375631E-2,null,null,0.49102953068018224,{"$f":"SQRT(Y$2+2*Y$3*$C274+Y$4*$C274^2+Y$5)","v":0.37967091013139259},0.2954657340538831,0.22457292802116643,0.16475436261295176,0.11394735626595291,3.9468190009589212E-2,2.5351402192374761E-2,1.0087104219061517E-2,5.3424658522685251E-3,4.6917568645714726E-3]
[6175000,465000,24.620908997275599,null,129.71125625788997,0,5.9435328716000758E-5,6.8565259445395703E-3,null,null,6.2229999999999999,5.9939999999999998,4.8959999999999999,3.577,1.8220000000000001,1.0960000000000001,0.43116868778922302,0.23974538831450676,0.13993805272709214,8.0920898733138902E-2,5.2206739507675085E-2,null,null,0.49102953068018224,0.37967091013139259,0.2954657340538831,0.22457292802116643,0.16475436261295176,0.11394735626595291,4.4789025858356292E-2,2.8746549771159983E-2,1.2583268268996363E-2,6.7342842781145679E-3,5.2689187896021823E-3]
[6175000,475000,26.881318710662502,null,120.11248894265742,0,6.9314431749891339E-5,8.7303088708582006E-3,null,null,6.2229999999999999,5.9939999999999998,4.8959999999999999,3.577,1.8220000000000001,1.0960000000000001,0.50648553943927466,0.30238134147245788,0.18383520936106573,0.11150424215526367,6.4091973780663433E-2,null,null,0.49102953068018224,0.37967091013139259,0.2954657340538831,0.22457292802116643,0.16475436261295176,0.11394735626595291,3.9052219280539695E-2,2.5009232929675343E-2,9.7234922899249038E-3,5.1525284220638535E-3,4.650021577011056E-3]
[6175000,485000,26.693814425124302,null,110.58485429750314,0,8.1772768196280827E-5,1.0227622939798843E-2,null,null,6.2229999999999999,5.9939999999999998,4.8959999999999999,3.577,1.8220000000000001,1.0960000000000001,0.50023789664514184,0.29718559772019437,0.18019387613591392,0.10896730917193181,6.3106076247303564E-2,null,null,0.49102953068018224,0.37967091013139259,0.2954657340538831,0.22457292802116643,0.16475436261295176,0.11394735626595291,3.8746218866435957E-2,2.4831635567918696E-2,9.6053434589342922E-3,5.0829115716966959E-3,4.6163454674883119E-3]
[6175000,495000,26.587500030344199,null,101.14845525266314,0,9.774206065676802E-5,1.2176272700796749E-2,null,null,6.2229999999999999,5.9939999999999998,4.8959999999999999,3.577,1.8220000000000001,1.0960000000000001,0.49669550101106874,0.29423962584083774,0.17812925058928436,0.10752887541055706,6.2547075159549784E-2,null,null,0.49102953068018224,0.37967091013139259,0.2954657340538831,0.22457292802116643,0.16475436261295176,0.11394735626595291,3.8637949107549675E-2,2.4771798651851452E-2,9.5695661053902831E-3,5.0610852079206927E-3,4.604314843828004E-3]
[6175000,505000,25.836559275145198,null,91.831421637694362,0,1.1858162150880884E-4,1.4355140036311172E-2,null,null,6.2229999999999999,5.9939999999999998,4.8959999999999999,3.577,1.8220000000000001,1.0960000000000001,0.47167415504783805,0.27343105751427343,0.16354598112331969,9.736864699271458E-2,5.8598628668713446E-2,null,null,0.49102953068018224,0.37967091013139259,0.2954657340538831,0.22457292802116643,0.16475436261295176,0.11394735626595291,3.9232915550372359E-2,2.5197997315022071E-2,9.9638123261711654E-3,5.2739028130216921E-3,4.6665200804895061E-3]
[6175000,515000,24.654651109562401,null,82.674119287719066,0,1.4630556502477681E-4,1.6901104174185295E-2,null,null,6.2229999999999999,5.9939999999999998,4.8959999999999999,3.577,1.8220000000000001,1.0960000000000001,0.43229297497061925,0.2406803822459741,0.14059332454770185,8.1377429512379307E-2,5.2384155534079088E-2,null,null,0.49102953068018224,0.37967091013139259,0.2954657340538831,0.22457292802116643,0.16475436261295176,0.11394735626595291,4.4570874060646179E-2,2.8608263149162858E-2,1.2486875219047832E-2,6.6806207961085818E-3,5.2451037853099309E-3]
[6175000,525000,24.781176488539799,null,73.736083432740031,0,1.8392462033360249E-4,2.1355864698818106E-2,null,null,6.2229999999999999,5.9939999999999998,4.8959999999999999,3.577,1.8220000000000001,1.0960000000000001,0.43650880059814623,0.24418640049743778,0.14305044740744288,8.3089317889943504E-2,5.3049425976742268E-2,null,null,0.49102953068018224,0.37967091013139259,0.2954657340538831,0.22457292802116643,0.16475436261295176,0.11394735626595291,4.3781139032360077E-2,2.8107347352937E-2,1.2134892079884572E-2,6.4845825098216034E-3,5.1589774958059331E-3]
[6175000,535000,24.6368421253405,null,65.10768003853309,0,2.3590413799448454E-4,2.7231776324101255E-2,null,null,6.2229999999999999,5.9939999999999998,4.8959999999999999,3.577,1.8220000000000001,1.0960000000000001,0.43169957961634553,0.24018689529318527,0.14024747407411253,8.1136473955856991E-2,5.2290515895040343E-2,null,null,0.49102953068018224,0.37967091013139259,0.2954657340538831,0.22457292802116643,0.16475436261295176,0.11394735626595291,4.4685626250289545E-2,2.8681008744309799E-2,1.2537622979420198E-2,6.7088740804537765E-3,5.2576296957028718E-3]
[6175000,545000,24.2523255902667,null,56.929869137386923,0,3.0854579282384192E-4,3.5061330355960769E-2,null,null,6.2229999999999999,5.9939999999999998,4.8959999999999999,3.577,1.8220000000000001,1.0960000000000001,0.41888748866768655,0.22953194210629024,0.13278016296297929,7.5933965236308465E-2,5.0268727953622291E-2,null,null,0.49102953068018224,0.37967091013139259,0.2954657340538831,0.22457292802116643,0.16475436261295176,0.11394735626595291,4.7363545519020965E-2,3.0376609741427311E-2,1.3697683028065562E-2,7.353995235429696E-3,5.5506761068238181E-3]
[6175000,555000,24.7607595467869,null,49.426814584797995,0,4.0933111202983211E-4,4.748911648793494E-2,null,null,6.2229999999999999,{"$f":"L$2+L$3*$C284","v":5.9939999999999998},4.8959999999999999,3.577,1.8220000000000001,1.0960000000000001,0.43582850809893958,0.24362064704146502,0.14265395039860163,8.2813076668026786E-2,5.2942073697005501E-2,null,null,0.49102953068018224,{"$f":"SQRT(Y$2+2*Y$3*$C284+Y$4*$C284^2+Y$5)","v":0.37967091013139259},0.2954657340538831,0.22457292802116643,0.16475436261295176,0.11394735626595291,4.3905493363766535E-2,2.8186257786611685E-2,1.2190646233553638E-2,6.5156437420656587E-3,5.1725299347326666E-3]
[6175000,565000,24.577777801998099,null,42.95357959472063,0,5.4200248237136917E-4,6.2416478302072906E-2,null,null,6.2229999999999999,5.9939999999999998,4.8959999999999999,3.577,1.8220000000000001,1.0960000000000001,0.42973155636257676,0.23855022289336725,0.13910044491480306,8.0337333661034294E-2,5.197995568290599E-2,null,null,0.49102953068018224,0.37967091013139259,0.2954657340538831,0.22457292802116643,0.16475436261295176,0.11394735626595291,4.5072371821106266E-2,2.8926116082993704E-2,1.2707961660578583E-2,6.8036883577024003E-3,5.2998657156808314E-3]
[6175000,585000,25.2104166348775,null,35.341335571820146,0,8.0063410220894947E-4,9.4573503807104262E-2,null,null,6.2229999999999999,5.9939999999999998,4.8959999999999999,3.577,1.8220000000000001,1.0960000000000001,0.45081108227411837,0.25608064495245553,0.15138629104932105,8.8896937069892601E-2,5.5306370666185892E-2,null,null,0.49102953068018224,0.37967091013139259,0.2954657340538831,0.22457292802116643,0.16475436261295176,0.11394735626595291,4.1462940843040266E-2,2.6632753241634197E-2,1.106815099135766E-2,5.8897120583538479E-3,4.907056086305121E-3]
[6175000,625000,26.3294117871453,null,49.568235796727727,0,4.0699875051383586E-4,5.0209928689514481E-2,null,null,6.2229999999999999,5.9939999999999998,4.8959999999999999,3.577,1.8220000000000001,1.0960000000000001,0.48809600074768145,0.28708800062179618,0.17311717690636169,0.10403694148007592,6.1190047176809995E-2,null,null,0.49102953068018224,0.37967091013139259,0.2954657340538831,0.22457292802116643,0.16475436261295176,0.11394735626595291,3.8574166366853298E-2,2.4750977326202316E-2,9.5783190084829817E-3,5.0623021384397495E-3,4.5966449620775968E-3]
[6175000,635000,26.300000155413599,null,57.087739489315915,0,3.0684164823059764E-4,3.7811632633822319E-2,null,null,6.2229999999999999,5.9939999999999998,4.8959999999999999,3.577,1.8220000000000001,1.0960000000000001,0.48711600517838116,0.28627300430651081,0.17254600301813211,0.10363900210274601,6.1035400817164701E-2,null,null,0.49102953068018224,0.37967091013139259,0.2954657340538831,0.22457292802116643,0.16475436261295176,0.11394735626595291,3.8584854475468951E-2,2.4759816182425259E-2,9.5879142121292026E-3,5.0673207619660286E-3,4.5977135554996417E-3]
[6175000,645000,26.3238094874791,null,65.276412278862267,0,2.3468614248734455E-4,2.8946199926500119E-2,null,null,6.2229999999999999,5.9939999999999998,4.8959999999999999,3.577,1.8220000000000001,1.0960000000000001,0.48790933212280363,0.28693276089804576,0.17300838024684412,0.10396114236559223,6.1160590285165087E-2,null,null,0.49102953068018224,0.37967091013139259,0.2954657340538831,0.22457292802116643,0.16475436261295176,0.11394735626595291,3.8575919091968155E-2,2.4752484298655505E-2,9.5800117514325753E-3,5.0631814601925108E-3,4.5968178692667319E-3]
[6175000,655000,26.9766665458679,null,73.912177616411768,0,1.8304927137237527E-4,2.3137245781723839E-2,null,null,6.2229999999999999,5.9939999999999998,4.8959999999999999,3.577,1.8220000000000001,1.0960000000000001,0.50966252930831846,0.30502342998599952,0.1856868643207546,0.11279429836559274,6.4593312698173408E-2,null,null,0.49102953068018224,0.37967091013139259,0.2954657340538831,0.22457292802116643,0.16475436261295176,0.11394735626595291,3.926323825521804E-2,2.5134307246123637E-2,9.809852642142786E-3,5.2027449898502456E-3,4.6731541932121335E-3]
[6175000,665000,27.403703724896499,null,82.855355892060473,0,1.456662117025321E-4,1.8703524853166478E-2,null,null,6.2229999999999999,5.9939999999999998,4.8959999999999999,3.577,1.8220000000000001,1.0960000000000001,0.52389140811355139,0.31685663021688193,0.19397992633749001,0.11857211139784968,6.6838674185505778E-2,null,null,0.49102953068018224,0.37967091013139259,0.2954657340538831,0.22457292802116643,0.16475436261295176,0.11394735626595291,4.0647017517083668E-2,2.5970513470670656E-2,1.039885541997621E-2,5.5409057004074279E-3,4.8244853305810954E-3]
[6175000,675000,27.937254961799201,null,92.01635724152527,0,1.1810544690510581E-4,1.5459983652919585E-2,null,null,6.2229999999999999,5.9939999999999998,4.8959999999999999,3.577,1.8220000000000001,1.0960000000000001,0.54166933532714945,0.33164133499145587,0.20434149135814045,0.12579105963314324,6.9644086589140189E-2,null,null,0.49102953068018224,0.37967091013139259,0.2954657340538831,0.22457292802116643,0.16475436261295176,0.11394735626595291,4.3293668895160682E-2,2.7595432307076919E-2,1.1532439719609022E-2,6.183616299826715E-3,5.1141377997204942E-3]
[6175000,685000,27.817646924187201,null,101.33612386508574,0,9.738037064916676E-5,1.2692500393414755E-2,null,null,6.2229999999999999,5.9939999999999998,4.8959999999999999,3.577,1.8220000000000001,1.0960000000000001,0.53768399551391766,0.32832699626922734,0.20201870326771548,0.12417276288425289,6.9015187527376301E-2,null,null,0.49102953068018224,0.37967091013139259,0.2954657340538831,0.22457292802116643,0.16475436261295176,0.11394735626595291,4.2619527865025694E-2,2.7179870515655496E-2,1.1245400269011585E-2,6.0214961652004352E-3,5.0402827459082511E-3]
[6175000,695000,27.1784615443303,null,110.7745909493689,0,8.1492884448794339E-5,1.0377671789152046E-2,null,null,6.2229999999999999,{"$f":"L$2+L$3*$C294","v":5.9939999999999998},4.8959999999999999,3.577,1.8220000000000001,1.0960000000000001,0.51638633865708572,0.31061516939339262,0.18960572319089447,0.11552458469478899,6.5654350800088704E-2,null,null,0.49102953068018224,{"$f":"SQRT(Y$2+2*Y$3*$C294+Y$4*$C294^2+Y$5)","v":0.37967091013139259},0.2954657340538831,0.22457292802116643,0.16475436261295176,0.11394735626595291,3.9829706407441989E-2,2.5474365890073247E-2,1.0048485005535171E-2,5.3403781522368158E-3,4.7351361548809024E-3]
[6175000,705000,27.895454406738299,null,120.30382371313058,0,6.9094127620999366E-5,9.0308774709353615E-3,null,null,6.2229999999999999,5.9939999999999998,4.8959999999999999,3.577,1.8220000000000001,1.0960000000000001,0.54027654083252019,0.33048304161071818,0.20352972457885771,0.12522549812316924,6.9424299270629972E-2,null,null,0.49102953068018224,0.37967091013139259,0.2954657340538831,0.22457292802116643,0.16475436261295176,0.11394735626595291,4.305307982027571E-2,2.744702770206759E-2,1.1430171974628778E-2,6.1258945400379282E-3,5.0877734953849027E-3]
[6175000,715000,27.694594512114701,null,129.90384905767806,0,5.9259224142681971E-5,7.6896459406848626E-3,null,null,6.2229999999999999,5.9939999999999998,4.8959999999999999,3.577,1.8220000000000001,1.0960000000000001,0.53358388914366195,0.32491721393069828,0.19962902542526745,0.12250786374891193,6.8368177944699085E-2,null,null,0.49102953068018224,0.37967091013139259,0.2954657340538831,0.22457292802116643,0.16475436261295176,0.11394735626595291,4.197299997468338E-2,2.6782226339781365E-2,1.0968800256161725E-2,5.8649213170428541E-3,4.96950624973497E-3]
[6175000,725000,26.4269230426886,null,139.56005875607821,0,5.1342582870779444E-5,6.3574021514163654E-3,null,null,6.2229999999999999,5.9939999999999998,4.8959999999999999,3.577,1.8220000000000001,1.0960000000000001,0.49134507578238418,0.289790037512901,0.17501084548901263,0.10535626876757681,6.1702761358456662E-2,null,null,0.49102953068018224,0.37967091013139259,0.2954657340538831,0.22457292802116643,0.16475436261295176,0.11394735626595291,3.8565018463743564E-2,2.4738078131098601E-2,9.5590635870856696E-3,5.0527924304898655E-3,4.5959462983000531E-3]
[6175000,735000,26.3422536178374,null,149.26154896690574,0,4.4885297865569437E-5,5.5400337451304744E-3,null,null,6.2229999999999999,5.9939999999999998,4.8959999999999999,3.577,1.8220000000000001,1.0960000000000001,0.48852389054634227,0.28744384775027432,0.17336656525840227,0.10421069144934003,6.1257569522589053E-2,null,null,0.49102953068018224,0.37967091013139259,0.2954657340538831,0.22457292802116643,0.16475436261295176,0.11394735626595291,3.8570651640452792E-2,2.4747836796532422E-2,9.5746787743118678E-3,5.0604227577622811E-3,4.5963030360999984E-3]
[6185000,445000,24.585555542839899,null,151.72676098829763,0,4.3438580670439751E-5,5.0039276812335878E-3,null,null,6.2229999999999999,5.9939999999999998,4.8959999999999999,3.577,1.8220000000000001,1.0960000000000001,0.42999071068742545,0.2387657440920935,0.1392514886419508,8.0442566494623835E-2,5.2020851044252178E-2,null,null,0.49102953068018224,0.37967091013139259,0.2954657340538831,0.22457292802116643,0.16475436261295176,0.11394735626595291,4.5020908026596689E-2,2.8893505429029544E-2,1.2685355363646981E-2,6.7911069626254688E-3,5.2942436309945402E-3]
[6185000,455000,24.585714249383798,null,142.2076298937578,0,4.944862312781333E-5,5.6962941128689522E-3,null,null,6.2229999999999999,5.9939999999999998,4.8959999999999999,3.577,1.8220000000000001,1.0960000000000001,0.42999599878946826,0.238770141850425,0.13925457072303338,8.0444713794162848E-2,5.2021685523260017E-2,null,null,0.49102953068018224,0.37967091013139259,0.2954657340538831,0.22457292802116643,0.16475436261295176,0.11394735626595291,4.5019859576673149E-2,2.8892841049128856E-2,1.2684894625312908E-2,6.7908505359278786E-3,5.2941291003010312E-3]
[6185000,465000,25.101162866104499,null,132.75921813569104,0,5.6737556460960876E-5,6.6729802779633314E-3,null,null,6.2229999999999999,5.9939999999999998,4.8959999999999999,3.577,1.8220000000000001,1.0960000000000001,0.44717074669860202,0.25305322301975564,0.14926458285974936,8.7418733578393915E-2,5.4731914349977442E-2,null,null,0.49102953068018224,0.37967091013139259,0.2954657340538831,0.22457292802116643,0.16475436261295176,0.11394735626595291,4.1996947327680251E-2,2.6973205590234563E-2,1.1319125160831459E-2,6.0297547643299457E-3,4.9649546828929216E-3]
[6185000,475000,26.0240385165581,null,123.39777145475522,0,6.5672774891459325E-5,8.0078408242621572E-3,null,null,{"$f":"K$2+K$3*$C302","v":6.2229999999999999},5.9939999999999998,4.8959999999999999,3.577,1.8220000000000001,1.0960000000000001,0.47792096337171597,0.27862610729382487,0.16718682799155832,9.9905241129031153E-2,5.9584394520062492E-2,null,null,{"$f":"SQRT(X$2+2*X$3*$C302+X$4*$C302^2+X$5)","v":0.49102953068018224},0.37967091013139259,0.2954657340538831,0.22457292802116643,0.16475436261295176,0.11394735626595291,3.8863104048547023E-2,2.4953696544604529E-2,9.761970547756774E-3,5.1621098220767034E-3,4.6270099314876271E-3]
[6185000,485000,26.300961549465502,null,114.14468888213766,0,7.6751802324198071E-5,9.4583543550789163E-3,null,null,6.2229999999999999,5.9939999999999998,4.8959999999999999,3.577,1.8220000000000001,1.0960000000000001,0.48714803882819058,0.28629964453568901,0.17256467329062003,0.10365200976426825,6.1040455827089599E-2,null,null,0.49102953068018224,0.37967091013139259,0.2954657340538831,0.22457292802116643,0.16475436261295176,0.11394735626595291,3.8584447061254926E-2,2.4759491049938655E-2,9.5875729193245027E-3,5.0671410160440123E-3,4.5976723445384626E-3]
[6185000,495000,27.4094118454877,null,105.02861514844419,0,9.0653530365759802E-5,1.1642327449266835E-2,null,null,6.2229999999999999,{"$f":"L$2+L$3*$C304","v":5.9939999999999998},4.8959999999999999,3.577,1.8220000000000001,1.0960000000000001,0.52408160269165027,0.31701480223846412,0.19409077803937108,0.11864934226944862,6.6868687483574316E-2,null,null,0.49102953068018224,{"$f":"SQRT(Y$2+2*Y$3*$C304+Y$4*$C304^2+Y$5)","v":0.37967091013139259},0.2954657340538831,0.22457292802116643,0.16475436261295176,0.11394735626595291,4.0670172961643145E-2,2.5984629210059496E-2,1.0408815606637917E-2,5.5465880693700252E-3,4.8270166881090202E-3]
[6185000,505000,25.894623582081099,null,96.08855290824188,0,1.0830704179893666E-4,1.3140795843437315E-2,null,null,6.2229999999999999,5.9939999999999998,4.8959999999999999,3.577,1.8220000000000001,1.0960000000000001,0.47360885775494233,0.27504001945946721,0.16467358996401499,9.8154257065557304E-2,5.8903930794582407E-2,null,null,0.49102953068018224,0.37967091013139259,0.2954657340538831,0.22457292802116643,0.16475436261295176,0.11394735626595291,3.9103009637141452E-2,2.5112768559532744E-2,9.894341408719828E-3,5.2353405581347188E-3,4.6526131917162122E-3]
[6185000,515000,25.016666681338599,null,87.378544277185128,0,1.3097559793634844E-4,1.535236204997782E-2,null,null,6.2229999999999999,5.9939999999999998,4.8959999999999999,3.577,1.8220000000000001,1.0960000000000001,0.44435533382220216,0.25071183373989248,0.14762366695159557,8.6275500198511268E-2,5.4287633410478334E-2,null,null,0.49102953068018224,0.37967091013139259,0.2954657340538831,0.22457292802116643,0.16475436261295176,0.11394735626595291,4.243695937650932E-2,2.7253316007271919E-2,1.1523327632305392E-2,6.1436653262411083E-3,5.0127258245782095E-3]
[6185000,525000,24.368831238189301,null,78.974742797935093,0,1.6033323659894722E-4,1.8306850364726433E-2,null,null,6.2229999999999999,5.9939999999999998,4.8959999999999999,3.577,1.8220000000000001,1.0960000000000001,0.42276945685646761,0.23276031361022553,0.13504270264563623,7.7510286652701266E-2,5.0881314650399342E-2,null,null,0.49102953068018224,0.37967091013139259,0.2954657340538831,0.22457292802116643,0.16475436261295176,0.11394735626595291,4.6513438501531695E-2,2.9838689587947723E-2,1.3334035892363105E-2,7.1519144475706876E-3,5.4575038508004065E-3]
[6185000,535000,24.962820542164302,null,70.985984532159591,0,1.9845167999269693E-4,2.3211532031388229E-2,null,null,6.2229999999999999,5.9939999999999998,4.8959999999999999,3.577,1.8220000000000001,1.0960000000000001,0.44256118046491455,0.24921975722337275,0.14657797492883073,8.5546961935483057E-2,5.4004510410699882E-2,null,null,0.49102953068018224,0.37967091013139259,0.2954657340538831,0.22457292802116643,0.16475436261295176,0.11394735626595291,4.2729286585400761E-2,2.7439240097578671E-2,1.1657819697014165E-2,6.2186694497648994E-3,5.0444928220870419E-3]
[6185000,545000,24.249275207519499,null,63.568938956065644,0,2.4746288675355914E-4,2.8116691061735415E-2,null,null,6.2229999999999999,5.9939999999999998,4.8959999999999999,3.577,1.8220000000000001,1.0960000000000001,0.41878584991454981,0.22944741600036533,0.13272092453002865,7.5892693557738866E-2,5.0252689041137513E-2,null,null,0.49102953068018224,0.37967091013139259,0.2954657340538831,0.22457292802116643,0.16475436261295176,0.11394735626595291,4.7386229076394205E-2,3.0390959708721493E-2,1.3707333807650742E-2,7.3593564751086036E-3,5.5531639510720994E-3]
[6185000,555000,25.2945455724543,null,56.947431899954893,0,3.0835550923370572E-4,3.6545504827111913E-2,null,null,6.2229999999999999,5.9939999999999998,4.8959999999999999,3.577,1.8220000000000001,1.0960000000000001,0.45361425847417736,0.25841185781270859,0.1530200750170625,9.0035201595306702E-2,5.5748720619964706E-2,null,null,0.49102953068018224,0.37967091013139259,0.2954657340538831,0.22457292802116643,0.16475436261295176,0.11394735626595291,4.1079472610921382E-2,2.6387843951381912E-2,1.0885519066671068E-2,5.787784782110561E-3,4.8655363854768641E-3]
[6185000,565000,24.357407393278901,null,51.429660702750127,0,3.7807040427068316E-4,4.314784535343176E-2,null,null,6.2229999999999999,5.9939999999999998,4.8959999999999999,3.577,1.8220000000000001,1.0960000000000001,0.42238881434405307,0.23244375886775837,0.13482085157747625,7.7355722031063556E-2,5.0821248073860445E-2,null,null,0.49102953068018224,0.37967091013139259,0.2954657340538831,0.22457292802116643,0.16475436261295176,0.11394735626595291,4.6595369472792199E-2,2.9890544607983717E-2,1.3369255333377045E-2,7.171491799789079E-3,5.466477981679819E-3]
[6185000,575000,24.349999944368999,null,47.402637057446498,0,4.4503584763752726E-4,5.0774929743081232E-2,null,null,6.2229999999999999,5.9939999999999998,4.8959999999999999,3.577,1.8220000000000001,1.0960000000000001,0.4221419981463751,0.23223849845846489,0.13467699891964596,7.7255499247312565E-2,5.0782299707492193E-2,null,null,0.49102953068018224,0.37967091013139259,0.2954657340538831,0.22457292802116643,0.16475436261295176,0.11394735626595291,4.6648663296904175E-2,2.9924273427748196E-2,1.3392144324502572E-2,7.1842143880924388E-3,5.4723160526854988E-3]
[6185000,585000,24.715384556697,null,45.265991649360778,0,4.8804056593184031E-4,5.6516943418712086E-2,null,null,6.2229999999999999,5.9939999999999998,4.8959999999999999,3.577,1.8220000000000001,1.0960000000000001,0.43431661342914407,0.24236330606607381,0.14177276809105571,8.2199153052110452E-2,5.2703491999112825E-2,null,null,0.49102953068018224,0.37967091013139259,0.2954657340538831,0.22457292802116643,0.16475436261295176,0.11394735626595291,4.4186144477357685E-2,2.8364298621224721E-2,1.2316013720618621E-2,6.5854752954888117E-3,5.2031289177380405E-3]
[6185000,595000,25.198181949962301,null,45.288077901363849,0,4.8756466326346516E-4,5.7564773672111345E-2,null,null,6.2229999999999999,{"$f":"L$2+L$3*$C314","v":5.9939999999999998},4.8959999999999999,3.577,1.8220000000000001,1.0960000000000001,0.45040342257274391,0.25574162183345528,0.15114869346826787,8.8731401782989938E-2,5.524204069290177E-2,null,null,0.49102953068018224,{"$f":"SQRT(Y$2+2*Y$3*$C314+Y$4*$C314^2+Y$5)","v":0.37967091013139259},0.2954657340538831,0.22457292802116643,0.16475436261295176,0.11394735626595291,4.1520739821762132E-2,2.6669633656677991E-2,1.1095495878034888E-2,5.904972197246579E-3,4.9133185000508148E-3]
[6185000,605000,25.519230769230798,null,47.465882484159081,0,4.4385067088028907E-4,5.3071312917424764E-2,null,null,6.2229999999999999,5.9939999999999998,4.8959999999999999,3.577,1.8220000000000001,1.0960000000000001,0.46110076923077026,0.2646378846153854,0.15738346153846211,9.3075192307692733E-2,5.6930115384615523E-2,null,null,0.49102953068018224,0.37967091013139259,0.2954657340538831,0.22457292802116643,0.16475436261295176,0.11394735626595291,4.0179106683764274E-2,2.5810724701475888E-2,1.044694913846987E-2,5.5430351708539881E-3,4.7682697930723304E-3]
[6185000,645000,26.584745827367801,null,71.140775930544933,0,1.9758901879269155E-4,2.4612214353159311E-2,null,null,6.2229999999999999,5.9939999999999998,4.8959999999999999,3.577,1.8220000000000001,1.0960000000000001,0.49660373096789523,0.29416330687636172,0.17807576396748265,0.10749161104428639,6.2532593560299901E-2,null,null,0.49102953068018224,0.37967091013139259,0.2954657340538831,0.22457292802116643,0.16475436261295176,0.11394735626595291,3.8635777391317211E-2,2.4770644659882903E-2,9.5689434009974348E-3,5.0606920276000328E-3,4.6040716910843603E-3]
[6185000,655000,27.2562499046326,null,79.139181193641377,0,1.5966763584921624E-4,2.0390992699175915E-2,null,null,6.2229999999999999,5.9939999999999998,4.8959999999999999,3.577,1.8220000000000001,1.0960000000000001,0.51897824682235827,0.31277068485736936,0.19111637314796509,0.11657706120967909,6.6063361998558209E-2,null,null,0.49102953068018224,0.37967091013139259,0.2954657340538831,0.22457292802116643,0.16475436261295176,0.11394735626595291,4.0090411111433744E-2,2.563211287296337E-2,1.0159855543969198E-2,5.4042711094428632E-3,4.7636393982391553E-3]
[6185000,665000,27.809677277841899,null,87.550042832656573,0,1.304629739556765E-4,1.6999595791274476E-2,null,null,6.2229999999999999,5.9939999999999998,4.8959999999999999,3.577,1.8220000000000001,1.0960000000000001,0.53741844689769214,0.32810615736899895,0.20186393273568964,0.12406493356920095,6.8973283126892701E-2,null,null,0.49102953068018224,0.37967091013139259,0.2954657340538831,0.22457292802116643,0.16475436261295176,0.11394735626595291,4.2576186669919691E-2,2.7153184213525729E-2,1.1226896212651504E-2,6.0110329292198108E-3,5.0355365164586547E-3]
[6185000,675000,27.690909125588199,null,96.265310470594741,0,1.0790967097262226E-4,1.4000803310844337E-2,null,null,6.2229999999999999,5.9939999999999998,4.8959999999999999,3.577,1.8220000000000001,1.0960000000000001,0.53346109206459891,0.32481509187004898,0.19955745521892282,0.12245800046920835,6.8348800182342753E-2,null,null,0.49102953068018224,0.37967091013139259,0.2954657340538831,0.22457292802116643,0.16475436261295176,0.11394735626595291,4.195439532872898E-2,2.6770798617951657E-2,1.0960823775695398E-2,5.8604003898598779E-3,4.9674703000459463E-3]
[6185000,685000,27.741817994551202,null,105.20936270123492,0,9.0342316069820134E-5,1.1743066225601471E-2,null,null,6.2229999999999999,5.9939999999999998,4.8959999999999999,3.577,1.8220000000000001,1.0960000000000001,0.53515737557844612,0.32622577662901375,0.20054610545418433,0.12314679746627777,6.8616479015350215E-2,null,null,0.49102953068018224,0.37967091013139259,0.2954657340538831,0.22457292802116643,0.16475436261295176,0.11394735626595291,4.2215336004935579E-2,2.6931159060788096E-2,1.1072615996296008E-2,5.9237321541149718E-3,4.9960293024566499E-3]
[6185000,695000,27.196721342743398,null,114.32851787721206,0,7.6505182078508101E-5,9.7490607439280428E-3,null,null,6.2229999999999999,5.9939999999999998,4.8959999999999999,3.577,1.8220000000000001,1.0960000000000001,0.51699475514021009,0.31112114840741956,0.18996032847607675,0.11577163976731819,6.5750360820144779E-2,null,null,0.49102953068018224,0.37967091013139259,0.2954657340538831,0.22457292802116643,0.16475436261295176,0.11394735626595291,3.9888823360334218E-2,2.5510083908354235E-2,1.0073686900541192E-2,5.3548513469371352E-3,4.7416001173534346E-3]
[6185000,705000,28.565573676687801,null,123.58402000258771,0,6.5474978409625878E-5,8.7634212025561337E-3,null,null,6.2229999999999999,5.9939999999999998,4.8959999999999999,3.577,1.8220000000000001,1.0960000000000001,0.56260491490723763,0.34905204658101896,0.21654344080127713,0.13429221184558598,7.2947786392024441E-2,null,null,0.49102953068018224,0.37967091013139259,0.2954657340538831,0.22457292802116643,0.16475436261295176,0.11394735626595291,4.7493306017097663E-2,3.0198246764379221E-2,1.3285406862036629E-2,7.1678960220425535E-3,5.575572347288324E-3]
[6185000,715000,28.490540401355599,null,132.94739561194871,0,5.6577054270407772E-5,7.5525983697356048E-3,null,null,6.2229999999999999,5.9939999999999998,4.8959999999999999,3.577,1.8220000000000001,1.0960000000000001,0.5601048061731686,0.34697287452156356,0.21508629459432577,0.13327701163034128,7.255326143032774E-2,null,null,0.49102953068018224,0.37967091013139259,0.2954657340538831,0.22457292802116643,0.16475436261295176,0.11394735626595291,4.6939094843016796E-2,2.9853724906848986E-2,1.3057472876567177E-2,7.0403605422304514E-3,5.5145479590055051E-3]
[6185000,725000,27.485714258466398,null,142.39736654868307,0,4.931693578096573E-5,6.3512394086978436E-3,null,null,6.2229999999999999,{"$f":"L$2+L$3*$C324","v":5.9939999999999998},4.8959999999999999,3.577,1.8220000000000001,1.0960000000000001,0.52662399909210045,0.31912914210210386,0.19557257089941743,0.1196817139170504,6.7269885571016305E-2,null,null,0.49102953068018224,{"$f":"SQRT(Y$2+2*Y$3*$C324+Y$4*$C324^2+Y$5)","v":0.37967091013139259},0.2954657340538831,0.22457292802116643,0.16475436261295176,0.11394735626595291,4.0990955579058352E-2,2.6180435059208678E-2,1.0546836596436376E-2,5.6252472853176184E-3,4.8620875541751565E-3]
[6195000,445000,24.5160494203921,null,154.98712849782075,0,4.1630222875724203E-5,4.782055320737469E-3,null,null,6.2229999999999999,5.9939999999999998,4.8959999999999999,3.577,1.8220000000000001,1.0960000000000001,0.42767476668746485,0.23683972943906506,0.13790167974401457,7.9502148657905169E-2,5.1655387852421644E-2,null,null,0.49102953068018224,0.37967091013139259,0.2954657340538831,0.22457292802116643,0.16475436261295176,0.11394735626595291,4.5486481882402577E-2,2.918846518079422E-2,1.2889215470079055E-2,6.9045445784014E-3,5.3451240175857121E-3]
[6195000,455000,24.820547966107899,null,145.68119302092498,0,4.7118669783409608E-5,5.4797375462746446E-3,null,null,6.2229999999999999,5.9939999999999998,4.8959999999999999,3.577,1.8220000000000001,1.0960000000000001,0.43782065823071525,0.24527738414084987,0.1438150415018154,8.3622013981439924E-2,5.3256441205795327E-2,null,null,0.49102953068018224,0.37967091013139259,0.2954657340538831,0.22457292802116643,0.16475436261295176,0.11394735626595291,4.3544765019207239E-2,2.7957313630538608E-2,1.2028554736609116E-2,6.4253317974532305E-3,5.133226810421416E-3]
[6195000,465000,25.040740707774201,null,136.47347727672218,0,5.3691246340270405E-5,6.2994992474047678E-3,null,null,6.2229999999999999,5.9939999999999998,4.8959999999999999,3.577,1.8220000000000001,1.0960000000000001,0.44515748038303649,0.25137892501242309,0.148091184544975,8.6601221776184956E-2,5.4414214641476735E-2,null,null,0.49102953068018224,0.37967091013139259,0.2954657340538831,0.22457292802116643,0.16475436261295176,0.11394735626595291,4.2309243165239617E-2,2.7172045994151833E-2,1.1464281874923384E-2,6.1107313080080465E-3,4.998854308713694E-3]
[6195000,475000,25.445882348453299,null,127.38528172438133,0,6.1625647608524309E-5,7.3474118239862281E-3,null,null,6.2229999999999999,5.9939999999999998,4.8959999999999999,3.577,1.8220000000000001,1.0960000000000001,0.45865679985046404,0.26260539987564091,0.15595903520696308,9.208278817457316E-2,5.6544449388167425E-2,null,null,0.49102953068018224,0.37967091013139259,0.2954657340538831,0.22457292802116643,0.16475436261295176,0.11394735626595291,4.0452751899143727E-2,2.5986515855779515E-2,1.0581899295124908E-2,5.618332612870933E-3,4.7977954057768536E-3]
[6195000,485000,25.9402299420587,null,{"$f":"(SQRT(($A329-E$1)^2+($B329-E$2)^2)/1000)","v":118.44412184654838},{"$f":"IF(E329=0,1,0)","v":0},{"$f":"IF($F$618=0,1/E329^2,F329)","v":7.1280867288568472E-5},{"$f":"G329/$G$618*C329","v":8.6636753234486767E-3},null,null,6.2229999999999999,5.9939999999999998,4.8959999999999999,3.577,1.8220000000000001,1.0960000000000001,0.47512846166939593,0.27630377169444653,0.16555926547477989,9.877131111605425E-2,5.9143729035344636E-2,null,null,0.49102953068018224,0.37967091013139259,0.2954657340538831,0.22457292802116643,0.16475436261295176,0.11394735626595291,3.9010605708799634E-2,2.5051818481777035E-2,9.8441134042173764E-3,5.2075062240473846E-3,4.6427369066130639E-3]
[6195000,495000,26.327083388964301,null,109.68596081541156,0,8.3118541169860212E-5,1.0253119829014902E-2,null,null,6.2229999999999999,5.9939999999999998,4.8959999999999999,3.577,1.8220000000000001,1.0960000000000001,0.4880184185202906,0.28702348070820072,0.17307195941368675,0.10400543825268704,6.1177804459174298E-2,null,null,0.49102953068018224,0.37967091013139259,0.2954657340538831,0.22457292802116643,0.16475436261295176,0.11394735626595291,3.8574878640388749E-2,2.4751593547895745E-2,9.5790148186549306E-3,5.0626632148332582E-3,4.5967150735969388E-3]
[6195000,505000,26.129213483146099,null,101.15834122799761,0,9.7722957370314302E-5,1.1964052509292698E-2,null,null,6.2229999999999999,5.9939999999999998,4.8959999999999999,3.577,1.8220000000000001,1.0960000000000001,0.48142539325842815,0.28154050561797839,0.16922932584269729,0.10132825842696674,6.0137404494382193E-2,null,null,0.49102953068018224,0.37967091013139259,0.2954657340538831,0.22457292802116643,0.16475436261295176,0.11394735626595291,3.8719293456518498E-2,2.4856272906505529E-2,9.6779323077462471E-3,5.1159377464327334E-3,4.6117532104977014E-3]
[6195000,515000,25.374666595459001,null,92.924754505998024,0,1.1580762500564562E-4,1.3768697913444395E-2,null,null,6.2229999999999999,5.9939999999999998,4.8959999999999999,3.577,1.8220000000000001,1.0960000000000001,0.45628389096069399,0.26063201136016889,0.15457602528381381,9.1119239036560329E-2,5.6169996958923427E-2,null,null,0.49102953068018224,0.37967091013139259,0.2954657340538831,0.22457292802116643,0.16475436261295176,0.11394735626595291,4.0737396881121483E-2,2.6168982324364671E-2,1.0720661389891544E-2,5.6957733281156487E-3,4.8285428702433643E-3]
[6195000,525000,24.810989128364302,null,85.070617724335349,0,1.3817861243800963E-4,1.6063503693727471E-2,null,null,6.2229999999999999,5.9939999999999998,4.8959999999999999,3.577,1.8220000000000001,1.0960000000000001,0.43750215775709855,0.24501250874697478,0.14362940887283471,8.3492682906769033E-2,5.3206180836939496E-2,null,null,0.49102953068018224,0.37967091013139259,0.2954657340538831,0.22457292802116643,0.16475436261295176,0.11394735626595291,4.3601735464814308E-2,2.7993479452842109E-2,1.2054227785515343E-2,6.4396377922730213E-3,5.1394319910386564E-3]
[6195000,535000,25.149295645700398,null,77.711067422858122,0,1.6559005532363745E-4,1.9512613817741518E-2,null,null,6.2229999999999999,{"$f":"L$2+L$3*$C334","v":5.9939999999999998},4.8959999999999999,3.577,1.8220000000000001,1.0960000000000001,0.44877453091473729,0.25438698234235801,0.15019932143950171,8.8069970086326443E-2,5.4984996505092684E-2,null,null,0.49102953068018224,{"$f":"SQRT(Y$2+2*Y$3*$C334+Y$4*$C334^2+Y$5)","v":0.37967091013139259},0.2954657340538831,0.22457292802116643,0.16475436261295176,0.11394735626595291,4.1756753906833428E-2,2.6820148242379088E-2,1.1206690710549781E-2,5.9670216240802574E-3,4.9389012649500253E-3]
[6195000,545000,24.123437702655799,null,71.000070422500286,0,1.9837294510425488E-4,2.2422137407540753E-2,null,null,6.2229999999999999,5.9939999999999998,4.8959999999999999,3.577,1.8220000000000001,1.0960000000000001,0.41459294425249127,0.22596045874059212,0.13027716018557561,7.4190112116932994E-2,4.9591035440564188E-2,null,null,0.49102953068018224,0.37967091013139259,0.2954657340538831,0.22457292802116643,0.16475436261295176,0.11394735626595291,4.8340216569223451E-2,3.0994327879063817E-2,1.4110907021684566E-2,7.5834725809700515E-3,5.6578705975583194E-3]
[6195000,555000,24.84305551317,null,65.138391137638635,0,2.3568174479909312E-4,2.7433822620074766E-2,null,null,6.2229999999999999,5.9939999999999998,4.8959999999999999,3.577,1.8220000000000001,1.0960000000000001,0.43857060969882444,0.24590106826994063,0.14425213806576143,8.3926541093190143E-2,5.3374785888247858E-2,null,null,0.49102953068018224,0.37967091013139259,0.2954657340538831,0.22457292802116643,0.16475436261295176,0.11394735626595291,4.3411687759138895E-2,2.7872821062441881E-2,1.1968474310870223E-2,6.3918500369134603E-3,5.1187351503033255E-3]
[6195000,565000,24.948275960724899,null,60.373918209770018,0,2.7434766982806631E-4,3.2069869074340833E-2,null,null,6.2229999999999999,5.9939999999999998,4.8959999999999999,3.577,1.8220000000000001,1.0960000000000001,0.44207655501135368,0.24881672687168688,0.14629551915727756,8.5350173748607927E-2,5.3928035001491501E-2,null,null,0.49102953068018224,0.37967091013139259,0.2954657340538831,0.22457292802116643,0.16475436261295176,0.11394735626595291,4.2809809952776452E-2,2.7490432805144596E-2,1.1694711426162656E-2,6.2392404442446108E-3,5.0532472392831752E-3]
[6195000,575000,25.071428571428601,null,56.982541185875519,0,3.0797564528597081E-4,3.6178522478894894E-2,null,null,6.2229999999999999,5.9939999999999998,4.8959999999999999,3.577,1.8220000000000001,1.0960000000000001,0.44618000000000102,0.25222928571428649,0.14868714285714341,8.7016428571428994E-2,5.457557142857157E-2,null,null,0.49102953068018224,0.37967091013139259,0.2954657340538831,0.22457292802116643,0.16475436261295176,0.11394735626595291,4.2149146019867224E-2,2.7070132837441328E-2,1.1390008600451865E-2,6.069299626743057E-3,4.981472305105243E-3]
[6195000,595000,25.3962265590452,null,55.2359484393995,0,3.2776031543652756E-4,3.9001466152607828E-2,null,null,6.2229999999999999,5.9939999999999998,4.8959999999999999,3.577,1.8220000000000001,1.0960000000000001,0.45700226894738616,0.2612294379511424,0.1549947197766578,9.1410945343881611E-2,5.6283359247459655E-2,null,null,0.49102953068018224,0.37967091013139259,0.2954657340538831,0.22457292802116643,0.16475436261295176,0.11394735626595291,4.0649275141985679E-2,2.6112530973481183E-2,1.0677865651844896E-2,5.6718887023659128E-3,4.819020339170357E-3]
[6195000,605000,25.596551730714999,null,57.035164591679759,0,3.0740760096034127E-4,3.6868157677125035E-2,null,null,6.2229999999999999,5.9939999999999998,4.8959999999999999,3.577,1.8220000000000001,1.0960000000000001,0.46367710366742387,0.26678044845811255,0.15888503461048531,9.4121344916573979E-2,5.7336669000099469E-2,null,null,0.49102953068018224,0.37967091013139259,0.2954657340538831,0.22457292802116643,0.16475436261295176,0.11394735626595291,3.9912535610529744E-2,2.5639026433388733E-2,1.0313789754929515E-2,5.4687662793637239E-3,4.7395434378476693E-3]
[6195000,635000,25.4913794090008,null,71.126717905439733,0,1.9766713250220889E-4,2.3609303270627106E-2,null,null,6.2229999999999999,5.9939999999999998,4.8959999999999999,3.577,1.8220000000000001,1.0960000000000001,0.46017276190790668,0.26386612342341209,0.1568425881227955,9.2698363403780848E-2,5.6783672932526189E-2,null,null,0.49102953068018224,0.37967091013139259,0.2954657340538831,0.22457292802116643,0.16475436261295176,0.11394735626595291,4.0280654371112591E-2,2.5876008149751908E-2,1.0497219491618935E-2,5.5710816341347337E-3,4.7792224261830208E-3]
[6195000,645000,26.060784283806299,null,77.852488720656837,0,1.6498900348291785E-4,2.0146418563200659E-2,null,null,6.2229999999999999,5.9939999999999998,4.8959999999999999,3.577,1.8220000000000001,1.0960000000000001,0.47914533233642598,0.27964433250427256,0.16790043079151834,0.10040241135989925,5.977760376425352E-2,null,null,0.49102953068018224,0.37967091013139259,0.2954657340538831,0.22457292802116643,0.16475436261295176,0.11394735626595291,3.8807610955501684E-2,2.4916389831179289E-2,9.730173962226852E-3,5.144596969620897E-3,4.6211104633471561E-3]
[6195000,655000,27.601538408719598,null,85.22329493747587,0,1.3768396298504339E-4,1.7806231623769545E-2,null,null,6.2229999999999999,5.9939999999999998,4.8959999999999999,3.577,1.8220000000000001,1.0960000000000001,0.53048325977853705,0.32233862930562007,0.19782187589733463,0.12124881466997617,6.7878888953047625E-2,null,null,0.49102953068018224,0.37967091013139259,0.2954657340538831,0.22457292802116643,0.16475436261295176,0.11394735626595291,4.151709784273943E-2,2.6502469426597126E-2,1.0773110148538774E-2,5.7539059291041314E-3,4.919626733109814E-3]
[6195000,665000,28.993055582046502,null,93.086035472566991,0,1.1540667581456917E-4,1.5677625703554385E-2,null,null,6.2229999999999999,{"$f":"L$2+L$3*$C344","v":5.9939999999999998},4.8959999999999999,3.577,1.8220000000000001,1.0960000000000001,0.57684861199378956,0.36089757017850854,0.22484513940334311,0.14007604202508922,7.5195486250400498E-2,null,null,0.49102953068018224,{"$f":"SQRT(Y$2+2*Y$3*$C344+Y$4*$C344^2+Y$5)","v":0.37967091013139259},0.2954657340538831,0.22457292802116643,0.16475436261295176,0.11394735626595291,5.088211739980756E-2,3.2309565704671035E-2,1.4659381647570136E-2,7.9346238052701596E-3,5.9495055323917209E-3]
[6195000,675000,27.693103658741901,null,101.32625523525479,0,9.7399340216869387E-5,1.2638135811810197E-2,null,null,6.2229999999999999,5.9939999999999998,4.8959999999999999,3.577,1.8220000000000001,1.0960000000000001,0.53353421390928024,0.32487590238373798,0.19960007305276767,0.12248769250277797,6.8360339037664905E-2,null,null,0.49102953068018224,0.37967091013139259,0.2954657340538831,0.22457292802116643,0.16475436261295176,0.11394735626595291,4.196546842166006E-2,2.6777600047972E-2,1.0965571313223666E-2,5.8630912502801186E-3,4.968682049624292E-3]
[6195000,685000,27.769491615942002,null,109.85904605447837,0,8.2856837470513328E-5,1.0780816493197011E-2,null,null,6.2229999999999999,5.9939999999999998,4.8959999999999999,3.577,1.8220000000000001,1.0960000000000001,0.53607946064318757,0.32699261267775281,0.20108352718159367,0.12352122156369533,6.8761986916623039E-2,null,null,0.49102953068018224,0.37967091013139259,0.2954657340538831,0.22457292802116643,0.16475436261295176,0.11394735626595291,4.2360713932467195E-2,2.7020572240204627E-2,1.1134817715405292E-2,5.9589431382729126E-3,5.0119438817952363E-3]
[6195000,695000,28.185000069936098,null,118.6212881400299,0,7.1068103853241536E-5,9.3852995889124533E-3,null,null,6.2229999999999999,5.9939999999999998,4.8959999999999999,3.577,1.8220000000000001,1.0960000000000001,0.54992420233027084,0.33850635193792922,0.20915270135815905,0.12914305094623546,7.094673036772399E-2,null,null,0.49102953068018224,0.37967091013139259,0.2954657340538831,0.22457292802116643,0.16475436261295176,0.11394735626595291,4.482436300066793E-2,2.8541739389595571E-2,1.2178400958719377E-2,6.5473384484418633E-3,5.282054330883283E-3]
[6195000,705000,27.9608107644158,null,127.56570855837396,0,6.1451446290514166E-5,8.0507666840552005E-3,null,null,6.2229999999999999,5.9939999999999998,4.8959999999999999,3.577,1.8220000000000001,1.0960000000000001,0.5424542146703345,0.33229406628196179,0.20479894504495483,0.12610976964254583,6.9767942999298269E-2,null,null,0.49102953068018224,0.37967091013139259,0.2954657340538831,0.22457292802116643,0.16475436261295176,0.11394735626595291,4.3431565500848091E-2,2.7680537689774166E-2,1.1590967367072352E-2,6.2166319310088917E-3,5.1292522463020612E-3]
[6195000,715000,27.7444443643829,null,136.65654027524624,0,5.3547494753684203E-5,6.9609827958072275E-3,null,null,6.2229999999999999,5.9939999999999998,4.8959999999999999,3.577,1.8220000000000001,1.0960000000000001,0.53524488622123834,0.32629855333705016,0.20059710955631588,0.12318233225010067,6.8630288467925279E-2,null,null,0.49102953068018224,0.37967091013139259,0.2954657340538831,0.22457292802116643,0.16475436261295176,0.11394735626595291,4.2229026957875788E-2,2.6939577425058495E-2,1.1078476395631297E-2,5.9270504008617489E-3,4.9975279481349194E-3]
[6195000,725000,27.278666458129901,null,145.86641148667502,0,4.6999084927816456E-5,6.0071421599331414E-3,null,null,6.2229999999999999,5.9939999999999998,4.8959999999999999,3.577,1.8220000000000001,1.0960000000000001,0.51972516638488842,0.31339184755477956,0.19155170261688265,0.1168803571784976,6.6181228236847009E-2,null,null,0.49102953068018224,0.37967091013139259,0.2954657340538831,0.22457292802116643,0.16475436261295176,0.11394735626595291,4.0169808056925743E-2,2.5680262876767043E-2,1.0193871275608807E-2,5.4237543383707102E-3,4.7723189824155935E-3]
[6205000,445000,23.9965116145999,null,158.81124015635669,0,3.9649482713023788E-5,4.4580097104891126E-3,null,null,6.2229999999999999,5.9939999999999998,4.8959999999999999,3.577,1.8220000000000001,1.0960000000000001,0.41036376699846877,0.22244333684056317,0.12781225555553005,7.2472802145536697E-2,4.8923658069566264E-2,null,null,0.49102953068018224,0.37967091013139259,0.2954657340538831,0.22457292802116643,0.16475436261295176,0.11394735626595291,4.9337071823371062E-2,3.1624561596161511E-2,1.4528138097979182E-2,7.815018152981839E-3,5.7674356710283809E-3]
[6205000,455000,24.5688311836936,null,149.74314675470129,0,4.4597045624115576E-5,5.1338828866910385E-3,null,null,6.2229999999999999,5.9939999999999998,4.8959999999999999,3.577,1.8220000000000001,1.0960000000000001,0.42943345504067088,0.23830231210014963,0.13892670158732973,8.0216285915374441E-2,5.1932914363860952E-2,null,null,0.49102953068018224,0.37967091013139259,0.2954657340538831,0.22457292802116643,0.16475436261295176,0.11394735626595291,4.5131768965189445E-2,2.8963751793299054E-2,1.2734030216752422E-2,6.8181959812954598E-3,5.3063551392925476E-3]
[6205000,465000,25.780808034569301,null,140.80131391432394,0,5.0441336473474686E-5,6.0931024692045211E-3,null,null,6.2229999999999999,5.9939999999999998,4.8959999999999999,3.577,1.8220000000000001,1.0960000000000001,0.46981652371184912,0.2718861906379153,0.16246329203133586,9.6614332707722683E-2,5.8305488645765388E-2,null,null,0.49102953068018224,0.37967091013139259,0.2954657340538831,0.22457292802116643,0.16475436261295176,0.11394735626595291,3.9370453142643293E-2,2.5287798449742872E-2,1.0036226110642097E-2,5.3141567446940985E-3,4.6812663633034567E-3]
[6205000,475000,25.128712852402501,null,132.01140102279047,0,5.7382190060142267E-5,6.7562036987500844E-3,null,null,6.2229999999999999,{"$f":"L$2+L$3*$C354","v":5.9939999999999998},4.8959999999999999,3.577,1.8220000000000001,1.0960000000000001,0.44808871224205138,0.2538166331400733,0.14979960359365657,8.7791484893005867E-2,5.487677217793234E-2,null,null,0.49102953068018224,{"$f":"SQRT(Y$2+2*Y$3*$C354+Y$4*$C354^2+Y$5)","v":0.37967091013139259},0.2954657340538831,0.22457292802116643,0.16475436261295176,0.11394735626595291,4.1858525198347409E-2,2.6885013736610841E-2,1.1254416990015949E-2,5.9936517163085897E-3,4.9499381174831405E-3]
[6205000,485000,25.000000211927599,null,123.40587506273759,0,6.5664150197550591E-5,7.6917243560380155E-3,null,null,6.2229999999999999,5.9939999999999998,4.8959999999999999,3.577,1.8220000000000001,1.0960000000000001,0.44380000706142764,0.25025000587251378,0.14730000411563399,8.605000286738046E-2,5.4200001114315319E-2,null,null,0.49102953068018224,0.37967091013139259,0.2954657340538831,0.22457292802116643,0.16475436261295176,0.11394735626595291,4.2526461206232914E-2,2.7310253756850637E-2,1.1564600633578625E-2,6.1666843908244826E-3,5.022449477271684E-3]
[6205000,495000,25.327956948229101,null,115.02612746676296,0,7.5580019968241272E-5,8.9693822621962505E-3,null,null,6.2229999999999999,5.9939999999999998,4.8959999999999999,3.577,1.8220000000000001,1.0960000000000001,0.45472752551499374,0.25933768703542837,0.15366892393460913,9.0487257509539787E-2,5.5924397633788606E-2,null,null,0.49102953068018224,0.37967091013139259,0.2954657340538831,0.22457292802116643,0.16475436261295176,0.11394735626595291,4.0934046340535372E-2,2.6294849454673273E-2,1.081567091017102E-2,5.748800497287241E-3,4.8498040058935956E-3]
[6205000,505000,26.0131868634905,null,106.92525426670727,0,8.7466030380450982E-5,1.0660764484224558E-2,null,null,6.2229999999999999,5.9939999999999998,4.8959999999999999,3.577,1.8220000000000001,1.0960000000000001,0.47755938629150352,0.27832540798732175,0.16697608888898546,9.9758418263026505E-2,5.9527336528233041E-2,null,null,0.49102953068018224,0.37967091013139259,0.2954657340538831,0.22457292802116643,0.16475436261295176,0.11394735626595291,3.8880565641888395E-2,2.4965382319754162E-2,9.7718559378408183E-3,5.167562483693551E-3,4.6288685978152317E-3]
[6205000,515000,26.121621570071699,null,99.171618923964331,0,1.0167757836545158E-4,1.2444593051367525E-2,null,null,6.2229999999999999,5.9939999999999998,4.8959999999999999,3.577,1.8220000000000001,1.0960000000000001,0.4811724307147891,0.28133013370668669,0.16908189089079234,0.10122553984307014,6.0097486215436993E-2,null,null,0.49102953068018224,0.37967091013139259,0.2954657340538831,0.22457292802116643,0.16475436261295176,0.11394735626595291,3.872812449706612E-2,2.4862339991360363E-2,9.683277380473641E-3,5.1188615383423635E-3,4.6126865050777587E-3]
[6205000,525000,25.040229863133899,null,91.853198093479577,0,1.1852540177148065E-4,1.3906092670091425E-2,null,null,6.2229999999999999,5.9939999999999998,4.8959999999999999,3.577,1.8220000000000001,1.0960000000000001,0.44514045903962163,0.25136476950744024,0.14808126394206028,8.6594310048201673E-2,5.4411528620358043E-2,null,null,0.49102953068018224,0.37967091013139259,0.2954657340538831,0.22457292802116643,0.16475436261295176,0.11394735626595291,4.2311933960136314E-2,2.7173758506550436E-2,1.1465527737622619E-2,6.1114262452955041E-3,4.9991465145412337E-3]
[6205000,535000,24.564556894423099,null,85.082371852223289,0,1.3814043633038223E-4,1.5899560872416313E-2,null,null,6.2229999999999999,5.9939999999999998,4.8959999999999999,3.577,1.8220000000000001,1.0960000000000001,0.42929103572217775,0.23818387154446408,0.13884369488969656,8.0158454781544541E-2,5.1910440150876633E-2,null,null,0.49102953068018224,0.37967091013139259,0.2954657340538831,0.22457292802116643,0.16475436261295176,0.11394735626595291,4.5160221200674651E-2,2.8981779183344429E-2,1.2746508976126848E-2,6.825140382952545E-3,5.3094639368897172E-3]
[6205000,545000,24.597402547861101,null,79.000063291113875,0,1.6023047551598222E-4,1.8466719049973001E-2,null,null,6.2229999999999999,5.9939999999999998,4.8959999999999999,3.577,1.8220000000000001,1.0960000000000001,0.43038545289473196,0.23909402460123108,0.13948155747946256,8.0602856472560713E-2,5.2083142596653656E-2,null,null,0.49102953068018224,0.37967091013139259,0.2954657340538831,0.22457292802116643,0.16475436261295176,0.11394735626595291,4.4942829397466584E-2,2.8844026823365326E-2,1.2651023060055038E-2,6.7719984965506031E-3,5.2857150871090577E-3]
[6205000,555000,25.166666693157602,null,73.776757857742709,0,1.8372187447754092E-4,2.1664164112767243E-2,null,null,6.2229999999999999,5.9939999999999998,4.8959999999999999,3.577,1.8220000000000001,1.0960000000000001,0.44935333421601131,0.25486833406739706,0.15053666718112063,8.830500035842237E-2,5.5076333472622654E-2,null,null,0.49102953068018224,0.37967091013139259,0.2954657340538831,0.22457292802116643,0.16475436261295176,0.11394735626595291,4.1671966201101182E-2,2.6766090613381827E-2,1.1166828296541108E-2,5.9447782538557233E-3,4.9297086770319866E-3]
[6205000,565000,25.418181679465601,null,69.606106053994992,0,2.0639792281130489E-4,2.4581318475685152E-2,null,null,6.2229999999999999,5.9939999999999998,4.8959999999999999,3.577,1.8220000000000001,1.0960000000000001,0.45773381355979392,0.2618378143379918,0.15542108821522194,9.1707998123169598E-2,5.6398799270630115E-2,null,null,0.49102953068018224,0.37967091013139259,0.2954657340538831,0.22457292802116643,0.16475436261295176,0.11394735626595291,4.0561271823356754E-2,2.6056122870717145E-2,1.0634984017564509E-2,5.6479569662098135E-3,4.8095137717501469E-3]
[6205000,575000,24.8647059272317,null,66.68590555732149,0,2.2487019368069776E-4,2.6198148103342742E-2,null,null,6.2229999999999999,{"$f":"L$2+L$3*$C364","v":5.9939999999999998},4.8959999999999999,3.577,1.8220000000000001,1.0960000000000001,0.4392920014953603,0.24650100124359042,0.14467258910683961,8.4219471195444928E-2,5.3488623765384283E-2,null,null,0.49102953068018224,{"$f":"SQRT(Y$2+2*Y$3*$C364+Y$4*$C364^2+Y$5)","v":0.37967091013139259},0.2954657340538831,0.22457292802116643,0.16475436261295176,0.11394735626595291,4.3285102341068284E-2,2.7792432929814502E-2,1.1911178095334648E-2,6.3599164043430792E-3,5.1049544040853E-3]
[6205000,585000,25.178846212533799,null,65.184430656407514,0,2.3534894010604826E-4,2.7765368631872817E-2,null,null,6.2229999999999999,5.9939999999999998,4.8959999999999999,3.577,1.8220000000000001,1.0960000000000001,0.44975915580162629,0.25520582854931151,0.15077319344740636,8.8469789255582298E-2,5.5140373385502692E-2,null,null,0.49102953068018224,0.37967091013139259,0.2954657340538831,0.22457292802116643,0.16475436261295176,0.11394735626595291,4.1613123994230498E-2,2.6728565504566325E-2,1.1139108998951252E-2,5.9293102240536378E-3,4.9233303929358038E-3]
[6205000,595000,26.635416706403099,null,65.199769938244415,0,2.3523821397738418E-4,2.9357748171695341E-2,null,null,{"$f":"K$2+K$3*$C366","v":6.2229999999999999},5.9939999999999998,4.8959999999999999,3.577,1.8220000000000001,1.0960000000000001,0.49829208465735131,0.29556739693442979,0.17905979243834819,0.10817718803763393,6.2799021042267492E-2,null,null,{"$f":"SQRT(X$2+2*X$3*$C366+X$4*$C366^2+X$5)","v":0.49102953068018224},0.37967091013139259,0.2954657340538831,0.22457292802116643,0.16475436261295176,0.11394735626595291,3.8680856670556457E-2,2.4795081303649776E-2,9.5828626032957061E-3,5.0693209229885966E-3,4.6090996548409924E-3]
[6205000,645000,27.0959184996936,null,85.211560248595376,0,1.377218871754756E-4,1.7484862212523124E-2,null,null,6.2229999999999999,5.9939999999999998,4.8959999999999999,3.577,1.8220000000000001,1.0960000000000001,0.51363600440979085,0.30832790162650958,0.18800273726404965,0.11440777730085444,6.522033947138893E-2,null,null,0.49102953068018224,0.37967091013139259,0.2954657340538831,0.22457292802116643,0.16475436261295176,0.11394735626595291,3.957859921487375E-2,2.5323062272718761E-2,9.9419217202976213E-3,5.2790659352156414E-3,4.7076728384523245E-3]
[6205000,655000,27.159615296583901,null,91.994619407876229,0,1.1816126886296958E-4,1.5036755282526253E-2,null,null,6.2229999999999999,5.9939999999999998,4.8959999999999999,3.577,1.8220000000000001,1.0960000000000001,0.51575838168217569,0.31009293986833986,0.1892397290596593,0.11526959496278022,6.5555257229438155E-2,null,null,0.49102953068018224,0.37967091013139259,0.2954657340538831,0.22457292802116643,0.16475436261295176,0.11394735626595291,3.9770039661034783E-2,2.5438350509419193E-2,1.0023087175830463E-2,5.3257826952052296E-3,4.728611570165497E-3]
[6205000,665000,28.3868852834233,null,99.322756707614587,0,1.0136837164888836E-4,1.3482660057507699E-2,null,null,6.2229999999999999,5.9939999999999998,4.8959999999999999,3.577,1.8220000000000001,1.0960000000000001,0.55665101764366443,0.34410059120365966,0.21307331220408049,0.1318745578847173,7.2008242820239696E-2,null,null,0.49102953068018224,0.37967091013139259,0.2954657340538831,0.22457292802116643,0.16475436261295176,0.11394735626595291,4.6195402705245109E-2,2.9391829291618266E-2,1.2750048187508221E-2,6.8681642697102146E-3,5.432720461617929E-3]
[6205000,675000,28.501612909378501,null,107.08412580770317,0,8.7206691195002009E-5,1.1645941869699094E-2,null,null,6.2229999999999999,5.9939999999999998,4.8959999999999999,3.577,1.8220000000000001,1.0960000000000001,0.56047374214049173,0.34727969371887824,0.21530132270013053,0.13342682266389116,7.261148067751215E-2,null,null,0.49102953068018224,0.37967091013139259,0.2954657340538831,0.22457292802116643,0.16475436261295176,0.11394735626595291,4.7020055209529912E-2,2.9904037566578806E-2,1.3090831052306299E-2,7.0590323653775553E-3,5.5234601477061615E-3]
[6205000,685000,28.1597014185208,null,115.19118889915148,0,7.5363572715673582E-5,9.9436286273860853E-3,null,null,6.2229999999999999,5.9939999999999998,4.8959999999999999,3.577,1.8220000000000001,1.0960000000000001,0.54908125126511309,0.33780532630721138,0.20866140154767393,0.12880076019258646,7.0813710058582349E-2,null,null,0.49102953068018224,0.37967091013139259,0.2954657340538831,0.22457292802116643,0.16475436261295176,0.11394735626595291,4.4660134555134352E-2,2.8440055309997866E-2,1.2109489496319058E-2,6.5086014056908708E-3,5.2640235873751533E-3]
[6205000,695000,27.927536204241299,null,123.57592807662826,0,6.5483553478126201E-5,8.5688044870890212E-3,null,null,6.2229999999999999,5.9939999999999998,4.8959999999999999,3.577,1.8220000000000001,1.0960000000000001,0.54134550632532019,0.33137202821952638,0.20415275308636599,0.12565956484338481,6.9592985361900742E-2,null,null,0.49102953068018224,0.37967091013139259,0.2954657340538831,0.22457292802116643,0.16475436261295176,0.11394735626595291,4.3237259680535649E-2,2.7560627729003695E-2,1.1508479221997804E-2,6.1700962847718024E-3,5.1079556694408326E-3]
[6205000,705000,28.054022843810301,null,132.18551357845533,0,5.7231123887641575E-5,7.5228567591756924E-3,null,null,6.2229999999999999,5.9939999999999998,4.8959999999999999,3.577,1.8220000000000001,1.0960000000000001,0.54556004115575929,0.33487697300198338,0.20660912362679601,0.1273709290767534,7.0258052112754557E-2,null,null,0.49102953068018224,0.37967091013139259,0.2954657340538831,0.22457292802116643,0.16475436261295176,0.11394735626595291,4.3993271259847179E-2,2.8027520624626986E-2,1.182869387424707E-2,6.3506043808629368E-3,5.1908451899412185E-3]
[6205000,715000,27.4614457969206,null,140.97875726505751,0,5.0314440093363458E-5,6.473980907448244E-3,null,null,6.2229999999999999,{"$f":"L$2+L$3*$C374","v":5.9939999999999998},4.8959999999999999,3.577,1.8220000000000001,1.0960000000000001,0.5258153739533945,0.31845666303266973,0.19510127737619803,0.11935336163233573,6.7142282000208511E-2,null,null,0.49102953068018224,{"$f":"SQRT(Y$2+2*Y$3*$C374+Y$4*$C374^2+Y$5)","v":0.37967091013139259},0.2954657340538831,0.22457292802116643,0.16475436261295176,0.11394735626595291,4.0886670628770237E-2,2.6116729883758863E-2,1.0501963151760248E-2,5.5996899169870147E-3,4.8506855103126086E-3]
[6205000,725000,27.661971857849998,null,149.92334708110008,0,4.4489903238909448E-5,5.7663363098441039E-3,null,null,6.2229999999999999,5.9939999999999998,4.8959999999999999,3.577,1.8220000000000001,1.0960000000000001,0.53249690230356206,0.3240132401810234,0.19899549347944695,0.12206647923671049,6.8196648028575294E-2,null,null,0.49102953068018224,0.37967091013139259,0.2954657340538831,0.22457292802116643,0.16475436261295176,0.11394735626595291,4.1809876249939398E-2,2.6682060622147685E-2,1.0898834505837054E-2,5.8252543086281224E-3,4.9516565655009313E-3]
[6215000,445000,24.9651683635926,null,163.15946187702386,0,3.7564314802481197E-5,4.3940535210474242E-3,null,null,6.2229999999999999,5.9939999999999998,4.8959999999999999,3.577,1.8220000000000001,1.0960000000000001,0.44263940987490547,0.2492848153551509,0.14662356962096829,8.5578727959407908E-2,5.4016855255769894E-2,null,null,0.49102953068018224,0.37967091013139259,0.2954657340538831,0.22457292802116643,0.16475436261295176,0.11394735626595291,4.271635016737093E-2,2.7431014950643463E-2,1.1651886765560603E-2,6.2153610997696031E-3,5.0430865470142373E-3]
[6215000,455000,25.2952940996955,null,154.34704402741247,0,4.1976223827299739E-5,4.9750617083716203E-3,null,null,6.2229999999999999,5.9939999999999998,4.8959999999999999,3.577,1.8220000000000001,1.0960000000000001,0.45363919940185415,0.25843259950256225,0.1530346114160866,9.0045329168880139E-2,5.5752656376198931E-2,null,null,0.49102953068018224,0.37967091013139259,0.2954657340538831,0.22457292802116643,0.16475436261295176,0.11394735626595291,4.1076171433701868E-2,2.6385733735221632E-2,1.0883937251064098E-2,5.7869019295196484E-3,4.8651791750997124E-3]
[6215000,465000,25.853846164850101,null,145.68805716324175,0,4.7114229863731527E-5,5.7073253248378225E-3,null,null,6.2229999999999999,5.9939999999999998,4.8959999999999999,3.577,1.8220000000000001,1.0960000000000001,0.47225015421280547,0.27391007722799621,0.1638816925213889,9.7602538610421896E-2,5.8689523134781832E-2,null,null,0.49102953068018224,0.37967091013139259,0.2954657340538831,0.22457292802116643,0.16475436261295176,0.11394735626595291,3.9192811098670649E-2,2.5171733978375393E-2,9.9424893168842642E-3,5.2620600544237396E-3,4.6622243248653338E-3]
[6215000,475000,25.035199996948201,null,137.21155199180569,0,5.3115178671493788E-5,6.2305313223624103E-3,null,null,6.2229999999999999,5.9939999999999998,4.8959999999999999,3.577,1.8220000000000001,1.0960000000000001,0.44497286389831414,0.25122539191543458,0.14798358394073408,8.6526255958709164E-2,5.4385081583953623E-2,null,null,0.49102953068018224,0.37967091013139259,0.2954657340538831,0.22457292802116643,0.16475436261295176,0.11394735626595291,4.233847281163497E-2,2.7190648089629958E-2,1.1477811161580108E-2,6.1182778196785092E-3,5.00202859938257E-3]
[6215000,485000,24.5850877929152,null,128.95351875772914,0,6.0135870986907814E-5,6.927248077279507E-3,null,null,6.2229999999999999,5.9939999999999998,4.8959999999999999,3.577,1.8220000000000001,1.0960000000000001,0.42997512525993453,0.2387527827416801,0.13924240493841317,8.0436237838142688E-2,5.201839161514811E-2,null,null,0.49102953068018224,0.37967091013139259,0.2954657340538831,0.22457292802116643,0.16475436261295176,0.11394735626595291,4.5023998475595052E-2,2.8895463775346176E-2,1.2686713408442216E-2,6.7918627893370481E-3,5.2945812271301207E-3]
[6215000,495000,25.4706421073424,null,120.95871196404168,0,6.834798144489E-5,8.1568214935153829E-3,null,null,6.2229999999999999,5.9939999999999998,4.8959999999999999,3.577,1.8220000000000001,1.0960000000000001,0.45948179501664888,0.26329149279445785,0.1564398697245894,9.2417787712342714E-2,5.6674636200406317E-2,null,null,0.49102953068018224,0.37967091013139259,0.2954657340538831,0.22457292802116643,0.16475436261295176,0.11394735626595291,4.0358143877239044E-2,2.5925785273104417E-2,1.0535425556443117E-2,5.5923995126165651E-3,4.7875835162838193E-3]
[6215000,505000,25.791397874073301,null,113.28287602281291,0,7.7924041203116028E-5,9.4167647349162175E-3,null,null,6.2229999999999999,5.9939999999999998,4.8959999999999999,3.577,1.8220000000000001,1.0960000000000001,0.47016937716412244,0.27217963509057108,0.16266894671450355,9.6757613236211792E-2,5.836117002187742E-2,null,null,0.49102953068018224,0.37967091013139259,0.2954657340538831,0.22457292802116643,0.16475436261295176,0.11394735626595291,3.9343368975409937E-2,2.5270144225523667E-2,1.0022046484578368E-2,5.3062706388037322E-3,4.6783609105250489E-3]
[6215000,515000,25.9864196777344,null,105.99533008581085,0,8.9007486419682768E-5,1.083748118351986E-2,null,null,6.2229999999999999,5.9939999999999998,4.8959999999999999,3.577,1.8220000000000001,1.0960000000000001,0.4766675036621103,0.2775836892700202,0.16645627014160208,9.939625823974646E-2,5.9386594665527467E-2,null,null,0.49102953068018224,0.37967091013139259,0.2954657340538831,0.22457292802116643,0.16475436261295176,0.11394735626595291,3.89257236999365E-2,2.4995506028536452E-2,9.7971986820002983E-3,5.181555802290955E-3,4.6336796767361618E-3]
[6215000,525000,25.641463489067299,null,99.181701941436756,0,1.0165690590941759E-4,1.2213357450345538E-2,null,null,6.2229999999999999,{"$f":"L$2+L$3*$C384","v":5.9939999999999998},4.8959999999999999,3.577,1.8220000000000001,1.0960000000000001,0.46517356345572247,0.26802495328205478,0.15975722095768691,9.4729001007080593E-2,5.7572815025515853E-2,null,null,0.49102953068018224,{"$f":"SQRT(Y$2+2*Y$3*$C384+Y$4*$C384^2+Y$5)","v":0.37967091013139259},0.2954657340538831,0.22457292802116643,0.16475436261295176,0.11394735626595291,3.976819178511342E-2,2.5545820721252402E-2,1.0240874234008485E-2,5.4281174978978823E-3,4.7240054599977273E-3]
[6215000,535000,25.2881578646208,null,92.946274804319074,0,1.1575400422039102E-4,1.3715403506145991E-2,null,null,6.2229999999999999,5.9939999999999998,4.8959999999999999,3.577,1.8220000000000001,1.0960000000000001,0.45340142004916517,0.25823485442864236,0.15289602573093591,8.9948775908319456E-2,5.5715134052176166E-2,null,null,0.49102953068018224,0.37967091013139259,0.2954657340538831,0.22457292802116643,0.16475436261295176,0.11394735626595291,4.1107723961005031E-2,2.6405901711087188E-2,1.0899049227163924E-2,5.7953363027162521E-3,4.8685935378893069E-3]
[6215000,545000,24.763888862397899,null,87.412870905833998,0,1.3087275111536303E-4,1.5185302579138946E-2,null,null,6.2229999999999999,5.9939999999999998,4.8959999999999999,3.577,1.8220000000000001,1.0960000000000001,0.43593277689509802,0.24370736037704577,0.14271472170776717,8.2855416308243612E-2,5.2958527638488143E-2,null,null,0.49102953068018224,0.37967091013139259,0.2954657340538831,0.22457292802116643,0.16475436261295176,0.11394735626595291,4.3886355354228371E-2,2.8174114454760094E-2,1.2182074046679273E-2,6.5108682988156436E-3,5.1704439960323255E-3]
[6215000,555000,24.650724659795301,null,82.722487873612693,0,1.4613452267350189E-4,1.6878657006986562E-2,null,null,6.2229999999999999,5.9939999999999998,4.8959999999999999,3.577,1.8220000000000001,1.0960000000000001,0.43216214566437949,0.2405715803229278,0.14051707289322474,8.1324304647030443E-2,5.2363510261203686E-2,null,null,0.49102953068018224,0.37967091013139259,0.2954657340538831,0.22457292802116643,0.16475436261295176,0.11394735626595291,4.4596099347417775E-2,2.8624255169739998E-2,1.2498039076711397E-2,6.6868363920920635E-3,5.2478570406505722E-3]
[6215000,565000,24.9203124940395,null,79.025375671362681,0,1.601278460723041E-4,1.8697163146833128E-2,null,null,6.2229999999999999,5.9939999999999998,4.8959999999999999,3.577,1.8220000000000001,1.0960000000000001,0.44114481230139624,0.24804185920983446,0.14575246863424707,8.4971828044354492E-2,5.3781003093659671E-2,null,null,0.49102953068018224,0.37967091013139259,0.2954657340538831,0.22457292802116643,0.16475436261295176,0.11394735626595291,4.2966467697466509E-2,2.7590003467580192E-2,1.1766299121413085E-2,6.279154324300068E-3,5.0702837364847986E-3]
[6215000,575000,25.091953979141401,null,76.465743964209224,0,1.71027585039191E-4,2.0107404630010074E-2,null,null,6.2229999999999999,5.9939999999999998,4.8959999999999999,3.577,1.8220000000000001,1.0960000000000001,0.44686390658499153,0.25279804476200818,0.14908574627492599,8.7294137337783184E-2,5.4683494022325488E-2,null,null,0.49102953068018224,0.37967091013139259,0.2954657340538831,0.22457292802116643,0.16475436261295176,0.11394735626595291,4.2043774635998017E-2,2.700303195451334E-2,1.1340963123231249E-2,6.0419382659940265E-3,4.9700359764080736E-3]
[6215000,595000,26.651851901301601,null,75.1732000117063,0,1.7695951697130246E-4,2.2098189183864185E-2,null,null,6.2229999999999999,5.9939999999999998,4.8959999999999999,3.577,1.8220000000000001,1.0960000000000001,0.49883970535136946,0.29602281618506732,0.17937896392327707,0.10839955622461067,6.2885437297043809E-2,null,null,0.49102953068018224,0.37967091013139259,0.2954657340538831,0.22457292802116643,0.16475436261295176,0.11394735626595291,3.8697802615405827E-2,2.480446177228254E-2,9.5884939512354325E-3,5.0727521175742175E-3,4.6109820180232604E-3]
[6215000,685000,28.627586167434199,null,121.11568849657752,0,6.8170926326998214E-5,9.1440648554060762E-3,null,null,6.2229999999999999,5.9939999999999998,4.8959999999999999,3.577,1.8220000000000001,1.0960000000000001,0.56467117109890763,0.35077041269960163,0.21774772337157217,0.13513124084538475,7.3273848068369021E-2,null,null,0.49102953068018224,0.37967091013139259,0.2954657340538831,0.22457292802116643,0.16475436261295176,0.11394735626595291,4.796103169200721E-2,3.048919452294355E-2,1.3477022627443847E-2,7.2750271624168455E-3,5.627103195835011E-3]
[6215000,695000,28.116417756721201,null,129.11626543545938,0,5.9984368073679995E-5,7.9022988026574929E-3,null,null,6.2229999999999999,5.9939999999999998,4.8959999999999999,3.577,1.8220000000000001,1.0960000000000001,0.54763903965395055,0.33660593603874445,0.20782083283552572,0.12821513224843789,7.0586124564840078E-2,null,null,0.49102953068018224,0.37967091013139259,0.2954657340538831,0.22457292802116643,0.16475436261295176,0.11394735626595291,4.4383226828885881E-2,2.8268682063612421E-2,1.1993082225313543E-2,6.4431325442529759E-3,5.2336298512996237E-3]
[6215000,705000,28.264864870019899,null,{"$f":"(SQRT(($A393-E$1)^2+($B393-E$2)^2)/1000)","v":137.37907409791345},{"$f":"IF(E393=0,1,0)","v":0},{"$f":"IF($F$618=0,1/E393^2,F393)","v":5.2985718759222843E-5},{"$f":"G393/$G$618*C393","v":7.0171557371009347E-3},null,null,6.2229999999999999,5.9939999999999998,4.8959999999999999,3.577,1.8220000000000001,1.0960000000000001,0.55258529746906315,0.34071940554825131,0.21070367577578647,0.13022362169136925,7.1366659486564607E-2,null,null,0.49102953068018224,0.37967091013139259,0.2954657340538831,0.22457292802116643,0.16475436261295176,0.11394735626595291,4.535408779807297E-2,2.8869944229956292E-2,1.240003458171478E-2,6.6718309088434234E-3,5.3402375294143252E-3]
[6215000,715000,28.636619809647701,null,145.85955573770269,0,4.7003503171091344E-5,6.3067752202981735E-3,null,null,6.2229999999999999,{"$f":"L$2+L$3*$C394","v":5.9939999999999998},4.8959999999999999,3.577,1.8220000000000001,1.0960000000000001,0.56497217205746153,0.35102073492533781,0.21792315670335832,0.13525346602453342,7.3321346959127606E-2,null,null,0.49102953068018224,{"$f":"SQRT(Y$2+2*Y$3*$C394+Y$4*$C394^2+Y$5)","v":0.37967091013139259},0.2954657340538831,0.22457292802116643,0.16475436261295176,0.11394735626595291,4.8029882406216223E-2,3.0532036857241214E-2,1.3505172412351522E-2,7.2907593935069596E-3,5.6346909420419908E-3]
[6215000,725000,28.8690139877964,null,154.52187547399234,0,4.1881290831640991E-5,5.6650974042012298E-3,null,null,6.2229999999999999,5.9939999999999998,4.8959999999999999,3.577,1.8220000000000001,1.0960000000000001,0.57271554607337616,0.35746037760183824,0.22243625164300612,0.13839775925488534,7.4543275547833451E-2,null,null,0.49102953068018224,0.37967091013139259,0.2954657340538831,0.22457292802116643,0.16475436261295176,0.11394735626595291,4.9860663931309744E-2,3.1672423379769991E-2,1.4248605305282977E-2,7.7057257135620299E-3,5.8366577346350085E-3]
[6225000,445000,25.238961034006898,null,167.99110095478272,0,3.5434592879560299E-5,4.1903885295586918E-3,null,null,6.2229999999999999,5.9939999999999998,4.8959999999999999,3.577,1.8220000000000001,1.0960000000000001,0.45176218165310988,0.25687161025233107,0.15194062328041397,8.9283142790113346E-2,5.5456457116808258E-2,null,null,0.49102953068018224,0.37967091013139259,0.2954657340538831,0.22457292802116643,0.16475436261295176,0.11394735626595291,4.1330085467854251E-2,2.6547948641905291E-2,1.1005119983372847E-2,5.8545355757100319E-3,4.892665615971392E-3]
[6225000,455000,25.356321839080501,null,159.4459469538188,0,3.9334445449221E-5,4.6732031308039153E-3,null,null,6.2229999999999999,5.9939999999999998,4.8959999999999999,3.577,1.8220000000000001,1.0960000000000001,0.45567264367816229,0.26012367816092063,0.15421977011494331,9.0871034482759183E-2,5.6073540229885269E-2,null,null,0.49102953068018224,0.37967091013139259,0.2954657340538831,0.22457292802116643,0.16475436261295176,0.11394735626595291,4.0813697220782111E-2,2.6217835990642473E-2,1.0757604149342639E-2,5.7163918183408555E-3,4.8367904593249458E-3]
[6225000,465000,25.760169433335101,null,151.07948239254728,0,4.3811590882106947E-5,5.2880202612808347E-3,null,null,6.2229999999999999,5.9939999999999998,4.8959999999999999,3.577,1.8220000000000001,1.0960000000000001,0.46912884551872558,0.27131429499771564,0.16206249039536763,9.6335092433023961E-2,5.8196970880475943E-2,null,null,0.49102953068018224,0.37967091013139259,0.2954657340538831,0.22457292802116643,0.16475436261295176,0.11394735626595291,3.9424523908251255E-2,2.5323004966787851E-2,1.0064427533218694E-2,5.3298459667101266E-3,4.6870689217808062E-3]
[6225000,475000,24.746280969667001,null,142.92309120642471,0,4.8954790740299247E-5,5.6762368641910992E-3,null,null,6.2229999999999999,5.9939999999999998,4.8959999999999999,3.577,1.8220000000000001,1.0960000000000001,0.43534608190930457,0.24321944566947262,0.14237277643093316,8.2617181519594574E-2,5.2865945338509093E-2,null,null,0.49102953068018224,0.37967091013139259,0.2954657340538831,0.22457292802116643,0.16475436261295176,0.11394735626595291,4.3994406762565837E-2,2.8242670347817876E-2,1.2230432566535538E-2,6.5378071248297226E-3,5.1822221073112313E-3]
[6225000,485000,24.765873091561499,null,135.014851034988,0,5.4857614319153923E-5,6.3656965437926131E-3,null,null,6.2229999999999999,5.9939999999999998,4.8959999999999999,3.577,1.8220000000000001,1.0960000000000001,0.43599889141082926,0.24376234336716907,0.14275325543812428,8.2882262928827111E-2,5.2968960715430349E-2,null,null,0.49102953068018224,0.37967091013139259,0.2954657340538831,0.22457292802116643,0.16475436261295176,0.11394735626595291,4.3874234996751631E-2,2.8166423751513184E-2,1.2176643608219672E-2,6.5078430387343397E-3,5.1691229865866569E-3]
[6225000,495000,25.1740384101868,null,127.40098115791731,0,6.1610460470420503E-5,7.2671264475966512E-3,null,null,6.2229999999999999,5.9939999999999998,4.8959999999999999,3.577,1.8220000000000001,1.0960000000000001,0.44959895982742426,0.25507260434627621,0.15067982592582763,8.8404739689827427E-2,5.5115093960762182E-2,null,null,0.49102953068018224,0.37967091013139259,0.2954657340538831,0.22457292802116643,0.16475436261295176,0.11394735626595291,4.1636291827870077E-2,2.6743341135947007E-2,1.1150028304936112E-2,5.9354035104971174E-3,4.9258415726705258E-3]
[6225000,505000,25.405263117739999,null,120.13746293309178,0,6.9285616790953501E-5,8.2474968136527806E-3,null,null,6.2229999999999999,5.9939999999999998,4.8959999999999999,3.577,1.8220000000000001,1.0960000000000001,0.45730336708309682,0.26147984099257537,0.15517020974651075,9.1533209983022223E-2,5.6330873473076901E-2,null,null,0.49102953068018224,0.37967091013139259,0.2954657340538831,0.22457292802116643,0.16475436261295176,0.11394735626595291,4.0612841184191048E-2,2.6089181721534706E-2,1.066013007156642E-2,5.6619905662478485E-3,4.815084167665378E-3]
[6225000,515000,25.675000017339499,null,113.29170313840285,0,7.7911898783094059E-5,9.3728056752155949E-3,null,null,6.2229999999999999,5.9939999999999998,4.8959999999999999,3.577,1.8220000000000001,1.0960000000000001,0.46629100057775219,0.2689542504804775,0.1604085003367331,9.518275023460343E-2,5.7749150091171084E-2,null,null,0.49102953068018224,0.37967091013139259,0.2954657340538831,0.22457292802116643,0.16475436261295176,0.11394735626595291,3.9665500543643623E-2,2.5479389308529291E-2,1.0188602981234009E-2,5.3989891267106887E-3,4.712959322159694E-3]
[6225000,525000,26.239726053525299,null,106.94395728604772,0,8.7435439857095536E-5,1.0749844140776385E-2,null,null,6.2229999999999999,{"$f":"L$2+L$3*$C404","v":5.9939999999999998},4.8959999999999999,3.577,1.8220000000000001,1.0960000000000001,0.48510767210346306,0.28460280894318601,0.17137547995946129,0.10282349350419734,6.0718479589436006E-2,null,null,0.49102953068018224,{"$f":"SQRT(Y$2+2*Y$3*$C404+Y$4*$C404^2+Y$5)","v":0.37967091013139259},0.2954657340538831,0.22457292802116643,0.16475436261295176,0.11394735626595291,3.8618221633842417E-2,2.4785080353256474E-2,9.6130294978906319E-3,5.0807010171367512E-3,4.6011440922921329E-3]
[6225000,535000,25.3323943447059,null,101.18799335889609,0,9.7665692288609936E-5,1.1592407644764892E-2,null,null,6.2229999999999999,5.9939999999999998,4.8959999999999999,3.577,1.8220000000000001,1.0960000000000001,0.45487537956560065,0.25946064729180041,0.15375509817418859,9.054729548387086E-2,5.5947729464463622E-2,null,null,0.49102953068018224,0.37967091013139259,0.2954657340538831,0.22457292802116643,0.16475436261295176,0.11394735626595291,4.091502964980364E-2,2.628268377265533E-2,1.0806511802013721E-2,5.7436885242693157E-3,4.847747335465365E-3]
[6225000,545000,24.937096780346302,null,96.130172162542181,0,1.0821327971726034E-4,1.2643922416900238E-2,null,null,6.2229999999999999,5.9939999999999998,4.8959999999999999,3.577,1.8220000000000001,1.0960000000000001,0.44170406472113888,0.24850695178339599,0.14607841947432515,8.5198919438085496E-2,5.3869254871060854E-2,null,null,0.49102953068018224,0.37967091013139259,0.2954657340538831,0.22457292802116643,0.16475436261295176,0.11394735626595291,4.2872148299409669E-2,2.7530058456033651E-2,1.1723227092199326E-2,6.2551400141658562E-3,5.0600257621820277E-3]
[6225000,555000,24.827586108240599,null,91.885853100463734,0,1.1844117204646211E-4,1.3778202550229142E-2,null,null,6.2229999999999999,5.9939999999999998,4.8959999999999999,3.577,1.8220000000000001,1.0960000000000001,0.43805516912657683,0.24547241105934692,0.1439517222220324,8.3717240044495322E-2,5.3293447757129062E-2,null,null,0.49102953068018224,0.37967091013139259,0.2954657340538831,0.22457292802116643,0.16475436261295176,0.11394735626595291,4.350299021761965E-2,2.7930792196375023E-2,1.2009711455195957E-2,6.4148311716525361E-3,5.1286772195922254E-3]
[6225000,565000,25.7655171361463,null,88.572061057649549,0,1.2746956345498605E-4,1.5388657499805378E-2,null,null,6.2229999999999999,5.9939999999999998,4.8959999999999999,3.577,1.8220000000000001,1.0960000000000001,0.46930703097639481,0.27146247984261396,0.16216634278396119,9.6407446852059486E-2,5.8225089101857239E-2,null,null,0.49102953068018224,0.37967091013139259,0.2954657340538831,0.22457292802116643,0.16475436261295176,0.11394735626595291,3.9410350626714608E-2,2.5313781212236465E-2,1.0057048571948829E-2,5.3257402628646491E-3,4.6855476630222413E-3]
[6225000,575000,25.349999880790701,null,86.296060164992468,0,1.342820809962656E-4,1.5949658779805542E-2,null,null,6.2229999999999999,5.9939999999999998,4.8959999999999999,3.577,1.8220000000000001,1.0960000000000001,0.45546199602794624,0.25994849669671027,0.15409699768495538,9.0785498387098207E-2,5.6040299373197502E-2,null,null,0.49102953068018224,0.37967091013139259,0.2954657340538831,0.22457292802116643,0.16475436261295176,0.11394735626595291,4.0840271681762567E-2,2.6234845947202896E-2,1.0770447076522159E-2,5.7235597795997151E-3,4.8396635240293496E-3]
[6225000,585000,25.537499984105398,null,85.141118150985079,0,1.3794987177559415E-4,1.6506502130628556E-2,null,null,6.2229999999999999,5.9939999999999998,4.8959999999999999,3.577,1.8220000000000001,1.0960000000000001,0.46170949947039197,0.2651441245595606,0.15773824969132683,9.3322374784946094E-2,5.7026174916426184E-2,null,null,0.49102953068018224,0.37967091013139259,0.2954657340538831,0.22457292802116643,0.16475436261295176,0.11394735626595291,4.0114077814030751E-2,2.5768885252780968E-2,1.041463073725723E-2,5.5250064352368178E-3,4.7612586533147799E-3]
[6225000,595000,26.743283513766599,null,85.152862547303712,0,1.3791182193928847E-4,1.7281108468670578E-2,null,null,6.2229999999999999,5.9939999999999998,4.8959999999999999,3.577,1.8220000000000001,1.0960000000000001,0.50188620667870321,0.2985563861664724,0.18115456583734729,0.10963662594126211,6.3366184715384757E-2,null,null,0.49102953068018224,0.37967091013139259,0.2954657340538831,0.22457292802116643,0.16475436261295176,0.11394735626595291,3.8812769787493151E-2,2.4869602873667292E-2,9.6297475079594637E-3,5.0974566805192835E-3,4.6236939939743012E-3]
[6225000,605000,27.681159558503499,null,86.330817209151903,0,1.3417397803035288E-4,1.7402351902527174E-2,null,null,6.2229999999999999,5.9939999999999998,4.8959999999999999,3.577,1.8220000000000001,1.0960000000000001,0.53313623648933661,0.32454493136613194,0.19936811862613796,0.12232608882655238,6.8297536958611391E-2,null,null,0.49102953068018224,0.37967091013139259,0.2954657340538831,0.22457292802116643,0.16475436261295176,0.11394735626595291,4.1905393683945233E-2,2.6740704200458973E-2,1.0939810898470138E-2,5.848489041238112E-3,4.9621081235756096E-3]
[6225000,695000,29.58571434021,null,135.17029999226901,0,5.4731511832131889E-5,7.5870837168568002E-3,null,null,6.2229999999999999,5.9939999999999998,4.8959999999999999,3.577,1.8220000000000001,1.0960000000000001,0.59659600181579731,0.37732014436721906,0.23635457248687824,0.14809471502304133,7.8311686000824179E-2,null,null,0.49102953068018224,0.37967091013139259,0.2954657340538831,0.22457292802116643,0.16475436261295176,0.11394735626595291,5.612729733279357E-2,3.5588870539364145E-2,1.6730578886367791E-2,9.0855109562925813E-3,6.5306160693543204E-3]
[6225000,705000,29.2571428389776,null,143.08392642082478,0,4.884479614868552E-5,6.6958479830094737E-3,null,null,6.2229999999999999,{"$f":"L$2+L$3*$C414","v":5.9939999999999998},4.8959999999999999,3.577,1.8220000000000001,1.0960000000000001,0.58564799939473366,0.36821542806806928,0.22997371393294502,0.14364914261136696,7.6584057047344209E-2,null,null,0.49102953068018224,{"$f":"SQRT(Y$2+2*Y$3*$C414+Y$4*$C414^2+Y$5)","v":0.37967091013139259},0.2954657340538831,0.22457292802116643,0.16475436261295176,0.11394735626595291,5.314954934177038E-2,3.3725777602375974E-2,1.5562028291990444E-2,8.4367923720397187E-3,6.20039417645792E-3]
[6225000,715000,29.063235310947199,null,151.24486768151837,0,4.3715827883791087E-5,5.9530295368357211E-3,null,null,6.2229999999999999,5.9939999999999998,4.8959999999999999,3.577,1.8220000000000001,1.0960000000000001,0.57918700056076078,0.36284225046634688,0.22620802973859461,0.14102557375711566,7.5564491264960357E-2,null,null,0.49102953068018224,0.37967091013139259,0.2954657340538831,0.22457292802116643,0.16475436261295176,0.11394735626595291,5.1472755120209046E-2,3.2678235562230346E-2,1.4895689109776651E-2,8.0661912717206723E-3,6.0148086401387493E-3]
[6235000,445000,25.2700000551012,null,173.26572078746563,0,3.3310005226339819E-5,3.943985553413255E-3,null,null,6.2229999999999999,5.9939999999999998,4.8959999999999999,3.577,1.8220000000000001,1.0960000000000001,0.45279640183597203,0.25773170152685421,0.15254340107006531,8.9703100745519238E-2,5.5619660289722109E-2,null,null,0.49102953068018224,0.37967091013139259,0.2954657340538831,0.22457292802116643,0.16475436261295176,0.11394735626595291,4.1188812675110584E-2,2.6457718658681049E-2,1.0937815979966159E-2,5.8169728065133441E-3,4.8773699304364183E-3]
[6235000,455000,25.5836538534898,null,164.99396958677005,0,3.6733630851254145E-5,4.4033357325623931E-3,null,null,6.2229999999999999,5.9939999999999998,4.8959999999999999,3.577,1.8220000000000001,1.0960000000000001,0.46324734639828025,0.26642304828020236,0.15863455783477193,9.3946836637717024E-2,5.7268851961649367E-2,null,null,0.49102953068018224,0.37967091013139259,0.2954657340538831,0.22457292802116643,0.16475436261295176,0.11394735626595291,3.9955421592817973E-2,2.5666684524869657E-2,1.0335337798526656E-2,5.4807818465158666E-3,4.7441623180567959E-3]
[6235000,465000,25.388524680841201,null,156.92358012739831,0,4.060912056482414E-5,4.8307706735283718E-3,null,null,6.2229999999999999,5.9939999999999998,4.8959999999999999,3.577,1.8220000000000001,1.0960000000000001,0.45674564236562887,0.26101601890610959,0.1548451493019361,9.1306738931781484E-2,5.6242862771863036E-2,null,null,0.49102953068018224,0.37967091013139259,0.2954657340538831,0.22457292802116643,0.16475436261295176,0.11394735626595291,4.0680561826027674E-2,2.6132577055577748E-2,1.0693075992248533E-2,5.6803776285999346E-3,4.8224008539743133E-3]
[6235000,475000,24.364957320384502,null,149.0872563299761,0,4.4990306838391671E-5,5.1361770015521356E-3,null,null,6.2229999999999999,5.9939999999999998,4.8959999999999999,3.577,1.8220000000000001,1.0960000000000001,0.4226403779152117,0.23265296734785446,0.13496747116186703,7.7457872544802353E-2,5.0860945590581699E-2,null,null,0.49102953068018224,0.37967091013139259,0.2954657340538831,0.22457292802116643,0.16475436261295176,0.11394735626595291,4.6541186616072212E-2,2.985625197897027E-2,1.3345968147048781E-2,7.1585473424057855E-3,5.4605430446942882E-3]
[6235000,485000,24.550476110549202,null,141.52388490993314,0,4.992758004514451E-5,5.7432246888311838E-3,null,null,6.2229999999999999,5.9939999999999998,4.8959999999999999,3.577,1.8220000000000001,1.0960000000000001,0.42882186400349942,0.23779369302331832,0.13857024606686547,7.9967941775730744E-2,5.1836403389267691E-2,null,null,0.49102953068018224,0.37967091013139259,0.2954657340538831,0.22457292802116643,0.16475436261295176,0.11394735626595291,4.5254292849892699E-2,2.904137975651035E-2,1.2787728555388353E-2,6.8480778198516034E-3,5.3197437220613543E-3]
[6235000,495000,25.361855575718799,null,134.27959636519617,0,5.5460010282285888E-5,6.5904693201002968E-3,null,null,6.2229999999999999,5.9939999999999998,4.8959999999999999,3.577,1.8220000000000001,1.0960000000000001,0.45585702778295045,0.26027701800316794,0.15432723528045905,9.094590593947538E-2,5.6102636617129428E-2,null,null,0.49102953068018224,0.37967091013139259,0.2954657340538831,0.22457292802116643,0.16475436261295176,0.11394735626595291,4.0790553659623315E-2,2.6203019958572209E-2,1.0746409373661966E-2,5.7101437569292398E-3,4.8342885446662435E-3]
[6235000,505000,25.466666649127799,null,127.40883014924829,0,6.1602869708082486E-5,7.3506952718466996E-3,null,null,6.2229999999999999,5.9939999999999998,4.8959999999999999,3.577,1.8220000000000001,1.0960000000000001,0.4593493327489383,0.26318133284733125,0.15636266632606183,9.2363999762699156E-2,5.665373324111396E-2,null,null,0.49102953068018224,0.37967091013139259,0.2954657340538831,0.22457292802116643,0.16475436261295176,0.11394735626595291,4.0373181484063679E-2,2.5935441259500178E-2,1.0542824870261159E-2,5.5965283071834635E-3,4.789206390049679E-3]
[6235000,515000,24.977500009536701,null,120.97524540169366,0,6.8329300765766461E-5,7.9967094368583996E-3,null,null,6.2229999999999999,5.9939999999999998,4.8959999999999999,3.577,1.8220000000000001,1.0960000000000001,0.44305030031776294,0.24962652526426199,0.14686305018520274,8.5745575129031582E-2,5.4081695050143971E-2,null,null,0.49102953068018224,0.37967091013139259,0.2954657340538831,0.22457292802116643,0.16475436261295176,0.11394735626595291,4.264868661432962E-2,2.738798976734488E-2,1.1620826831847186E-2,6.1980407688166997E-3,5.035731788843761E-3]
[6235000,525000,25.9907692249005,null,115.05220554165835,0,7.5545761467280001E-5,9.199931800923003E-3,null,null,6.2229999999999999,{"$f":"L$2+L$3*$C424","v":5.9939999999999998},4.8959999999999999,3.577,1.8220000000000001,1.0960000000000001,0.47681243057368472,0.27770421522199285,0.16654073834756772,9.945510761290377E-2,5.9409464584526825E-2,null,null,0.49102953068018224,{"$f":"SQRT(Y$2+2*Y$3*$C424+Y$4*$C424^2+Y$5)","v":0.37967091013139259},0.2954657340538831,0.22457292802116643,0.16475436261295176,0.11394735626595291,3.8918183965269797E-2,2.4990485457746642E-2,9.792988034473829E-3,5.1792294941508275E-3,4.6328760022903634E-3]
[6235000,535000,26.2111110081748,null,109.72242250333338,0,8.306330836173407E-5,1.0201170969840283E-2,null,null,6.2229999999999999,5.9939999999999998,4.8959999999999999,3.577,1.8220000000000001,1.0960000000000001,0.48415421879238441,0.28380988603652368,0.17081977577875457,0.10243633194060509,6.0568021680983089E-2,null,null,0.49102953068018224,0.37967091013139259,0.2954657340538831,0.22457292802116643,0.16475436261295176,0.11394735626595291,3.8639447558374541E-2,2.4800432278558153E-2,9.6275049559370988E-3,5.0885022712316421E-3,4.6033556419062668E-3]
[6235000,545000,25.182758791693299,null,105.07621043794832,0,9.0571424172245123E-5,1.0686853950506935E-2,null,null,6.2229999999999999,5.9939999999999998,4.8959999999999999,3.577,1.8220000000000001,1.0960000000000001,0.4498895229392208,0.25531424611782128,0.15084917573468387,8.8522726451610356E-2,5.5160945726723351E-2,null,null,0.49102953068018224,0.37967091013139259,0.2954657340538831,0.22457292802116643,0.16475436261295176,0.11394735626595291,4.159432775979828E-2,2.6716577016864383E-2,1.1130244858076139E-2,5.9243637293972017E-3,4.9212931792863316E-3]
[6235000,555000,24.0149253161986,null,101.2077566197374,0,9.7627552838472299E-5,1.0985226488489243E-2,null,null,6.2229999999999999,5.9939999999999998,4.8959999999999999,3.577,1.8220000000000001,1.0960000000000001,0.41097731153573736,0.2229535805118632,0.12816984964057682,7.2721939528167079E-2,4.9020477312572239E-2,null,null,0.49102953068018224,0.37967091013139259,0.2954657340538831,0.22457292802116643,0.16475436261295176,0.11394735626595291,4.9190377843729496E-2,3.1531832070501573E-2,1.4467008923210472E-2,7.781103558016215E-3,5.75130300053079E-3]
[6235000,565000,25.3041667408413,null,98.209011806452878,0,1.0368055605955826E-4,1.2292627745812383E-2,null,null,6.2229999999999999,5.9939999999999998,4.8959999999999999,3.577,1.8220000000000001,1.0960000000000001,0.45393483580483218,0.25867846038871234,0.15320691810713805,9.016537600358282E-2,5.5799308723343558E-2,null,null,0.49102953068018224,0.37967091013139259,0.2954657340538831,0.22457292802116643,0.16475436261295176,0.11394735626595291,4.1037191288337244E-2,2.6360813792664167E-2,1.0865246276506126E-2,5.7764699850737667E-3,4.8609615484816512E-3]
[6235000,575000,25.519718143302001,null,96.161374782185803,0,1.0814306462305113E-4,1.2930934680972369E-2,null,null,6.2229999999999999,5.9939999999999998,4.8959999999999999,3.577,1.8220000000000001,1.0960000000000001,0.46111700853482274,0.26465138975089841,0.15739292634292484,9.3081786478876105E-2,5.6932677997481904E-2,null,null,0.49102953068018224,0.37967091013139259,0.2954657340538831,0.22457292802116643,0.16475436261295176,0.11394735626595291,4.0177355575993404E-2,2.5809598394752293E-2,1.0446080182822616E-2,5.5425504030486355E-3,4.7680809680712725E-3]
[6235000,585000,25.4029410306145,null,95.12628448541443,0,1.1050932643460447E-4,1.3153408368593147E-2,null,null,{"$f":"K$2+K$3*$C430","v":6.2229999999999999},5.9939999999999998,4.8959999999999999,3.577,1.8220000000000001,1.0960000000000001,0.45722599514007523,0.26141549595832769,0.15512511481453356,9.1501792144214222E-2,5.6318663938971045E-2,null,null,{"$f":"SQRT(X$2+2*X$3*$C430+X$4*$C430^2+X$5)","v":0.49102953068018224},0.37967091013139259,0.2954657340538831,0.22457292802116643,0.16475436261295176,0.11394735626595291,4.062217513331319E-2,2.6095164064207386E-2,1.066467607904276E-2,5.6645276550114053E-3,4.8160925161966081E-3]
[6235000,595000,26.4338235294118,null,95.136796246247442,0,1.1048490720925066E-4,1.3684165354499872E-2,null,null,6.2229999999999999,5.9939999999999998,4.8959999999999999,3.577,1.8220000000000001,1.0960000000000001,0.49157500000000121,0.28998125000000097,0.17514485294117715,0.10544963235294169,6.1739044117647232E-2,null,null,0.49102953068018224,0.37967091013139259,0.2954657340538831,0.22457292802116643,0.16475436261295176,0.11394735626595291,3.8565902048594974E-2,2.4738121089852835E-2,9.5584340701205285E-3,5.0525356249461169E-3,4.5960624755304489E-3]
[6235000,605000,27.169444428549902,null,96.192567280429742,0,1.0807294058906234E-4,1.3757930085551368E-2,null,null,6.2229999999999999,5.9939999999999998,4.8959999999999999,3.577,1.8220000000000001,1.0960000000000001,0.51608588835928282,0.31036530511511773,0.18943061080243911,0.11540258311828022,6.5606938805315387E-2,null,null,0.49102953068018224,0.37967091013139259,0.2954657340538831,0.22457292802116643,0.16475436261295176,0.11394735626595291,3.9800987116748746E-2,2.5457026160517423E-2,1.0036255201724333E-2,5.3333512651422719E-3,4.7319957570248683E-3]
[6235000,615000,26.832857213701502,null,98.259910441644507,0,1.0357317082012346E-4,1.3021756304467435E-2,null,null,6.2229999999999999,5.9939999999999998,4.8959999999999999,3.577,1.8220000000000001,1.0960000000000001,0.50487080236053405,0.30103847339166856,0.1828940870900832,0.11084855810138133,6.3837163229642488E-2,null,null,0.49102953068018224,0.37967091013139259,0.2954657340538831,0.22457292802116643,0.16475436261295176,0.11394735626595291,3.8959190894428251E-2,2.4954591197350589E-2,9.6863174163326852E-3,5.1307887057911441E-3,4.639807156754547E-3]
[6245000,445000,25.7023530623492,null,178.94415329929058,0,3.1229495884108585E-5,3.7609125100520825E-3,null,null,6.2229999999999999,{"$f":"L$2+L$3*$C434","v":5.9939999999999998},4.8959999999999999,3.577,1.8220000000000001,1.0960000000000001,0.46720240403747537,0.2697122033576963,0.16093969647082146,9.5552836933584684E-2,5.7892972401832096E-2,null,null,0.49102953068018224,{"$f":"SQRT(Y$2+2*Y$3*$C434+Y$4*$C434^2+Y$5)","v":0.37967091013139259},0.2954657340538831,0.22457292802116643,0.16475436261295176,0.11394735626595291,3.9584994449496314E-2,2.5427228206544278E-2,1.0147369732517456E-2,5.3760202200187754E-3,4.7043047298489446E-3]
[6245000,455000,25.882474014439499,null,170.94738956766784,0,3.4219609821164905E-5,4.1498864321643323E-3,null,null,6.2229999999999999,5.9939999999999998,4.8959999999999999,3.577,1.8220000000000001,1.0960000000000001,0.47320403416112422,0.27470335494011844,0.16443764536041511,9.7989873415366469E-2,5.8840048367922879E-2,null,null,0.49102953068018224,0.37967091013139259,0.2954657340538831,0.22457292802116643,0.16475436261295176,0.11394735626595291,3.9129058954490953E-2,2.5129897366365377E-2,9.9083693964247543E-3,5.2431219297839971E-3,4.6553999560627795E-3]
[6245000,465000,25.280999908447299,null,163.17171936337499,0,3.7558671339466157E-5,4.4489737087058953E-3,null,null,6.2229999999999999,5.9939999999999998,4.8959999999999999,3.577,1.8220000000000001,1.0960000000000001,0.45316291694946409,0.2580365074630746,0.15275701822204657,8.9851928761291999E-2,5.5677497518615879E-2,null,null,0.49102953068018224,0.37967091013139259,0.2954657340538831,0.22457292802116643,0.16475436261295176,0.11394735626595291,4.1139552033166472E-2,2.642624270376439E-2,1.0914277536853678E-2,5.803835565448035E-3,4.872038076978241E-3]
[6245000,475000,24.5864865586564,null,155.65028107909089,0,4.1276244984420285E-5,4.7550164654174693E-3,null,null,6.2229999999999999,5.9939999999999998,4.8959999999999999,3.577,1.8220000000000001,1.0960000000000001,0.43002173213443129,0.23879154254036883,0.1392695689691073,8.0455163138621111E-2,5.2025746325415331E-2,null,null,0.49102953068018224,0.37967091013139259,0.2954657340538831,0.22457292802116643,0.16475436261295176,0.11394735626595291,4.5014758494212423E-2,2.8889608594460034E-2,1.2682652860657674E-2,6.7896028650883261E-3,5.2935718708859453E-3]
[6245000,485000,25.007766927330199,null,148.42173021495202,0,4.5394686370381598E-5,5.3190650888336171E-3,null,null,6.2229999999999999,5.9939999999999998,4.8959999999999999,3.577,1.8220000000000001,1.0960000000000001,0.44405879401864223,0.25046522155631978,0.14745083372875245,8.6155086526777613E-2,5.424083850390217E-2,null,null,0.49102953068018224,0.37967091013139259,0.2954657340538831,0.22457292802116643,0.16475436261295176,0.11394735626595291,4.2484642727098357E-2,2.7283651908649516E-2,1.1545327081373119E-2,6.1559352013759675E-3,5.0179059641535803E-3]
[6245000,495000,24.803061076573002,null,141.53095067864132,0,4.9922595016427027E-5,5.8017339130011988E-3,null,null,6.2229999999999999,5.9939999999999998,4.8959999999999999,3.577,1.8220000000000001,1.0960000000000001,0.43723799507141248,0.24479282243183786,0.14347544610704771,8.338541636603275E-2,5.316449514062084E-2,null,null,0.49102953068018224,0.37967091013139259,0.2954657340538831,0.22457292802116643,0.16475436261295176,0.11394735626595291,4.3649190341253391E-2,2.8023602185028158E-2,1.2075591354840138E-2,6.451541858135409E-3,5.1446013291873592E-3]
[6245000,505000,24.981395410936901,null,135.02966340771201,0,5.4845579528558369E-5,6.4196846518925965E-3,null,null,6.2229999999999999,5.9939999999999998,4.8959999999999999,3.577,1.8220000000000001,1.0960000000000001,0.44318009509241763,0.24973446683706146,0.14693869888039462,8.5798279909976294E-2,5.4102177070706206E-2,null,null,0.49102953068018224,0.37967091013139259,0.2954657340538831,0.22457292802116643,0.16475436261295176,0.11394735626595291,4.2627411805166944E-2,2.7374460431797053E-2,1.1611051199574455E-2,6.1925892769705542E-3,5.0334195537251524E-3]
[6245000,515000,24.9432432071583,null,128.97678085609053,0,6.0114180875154272E-5,7.0256292324921898E-3,null,null,6.2229999999999999,5.9939999999999998,4.8959999999999999,3.577,1.8220000000000001,1.0960000000000001,0.44190886366251458,0.24867726927035649,0.14619778308301418,8.5282080592851806E-2,5.390157278323833E-2,null,null,0.49102953068018224,0.37967091013139259,0.2954657340538831,0.22457292802116643,0.16475436261295176,0.11394735626595291,4.2837826094241957E-2,2.750824202315193E-2,1.1707531737260933E-2,6.2463888026147961E-3,5.0562935226897403E-3]
[6245000,525000,24.836065667574498,null,123.43828417472433,0,6.5629674063349711E-5,7.6372748220735797E-3,null,null,6.2229999999999999,5.9939999999999998,4.8959999999999999,3.577,1.8220000000000001,1.0960000000000001,0.43833770804358241,0.24570737964848932,0.14411639526429676,8.383196848228297E-2,5.3338033280106709E-2,null,null,0.49102953068018224,0.37967091013139259,0.2954657340538831,0.22457292802116643,0.16475436261295176,0.11394735626595291,4.3452854721569428E-2,2.7898960482065673E-2,1.1987076684667322E-2,6.4022172103810563E-3,5.1232176377024926E-3]
[6245000,535000,26.347619102114699,null,118.48632832525446,0,7.123009385989469E-5,8.7934695645675697E-3,null,null,6.2229999999999999,5.9939999999999998,4.8959999999999999,3.577,1.8220000000000001,1.0960000000000001,0.4887026684824618,0.28759252531959822,0.17347076296306746,0.10428328645161189,6.1285781238919076E-2,null,null,0.49102953068018224,0.37967091013139259,0.2954657340538831,0.22457292802116643,0.16475436261295176,0.11394735626595291,3.8569390615926971E-2,2.4746654106107494E-2,9.5732568711729329E-3,5.059693757976884E-3,4.5961826232133888E-3]
[6245000,545000,25.079687535762801,null,114.19724164794874,0,7.6681177301451359E-5,9.0108604778890763E-3,null,null,6.2229999999999999,{"$f":"L$2+L$3*$C444","v":5.9939999999999998},4.8959999999999999,3.577,1.8220000000000001,1.0960000000000001,0.4464551886916166,0.25245814161598723,0.14884753194451361,8.7128172358870715E-2,5.4618997063040811E-2,null,null,0.49102953068018224,{"$f":"SQRT(Y$2+2*Y$3*$C444+Y$4*$C444^2+Y$5)","v":0.37967091013139259},0.2954657340538831,0.22457292802116643,0.16475436261295176,0.11394735626595291,4.210658146923018E-2,2.7043029995357216E-2,1.1370212408220417E-2,6.0582560066965684E-3,4.9768522363787494E-3]
[6245000,555000,25.0129631183766,null,110.6481359987596,0,8.1679260247275785E-5,9.572652865082654E-3,null,null,6.2229999999999999,5.9939999999999998,4.8959999999999999,3.577,1.8220000000000001,1.0960000000000001,0.44423193110430836,0.25060920801021558,0.14755174375887359,8.6225390991635453E-2,5.4268160076424168E-2,null,null,0.49102953068018224,0.37967091013139259,0.2954657340538831,0.22457292802116643,0.16475436261295176,0.11394735626595291,4.2456771789912896E-2,2.7265920987387324E-2,1.153247136742451E-2,6.1487651647996232E-3,5.0148780948726171E-3]
[6245000,565000,25.347368407667702,null,107.91204752019118,0,8.5873691821647207E-5,1.0198783743309514E-2,null,null,6.2229999999999999,5.9939999999999998,4.8959999999999999,3.577,1.8220000000000001,1.0960000000000001,0.45537431534348793,0.25987557857647192,0.15404589447690675,9.0749894555744059E-2,5.6026463087516756E-2,null,null,0.49102953068018224,0.37967091013139259,0.2954657340538831,0.22457292802116643,0.16475436261295176,0.11394735626595291,4.0851375293193763E-2,2.624195244986911E-2,1.0775809654898079E-2,5.7265527773624524E-3,4.8408640575553627E-3]
[6245000,575000,25.316666698455801,null,106.05192124615188,0,8.8912519860834128E-5,1.054689966569889E-2,null,null,6.2229999999999999,5.9939999999999998,4.8959999999999999,3.577,1.8220000000000001,1.0960000000000001,0.45435133439254738,0.25902483421421019,0.15344966728401166,9.0334500430107045E-2,5.5865033500480596E-2,null,null,0.49102953068018224,0.37967091013139259,0.2954657340538831,0.22457292802116643,0.16475436261295176,0.11394735626595291,4.0982746570799679E-2,2.6325999154303541E-2,1.0839099553010739E-2,5.7618767309786318E-3,4.8550715888728991E-3]
[6245000,585000,25.174242424242401,null,105.11427115287438,0,9.0505846225136922E-5,1.067550467859181E-2,null,null,6.2229999999999999,5.9939999999999998,4.8959999999999999,3.577,1.8220000000000001,1.0960000000000001,0.44960575757575683,0.25507825757575686,0.15068378787878739,8.8407499999999695E-2,5.5116166666666536E-2,null,null,0.49102953068018224,0.37967091013139259,0.2954657340538831,0.22457292802116643,0.16475436261295176,0.11394735626595291,4.1635307138353755E-2,2.6742713160513243E-2,1.1149564351971548E-2,5.9351446127992105E-3,4.925734837946092E-3]
[6245000,595000,26.0328358322827,null,105.12378417846269,0,9.0489466573643484E-5,1.1037605800567941E-2,null,null,6.2229999999999999,5.9939999999999998,4.8959999999999999,3.577,1.8220000000000001,1.0960000000000001,0.47821408993165959,0.2788698809125536,0.16735767186292999,0.10002426881078497,5.9630650806142424E-2,null,null,0.49102953068018224,0.37967091013139259,0.2954657340538831,0.22457292802116643,0.16475436261295176,0.11394735626595291,3.884930700094829E-2,2.4944446466553166E-2,9.7541219156775678E-3,5.1577831409196553E-3,4.6255420649397826E-3]
[6245000,605000,26.4206350417364,null,106.08020550507999,0,8.8865112534335241E-5,1.1000943115432652E-2,null,null,6.2229999999999999,5.9939999999999998,4.8959999999999999,3.577,1.8220000000000001,1.0960000000000001,0.49113555959065691,0.28961579700651563,0.17488873251052089,0.10527119211469355,6.166969904944998E-2,null,null,0.49102953068018224,0.37967091013139259,0.2954657340538831,0.22457292802116643,0.16475436261295176,0.11394735626595291,3.8564389514519168E-2,2.4738149024153017E-2,9.5597217290161948E-3,5.0530744021045756E-3,4.5958594942573736E-3]
[6245000,615000,26.2969697894472,null,107.95837160683742,0,8.5800012183601728E-5,1.057178759253467E-2,null,null,6.2229999999999999,5.9939999999999998,4.8959999999999999,3.577,1.8220000000000001,1.0960000000000001,0.48701503338438079,0.28618903286558184,0.17248715331106462,0.10359800125122065,6.1019467152913356E-2,null,null,0.49102953068018224,0.37967091013139259,0.2954657340538831,0.22457292802116643,0.16475436261295176,0.11394735626595291,3.8586164329684439E-2,2.4760857025742138E-2,9.5890021992825342E-3,5.0678942659782558E-3,4.5978462318088196E-3]
[6255000,445000,26.008695540220799,null,184.98921590190059,0,2.9221814318163028E-5,3.5610749913063651E-3,null,null,6.2229999999999999,5.9939999999999998,4.8959999999999999,3.577,1.8220000000000001,1.0960000000000001,0.47740973540015708,0.27820095341951834,0.16688886739108794,9.9697650659187453E-2,5.9503721150480957E-2,null,null,0.49102953068018224,0.37967091013139259,0.2954657340538831,0.22457292802116643,0.16475436261295176,0.11394735626595291,3.8887935635600758E-2,2.4970307859434694E-2,9.7760131076617771E-3,5.1698565307648032E-3,4.629653376886385E-3]
[6255000,455000,26.114851375617601,null,177.26536604762927,0,3.1823813186578882E-5,3.8939928225106796E-3,null,null,6.2229999999999999,5.9939999999999998,4.8959999999999999,3.577,1.8220000000000001,1.0960000000000001,0.48094684783557851,0.28114253161836367,0.16895041371449376,0.10113393911210616,6.0061888532997335E-2,null,null,0.49102953068018224,0.37967091013139259,0.2954657340538831,0.22457292802116643,0.16475436261295176,0.11394735626595291,3.8736203711076923E-2,2.4867877497618963E-2,9.6881392416482606E-3,5.1215229573264862E-3,4.6135408909733361E-3]
[6255000,465000,26.605940507190098,null,169.77929791349712,0,3.4692095510114302E-5,4.3247849872507117E-3,null,null,6.2229999999999999,{"$f":"L$2+L$3*$C454","v":5.9939999999999998},4.8959999999999999,3.577,1.8220000000000001,1.0960000000000001,0.4973099376995741,0.29475061145423753,0.17848736464963172,0.10777837506228205,6.2644035186805516E-2,null,null,0.49102953068018224,{"$f":"SQRT(Y$2+2*Y$3*$C454+Y$4*$C454^2+Y$5)","v":0.37967091013139259},0.2954657340538831,0.22457292802116643,0.16475436261295176,0.11394735626595291,3.865331510207716E-2,2.4780041432900777E-2,9.5741321373693043E-3,5.0639425239932959E-3,4.6060321658718002E-3]
[6255000,475000,26.359769952708302,null,162.56386437335942,0,3.7840073470286655E-5,4.6735722235446246E-3,null,null,6.2229999999999999,5.9939999999999998,4.8959999999999999,3.577,1.8220000000000001,1.0960000000000001,0.48910753482424063,0.28792922538954702,0.17370673248159524,0.10444768746014332,6.1349670411340249E-2,null,null,0.49102953068018224,0.37967091013139259,0.2954657340538831,0.22457292802116643,0.16475436261295176,0.11394735626595291,3.8566986963693962E-2,2.4744257884542088E-2,9.5702527291422132E-3,5.0581654489031853E-3,4.5959588472667349E-3]
[6255000,485000,25.764893633254001,null,155.65670560563717,0,4.1272837808891078E-5,4.9825085941845549E-3,null,null,6.2229999999999999,5.9939999999999998,4.8959999999999999,3.577,1.8220000000000001,1.0960000000000001,0.46928625586002337,0.27144520257746829,0.16215423435779269,9.6399010857926681E-2,5.8221810723649528E-2,null,null,0.49102953068018224,0.37967091013139259,0.2954657340538831,0.22457292802116643,0.16475436261295176,0.11394735626595291,3.94119972650585E-2,2.5314852987979444E-2,1.0057906329547428E-2,5.3262175042803478E-3,4.6857243919217429E-3]
[6255000,495000,24.888763984937299,null,{"$f":"(SQRT(($A457-E$1)^2+($B457-E$2)^2)/1000)","v":149.10067068930309},{"$f":"IF(E457=0,1,0)","v":0},{"$f":"IF($F$618=0,1/E457^2,F457)","v":4.4982211784349868E-5},{"$f":"G457/$G$618*C457","v":5.2456523782934356E-3},null,null,6.2229999999999999,5.9939999999999998,4.8959999999999999,3.577,1.8220000000000001,1.0960000000000001,0.44009361597811092,0.24716765002261254,0.14513979658748233,8.4544976716201703E-2,5.361512103280032E-2,null,null,0.49102953068018224,0.37967091013139259,0.2954657340538831,0.22457292802116643,0.16475436261295176,0.11394735626595291,4.3146092981177275E-2,2.7704134526916467E-2,1.1848089695263757E-2,6.3247506711643165E-3,5.0898256581912117E-3]
[6255000,505000,25.375609816574499,null,142.94407997535259,0,4.8940415533492132E-5,5.8188814876664417E-3,null,null,6.2229999999999999,5.9939999999999998,4.8959999999999999,3.577,1.8220000000000001,1.0960000000000001,0.45631531908826239,0.26065814801727938,0.15459434263787675,9.1132000818253012E-2,5.6174956415548719E-2,null,null,0.49102953068018224,0.37967091013139259,0.2954657340538831,0.22457292802116643,0.16475436261295176,0.11394735626595291,4.073350653142023E-2,2.6166490802160408E-2,1.0718775025095741E-2,5.6947205200374848E-3,4.8281224091738855E-3]
[6255000,515000,25.524615449171801,null,137.24070096002862,0,5.3092618480160077E-5,6.3496344626741219E-3,null,null,6.2229999999999999,5.9939999999999998,4.8959999999999999,3.577,1.8220000000000001,1.0960000000000001,0.46128018676640448,0.26478709409655055,0.15748803202291639,9.3148047027294512E-2,5.695842803174532E-2,null,null,0.49102953068018224,0.37967091013139259,0.2954657340538831,0.22457292802116643,0.16475436261295176,0.11394735626595291,4.0159809403093556E-2,2.5798311692601106E-2,1.043736921663546E-2,5.5376908495613966E-3,4.7661890182988005E-3]
[6255000,525000,25.1499998867512,null,132.04927110741656,0,5.7349281786269553E-5,6.7580490972126905E-3,null,null,6.2229999999999999,5.9939999999999998,4.8959999999999999,3.577,1.8220000000000001,1.0960000000000001,0.44879799622655003,0.25440649686187566,0.15021299780070829,8.8079498467743766E-2,5.4988699404537808E-2,null,null,0.49102953068018224,0.37967091013139259,0.2954657340538831,0.22457292802116643,0.16475436261295176,0.11394735626595291,4.1753296832858201E-2,2.6817944440312932E-2,1.1205067195231139E-2,5.9661157161036531E-3,4.9385264092892027E-3]
[6255000,535000,25.104687511920901,null,127.43237422256558,0,6.1580108639627666E-5,7.2435363261176321E-3,null,null,6.2229999999999999,5.9939999999999998,4.8959999999999999,3.577,1.8220000000000001,1.0960000000000001,0.44728818789720448,0.25315089095532817,0.1493330314815039,8.7466422036289793E-2,5.4750446937680095E-2,null,null,0.49102953068018224,0.37967091013139259,0.2954657340538831,0.22457292802116643,0.16475436261295176,0.11394735626595291,4.1979098251460303E-2,2.6961835639632722E-2,1.1310794323798258E-2,6.0251068569688038E-3,4.9630180259376709E-3]
[6255000,545000,25.608771809360402,null,123.45448554021841,0,6.5612449568630961E-5,7.8728209422178376E-3,null,null,6.2229999999999999,5.9939999999999998,4.8959999999999999,3.577,1.8220000000000001,1.0960000000000001,0.46408427668788865,0.26711906683737674,0.15912234853777901,9.4286682580646264E-2,5.7400922173616989E-2,null,null,0.49102953068018224,0.37967091013139259,0.2954657340538831,0.22457292802116643,0.16475436261295176,0.11394735626595291,3.9872491647688621E-2,2.5613187624774696E-2,1.0293623059454053E-2,5.4575221369522328E-3,4.7352316127835152E-3]
[6255000,555000,24.8052632181268,null,120.17907471768953,0,6.9237645061521086E-5,8.047138937753542E-3,null,null,6.2229999999999999,5.9939999999999998,4.8959999999999999,3.577,1.8220000000000001,1.0960000000000001,0.43731137042798507,0.24485384377429364,0.14351821169602247,8.3415211341255624E-2,5.317607400091072E-2,null,null,0.49102953068018224,0.37967091013139259,0.2954657340538831,0.22457292802116643,0.16475436261295176,0.11394735626595291,4.3635990496028947E-2,2.8015223595295336E-2,1.2069650898462176E-2,6.4482318044195948E-3,5.1431633948833249E-3]
[6255000,565000,25.603703675446699,null,117.66482057097609,0,7.2228189073175113E-5,8.6649266413162344E-3,null,null,6.2229999999999999,{"$f":"L$2+L$3*$C464","v":5.9939999999999998},4.8959999999999999,3.577,1.8220000000000001,1.0960000000000001,0.46391540646588403,0.26697862884662793,0.15902392537717491,9.421811072879388E-2,5.7374273925498723E-2,null,null,0.49102953068018224,{"$f":"SQRT(Y$2+2*Y$3*$C464+Y$4*$C464^2+Y$5)","v":0.37967091013139259},0.2954657340538831,0.22457292802116643,0.16475436261295176,0.11394735626595291,3.9889029821591815E-2,2.5623860695461003E-2,1.0301957463104904E-2,5.4621689249486835E-3,4.7370122836604299E-3]
[6255000,575000,25.592592521949999,null,115.96124352558486,0,7.4365974294657346E-5,8.9175165897074776E-3,null,null,6.2229999999999999,5.9939999999999998,4.8959999999999999,3.577,1.8220000000000001,1.0960000000000001,0.46354518283137403,0.26667073878323444,0.15880814677626898,9.4067776821983529E-2,5.7315851480413085E-2,null,null,0.49102953068018224,0.37967091013139259,0.2954657340538831,0.22457292802116643,0.16475436261295176,0.11394735626595291,3.9925632405196698E-2,2.5647474403478605E-2,1.0320375638599314E-2,5.4724385523212552E-3,4.740953868814333E-3]
[6255000,585000,25.7290909507058,null,115.10434396668094,0,7.5477337552013314E-5,9.0990570091534807E-3,null,null,6.2229999999999999,5.9939999999999998,4.8959999999999999,3.577,1.8220000000000001,1.0960000000000001,0.46809331047751734,0.27045311024405772,0.16145894626270663,9.5914600563049512E-2,5.8033560218811078E-2,null,null,0.49102953068018224,0.37967091013139259,0.2954657340538831,0.22457292802116643,0.16475436261295176,0.11394735626595291,3.9509140322542532E-2,2.5378007300181932E-2,1.0108295607029649E-2,5.3542622360807325E-3,4.6961547405906705E-3]
[6255000,595000,27.141379224843,null,115.11303140826411,0,7.5465945614711639E-5,9.5970620595457155E-3,null,null,6.2229999999999999,5.9939999999999998,4.8959999999999999,3.577,1.8220000000000001,1.0960000000000001,0.51515075577176883,0.30958761832039949,0.18888558454645105,0.11502286091212582,6.545937196422448E-2,null,null,0.49102953068018224,0.37967091013139259,0.2954657340538831,0.22457292802116643,0.16475436261295176,0.11394735626595291,3.9713614828812131E-2,2.540432635556818E-2,9.999109296391067E-3,5.3119937307091972E-3,4.7224409364344435E-3]
[6255000,605000,26.4712120980927,null,115.987111352943,0,7.4332807304833639E-5,9.2195502250935358E-3,null,null,6.2229999999999999,5.9939999999999998,4.8959999999999999,3.577,1.8220000000000001,1.0960000000000001,0.49282078710844879,0.29101728723814868,0.17587093894496025,0.10595549968719425,6.193563321177141E-2,null,null,0.49102953068018224,0.37967091013139259,0.2954657340538831,0.22457292802116643,0.16475436261295176,0.11394735626595291,3.8574207271619497E-2,2.4740550950299471E-2,9.5567111467280558E-3,5.0521021102382241E-3,4.5970724778524371E-3]
[6255000,615000,26.7465518754104,null,117.70730648519658,0,7.2176057613816219E-5,9.0451615845663445E-3,null,null,6.2229999999999999,5.9939999999999998,4.8959999999999999,3.577,1.8220000000000001,1.0960000000000001,0.50199510848867457,0.29864695246762218,0.18121803742046999,0.10968084687430274,6.3383369760907873E-2,null,null,0.49102953068018224,0.37967091013139259,0.2954657340538831,0.22457292802116643,0.16475436261295176,0.11394735626595291,3.8817526598370664E-2,2.4872336763617581E-2,9.6315320729680985E-3,5.098515015143119E-3,4.6242184713827473E-3]
[6265000,445000,25.878651715396501,null,191.36616733372699,0,2.7306729115335703E-5,3.3110573233059441E-3,null,null,6.2229999999999999,5.9939999999999998,4.8959999999999999,3.577,1.8220000000000001,1.0960000000000001,0.47307667515701146,0.27459743903363698,0.16436341631300005,9.7938157709314688E-2,5.88199507195548E-2,null,null,0.49102953068018224,0.37967091013139259,0.2954657340538831,0.22457292802116643,0.16475436261295176,0.11394735626595291,3.9137378412615477E-2,2.5135363464851269E-2,9.9128385640661013E-3,5.2456016096956879E-3,4.6562901894996126E-3]
[6265000,455000,25.729702921196999,null,183.91033141180515,0,2.9565671417180197E-5,3.5643298656392449E-3,null,null,6.2229999999999999,5.9939999999999998,4.8959999999999999,3.577,1.8220000000000001,1.0960000000000001,0.46811370133428409,0.27047006794636885,0.16147083072964574,9.592288052379544E-2,5.8036777959653826E-2,null,null,0.49102953068018224,0.37967091013139259,0.2954657340538831,0.22457292802116643,0.16475436261295176,0.11394735626595291,3.9507437204412729E-2,2.5376901275832652E-2,1.0107415656591444E-2,5.3537723474536359E-3,4.6959718055444655E-3]
[6265000,465000,26.619540291271001,null,176.7059987663124,0,3.2025610239996717E-5,3.9944164056301499E-3,null,null,6.2229999999999999,5.9939999999999998,4.8959999999999999,3.577,1.8220000000000001,1.0960000000000001,0.49776308250514978,0.29512746147111935,0.17875147245648287,0.10796238014089665,6.2715542851502923E-2,null,null,0.49102953068018224,0.37967091013139259,0.2954657340538831,0.22457292802116643,0.16475436261295176,0.11394735626595291,3.8665567098638616E-2,2.4786695755096573E-2,9.5779415256019105E-3,5.0663001582308314E-3,4.6073981931057705E-3]
[6265000,475000,26.678021839686799,null,169.7851878109513,0,3.468968859413445E-5,4.3362009152234093E-3,null,null,6.2229999999999999,5.9939999999999998,4.8959999999999999,3.577,1.8220000000000001,1.0960000000000001,0.49971168769836427,0.29674798517772116,0.17988718412671761,0.10875363549096245,6.3023038833073183E-2,null,null,0.49102953068018224,0.37967091013139259,0.2954657340538831,0.22457292802116643,0.16475436261295176,0.11394735626595291,3.8727129975596131E-2,2.4820865646475836E-2,9.5985860358258502E-3,5.0788525953018287E-3,4.614233037835337E-3]
[6265000,485000,25.806410300425998,null,163.18397592901087,0,3.7553029571884198E-5,4.540753735948564E-3,null,null,6.2229999999999999,{"$f":"L$2+L$3*$C474","v":5.9939999999999998},4.8959999999999999,3.577,1.8220000000000001,1.0960000000000001,0.47066959121019436,0.27259562942480442,0.16296048803427293,9.6960731364763797E-2,5.844010535963988E-2,null,null,0.49102953068018224,{"$f":"SQRT(Y$2+2*Y$3*$C474+Y$4*$C474^2+Y$5)","v":0.37967091013139259},0.2954657340538831,0.22457292802116643,0.16475436261295176,0.11394735626595291,3.9305743145996191E-2,2.5245595740910651E-2,1.0002285109720002E-2,5.295283134293143E-3,4.6743258445966799E-3]
[6265000,495000,25.401333287557001,null,156.94269654877223,0,4.0599228371065577E-5,4.8320304685549502E-3,null,null,6.2229999999999999,5.9939999999999998,4.8959999999999999,3.577,1.8220000000000001,1.0960000000000001,0.45717242514139933,0.26137094539820449,0.15509389244435695,9.148003938064625E-2,5.6310210425974713E-2,null,null,0.49102953068018224,0.37967091013139259,0.2954657340538831,0.22457292802116643,0.16475436261295176,0.11394735626595291,4.0628649165749806E-2,2.6099313200707953E-2,1.066782823406791E-2,5.6662868524456414E-3,4.8167919284272673E-3]
[6265000,505000,25.578260919322101,null,151.10595620292403,0,4.3796240618297814E-5,5.2488385946947149E-3,null,null,6.2229999999999999,5.9939999999999998,4.8959999999999999,3.577,1.8220000000000001,1.0960000000000001,0.46306765383181248,0.26627361007441541,0.15852982705323521,9.3873870238428081E-2,5.7240495913795611E-2,null,null,0.49102953068018224,0.37967091013139259,0.2954657340538831,0.22457292802116643,0.16475436261295176,0.11394735626595291,3.9973541909064873E-2,2.567836634657893E-2,1.0344427207582338E-2,5.4858506202864433E-3,4.7461142158491234E-3]
[6265000,515000,25.740298370816799,null,145.72237302487218,0,4.7092042810434291E-5,5.6795833674107435E-3,null,null,6.2229999999999999,5.9939999999999998,4.8959999999999999,3.577,1.8220000000000001,1.0960000000000001,0.46846674171561575,0.27076366785533346,0.16167659436126225,9.606623695715133E-2,5.8092488833754716E-2,null,null,0.49102953068018224,0.37967091013139259,0.2954657340538831,0.22457292802116643,0.16475436261295176,0.11394735626595291,3.9478184846723746E-2,2.5357898012683355E-2,1.0092282991425703E-2,5.3453483990897003E-3,4.6928301334218528E-3]
[6265000,525000,25.890625029802301,null,140.84392070657503,0,5.0410823002055259E-5,6.1153552999328618E-3,null,null,6.2229999999999999,5.9939999999999998,4.8959999999999999,3.577,1.8220000000000001,1.0960000000000001,0.47347562599301274,0.27492921957582173,0.16459593807876066,9.810015665322519E-2,5.8882906406700478E-2,null,null,0.49102953068018224,0.37967091013139259,0.2954657340538831,0.22457292802116643,0.16475436261295176,0.11394735626595291,3.9111516370435633E-2,2.511836453009331E-2,9.8989282783179377E-3,5.2378845786550292E-3,4.6535231303308248E-3]
[6265000,535000,26.044827461242701,null,136.52475965919149,0,5.3650918154987853E-5,6.5471759917413155E-3,null,null,6.2229999999999999,5.9939999999999998,4.8959999999999999,3.577,1.8220000000000001,1.0960000000000001,0.47861365100860687,0.27920216895103522,0.16759054929733325,0.10018651555061375,5.9693702791214123E-2,null,null,0.49102953068018224,0.37967091013139259,0.2954657340538831,0.22457292802116643,0.16475436261295176,0.11394735626595291,3.8831018456190254E-2,2.4932160364422553E-2,9.7436625864077871E-3,5.1520210242282857E-3,4.6235974284857036E-3]
[6265000,545000,25.932075464500599,null,132.81946393507241,0,5.6686096771103249E-5,6.8876203797289043E-3,null,null,6.2229999999999999,5.9939999999999998,4.8959999999999999,3.577,1.8220000000000001,1.0960000000000001,0.47485675447716003,0.27607781112131158,0.16540090552060166,9.8660981034693118E-2,5.910085279234413E-2,null,null,0.49102953068018224,0.37967091013139259,0.2954657340538831,0.22457292802116643,0.16475436261295176,0.11394735626595291,3.9026502424083495E-2,2.5062327327917543E-2,9.8528109816041886E-3,5.2123226901995296E-3,4.6444348703606059E-3]
[6265000,555000,25.840350770113801,null,129.78062259058555,0,5.937181062054821E-5,7.188430363928645E-3,null,null,6.2229999999999999,5.9939999999999998,4.8959999999999999,3.577,1.8220000000000001,1.0960000000000001,0.47180048766019189,0.27353611983985338,0.16361961195560998,9.7419945919639761E-2,5.861856434925837E-2,null,null,0.49102953068018224,0.37967091013139259,0.2954657340538831,0.22457292802116643,0.16475436261295176,0.11394735626595291,3.9224016137263853E-2,2.5192172709367643E-2,9.959089438924186E-3,5.2712792718510792E-3,4.6655666538795888E-3]
[6265000,565000,25.506249964237199,null,127.45591394674474,0,6.1557364384509457E-5,7.3566822817700619E-3,null,null,6.2229999999999999,5.9939999999999998,4.8959999999999999,3.577,1.8220000000000001,1.0960000000000001,0.46066824880838353,0.26427818650901269,0.1571313743054864,9.2899562016129311E-2,5.686186231195918E-2,null,null,0.49102953068018224,0.37967091013139259,0.2954657340538831,0.22457292802116643,0.16475436261295176,0.11394735626595291,4.0226074104044718E-2,2.584092696250399E-2,1.0470229232388283E-2,5.5560229714461109E-3,4.7733349372523232E-3]
[6265000,575000,25.757575815374199,null,125.88490775307419,0,6.3103386695660582E-5,7.6157560929755088E-3,null,null,6.2229999999999999,5.9939999999999998,4.8959999999999999,3.577,1.8220000000000001,1.0960000000000001,0.46904242616826841,0.27124242584401903,0.16201212233456691,9.6300000782012951E-2,5.818333363723753E-2,null,null,0.49102953068018224,0.37967091013139259,0.2954657340538831,0.22457292802116643,0.16475436261295176,0.11394735626595291,3.9431438873850096E-2,2.5327503941078629E-2,1.006802429315712E-2,5.3318473722970203E-3,4.6878111913384642E-3]
[6265000,585000,25.959322008036001,null,125.09600313359336,0,6.3901805928937366E-5,7.7725200192889496E-3,null,null,6.2229999999999999,{"$f":"L$2+L$3*$C484","v":5.9939999999999998},4.8959999999999999,3.577,1.8220000000000001,1.0960000000000001,0.47576460930775966,0.27683281284267758,0.16593003339605911,9.9029626768727119E-2,5.9244115118253296E-2,null,null,0.49102953068018224,{"$f":"SQRT(Y$2+2*Y$3*$C484+Y$4*$C484^2+Y$5)","v":0.37967091013139259},0.2954657340538831,0.22457292802116643,0.16475436261295176,0.11394735626595291,3.8974455194610881E-2,2.5027879137867578E-2,9.8242356697747796E-3,5.1965045897287322E-3,4.6388775105275894E-3]
[6265000,595000,26.210526248865001,null,125.10399673871335,0,6.3893640090958989E-5,7.8467306219515282E-3,null,null,6.2229999999999999,5.9939999999999998,4.8959999999999999,3.577,1.8220000000000001,1.0960000000000001,0.48413473461218193,0.28379368235604918,0.1708084197529583,0.10242842014714348,6.0564947016532159E-2,null,null,0.49102953068018224,0.37967091013139259,0.2954657340538831,0.22457292802116643,0.16475436261295176,0.11394735626595291,3.8639917410087515E-2,2.4800768501292741E-2,9.6278178231881898E-3,5.0886713761531055E-3,4.6034047434346023E-3]
[6265000,605000,26.8344260981826,null,125.90873678978755,0,6.3079503513843735E-5,7.9311460937561296E-3,null,null,6.2229999999999999,5.9939999999999998,4.8959999999999999,3.577,1.8220000000000001,1.0960000000000001,0.50492307759144428,0.30108194718063985,0.18292455482670605,0.11086978510841061,6.3845412424244116E-2,null,null,0.49102953068018224,0.37967091013139259,0.2954657340538831,0.22457292802116643,0.16475436261295176,0.11394735626595291,3.8962051319366434E-2,2.4956265268307375E-2,9.6874491380563223E-3,5.1314520397588098E-3,4.640121438118457E-3]
[6265000,615000,27.450000171003701,null,127.49513716216786,0,6.1519494605047936E-5,7.912440956083646E-3,null,null,6.2229999999999999,5.9939999999999998,4.8959999999999999,3.577,1.8220000000000001,1.0960000000000001,0.52543400569784338,0.31813950473851249,0.19487900332089186,0.11919850231368012,6.7082100899137451E-2,null,null,0.49102953068018224,0.37967091013139259,0.2954657340538831,0.22457292802116643,0.16475436261295176,0.11394735626595291,4.0838215054579623E-2,2.6087145262487538E-2,1.048111308489303E-2,5.5878096759201957E-3,4.8453878341479881E-3]
[6275000,445000,25.7560975144549,null,198.04294988713937,0,2.5496538717386426E-5,3.0769232203118778E-3,null,null,6.2229999999999999,5.9939999999999998,4.8959999999999999,3.577,1.8220000000000001,1.0960000000000001,0.46899316918163736,0.2712014621255453,0.16198341373071418,9.6279999370574854E-2,5.817556073100387E-2,null,null,0.49102953068018224,0.37967091013139259,0.2954657340538831,0.22457292802116643,0.16475436261295176,0.11394735626595291,3.9435392207303986E-2,2.5330075693171646E-2,1.0070079611698713E-2,5.3329910893888709E-3,4.6882355713631267E-3]
[6275000,455000,26.117777718437999,null,190.84813334167038,0,2.745517188173081E-5,3.3598180590499434E-3,null,null,6.2229999999999999,5.9939999999999998,4.8959999999999999,3.577,1.8220000000000001,1.0960000000000001,0.48104435357835418,0.28122362057791694,0.1690072432920659,0.10117353253046618,6.0077275243546988E-2,null,null,0.49102953068018224,0.37967091013139259,0.2954657340538831,0.22457292802116643,0.16475436261295176,0.11394735626595291,3.8732687966359293E-2,2.4865469273076982E-2,9.6860267376438196E-3,5.12036633644919E-3,4.6131690352965134E-3]
[6275000,465000,26.0934066353263,null,183.9157687638556,0,2.9563923262698222E-5,3.6144999278056051E-3,null,null,6.2229999999999999,5.9939999999999998,4.8959999999999999,3.577,1.8220000000000001,1.0960000000000001,0.48023230908907233,0.28054829786489177,0.16853395685803668,0.10084379177596486,5.9949132088545673E-2,null,null,0.49102953068018224,0.37967091013139259,0.2954657340538831,0.22457292802116643,0.16475436261295176,0.11394735626595291,3.8763062883200937E-2,2.4886207629595584E-2,9.7041308449785351E-3,5.1302886950118747E-3,4.6163846092162663E-3]
[6275000,475000,26.5807228547981,null,177.27664820838643,0,3.1819762681845963E-5,3.9629545842975863E-3,null,null,6.2229999999999999,5.9939999999999998,4.8959999999999999,3.577,1.8220000000000001,1.0960000000000001,0.49646968552187276,0.29405183030645532,0.17799763784017913,0.10743718022541832,6.2511440770528406E-2,null,null,0.49102953068018224,0.37967091013139259,0.2954657340538831,0.22457292802116643,0.16475436261295176,0.11394735626595291,3.8632662853303253E-2,2.476899509766228E-2,9.5680615332184998E-3,5.0601334166711608E-3,4.6037227597496688E-3]
[6275000,485000,26.285714340209999,null,170.96493792587998,0,3.4212585373230232E-5,4.213675138868409E-3,null,null,6.2229999999999999,5.9939999999999998,4.8959999999999999,3.577,1.8220000000000001,1.0960000000000001,0.48664000181579725,0.285877144367219,0.17226857248687816,0.10344571502304134,6.0960286000824163E-2,null,null,0.49102953068018224,0.37967091013139259,0.2954657340538831,0.22457292802116643,0.16475436261295176,0.11394735626595291,3.8591370479747179E-2,2.4764935691377041E-2,9.5932054827571941E-3,5.0701165193699016E-3,4.598375930652967E-3]
[6275000,495000,25.119277172777998,null,165.01821111622803,0,3.6722839145518282E-5,4.3221393037329199E-3,null,null,6.2229999999999999,5.9939999999999998,4.8959999999999999,3.577,1.8220000000000001,1.0960000000000001,0.447774315396963,0.25355517045767828,0.14961636269534873,8.7663820147686367E-2,5.4827159374466708E-2,null,null,0.49102953068018224,0.37967091013139259,0.2954657340538831,0.22457292802116643,0.16475436261295176,0.11394735626595291,4.1905651053260662E-2,2.6915042922855927E-2,1.1276473192083362E-2,6.0059580122079192E-3,4.9550498681844909E-3]
[6275000,505000,25.5466665649414,null,159.47730246025608,0,3.9318979546660024E-5,4.7064326624351926E-3,null,null,{"$f":"K$2+K$3*$C494","v":6.2229999999999999},{"$f":"L$2+L$3*$C494","v":5.9939999999999998},4.8959999999999999,3.577,1.8220000000000001,1.0960000000000001,0.46201492994384752,0.26539813051452621,0.15791626469116199,9.3446398623657168E-2,5.7074372798461878E-2,null,null,{"$f":"SQRT(X$2+2*X$3*$C494+X$4*$C494^2+X$5)","v":0.49102953068018224},{"$f":"SQRT(Y$2+2*Y$3*$C494+Y$4*$C494^2+Y$5)","v":0.37967091013139259},0.2954657340538831,0.22457292802116643,0.16475436261295176,0.11394735626595291,4.0081924017036107E-2,2.5748187306093916E-2,1.0398612819526783E-2,5.5160715832497202E-3,4.7577927664621145E-3]
[6275000,515000,25.149999946355798,null,154.38591256976787,0,4.1955090432099655E-5,4.9439949875357964E-3,null,null,6.2229999999999999,5.9939999999999998,4.8959999999999999,3.577,1.8220000000000001,1.0960000000000001,0.44879799821257527,0.25440649851351915,0.15021299895822959,8.8079499274194006E-2,5.498869971793878E-2,null,null,0.49102953068018224,0.37967091013139259,0.2954657340538831,0.22457292802116643,0.16475436261295176,0.11394735626595291,4.1753296540333378E-2,2.6817944253834235E-2,1.1205067057848675E-2,5.9661156394453579E-3,4.9385263775704709E-3]
[6275000,525000,25.279104403595401,null,149.78988617393367,0,4.4569218447556057E-5,5.2790050059127076E-3,null,null,6.2229999999999999,5.9939999999999998,4.8959999999999999,3.577,1.8220000000000001,1.0960000000000001,0.45309975872779884,0.25798398302362857,0.15272020751782267,8.9826282580645789E-2,5.5667530954104608E-2,null,null,0.49102953068018224,0.37967091013139259,0.2954657340538831,0.22457292802116643,0.16475436261295176,0.11394735626595291,4.1148010508314202E-2,2.643164791073466E-2,1.0918321919079828E-2,5.8060928187437929E-3,4.8729535413680677E-3]
[6275000,535000,26.065384571368899,null,145.7360971070654,0,4.708317383908196E-5,5.7502303071003706E-3,null,null,6.2229999999999999,5.9939999999999998,4.8959999999999999,3.577,1.8220000000000001,1.0960000000000001,0.47929861391801176,0.27977180647263211,0.16798976837598406,0.10046465325062121,5.9801792076257673E-2,null,null,0.49102953068018224,0.37967091013139259,0.2954657340538831,0.22457292802116643,0.16475436261295176,0.11394735626595291,3.8801059779838075E-2,2.4911966003764684E-2,9.7263765225906462E-3,5.1425084073028326E-3,4.6204148567691936E-3]
[6275000,545000,25.371698199578098,null,142.2709035607773,0,4.9404649273924586E-5,5.8731721277218854E-3,null,null,6.2229999999999999,5.9939999999999998,4.8959999999999999,3.577,1.8220000000000001,1.0960000000000001,0.45618498400994234,0.26054975711030903,0.15451837903580667,9.107907664029169E-2,5.6154389133381624E-2,null,null,0.49102953068018224,0.37967091013139259,0.2954657340538831,0.22457292802116643,0.16475436261295176,0.11394735626595291,4.0749661064797764E-2,2.6176836366139655E-2,1.0726606321868662E-2,5.699091289468057E-3,4.8298683974774608E-3]
[6275000,555000,26.5619999313355,null,139.43819419370004,0,5.1432365667661527E-5,6.401070986828101E-3,null,null,6.2229999999999999,5.9939999999999998,4.8959999999999999,3.577,1.8220000000000001,1.0960000000000001,0.49584583771209889,0.2935330180973067,0.17763403866653543,0.10718385907096933,6.2412995638962035E-2,null,null,0.49102953068018224,0.37967091013139259,0.2954657340538831,0.22457292802116643,0.16475436261295176,0.11394735626595291,3.8619068191233841E-2,2.4761881135974835E-2,9.564390170180976E-3,5.0577789536662924E-3,4.6021962499635779E-3]
[6275000,565000,27.077272646354899,null,137.27712846647108,0,5.3064445176733773E-5,6.7323070851480734E-3,null,null,6.2229999999999999,5.9939999999999998,4.8959999999999999,3.577,1.8220000000000001,1.0960000000000001,0.51301472457654529,0.30781122503049418,0.1876406347922121,0.11415549890518184,6.512229957453404E-2,null,null,0.49102953068018224,0.37967091013139259,0.2954657340538831,0.22457292802116643,0.16475436261295176,0.11394735626595291,3.9525567159936097E-2,2.5291207483102107E-2,9.9195450672074637E-3,5.2661644616755357E-3,4.7018708376243348E-3]
[6275000,575000,28.068181702584901,null,135.81977028400541,0,5.4209327148410496E-5,7.1292471043976711E-3,null,null,6.2229999999999999,5.9939999999999998,4.8959999999999999,3.577,1.8220000000000001,1.0960000000000001,0.54603181433012904,0.33526931497862755,0.20688408866419877,0.12756249843597373,7.0332499392191397E-2,null,null,0.49102953068018224,0.37967091013139259,0.2954657340538831,0.22457292802116643,0.16475436261295176,0.11394735626595291,4.4080794163332701E-2,2.8081629110405591E-2,1.1865636284383127E-2,6.3714057198084135E-3,5.2004461534004183E-3]
[6275000,585000,28.7035713876997,null,135.08889665697916,0,5.4797493124284568E-5,7.3697371576057031E-3,null,null,6.2229999999999999,5.9939999999999998,4.8959999999999999,3.577,1.8220000000000001,1.0960000000000001,0.56720299863815404,0.35287596315315861,0.21922335634912821,0.13615932087557697,7.3673378356525002E-2,null,null,0.49102953068018224,0.37967091013139259,0.2954657340538831,0.22457292802116643,0.16475436261295176,0.11394735626595291,4.854570441187013E-2,3.0853115207673618E-2,1.3715614487178339E-2,7.4083225831087412E-3,5.6915555351514076E-3]
[6285000,455000,25.552380970546199,null,198.04799923250928,0,2.5495238636708405E-5,3.0524307996845218E-3,null,null,6.2229999999999999,5.9939999999999998,4.8959999999999999,3.577,1.8220000000000001,1.0960000000000001,0.46220533393859942,0.26555647669383509,0.1580272384480072,9.352371453149011E-2,5.7104419143131899E-2,null,null,0.49102953068018224,0.37967091013139259,0.2954657340538831,0.22457292802116643,0.16475436261295176,0.11394735626595291,4.0062040373045942E-2,2.5735384337168678E-2,1.0388694591253887E-2,5.5105394122489581E-3,4.7556497612801863E-3]
[6285000,465000,25.6666667801993,null,191.3766182165418,0,2.7303746811263667E-5,3.2835761475044998E-3,null,null,6.2229999999999999,{"$f":"L$2+L$3*$C504","v":5.9939999999999998},4.8959999999999999,3.577,1.8220000000000001,1.0960000000000001,0.46601333711624071,0.26872333647932256,0.16024666887147038,9.5070001536096571E-2,5.7705333930287914E-2,null,null,0.49102953068018224,{"$f":"SQRT(Y$2+2*Y$3*$C504+Y$4*$C504^2+Y$5)","v":0.37967091013139259},0.2954657340538831,0.22457292802116643,0.16475436261295176,0.11394735626595291,3.969060867691053E-2,2.5495642106609213E-2,1.0201415848356462E-2,5.4061281122225443E-3,4.7156594550069354E-3]
[6285000,475000,25.869791686534899,null,185.00543235267446,0,2.9216691729718714E-5,3.5414355427674364E-3,null,null,6.2229999999999999,5.9939999999999998,4.8959999999999999,3.577,1.8220000000000001,1.0960000000000001,0.47278145899534296,0.27435192763388205,0.16419135455250772,9.7818281518817218E-2,5.8773364687800492E-2,null,null,0.49102953068018224,0.37967091013139259,0.2954657340538831,0.22457292802116643,0.16475436261295176,0.11394735626595291,3.9156891154801421E-2,2.514817589345442E-2,9.9233006312812993E-3,5.2514075104717461E-3,4.6583785664703102E-3]
[6285000,485000,25.521977980058299,null,178.96650524609348,0,3.1221695581599302E-5,3.7335862318414528E-3,null,null,6.2229999999999999,5.9939999999999998,4.8959999999999999,3.577,1.8220000000000001,1.0960000000000001,0.46119230629554264,0.26471400982741544,0.15743681237273216,9.3112362070188803E-2,5.6944560219146526E-2,null,null,0.49102953068018224,0.37967091013139259,0.2954657340538831,0.22457292802116643,0.16475436261295176,0.11394735626595291,4.016924777694051E-2,2.5804383235313335E-2,1.0442055892592037E-2,5.5403053720170731E-3,4.767206709919986E-3]
[6285000,495000,25.4204818771546,null,173.29457579508946,0,3.3298913356560426E-5,3.9661507018909766E-3,null,null,6.2229999999999999,5.9939999999999998,4.8959999999999999,3.577,1.8220000000000001,1.0960000000000001,0.45781045614679139,0.26190155281595395,0.15546575805434232,9.173911979790178E-2,5.6410893710078888E-2,null,null,0.49102953068018224,0.37967091013139259,0.2954657340538831,0.22457292802116643,0.16475436261295176,0.11394735626595291,4.0552153572451198E-2,2.6050276330115522E-2,1.0630532521436708E-2,5.6454726979554126E-3,4.8085289567193767E-3]
[6285000,505000,25.186842115301801,null,168.02681333644341,0,3.5419531959220787E-5,4.1799579188943779E-3,null,null,6.2229999999999999,5.9939999999999998,4.8959999999999999,3.577,1.8220000000000001,1.0960000000000001,0.45002557928185605,0.25542739501501288,0.15092847387916097,8.8577973820033407E-2,5.5182415842256846E-2,null,null,0.49102953068018224,0.37967091013139259,0.2954657340538831,0.22457292802116643,0.16475436261295176,0.11394735626595291,4.1574766555581864E-2,2.670409974720412E-2,1.1121014962824817E-2,5.9192130852276596E-3,4.9191731744538947E-3]
[6285000,515000,25.299999948757801,null,163.20235905157742,0,3.7544570097777334E-5,4.4506457499349315E-3,null,null,6.2229999999999999,5.9939999999999998,4.8959999999999999,3.577,1.8220000000000001,1.0960000000000001,0.45379599829260997,0.25856299858007858,0.1531259990048765,9.0108999306693083E-2,5.5777399730568514E-2,null,null,0.49102953068018224,0.37967091013139259,0.2954657340538831,0.22457292802116643,0.16475436261295176,0.11394735626595291,4.105546271181254E-2,2.6372495285609195E-2,1.0874010407720071E-2,5.7813614915955555E-3,4.8629384364653238E-3]
[6285000,525000,26.1160715648106,null,158.86160643780485,0,3.9624345356284286E-5,4.8487000873176211E-3,null,null,6.2229999999999999,5.9939999999999998,4.8959999999999999,3.577,1.8220000000000001,1.0960000000000001,0.48098750453948924,0.28117634306090167,0.16897410978862187,0.10115044827188746,6.0068304287774113E-2,null,null,0.49102953068018224,0.37967091013139259,0.2954657340538831,0.22457292802116643,0.16475436261295176,0.11394735626595291,3.8734733394898545E-2,2.4866870627064757E-2,9.687256358365889E-3,5.1210395277515586E-3,4.6133853662133888E-3]
[6285000,535000,26.064583222071299,null,155.04518696173704,0,4.1599050876055219E-5,5.0803025697649653E-3,null,null,6.2229999999999999,5.9939999999999998,4.8959999999999999,3.577,1.8220000000000001,1.0960000000000001,0.47927191295941574,0.2797496010835957,0.16797420617262465,0.10045381099462469,5.979757858165087E-2,null,null,0.49102953068018224,0.37967091013139259,0.2954657340538831,0.22457292802116643,0.16475436261295176,0.11394735626595291,3.8802194615085349E-2,2.4912732659867126E-2,9.7270350761417806E-3,5.1428705561797497E-3,4.620535339739335E-3]
[6285000,545000,24.8166666737309,null,151.79265463124361,0,4.3400875222049726E-5,5.0465816806822481E-3,null,null,6.2229999999999999,5.9939999999999998,4.8959999999999999,3.577,1.8220000000000001,1.0960000000000001,0.4376913335687137,0.24516983352908317,0.14373966680385408,8.3569500095579119E-2,5.3236033370477068E-2,null,null,0.49102953068018224,0.37967091013139259,0.2954657340538831,0.22457292802116643,0.16475436261295176,0.11394735626595291,4.3567864963113573E-2,2.7971978263073412E-2,1.2038967844692897E-2,6.4311344582130186E-3,5.1357427470648809E-3]
[6285000,555000,25.963636340516999,null,149.14090652802136,0,4.4957944091199874E-5,5.4692444181493839E-3,null,null,6.2229999999999999,5.9939999999999998,4.8959999999999999,3.577,1.8220000000000001,1.0960000000000001,0.47590836286602645,0.27695236299572601,0.16601381773284013,9.9087999687195005E-2,5.9266799878438373E-2,null,null,0.49102953068018224,0.37967091013139259,0.2954657340538831,0.22457292802116643,0.16475436261295176,0.11394735626595291,3.896649380778943E-2,2.5022598739752756E-2,9.8198384359022579E-3,5.1940720950183171E-3,4.6380279411102256E-3]
[6285000,565000,27.6640626192093,null,147.12243200817474,0,4.6200024855613375E-5,5.9884377576730546E-3,null,null,6.2229999999999999,{"$f":"L$2+L$3*$C514","v":5.9939999999999998},4.8959999999999999,3.577,1.8220000000000001,1.0960000000000001,0.53256656647205391,0.32407117517828965,0.19903609606504463,0.12209476723790186,6.8207641251802495E-2,null,null,0.49102953068018224,{"$f":"SQRT(Y$2+2*Y$3*$C514+Y$4*$C514^2+Y$5)","v":0.37967091013139259},0.2954657340538831,0.22457292802116643,0.16475436261295176,0.11394735626595291,4.1820224719939098E-2,2.6688412929642084E-2,1.0903274969517507E-2,5.8277726175198098E-3,4.9527888507595735E-3]
[6285000,575000,27.762318873750999,null,145.76354139495928,0,4.7065445914507485E-5,6.1222814045443054E-3,null,null,6.2229999999999999,5.9939999999999998,4.8959999999999999,3.577,1.8220000000000001,1.0960000000000001,0.53584046487338333,0.32679385599164013,0.20094423252824439,0.12342417436185105,6.8724272638182746E-2,null,null,0.49102953068018224,0.37967091013139259,0.2954657340538831,0.22457292802116643,0.16475436261295176,0.11394735626595291,4.2322796555501169E-2,2.69972468263735E-2,1.1118600142517806E-2,5.9497645469599268E-3,5.0077928054663243E-3]
[6285000,585000,27.9864405615855,null,145.08276948004541,0,4.7508172593390378E-5,6.2297606877569139E-3,null,null,6.2229999999999999,5.9939999999999998,4.8959999999999999,3.577,1.8220000000000001,1.0960000000000001,0.54330819951202891,0.33300426796153415,0.20529667570599036,0.12645654079825186,6.990270447281656E-2,null,null,0.49102953068018224,0.37967091013139259,0.2954657340538831,0.22457292802116643,0.16475436261295176,0.11394735626595291,4.3583478118230407E-2,2.77743299147475E-2,1.1655368307362839E-2,6.2529457354988018E-3,5.14590585074951E-3]
[6285000,655000,28.6378378481478,null,158.94341760513393,0,3.9583565062120471E-5,5.3114182748410371E-3,null,null,6.2229999999999999,5.9939999999999998,4.8959999999999999,3.577,1.8220000000000001,1.0960000000000001,0.56501275710028476,0.35105448677217554,0.21794681101103025,0.13526994608543974,7.3327751405561123E-2,null,null,0.49102953068018224,0.37967091013139259,0.2954657340538831,0.22457292802116643,0.16475436261295176,0.11394735626595291,4.803917954777677E-2,3.0537822267157327E-2,1.3508972469178874E-2,7.2928830351872255E-3,5.6357155844583406E-3]
[6285000,665000,28.638028185132502,null,163.29424362175172,0,3.7502329832240826E-5,5.0321865551245723E-3,null,null,6.2229999999999999,5.9939999999999998,4.8959999999999999,3.577,1.8220000000000001,1.0960000000000001,0.56501909912861503,0.35105976101002156,0.21795050735527316,0.1352725213448428,7.3328752197426697E-2,null,null,0.49102953068018224,0.37967091013139259,0.2954657340538831,0.22457292802116643,0.16475436261295176,0.11394735626595291,4.8040632661850109E-2,3.0538726514298786E-2,1.3509566382478192E-2,7.293214937972769E-3,5.6358757337945211E-3]
[6295000,455000,25.093617013160198,null,205.48238367315091,0,2.3683768637053589E-5,2.7846424989922663E-3,null,null,6.2229999999999999,5.9939999999999998,4.8959999999999999,3.577,1.8220000000000001,1.0960000000000001,0.4469193188784979,0.25284412743466911,0.14911804239557103,8.7316638188057516E-2,5.4692238255196327E-2,null,null,0.49102953068018224,0.37967091013139259,0.2954657340538831,0.22457292802116643,0.16475436261295176,0.11394735626595291,4.2035297481403035E-2,2.6997632788112399E-2,1.1337011728507805E-2,6.0397337911141068E-3,4.9691160613528212E-3]
[6295000,465000,24.9481926194157,null,199.06031749196021,0,2.5236586691082225E-5,2.9500207818110775E-3,null,null,6.2229999999999999,5.9939999999999998,4.8959999999999999,3.577,1.8220000000000001,1.0960000000000001,0.44207377807893122,0.24881441748400901,0.1462939006690529,8.534904614069444E-2,5.3927596792887736E-2,null,null,0.49102953068018224,0.37967091013139259,0.2954657340538831,0.22457292802116643,0.16475436261295176,0.11394735626595291,4.2810273253691515E-2,2.7490727323353888E-2,1.1694923498461667E-2,6.2393586929561868E-3,5.0532976137900856E-3]
[6295000,475000,25.116304356118899,null,{"$f":"(SQRT(($A521-E$1)^2+($B521-E$2)^2)/1000)","v":192.94302267768069},{"$f":"IF(E521=0,1,0)","v":0},{"$f":"IF($F$618=0,1/E521^2,F521)","v":2.686221643908549E-5},{"$f":"G521/$G$618*C521","v":3.1612071312518406E-3},null,null,6.2229999999999999,5.9939999999999998,4.8959999999999999,3.577,1.8220000000000001,1.0960000000000001,0.44767526114588174,0.25347279370805464,0.14955863059582902,8.7623597938288722E-2,5.4811528304473153E-2,null,null,0.49102953068018224,0.37967091013139259,0.2954657340538831,0.22457292802116643,0.16475436261295176,0.11394735626595291,4.1920559719598904E-2,2.6924541988606089E-2,1.1283445172887249E-2,6.0098479695895957E-3,4.9566671530809295E-3]
[6295000,485000,25.8279069412586,null,187.16038576579177,0,2.8547766551209989E-5,3.454750762880137E-3,null,null,6.2229999999999999,5.9939999999999998,4.8959999999999999,3.577,1.8220000000000001,1.0960000000000001,0.47138585928273669,0.27319130134227576,0.163377952799242,9.7251580915228897E-2,5.8553134697137701E-2,null,null,0.49102953068018224,0.37967091013139259,0.2954657340538831,0.22457292802116643,0.16475436261295176,0.11394735626595291,3.925344157047856E-2,2.5211424427651317E-2,9.9746869471972737E-3,5.2799445564949959E-3,4.6687194713151692E-3]
[6295000,495000,25.866233800912799,null,181.74435341985179,0,3.0274581370657458E-5,3.6691605641326285E-3,null,null,6.2229999999999999,5.9939999999999998,4.8959999999999999,3.577,1.8220000000000001,1.0960000000000001,0.47266291024641449,0.2742533386232936,0.16412226041372652,9.7770143326350201E-2,5.875465732519948E-2,null,null,0.49102953068018224,0.37967091013139259,0.2954657340538831,0.22457292802116643,0.16475436261295176,0.11394735626595291,3.9164816518498229E-2,2.5153376748208139E-2,9.9275421074651142E-3,5.2537617378204393E-3,4.6592269424302023E-3]
[6295000,505000,25.231999918619799,null,176.72863378637882,0,3.2017407223959525E-5,3.7852381289301203E-3,null,null,6.2229999999999999,{"$f":"L$2+L$3*$C524","v":5.9939999999999998},4.8959999999999999,3.577,1.8220000000000001,1.0960000000000001,0.4515302372884118,0.25667871774495454,0.15180543841959648,8.9188958898925919E-2,5.5419855572102897E-2,null,null,0.49102953068018224,{"$f":"SQRT(Y$2+2*Y$3*$C524+Y$4*$C524^2+Y$5)","v":0.37967091013139259},0.2954657340538831,0.22457292802116643,0.16475436261295176,0.11394735626595291,4.1362226545056564E-2,2.6568469251724111E-2,1.1020391721867844E-2,5.8630586109004778E-3,4.8961464961274782E-3]
[6295000,515000,25.577941193300099,null,172.14822101898119,0,3.3743872534546132E-5,4.0440440562274811E-3,null,null,6.2229999999999999,5.9939999999999998,4.8959999999999999,3.577,1.8220000000000001,1.0960000000000001,0.46305700056075938,0.26626475046634568,0.15852361797388792,9.3869544345350386E-2,5.7238814794371914E-2,null,null,0.49102953068018224,0.37967091013139259,0.2954657340538831,0.22457292802116643,0.16475436261295176,0.11394735626595291,3.9974619678374956E-2,2.567906108409081E-2,1.0344967552961305E-2,5.4861519541951603E-3,4.7462303176181398E-3]
[6295000,525000,26.789655290801001,null,168.03871577704942,0,3.5414514497108583E-5,4.4453277805732126E-3,null,null,6.2229999999999999,5.9939999999999998,4.8959999999999999,3.577,1.8220000000000001,1.0960000000000001,0.5034313142894894,0.29984134810809571,0.18205510574735545,0.11026403608453755,6.3610007519031661E-2,null,null,0.49102953068018224,0.37967091013139259,0.2954657340538831,0.22457292802116643,0.16475436261295176,0.11394735626595291,3.8884418071235584E-2,2.4910997366759891E-2,9.6570533956399935E-3,5.1135945785163086E-3,4.6315857243209978E-3]
[6295000,535000,25.8981132867201,null,164.43542805612176,0,3.6983602580124051E-5,4.487791913240332E-3,null,null,6.2229999999999999,5.9939999999999998,4.8959999999999999,3.577,1.8220000000000001,1.0960000000000001,0.47372513471351385,0.27513671917501392,0.1647413600281043,9.8201472769323006E-2,5.8922279661574276E-2,null,null,0.49102953068018224,0.37967091013139259,0.2954657340538831,0.22457292802116643,0.16475436261295176,0.11394735626595291,3.9095638716822895E-2,2.510791786519033E-2,9.8903622641747409E-3,5.2331338699211239E-3,4.6518248395171335E-3]
[6295000,545000,25.494444317287901,null,161.37227147189816,0,3.8400968318817136E-5,4.5871516484211677E-3,null,null,6.2229999999999999,5.9939999999999998,4.8959999999999999,3.577,1.8220000000000001,1.0960000000000001,0.46027488465203292,0.26395105203204772,0.15690210864173104,9.2739831612905332E-2,5.6799788220299782E-2,null,null,0.49102953068018224,0.37967091013139259,0.2954657340538831,0.22457292802116643,0.16475436261295176,0.11394735626595291,4.0269337477066888E-2,2.5868735691289238E-2,1.0491628713914633E-2,5.5679622927602883E-3,4.778001573109634E-3]
[6295000,555000,26.333333427523399,null,158.88048967698961,0,3.9614927062977035E-5,4.8878747705317464E-3,null,null,6.2229999999999999,5.9939999999999998,4.8959999999999999,3.577,1.8220000000000001,1.0960000000000001,0.48822666980507978,0.28719666927667331,0.1731933351625044,0.10409000127439161,6.1210667161918017E-2,null,null,0.49102953068018224,0.37967091013139259,0.2954657340538831,0.22457292802116643,0.16475436261295176,0.11394735626595291,3.8573018752903802E-2,2.474997191796436E-2,9.5771719051956535E-3,5.0617080858737472E-3,4.5965325069079041E-3]
[6295000,565000,27.141095827703602,null,156.98729247935961,0,4.0576165317035783E-5,5.160048117899255E-3,null,null,6.2229999999999999,5.9939999999999998,4.8959999999999999,3.577,1.8220000000000001,1.0960000000000001,0.51514131297908405,0.30957976538566678,0.18888008097400394,0.11501902654882978,6.5457881862065539E-2,null,null,0.49102953068018224,0.37967091013139259,0.2954657340538831,0.22457292802116643,0.16475436261295176,0.11394735626595291,3.9712748158102849E-2,2.5403804026177479E-2,9.9987413302926945E-3,5.311782049354211E-3,4.7223461524385042E-3]
[6295000,575000,27.609677376285699,null,155.71451441660795,0,4.1242198522621955E-5,5.3352959159993609E-3,null,null,6.2229999999999999,5.9939999999999998,4.8959999999999999,3.577,1.8220000000000001,1.0960000000000001,0.53075445017783962,0.32256416009687672,0.19797993464746827,0.12135893490114552,6.7921683644510192E-2,null,null,0.49102953068018224,0.37967091013139259,0.2954657340538831,0.22457292802116643,0.16475436261295176,0.11394735626595291,4.1555809077008621E-2,2.6526200310092399E-2,1.0789743225178717E-2,5.7633504882161095E-3,4.923861216485431E-3]
[6295000,665000,28.6542858123779,null,172.2353331926989,0,3.3709747611748643E-5,4.525853179441576E-3,null,null,6.2229999999999999,5.9939999999999998,4.8959999999999999,3.577,1.8220000000000001,1.0960000000000001,0.56556080326843172,0.3515102598609916,0.21826623047637878,0.13549248704147304,7.3414234801483E-2,null,null,0.49102953068018224,0.37967091013139259,0.2954657340538831,0.22457292802116643,0.16475436261295176,0.11394735626595291,4.8165043533669669E-2,3.0616150888113224E-2,1.356039163564045E-2,7.3216156318561378E-3,5.6495881358221761E-3]
[6305000,455000,24.318279532976,null,213.12674632715624,0,2.201527375662687E-5,2.5084896199004895E-3,null,null,6.2229999999999999,5.9939999999999998,4.8959999999999999,3.577,1.8220000000000001,1.0960000000000001,0.42108507403876039,0.23135952585876496,0.13406098853039389,7.6826322081165299E-2,5.0615513784387792E-2,null,null,0.49102953068018224,0.37967091013139259,0.2954657340538831,0.22457292802116643,0.16475436261295176,0.11394735626595291,4.687836428983664E-2,3.0069635050482671E-2,1.3490617626022126E-2,7.2389437327977958E-3,5.4974844317144831E-3]
[6305000,465000,24.361290449737201,null,206.94204502710414,0,2.3350841015565435E-5,2.6653741931506477E-3,null,null,6.2229999999999999,{"$f":"L$2+L$3*$C534","v":5.9939999999999998},4.8959999999999999,3.577,1.8220000000000001,1.0960000000000001,0.42251819778524358,0.23255135836221774,0.13489626053389642,7.7408259784944367E-2,5.0841665184718207E-2,null,null,0.49102953068018224,{"$f":"SQRT(Y$2+2*Y$3*$C534+Y$4*$C534^2+Y$5)","v":0.37967091013139259},0.2954657340538831,0.22457292802116643,0.16475436261295176,0.11394735626595291,4.6567485120795796E-2,2.9872896594175594E-2,1.3357273018410561E-2,7.1648313562900729E-3,5.4634235940265678E-3]
[6305000,475000,25.001041670640301,null,201.06469108224846,0,2.4735937681268043E-5,2.897622824041041E-3,null,null,6.2229999999999999,5.9939999999999998,4.8959999999999999,3.577,1.8220000000000001,1.0960000000000001,0.44383470846573492,0.25027886469344274,0.14732022924383464,8.6064093803763286E-2,5.4205477104226699E-2,null,null,0.49102953068018224,0.37967091013139259,0.2954657340538831,0.22457292802116643,0.16475436261295176,0.11394735626595291,4.2520842548335436E-2,2.7306679732078218E-2,1.1562012155604692E-2,6.1652407718932991E-3,5.0218389911164561E-3]
[6305000,485000,25.0894737444426,null,195.52240280847616,0,2.6158145345641961E-5,3.0750619705113493E-3,null,null,6.2229999999999999,5.9939999999999998,4.8959999999999999,3.577,1.8220000000000001,1.0960000000000001,0.44678126516482752,0.25272931745850435,0.1490375801170753,8.7260579762308388E-2,5.4670452948279172E-2,null,null,0.49102953068018224,0.37967091013139259,0.2954657340538831,0.22457292802116643,0.16475436261295176,0.11394735626595291,4.2056434241393596E-2,2.7011094708221665E-2,1.134686246865016E-2,6.0452294762773934E-3,4.9714097974698163E-3]
[6305000,495000,25.3097222116258,null,190.34445093041197,0,2.7600665838462681E-5,3.2731228761993824E-3,null,null,6.2229999999999999,5.9939999999999998,4.8959999999999999,3.577,1.8220000000000001,1.0960000000000001,0.45411994409137169,0.25883240248415085,0.15331480534977304,9.024054152329708E-2,5.5828519388728445E-2,null,null,0.49102953068018224,0.37967091013139259,0.2954657340538831,0.22457292802116643,0.16475436261295176,0.11394735626595291,4.1012925757769547E-2,2.6345298414820278E-2,1.0853598785487511E-2,5.769969183868756E-3,4.858336311654346E-3]
[6305000,505000,25.581250071525599,null,185.56133756793199,0,2.9041899038161339E-5,3.4809849552886506E-3,null,null,6.2229999999999999,5.9939999999999998,4.8959999999999999,3.577,1.8220000000000001,1.0960000000000001,0.46316725238323297,0.26635643948197429,0.1585878763890271,9.3914313467741373E-2,5.7256212876081583E-2,null,null,0.49102953068018224,0.37967091013139259,0.2954657340538831,0.22457292802116643,0.16475436261295176,0.11394735626595291,3.9963484606469493E-2,2.5671882909630232E-2,1.0339383417833489E-2,5.4830378894708473E-3,4.7450308329840618E-3]
[6305000,515000,25.273846142108599,null,181.20433217779313,0,3.0455297561962069E-5,3.6065300591008823E-3,null,null,6.2229999999999999,5.9939999999999998,4.8959999999999999,3.577,1.8220000000000001,1.0960000000000001,0.45292455345505855,0.25783827659782921,0.15261809207974897,8.9755138302729354E-2,5.5639883015207017E-2,null,null,0.49102953068018224,0.37967091013139259,0.2954657340538831,0.22457292802116643,0.16475436261295176,0.11394735626595291,4.1171540680026035E-2,2.644668323413045E-2,1.0929567020145159E-2,5.8123689235938889E-3,4.8755003543487331E-3]
[6305000,525000,26.161428506033801,null,177.30485046946686,0,3.1809640929592223E-5,3.8992007274100339E-3,null,null,6.2229999999999999,5.9939999999999998,4.8959999999999999,3.577,1.8220000000000001,1.0960000000000001,0.48249879782104632,0.28243318390219652,0.16985494158717634,0.10176412768663734,6.0306791084725711E-2,null,null,0.49102953068018224,0.37967091013139259,0.2954657340538831,0.22457292802116643,0.16475436261295176,0.11394735626595291,3.8684514689368982E-2,2.4832206949503766E-2,9.6565126803911765E-3,5.104246908574998E-3,4.6080848490939654E-3]
[6305000,535000,26.096774132021,null,173.89367441054318,0,3.3069865713196298E-5,4.0436599805371374E-3,null,null,6.2229999999999999,5.9939999999999998,4.8959999999999999,3.577,1.8220000000000001,1.0960000000000001,0.48034451407893985,0.28064161119830189,0.16859935364384787,0.10088935400624416,5.9966838386166413E-2,null,null,0.49102953068018224,0.37967091013139259,0.2954657340538831,0.22457292802116643,0.16475436261295176,0.11394735626595291,3.8758717671081973E-2,2.4883249813930624E-2,9.7015602589943847E-3,5.1288784976811132E-3,4.6159242390728999E-3]
[6305000,545000,25.382191749468198,null,171.00002923976359,0,3.4198545125493269E-5,4.0671681050815089E-3,null,null,6.2229999999999999,5.9939999999999998,4.8959999999999999,3.577,1.8220000000000001,1.0960000000000001,0.45653462909228049,0.26084053337776369,0.15472216377467241,9.1221054370304755E-2,5.6209564218703781E-2,null,null,0.49102953068018224,0.37967091013139259,0.2954657340538831,0.22457292802116643,0.16475436261295176,0.11394735626595291,4.0706448474560515E-2,2.6149160167965046E-2,1.070564753299849E-2,5.6873939042521695E-3,4.8251981962013739E-3]
[6305000,555000,27.527941058663799,null,168.65055588405275,0,3.5158023008113418E-5,4.5347520679073191E-3,null,null,6.2229999999999999,5.9939999999999998,4.8959999999999999,3.577,1.8220000000000001,1.0960000000000001,0.52803099607467785,0.32029924673557386,0.19639261535925095,0.12025304252372121,6.749191408645426E-2,null,null,0.49102953068018224,0.37967091013139259,0.2954657340538831,0.22457292802116643,0.16475436261295176,0.11394735626595291,4.1177368891546808E-2,2.6294418745107503E-2,1.0627039154458768E-2,5.6708896153886204E-3,4.8824711032614578E-3]
[6305000,565000,27.155223960307101,null,166.86824143617025,0,3.5913077423926218E-5,4.5694232016606608E-3,null,null,6.2229999999999999,{"$f":"L$2+L$3*$C544","v":5.9939999999999998},4.8959999999999999,3.577,1.8220000000000001,1.0960000000000001,0.51561206235743262,0.30997125594010977,0.18915444930916386,0.11521018018295509,6.5532167583294734E-2,null,null,0.49102953068018224,{"$f":"SQRT(Y$2+2*Y$3*$C544+Y$4*$C544^2+Y$5)","v":0.37967091013139259},0.2954657340538831,0.22457292802116643,0.16475436261295176,0.11394735626595291,3.9756334281678442E-2,2.5430083009894664E-2,1.0017259285914903E-2,5.3224321211360701E-3,4.7271127993745764E-3]
[6305000,575000,27.340624868869799,null,165.67139161605422,0,3.6433841063197774E-5,4.6673327827158528E-3,null,null,6.2229999999999999,5.9939999999999998,4.8959999999999999,3.577,1.8220000000000001,1.0960000000000001,0.52178962063074175,0.31510871511638205,0.19275493495345147,0.11771865447580843,6.6507005560517404E-2,null,null,0.49102953068018224,0.37967091013139259,0.2954657340538831,0.22457292802116643,0.16475436261295176,0.11394735626595291,4.0399051920826781E-2,2.581952727456437E-2,1.0292255240678437E-2,5.4800338126086545E-3,4.797378698380538E-3]
[6315000,455000,24.171962559780201,null,220.95929489387859,0,2.0482145611259935E-5,2.3197582822568003E-3,null,null,6.2229999999999999,5.9939999999999998,4.8959999999999999,3.577,1.8220000000000001,1.0960000000000001,0.4162097924918764,0.22730508253150938,0.13121951291093148,7.4846653433826182E-2,4.9846179139324279E-2,null,null,0.49102953068018224,0.37967091013139259,0.2954657340538831,0.22457292802116643,0.16475436261295176,0.11394735626595291,4.7968182838785983E-2,3.0759058504758404E-2,1.395404577172981E-2,7.4963809106676519E-3,5.6170197192085755E-3]
[6315000,465000,24.539814790089899,null,215.00002325581269,0,2.1633310625568278E-5,2.4874229594206176E-3,null,null,6.2229999999999999,5.9939999999999998,4.8959999999999999,3.577,1.8220000000000001,1.0960000000000001,0.42846662880579556,0.23749826783339101,0.13836320322354584,7.9823694109916354E-2,5.1780346166292693E-2,null,null,0.49102953068018224,0.37967091013139259,0.2954657340538831,0.22457292802116643,0.16475436261295176,0.11394735626595291,4.532586661502306E-2,2.9086723009274593E-2,1.2819050479666893E-2,6.8655063184123854E-3,5.3275662172805075E-3]
[6315000,475000,24.845217397938601,null,209.3490148054201,0,2.2816979757460068E-5,2.656172830703755E-3,null,null,6.2229999999999999,5.9939999999999998,4.8959999999999999,3.577,1.8220000000000001,1.0960000000000001,0.43864264369931427,0.24596097409687856,0.14429412186796764,8.3955791394109303E-2,5.3386153078361157E-2,null,null,0.49102953068018224,0.37967091013139259,0.2954657340538831,0.22457292802116643,0.16475436261295176,0.11394735626595291,4.3398984709559066E-2,2.786475476054126E-2,1.1962731054949894E-2,6.3886492265544529E-3,5.1173520544158533E-3]
[6315000,485000,25.022000007629401,null,204.03188476314187,0,2.4021709860503528E-5,2.8163155223416034E-3,null,null,6.2229999999999999,5.9939999999999998,4.8959999999999999,3.577,1.8220000000000001,1.0960000000000001,0.4445330402542117,0.25085962021141062,0.14772724014816296,8.634766010322581E-2,5.4315676040115377E-2,null,null,0.49102953068018224,0.37967091013139259,0.2954657340538831,0.22457292802116643,0.16475436261295176,0.11394735626595291,4.2408505327977852E-2,2.7235212009300246E-2,1.1510188214267242E-2,6.136336801015772E-3,5.0096349814903948E-3]
[6315000,495000,25.4923076874171,null,199.07538773037714,0,2.5232765957768933E-5,3.0139037784286077E-3,null,null,6.2229999999999999,5.9939999999999998,4.8959999999999999,3.577,1.8220000000000001,1.0960000000000001,0.46020369214473777,0.26389184601832782,0.15686061528964007,9.2710923010753399E-2,5.6788553820439111E-2,null,null,0.49102953068018224,0.37967091013139259,0.2954657340538831,0.22457292802116643,0.16475436261295176,0.11394735626595291,4.0277223087998346E-2,2.5873803216932393E-2,1.0495524668027957E-2,5.5701360130078568E-3,4.778852257014239E-3]
[6315000,505000,24.921428544180699,null,194.50709498627552,0,2.6431943955820585E-5,3.0864369520075831E-3,null,null,6.2229999999999999,5.9939999999999998,4.8959999999999999,3.577,1.8220000000000001,1.0960000000000001,0.44118199909210098,0.24807278495924712,0.14577414232798919,8.4986928202764878E-2,5.3786871285302115E-2,null,null,0.49102953068018224,0.37967091013139259,0.2954657340538831,0.22457292802116643,0.16475436261295176,0.11394735626595291,4.2960169116933011E-2,2.7586000734294971E-2,1.1763425509239808E-2,6.2775522316889393E-3,5.069598645320899E-3]
[6315000,515000,25.2971014216326,null,190.35495790758907,0,2.75976189878242E-5,3.2711295795135047E-3,null,null,6.2229999999999999,5.9939999999999998,4.8959999999999999,3.577,1.8220000000000001,1.0960000000000001,0.45369941936879832,0.25848268039343936,0.15306970960810512,9.0069782234689089E-2,5.5762159274944198E-2,null,null,0.49102953068018224,0.37967091013139259,0.2954657340538831,0.22457292802116643,0.16475436261295176,0.11394735626595291,4.1068208852126621E-2,2.638064366192213E-2,1.0880121140453222E-2,5.784772057157446E-3,4.8643175843936818E-3]
[6315000,525000,26.005882235134401,null,186.64675191387607,0,2.8705104140682565E-5,3.4977284550131204E-3,null,null,6.2229999999999999,5.9939999999999998,4.8959999999999999,3.577,1.8220000000000001,1.0960000000000001,0.47731599607467834,0.27812299673557417,0.16683423300631001,9.9659586641368481E-2,5.9488928792336679E-2,null,null,0.49102953068018224,0.37967091013139259,0.2954657340538831,0.22457292802116643,0.16475436261295176,0.11394735626595291,3.8892594691065117E-2,2.4973419668134142E-2,9.7786366827264885E-3,5.1713045885954205E-3,4.6301495733933259E-3]
[6315000,535000,25.9344261982402,null,183.40940542949261,0,2.9727390907164038E-5,3.6123415743647379E-3,null,null,6.2229999999999999,{"$f":"L$2+L$3*$C554","v":5.9939999999999998},4.8959999999999999,3.577,1.8220000000000001,1.0960000000000001,0.47493508092536352,0.27614294995323585,0.16544655676982462,9.869278646218993E-2,5.9113212950346952E-2,null,null,0.49102953068018224,{"$f":"SQRT(Y$2+2*Y$3*$C554+Y$4*$C554^2+Y$5)","v":0.37967091013139259},0.2954657340538831,0.22457292802116643,0.16475436261295176,0.11394735626595291,3.9021891807660844E-2,2.5059280469222775E-2,9.8502909762689401E-3,5.2109270262176632E-3,4.6439423493875838E-3]
[6315000,545000,25.993333403269499,null,180.66823185053869,0,3.0636306903493487E-5,3.7312449489186454E-3,null,null,6.2229999999999999,5.9939999999999998,4.8959999999999999,3.577,1.8220000000000001,1.0960000000000001,0.47689786899693976,0.27777526860459778,0.16659053469149371,9.9489800946236329E-2,5.9422947034391008E-2,null,null,0.49102953068018224,0.37967091013139259,0.2954657340538831,0.22457292802116643,0.16475436261295176,0.11394735626595291,3.8913775732800228E-2,2.4987548508263145E-2,9.7905225384296978E-3,5.1778675892580443E-3,4.632406191829511E-3]
[6315000,555000,27.926316010324602,null,178.44609830422181,0,3.1404066386940188E-5,4.1091775494620049E-3,null,null,6.2229999999999999,5.9939999999999998,4.8959999999999999,3.577,1.8220000000000001,1.0960000000000001,0.5413048494640158,0.33133821664609464,0.2041290569205037,0.12564305561969191,6.9586569582286747E-2,null,null,0.49102953068018224,0.37967091013139259,0.2954657340538831,0.22457292802116643,0.16475436261295176,0.11394735626595291,4.3230197582893738E-2,2.755627079391287E-2,1.1505478751530327E-2,6.1684030726543203E-3,5.1071817329207984E-3]
[6315000,565000,27.437878666502101,null,176.76258088181447,0,3.2005110576056784E-5,4.1145773879031049E-3,null,null,6.2229999999999999,5.9939999999999998,4.8959999999999999,3.577,1.8220000000000001,1.0960000000000001,0.52503011716785009,0.3178036178487732,0.19464360370347084,0.11903449835777347,6.7018366028468043E-2,null,null,0.49102953068018224,0.37967091013139259,0.2954657340538831,0.22457292802116643,0.16475436261295176,0.11394735626595291,4.0787409322245387E-2,2.6056136889495471E-2,1.0459252640969828E-2,5.575350059850233E-3,4.839833360750851E-3]
[6315000,575000,27.432353159960599,null,175.63316884916696,0,3.2418052835590883E-5,4.1668259550572944E-3,null,null,{"$f":"K$2+K$3*$C558","v":6.2229999999999999},5.9939999999999998,4.8959999999999999,3.577,1.8220000000000001,1.0960000000000001,0.52484600728988717,0.31765050606250811,0.19453629836643477,0.11895973825426692,6.6989312915072804E-2,null,null,{"$f":"SQRT(X$2+2*X$3*$C558+X$4*$C558^2+X$5)","v":0.49102953068018224},0.37967091013139259,0.2954657340538831,0.22457292802116643,0.16475436261295176,0.11394735626595291,4.0764424884093785E-2,2.6042112585177461E-2,1.0449363465366818E-2,5.5697123517737795E-3,4.837320571502512E-3]
[6315000,585000,27.821428516932901,null,175.06858655966809,0,3.2627481279166928E-5,4.2532248870197423E-3,null,null,6.2229999999999999,5.9939999999999998,4.8959999999999999,3.577,1.8220000000000001,1.0960000000000001,0.53780999818420439,0.3284317842042106,0.20209214179883689,0.12422392783410219,6.903507114203318E-2,null,null,0.49102953068018224,0.37967091013139259,0.2954657340538831,0.22457292802116643,0.16475436261295176,0.11394735626595291,4.264016323292881E-2,2.7192577632418936E-2,1.1254208269476972E-2,6.0264761636043482E-3,5.0425425769740411E-3]
[6325000,465000,24.5199999895963,null,223.21516525541003,0,2.0070241832364907E-5,2.3058361462984394E-3,null,null,6.2229999999999999,5.9939999999999998,4.8959999999999999,3.577,1.8220000000000001,1.0960000000000001,0.42780639965334877,0.23694919971171347,0.13797839979796017,7.9555599859237991E-2,5.1676159945297326E-2,null,null,0.49102953068018224,0.37967091013139259,0.2954657340538831,0.22457292802116643,0.16475436261295176,0.11394735626595291,4.5459680667733045E-2,2.9171488865095234E-2,1.2877519046496253E-2,6.8980373031965426E-3,5.3421938641705418E-3]
[6325000,475000,24.900869618291399,null,217.77743225596174,0,2.1085031504199821E-5,2.4600511680779378E-3,null,null,6.2229999999999999,5.9939999999999998,4.8959999999999999,3.577,1.8220000000000001,1.0960000000000001,0.4404969756814695,0.24750309712285457,0.14537488798721898,8.4708765935482655E-2,5.3678772452976156E-2,null,null,0.49102953068018224,0.37967091013139259,0.2954657340538831,0.22457292802116643,0.16475436261295176,0.11394735626595291,4.3076808877442786E-2,2.7660117102591673E-2,1.1816578265944204E-2,6.3071845692405726E-3,5.0822870880638327E-3]
[6325000,485000,25.185000038146999,null,212.67113109211604,0,2.2109703484555593E-5,2.6090370468544858E-3,null,null,6.2229999999999999,5.9939999999999998,4.8959999999999999,3.577,1.8220000000000001,1.0960000000000001,0.44996420127105807,0.25537635105705325,0.15089270074081473,8.8553050516128939E-2,5.5172730200576905E-2,null,null,0.49102953068018224,0.37967091013139259,0.2954657340538831,0.22457292802116643,0.16475436261295176,0.11394735626595291,4.1583584048322235E-2,2.6709724166004565E-2,1.1125176103399002E-2,5.9215351708993965E-3,4.9201287818651197E-3]
[6325000,495000,25.002000045776398,null,207.92068199195575,0,2.3131543769160155E-5,2.7097844196686013E-3,null,null,6.2229999999999999,5.9939999999999998,4.8959999999999999,3.577,1.8220000000000001,1.0960000000000001,0.44386664152526967,0.250305421268464,0.14733884088897764,8.6077060619354717E-2,5.42105162406923E-2,null,null,0.49102953068018224,0.37967091013139259,0.2954657340538831,0.22457292802116643,0.16475436261295176,0.11394735626595291,4.2515675163622153E-2,2.7303392720116976E-2,1.1559631280081027E-2,6.1639129294867138E-3,5.0212775448847261E-3]
[6325000,505000,25.3126435992362,null,203.55100098009837,0,2.4135345223530706E-5,2.8625059053754001E-3,null,null,6.2229999999999999,{"$f":"L$2+L$3*$C564","v":5.9939999999999998},4.8959999999999999,3.577,1.8220000000000001,1.0960000000000001,0.45421728472655021,0.25891335413483507,0.15337153869716702,9.0280067897665794E-2,5.5843880044783925E-2,null,null,0.49102953068018224,{"$f":"SQRT(Y$2+2*Y$3*$C564+Y$4*$C564^2+Y$5)","v":0.37967091013139259},0.2954657340538831,0.22457292802116643,0.16475436261295176,0.11394735626595291,4.1000209275710631E-2,2.6337166730034341E-2,1.0847491091331443E-2,5.7665602994175415E-3,4.8569606279093439E-3]
[6325000,515000,24.714814833652799,null,199.58709878145933,0,2.5103545850747872E-5,2.9070185447564313E-3,null,null,6.2229999999999999,5.9939999999999998,4.8959999999999999,3.577,1.8220000000000001,1.0960000000000001,0.43429763025731127,0.24234751904051899,0.14176170406953736,8.219144469932238E-2,5.2700496395346422E-2,null,null,0.49102953068018224,0.37967091013139259,0.2954657340538831,0.22457292802116643,0.16475436261295176,0.11394735626595291,4.4189705512354183E-2,2.8366557267463715E-2,1.2317600417764533E-2,6.5863590025128727E-3,5.2035172857820547E-3]
[6325000,525000,25.3947367919119,null,196.05358961263627,0,2.6016591821268095E-5,3.0956331658350484E-3,null,null,6.2229999999999999,5.9939999999999998,4.8959999999999999,3.577,1.8220000000000001,1.0960000000000001,0.45695262990650454,0.26118815650387872,0.15496578849892906,9.1390788794568023E-2,5.6275526051872762E-2,null,null,0.49102953068018224,0.37967091013139259,0.2954657340538831,0.22457292802116643,0.16475436261295176,0.11394735626595291,4.0655310119598609E-2,2.6116398036903285E-2,1.0680801019776283E-2,5.6735269303023897E-3,4.8196723853036879E-3]
[6325000,535000,25.864516227476098,null,192.97411743547372,0,2.6853560285302964E-5,3.2543301125809538E-3,null,null,6.2229999999999999,5.9939999999999998,4.8959999999999999,3.577,1.8220000000000001,1.0960000000000001,0.47260568069950371,0.27420574466336267,0.16408890513758584,9.7746904557751646E-2,5.8745626324069308E-2,null,null,0.49102953068018224,0.37967091013139259,0.2954657340538831,0.22457292802116643,0.16475436261295176,0.11394735626595291,3.916866088085106E-2,2.5155898905429123E-2,9.9295979291539986E-3,5.2549029064493146E-3,4.6596384960702637E-3]
[6325000,545000,26.598039365282201,null,190.37071728603641,0,2.7593049972945014E-5,3.4387824664259695E-3,null,null,6.2229999999999999,5.9939999999999998,4.8959999999999999,3.577,1.8220000000000001,1.0960000000000001,0.49704667165120298,0.29453167081196974,0.17833392447378033,0.10767147261226823,6.2602490982653816E-2,null,null,0.49102953068018224,0.37967091013139259,0.2954657340538831,0.22457292802116643,0.16475436261295176,0.11394735626595291,3.864655544398192E-2,2.4776399682610962E-2,9.5720912318824382E-3,5.0626703764340983E-3,4.6052773242595347E-3]
[6325000,555000,29.2729169130325,null,188.26314031163935,0,2.8214307983435943E-5,3.8698200869942616E-3,null,null,6.2229999999999999,5.9939999999999998,4.8959999999999999,3.577,1.8220000000000001,1.0960000000000001,0.58617359154224302,0.36865252766013057,0.23028004645109118,0.14386256583332974,7.6666997128724865E-2,null,null,0.49102953068018224,0.37967091013139259,0.2954657340538831,0.22457292802116643,0.16475436261295176,0.11394735626595291,5.3288719839332768E-2,3.3812777061197549E-2,1.5617047376246317E-2,8.4673685607504299E-3,6.2158097472862538E-3]
[6325000,565000,28.314754173403902,null,186.66818154147214,0,2.8698513790066351E-5,3.8073918309059164E-3,null,null,6.2229999999999999,5.9939999999999998,4.8959999999999999,3.577,1.8220000000000001,1.0960000000000001,0.55424760905781811,0.34210183814502204,0.21167252604750381,0.13089862396615481,7.1628977443757694E-2,null,null,0.49102953068018224,0.37967091013139259,0.2954657340538831,0.22457292802116643,0.16475436261295176,0.11394735626595291,4.5693486325960868E-2,2.908039235193929E-2,1.2541525667314023E-2,6.7512358387149234E-3,5.3775353685353725E-3]
[6325000,575000,27.130769260113102,null,185.59905710967391,0,2.9030095790607083E-5,3.6903363280939593E-3,null,null,6.2229999999999999,5.9939999999999998,4.8959999999999999,3.577,1.8220000000000001,1.0960000000000001,0.51479723174696868,0.30929361619773399,0.18867953903139639,0.11487930808933028,6.5403584769674686E-2,null,null,0.49102953068018224,0.37967091013139259,0.2954657340538831,0.22457292802116643,0.16475436261295176,0.11394735626595291,3.968138133657062E-2,2.5384905471253751E-2,9.9854308742306462E-3,5.3041233144212703E-3,4.7189155969271125E-3]
[6325000,585000,28.6333333651225,null,185.06488051491561,0,2.9197924261168429E-5,3.9172316882735824E-3,null,null,6.2229999999999999,5.9939999999999998,4.8959999999999999,3.577,1.8220000000000001,1.0960000000000001,0.56486266772588178,0.3509296675475444,0.21785933395067897,0.13520900043010747,7.3304066833814088E-2,null,null,0.49102953068018224,0.37967091013139259,0.2954657340538831,0.22457292802116643,0.16475436261295176,0.11394735626595291,4.8004813658434148E-2,3.0516437433770006E-2,1.3494924659412879E-2,7.2850323514994956E-3,5.6319281551979869E-3]
[6335000,495000,25.655238178798101,null,216.86634132571149,0,2.1262566974428148E-5,2.5559191817607911E-3,null,null,6.2229999999999999,5.9939999999999998,4.8959999999999999,3.577,1.8220000000000001,1.0960000000000001,0.46563253611755273,0.26840664993449537,0.1600247254322591,9.4915372559138345E-2,5.7645242344120398E-2,null,null,0.49102953068018224,0.37967091013139259,0.2954657340538831,0.22457292802116643,0.16475436261295176,0.11394735626595291,3.9725483280397357E-2,2.551820566151778E-2,1.0219177277648936E-2,5.4160254485511195E-3,4.719410594322771E-3]
[6335000,505000,25.737499912579899,null,212.68053507549766,0,2.2107748301516973E-5,2.6660374236415923E-3,null,null,6.2229999999999999,{"$f":"L$2+L$3*$C574","v":5.9939999999999998},4.8959999999999999,3.577,1.8220000000000001,1.0960000000000001,0.46837349708716236,0.27068612257758895,0.16162224830230165,9.6028373817206081E-2,5.8077774540345115E-2,null,null,0.49102953068018224,{"$f":"SQRT(Y$2+2*Y$3*$C574+Y$4*$C574^2+Y$5)","v":0.37967091013139259},0.2954657340538831,0.22457292802116643,0.16475436261295176,0.11394735626595291,3.948586776768101E-2,2.5362890277697978E-2,1.0096260957702346E-2,5.3475626858012137E-3,4.6936552013003546E-3]
[6335000,515000,24.872289106070301,null,208.88994710133849,0,2.2917377582817102E-5,2.6707672929334797E-3,null,null,6.2229999999999999,5.9939999999999998,4.8959999999999999,3.577,1.8220000000000001,1.0960000000000001,0.43954467301426248,0.24671113112920806,0.14481985443988526,8.4322071605131221E-2,5.3528496119717647E-2,null,null,0.49102953068018224,0.37967091013139259,0.2954657340538831,0.22457292802116643,0.16475436261295176,0.11394735626595291,4.3241097594588523E-2,2.7764483587250987E-2,1.1891226165227385E-2,6.3487955526709073E-3,5.1001647373674795E-3]
[6335000,525000,25.641095801575499,null,205.51644703040193,0,2.3675918347439837E-5,2.8444531602768181E-3,null,null,6.2229999999999999,5.9939999999999998,4.8959999999999999,3.577,1.8220000000000001,1.0960000000000001,0.46516131210849576,0.26801476466165708,0.15975008046659617,9.4724026195316557E-2,5.7570881724683956E-2,null,null,0.49102953068018224,0.37967091013139259,0.2954657340538831,0.22457292802116643,0.16475436261295176,0.11394735626595291,3.9769341889060457E-2,2.5546564121890429E-2,1.0241457708436817E-2,5.4284427015966934E-3,4.7241292123251519E-3]
[6335000,535000,25.9223880483143,null,202.58087273975298,0,2.4367059536767584E-5,2.9596033058809125E-3,null,null,6.2229999999999999,5.9939999999999998,4.8959999999999999,3.577,1.8220000000000001,1.0960000000000001,0.47453396976983253,0.27580937281878926,0.16521277589826372,9.8529910293692513E-2,5.9049916358036594E-2,null,null,0.49102953068018224,0.37967091013139259,0.2954657340538831,0.22457292802116643,0.16475436261295176,0.11394735626595291,3.9045741874971771E-2,2.5075032243496744E-2,9.8633043957101901E-3,5.2181356333719344E-3,4.6464905236311164E-3]
[6335000,545000,26.4516666094462,null,200.10249873502329,0,2.4974395001524689E-5,3.0953045666660592E-3,null,null,6.2229999999999999,5.9939999999999998,4.8959999999999999,3.577,1.8220000000000001,1.0960000000000001,0.49216953142674746,0.29047568174775418,0.17549136555544514,0.10569104922580713,6.1832863032468113E-2,null,null,0.49102953068018224,0.37967091013139259,0.2954657340538831,0.22457292802116643,0.16475436261295176,0.11394735626595291,3.85691247975187E-2,2.4738817989484466E-2,9.557256275967917E-3,5.0521269691912842E-3,4.5964643501398578E-3]
[6335000,555000,27.083333477829399,null,198.09848560753815,0,2.5482245118302596E-5,3.233666131401742E-3,null,null,6.2229999999999999,5.9939999999999998,4.8959999999999999,3.577,1.8220000000000001,1.0960000000000001,0.51321667148127559,0.30797917067065261,0.18775833613944687,0.11423750195503179,6.5154167426426976E-2,null,null,0.49102953068018224,0.37967091013139259,0.2954657340538831,0.22457292802116643,0.16475436261295176,0.11394735626595291,3.954265494542409E-2,2.5301467319975453E-2,9.9267492487715506E-3,5.27031924438069E-3,4.7037404299341062E-3]
[6335000,565000,27.927692354642399,null,196.58334110498782,0,2.5876562071015122E-5,3.3860783229742904E-3,null,null,6.2229999999999999,5.9939999999999998,4.8959999999999999,3.577,1.8220000000000001,1.0960000000000001,0.54135070925668483,0.33137635514714081,0.20415578552715535,0.1256616775583117,6.9593806400709737E-2,null,null,0.49102953068018224,0.37967091013139259,0.2954657340538831,0.22457292802116643,0.16475436261295176,0.11394735626595291,4.3238163753905927E-2,2.7561185500043946E-2,1.1508863323097867E-2,6.1703130364347486E-3,5.1080547474715984E-3]
[6335000,575000,27.631579047755199,null,195.56842792230037,0,2.6145834667860315E-5,3.3850382964596836E-3,null,null,6.2229999999999999,{"$f":"L$2+L$3*$C581","v":5.9939999999999998},{"$f":"M$2+M$3*$C581","v":4.8959999999999999},{"$f":"N$2+N$3*$C581","v":3.577},{"$f":"O$2+O$3*$C581","v":1.8220000000000001},1.0960000000000001,0.53148421387120326,0.32317105541329649,0.19840526510740591,0.1216552645161279,6.8036842633096825E-2,null,null,0.49102953068018224,{"$f":"SQRT(Y$2+2*Y$3*$C581+Y$4*$C581^2+Y$5)","v":0.37967091013139259},{"$f":"SQRT(Z$2+2*Z$3*$C581+Z$4*$C581^2+Z$5)","v":0.2954657340538831},{"$f":"SQRT(AA$2+2*AA$3*$C581+AA$4*$C581^2+AA$5)","v":0.22457292802116643},{"$f":"SQRT(AB$2+2*AB$3*$C581+AB$4*$C581^2+AB$5)","v":0.16475436261295176},0.11394735626595291,4.1661095219925615E-2,2.6590766300143336E-2,1.0834967199794642E-2,5.7890211534477451E-3,4.935378862260538E-3]
[6335000,585000,27.9746834235855,null,195.06155438732668,0,2.6281892748326434E-5,3.444904532771291E-3,null,null,6.2229999999999999,5.9939999999999998,4.8959999999999999,3.577,1.8220000000000001,1.0960000000000001,0.54291645167386893,0.33267847766755421,0.20506835208603041,0.12629746672111186,6.9840885441212544E-2,null,null,0.49102953068018224,0.37967091013139259,0.2954657340538831,0.22457292802116643,0.16475436261295176,0.11394735626595291,4.3513550022930905E-2,2.7731150997021538E-2,1.1625733284612244E-2,6.2362373346072485E-3,5.1382395197540733E-3]
[6345000,535000,26.282894887422302,null,212.22396188932106,0,2.2202974710145717E-5,2.73425952839663E-3,null,null,6.2229999999999999,5.9939999999999998,4.8959999999999999,3.577,1.8220000000000001,1.0960000000000001,0.48654605764891112,0.28579901733047197,0.17221381871374114,0.10340756782682375,6.0945461318066455E-2,null,null,0.49102953068018224,0.37967091013139259,0.2954657340538831,0.22457292802116643,0.16475436261295176,0.11394735626595291,3.8592758759390777E-2,2.4766009875221359E-2,9.5942984098733135E-3,5.0706959095502381E-3,4.5985177261207641E-3]
[6345000,545000,26.524999962912698,null,209.85950061886643,0,2.2706109601028678E-5,2.821977154549197E-3,null,null,6.2229999999999999,5.9939999999999998,4.8959999999999999,3.577,1.8220000000000001,1.0960000000000001,0.49461299876425113,0.2925077489723108,0.17691549927976463,0.10668324949820884,6.2218449804994955E-2,null,null,0.49102953068018224,0.37967091013139259,0.2954657340538831,0.22457292802116643,0.16475436261295176,0.11394735626595291,3.8596566375563836E-2,2.4750551120687875E-2,9.5592327714041445E-3,5.0543153564963318E-3,4.5996516829461343E-3]
[6345000,555000,26.808955178331999,null,{"$f":"(SQRT(($A585-E$1)^2+($B585-E$2)^2)/1000)","v":207.94953714783787},{"$f":"IF(E585=0,1,0)","v":0},{"$f":"IF($F$618=0,1/E585^2,F585)","v":2.3125124731141519E-5},{"$f":"G585/$G$618*C585","v":2.9048207906335085E-3},null,null,6.2229999999999999,5.9939999999999998,4.8959999999999999,3.577,1.8220000000000001,1.0960000000000001,0.5040743865420223,0.30037614799157963,0.18242990956320743,0.11052516356283199,6.3711486327669639E-2,null,null,0.49102953068018224,0.37967091013139259,0.2954657340538831,0.22457292802116643,0.16475436261295176,0.11394735626595291,3.891686820088458E-2,2.4929874362416199E-2,9.6696727650534466E-3,5.1210196614421919E-3,4.6351551972568881E-3]
[6345000,565000,26.740789513838902,null,206.50668270058478,0,2.3449402403704442E-5,2.9380648450100639E-3,null,null,6.2229999999999999,5.9939999999999998,4.8959999999999999,3.577,1.8220000000000001,1.0960000000000001,0.50180310660111227,0.29848727742847592,0.18110613235875145,0.10960288212224034,6.3353071263764923E-2,null,null,0.49102953068018224,0.37967091013139259,0.2954657340538831,0.22457292802116643,0.16475436261295176,0.11394735626595291,3.8809169946024284E-2,2.4867535482785929E-2,9.6284000767019838E-3,5.0966571878098242E-3,4.6232970232648858E-3]
[6345000,575000,26.337623785037799,null,205.54077454364133,0,2.367031418318125E-5,2.9210297759536159E-3,null,null,6.2229999999999999,5.9939999999999998,4.8959999999999999,3.577,1.8220000000000001,1.0960000000000001,0.48836962451745958,0.28731555508339734,0.17327665390543406,0.10414804981156145,6.1233225861728732E-2,null,null,0.49102953068018224,0.37967091013139259,0.2954657340538831,0.22457292802116643,0.16475436261295176,0.11394735626595291,3.8571838054954261E-2,2.4748918662812799E-2,9.5759526469826745E-3,5.0610784482696732E-3,4.5964175737011545E-3]
[6345000,585000,26.6936708281312,null,205.05855261363763,0,2.3781772745660366E-5,2.9744583852081654E-3,null,null,6.2229999999999999,5.9939999999999998,4.8959999999999999,3.577,1.8220000000000001,1.0960000000000001,0.50023311199333165,0.29718161864751547,0.18019108748230789,0.10896536630461517,6.310532121431385E-2,null,null,0.49102953068018224,0.37967091013139259,0.2954657340538831,0.22457292802116643,0.16475436261295176,0.11394735626595291,3.8746040586705686E-2,2.4831534690945054E-2,9.6052797574011604E-3,5.0828733870446853E-3,4.6163257499012549E-3]
[6345000,595000,26.952631523734599,null,205.06342921154908,0,2.3780641654029236E-5,3.0031713656753656E-3,null,null,6.2229999999999999,5.9939999999999998,4.8959999999999999,3.577,1.8220000000000001,1.0960000000000001,0.50886168237083695,0.30435741952268569,0.18522010419092588,0.11246910451612918,6.4466936551796514E-2,null,null,0.49102953068018224,0.37967091013139259,0.2954657340538831,0.22457292802116643,0.16475436261295176,0.11394735626595291,3.920656975413845E-2,2.5100596229969466E-2,9.7864483906311781E-3,5.1891669456125972E-3,4.6669457951847631E-3]
[6345000,615000,28.810606089505299,null,206.53089357285026,0,2.3443904948094022E-5,3.1647376831725952E-3,null,null,6.2229999999999999,5.9939999999999998,4.8959999999999999,3.577,1.8220000000000001,1.0960000000000001,0.5707693949023166,0.35584189474019179,0.22130197025819293,0.13760750039100672,7.4236166818618846E-2,null,null,0.49102953068018224,0.37967091013139259,0.2954657340538831,0.22457292802116643,0.16475436261295176,0.11394735626595291,4.939005579281721E-2,3.137907814814217E-2,1.4058412380797679E-2,7.5996551102813495E-3,5.7847047368472385E-3]
[6345000,625000,27.754794421261298,null,207.98319643663524,0,2.3117640354707826E-5,3.0063316546690175E-3,null,null,6.2229999999999999,5.9939999999999998,4.8959999999999999,3.577,1.8220000000000001,1.0960000000000001,0.53558975011642651,0.32658535341315054,0.2007981076608944,0.12332236851966538,6.8684709066991909E-2,null,null,0.49102953068018224,0.37967091013139259,0.2954657340538831,0.22457292802116643,0.16475436261295176,0.11394735626595291,4.2283197716945914E-2,2.6972890570580721E-2,1.1101658964811823E-2,5.9401750649438322E-3,5.0034578339265712E-3]
[6355000,545000,27.4888889406934,null,219.6383618587609,0,2.0729250900841425E-5,2.6699072004627796E-3,null,null,6.2229999999999999,5.9939999999999998,4.8959999999999999,3.577,1.8220000000000001,1.0960000000000001,0.52672977950390421,0.31921711254661411,0.19563422322826579,0.11972466736758175,6.7286578050165899E-2,null,null,0.49102953068018224,0.37967091013139259,0.2954657340538831,0.22457292802116643,0.16475436261295176,0.11394735626595291,4.100475213312707E-2,2.6188866399011832E-2,1.0552773063565142E-2,5.6286272369269162E-3,4.8635960625350427E-3]
[6355000,555000,27.039130418197001,null,217.81416391043078,0,2.1077920646265906E-5,2.6703971600324557E-3,null,null,6.2229999999999999,5.9939999999999998,4.8959999999999999,3.577,1.8220000000000001,1.0960000000000001,0.51174382553432418,0.30675430388823888,0.18689991272138579,0.11363943455820547,6.4921747738879834E-2,null,null,0.49102953068018224,0.37967091013139259,0.2954657340538831,0.22457292802116643,0.16475436261295176,0.11394735626595291,3.9421364793695408E-2,2.5228737919398576E-2,9.875750667274431E-3,5.2408822618445604E-3,4.6904677309523518E-3]
[6355000,565000,26.803895950317401,null,216.43708092653623,0,2.1346990853454833E-5,2.6809576839848335E-3,null,null,6.2229999999999999,5.9939999999999998,4.8959999999999999,3.577,1.8220000000000001,1.0960000000000001,0.50390581306457582,0.30023595678329518,0.18233165935516388,0.11045671220779446,6.3684884906768893E-2,null,null,0.49102953068018224,0.37967091013139259,0.2954657340538831,0.22457292802116643,0.16475436261295176,0.11394735626595291,3.8908212668716455E-2,2.4924832490457106E-2,9.6662937128147771E-3,5.1190331699128228E-3,4.6342033446456349E-3]
[6355000,575000,26.329473716334299,null,215.51568388402734,0,2.1529911182657399E-5,2.6560716622718644E-3,null,null,6.2229999999999999,5.9939999999999998,4.8959999999999999,3.577,1.8220000000000001,1.0960000000000001,0.48809806422825885,0.28708971667962335,0.17311837957121207,0.10403777938200309,6.119037280048574E-2,null,null,0.49102953068018224,0.37967091013139259,0.2954657340538831,0.22457292802116643,0.16475436261295176,0.11394735626595291,3.8574147736583825E-2,2.4750961132457724E-2,9.578300651703205E-3,5.0622926198920903E-3,4.5966431313070495E-3]
[6355000,585000,26.7197530770007,null,215.0558299605012,0,2.1622084451105008E-5,2.7069820219019153E-3,null,null,6.2229999999999999,5.9939999999999998,4.8959999999999999,3.577,1.8220000000000001,1.0960000000000001,0.50110217252566336,0.2979043577636894,0.18069760475535362,0.10931825913181947,6.3242461678869669E-2,null,null,0.49102953068018224,0.37967091013139259,0.2954657340538831,0.22457292802116643,0.16475436261295176,0.11394735626595291,3.8779838685998214E-2,2.4850744414657632E-2,9.6175287969490642E-3,5.0901928705056314E-3,4.6200604856596588E-3]
[6355000,595000,26.556976850642702,null,215.06047986554853,0,2.1621149462465792E-5,2.6903747960084789E-3,null,null,6.2229999999999999,5.9939999999999998,4.8959999999999999,3.577,1.8220000000000001,1.0960000000000001,0.49567846866341492,0.29339382853130924,0.17753649043948122,0.10711589678919581,6.2386584280679322E-2,null,null,0.49102953068018224,0.37967091013139259,0.2954657340538831,0.22457292802116643,0.16475436261295176,0.11394735626595291,3.8615673264457855E-2,2.476013034843819E-2,9.5635265007705129E-3,5.0572160414564735E-3,4.6018140083891887E-3]
[6355000,615000,29.485937774181401,null,216.46018109573873,0,2.1342434885831841E-5,2.9485892752014391E-3,null,null,6.2229999999999999,5.9939999999999998,4.8959999999999999,3.577,1.8220000000000001,1.0960000000000001,0.5932714466357244,0.37455533572256661,0.23441691157460282,0.14674473808467442,7.7787060816645812E-2,null,null,0.49102953068018224,0.37967091013139259,0.2954657340538831,0.22457292802116643,0.16475436261295176,0.11394735626595291,5.5206148053881403E-2,3.5012190494936944E-2,1.6370958341742518E-2,8.8860142998159735E-3,6.4283802780629772E-3]
[6355000,625000,28.782353064593099,null,217.84629902754833,0,2.1071702578818175E-5,2.8417200777873597E-3,null,null,6.2229999999999999,5.9939999999999998,4.8959999999999999,3.577,1.8220000000000001,1.0960000000000001,0.5698280041122421,0.35505900341987473,0.22075329651439796,0.13722523696394467,7.4087612413630502E-2,null,null,0.49102953068018224,0.37967091013139259,0.2954657340538831,0.22457292802116643,0.16475436261295176,0.11394735626595291,4.9164878272401992E-2,3.1238765705251449E-2,1.3967191327928648E-2,7.5487599539442981E-3,5.7598550208934627E-3]
[6365000,545000,27.7283784763233,null,229.43628745253005,0,1.8996595999962767E-5,2.4680595357478713E-3,null,null,6.2229999999999999,5.9939999999999998,4.8959999999999999,3.577,1.8220000000000001,1.0960000000000001,0.53470957083109238,0.32585336757891858,0.2002851100101985,0.1229649607846543,6.8545814028507915E-2,null,null,0.49102953068018224,0.37967091013139259,0.2954657340538831,0.22457292802116643,0.16475436261295176,0.11394735626595291,4.2145627632141601E-2,2.6888303400644339E-2,1.1042769343175092E-2,5.9068298733167338E-3,4.9883991965380403E-3]
[6365000,555000,26.5028169927463,null,227.6906014748962,0,1.9289003474142416E-5,2.3952850328921652E-3,null,null,6.2229999999999999,5.9939999999999998,4.8959999999999999,3.577,1.8220000000000001,1.0960000000000001,0.49387386219830676,0.29189305886899997,0.17648470599913318,0.10638311391185745,6.2101811747860045E-2,null,null,0.49102953068018224,0.37967091013139259,0.2954657340538831,0.22457292802116643,0.16475436261295176,0.11394735626595291,3.8585857723818485E-2,2.4745497399398093E-2,9.5574780745158565E-3,5.0529971535171843E-3,4.5984270786155468E-3]
[6365000,565000,26.520000052452101,null,226.37360711885123,0,1.9514095128481776E-5,2.4248077429115649E-3,null,null,6.2229999999999999,5.9939999999999998,4.8959999999999999,3.577,1.8220000000000001,1.0960000000000001,0.49444640174770405,0.29236920145344769,0.17681840101861984,0.10661560070967696,6.2192160275793149E-2,null,null,0.49102953068018224,0.37967091013139259,0.2954657340538831,0.22457292802116643,0.16475436261295176,0.11394735626595291,3.8593970540215995E-2,2.4749298184663933E-2,9.5587497138365837E-3,5.0539685827317004E-3,4.5993559579558807E-3]
[6365000,575000,28.082954536784801,null,225.49281585008424,0,1.9666839800413043E-5,2.5878121575097922E-3,null,null,6.2229999999999999,5.9939999999999998,4.8959999999999999,3.577,1.8220000000000001,1.0960000000000001,0.54652404516566966,0.33567867021430675,0.20717097710436078,0.12776237488269837,7.041017495441447E-2,null,null,0.49102953068018224,0.37967091013139259,0.2954657340538831,0.22457292802116643,0.16475436261295176,0.11394735626595291,4.4172720423274997E-2,2.8138471598942595E-2,1.1904408310698106E-2,6.3932323389804865E-3,5.2105312503118121E-3]
[6365000,585000,27.2816092830965,null,225.05334923079903,0,1.9743722532780013E-5,2.5237968599305105E-3,null,null,6.2229999999999999,5.9939999999999998,4.8959999999999999,3.577,1.8220000000000001,1.0960000000000001,0.51982322131277547,0.31347339323460399,0.191608852277734,0.11692017360029566,6.6196701610521394E-2,null,null,0.49102953068018224,0.37967091013139259,0.2954657340538831,0.22457292802116643,0.16475436261295176,0.11394735626595291,4.018037177482861E-2,2.5686672631233465E-2,1.0198399715966833E-2,5.4263470845065387E-3,4.7734737757765206E-3]
[6365000,595000,27.8447058509378,null,225.05779257781765,0,1.9742942934405455E-5,2.5757867000034368E-3,null,null,6.2229999999999999,5.9939999999999998,4.8959999999999999,3.577,1.8220000000000001,1.0960000000000001,0.53858559895324754,0.3290767991294864,0.20254418762521204,0.12453887016318849,6.9157463364230939E-2,null,null,0.49102953068018224,0.37967091013139259,0.2954657340538831,0.22457292802116643,0.16475436261295176,0.11394735626595291,4.2768170469786655E-2,2.7271423155722462E-2,1.1308816999815225E-2,6.0573439812227226E-3,5.0565621721136295E-3]
[6375000,555000,27.0111111005147,null,237.57737686909499,0,1.7716985681663682E-5,2.2422687030126572E-3,null,null,6.2229999999999999,5.9939999999999998,4.8959999999999999,3.577,1.8220000000000001,1.0960000000000001,0.51081022186914993,0.30597788859526232,0.18635577757199545,{"$f":"T$2+T$3*$C606","v":0.11326033318996392},6.4774422166506293E-2,null,null,0.49102953068018224,0.37967091013139259,0.2954657340538831,0.22457292802116643,0.16475436261295176,0.11394735626595291,3.9348502854498826E-2,2.5185165248047748E-2,9.8452902082561446E-3,{"$f":"SQRT(AG$2+2*AG$3*$C606+AG$4*$C606^2+AG$5)","v":5.2232694629563911E-3},4.6824915913665456E-3]
[6375000,565000,27.237662377295599,null,236.31548827785284,0,1.7906702854919357E-5,2.2852874310510746E-3,null,null,6.2229999999999999,5.9939999999999998,4.8959999999999999,3.577,1.8220000000000001,1.0960000000000001,0.5183589104114894,0.31225562447486099,0.19075540336708058,0.11632557196480947,6.5965628779820248E-2,null,null,0.49102953068018224,0.37967091013139259,0.2954657340538831,0.22457292802116643,0.16475436261295176,0.11394735626595291,4.0026017208200745E-2,2.5593096336929185E-2,1.0132296571570571E-2,5.3884758854388535E-3,4.7565996727311002E-3]
[6375000,575000,27.245783058993801,null,235.47188791870676,0,1.8035237607943154E-5,2.3023775104201536E-3,null,null,6.2229999999999999,5.9939999999999998,4.8959999999999999,3.577,1.8220000000000001,1.0960000000000001,0.5186294915256735,0.31248064856471813,0.19091310700565961,0.11643544478818618,6.6008327324189389E-2,null,null,0.49102953068018224,0.37967091013139259,0.2954657340538831,0.22457292802116643,0.16475436261295176,0.11394735626595291,4.005398901045247E-2,2.5610040590929091E-2,1.0144264334076692E-2,5.3953362806396267E-3,4.7596576634863948E-3]
[6375000,585000,26.970000012715701,null,235.05107955506182,0,1.8099871834807538E-5,2.2872404243616026E-3,null,null,6.2229999999999999,5.9939999999999998,4.8959999999999999,3.577,1.8220000000000001,1.0960000000000001,0.50944040042368721,0.30483870035235205,0.18555740024693895,0.11270410017204346,6.4558260066859149E-2,null,null,0.49102953068018224,0.37967091013139259,0.2954657340538831,0.22457292802116643,0.16475436261295176,0.11394735626595291,3.9247286688061142E-2,2.5124810166543762E-2,9.8032515649298085E-3,5.1989173368545251E-3,4.6714068256752369E-3]
[6375000,595000,27.8511904307774,null,235.05533391097512,0,1.8099216647804264E-5,2.3618858978084094E-3,null,null,6.2229999999999999,5.9939999999999998,4.8959999999999999,3.577,1.8220000000000001,1.0960000000000001,0.53880166515350303,0.32925648683684172,0.20267011816569708,0.12462660652841828,6.9191559285027557E-2,null,null,0.49102953068018224,0.37967091013139259,0.2954657340538831,0.22457292802116643,0.16475436261295176,0.11394735626595291,4.2804131934723488E-2,2.7293579417375292E-2,1.1324149035421198E-2,6.0660081347350733E-3,5.0605011139642072E-3]
[6385000,555000,26.704597626609399,null,247.47325107978844,0,1.632839404856162E-5,2.0430776970502382E-3,null,null,6.2229999999999999,5.9939999999999998,4.8959999999999999,3.577,1.8220000000000001,1.0960000000000001,0.50059719291862526,0.29748440023334644,0.18040328590875448,0.1091132058880252,6.3162774320712198E-2,null,null,0.49102953068018224,0.37967091013139259,0.2954657340538831,0.22457292802116643,0.16475436261295176,0.11394735626595291,3.8759853293540196E-2,2.4839365309264706E-2,9.6102453026861712E-3,5.0858458907306345E-3,4.6178528466498123E-3]
[6385000,565000,27.481609169094,null,246.26207584603847,0,1.6489402837925165E-5,2.1232564827933886E-3,null,null,6.2229999999999999,5.9939999999999998,4.8959999999999999,3.577,1.8220000000000001,1.0960000000000001,0.52648721751421212,0.31901539007559465,0.19549285006380551,0.11962617205784187,6.7248301011096231E-2,null,null,0.49102953068018224,0.37967091013139259,0.2954657340538831,0.22457292802116643,0.16475436261295176,0.11394735626595291,4.0973168539332951E-2,2.6169566195634552E-2,1.0539182997983211E-2,5.6208892953686501E-3,4.8601427479033699E-3]
[6385000,575000,26.705494513878499,null,245.45266346079848,0,1.6598334091600565E-5,2.0769234886678094E-3,null,null,6.2229999999999999,5.9939999999999998,4.8959999999999999,3.577,1.8220000000000001,1.0960000000000001,0.5006270772024316,0.2975092529795732,0.18042070345952049,0.10912534077277614,6.3167490153973146E-2,null,null,0.49102953068018224,0.37967091013139259,0.2954657340538831,0.22457292802116643,0.16475436261295176,0.11394735626595291,3.8761009262178736E-2,2.4840021961408599E-2,9.6106635205680437E-3,5.0860958954013673E-3,4.6179805966094362E-3]
[6385000,585000,26.947674263355299,null,245.04899510097974,0,1.6653063888980018E-5,2.1026685022239294E-3,null,null,6.2229999999999999,5.9939999999999998,4.8959999999999999,3.577,1.8220000000000001,1.0960000000000001,0.50869650645499864,0.30422005383757533,0.1851238341943599,0.11240203278319721,6.444087127672217E-2,null,null,0.49102953068018224,0.37967091013139259,0.2954657340538831,0.22457292802116643,0.16475436261295176,0.11394735626595291,3.9195172094821873E-2,2.5093825649813547E-2,9.7817574449264328E-3,5.1864430313923234E-3,4.665696820432488E-3]
[6395000,585000,26.939285687037898,null,255.04707408633411,0,1.5373024124425568E-5,1.9404424032590261E-3,null,null,6.2229999999999999,5.9939999999999998,4.8959999999999999,3.577,1.8220000000000001,1.0960000000000001,0.50841699909210281,0.30398760638782008,0.18496092804227598,0.11228853534562278,6.4396764142445259E-2,null,null,0.49102953068018224,0.37967091013139259,0.2954657340538831,0.22457292802116643,0.16475436261295176,0.11394735626595291,3.9176111838821026E-2,2.5082510957866764E-2,9.7739260144830645E-3,5.1818935675151563E-3,4.6636079305114337E-3]
[6395000,595000,26.634090878746701,null,255.05099490101972,0,1.5372551479216081E-5,1.9184001739255723E-3,null,null,6.2229999999999999,5.9939999999999998,4.8959999999999999,3.577,1.8220000000000001,1.0960000000000001,0.4982479080798401,0.29553065825007108,0.17903404486526092,0.1081592495894429,6.2792049840450156E-2,null,null,0.49102953068018224,0.37967091013139259,0.2954657340538831,0.22457292802116643,0.16475436261295176,0.11394735626595291,3.8679539208162472E-2,2.4794355601329882E-2,9.5824321256208107E-3,5.0690576058525097E-3,4.6089531689081356E-3]
[]
[null,null,null,"sum",null,{"$f":"SUM(F8:F616)","v":0},{"$f":"SUM(G8:G616)","v":0.21342467473709573},null,null,"average",{"$f":"AVERAGE(K8:K616)","v":6.2229999999999634},{"$f":"AVERAGE(L8:L616)","v":5.9940000000000442},4.8960000000000372,3.5770000000000119,1.8219999999999938,1.0960000000000034,0.48225812126622974,0.28223302942038475,0.16971466731663182,0.10166639798115497,6.0268811573164258E-2,null,null,{"$f":"AVERAGE(X8:X616)","v":0.49102953068018035},0.37967091013138837,0.29546573405388377,0.22457292802116374,0.16475436261295301,0.11394735626595318,4.1461193059108406E-2,2.6569411610368618E-2,1.0912914676205018E-2,5.8117569198677041E-3,4.9103642919347251E-3]
[null,null,null,null,null,null,null,null,null,"min",{"$f":"MIN(K8:K616)","v":6.2229999999999999},{"$f":"MIN(L8:L616)","v":5.9939999999999998},4.8959999999999999,3.577,1.8220000000000001,1.0960000000000001,0.41036376699846877,0.22244333684056317,0.12781225555553005,7.2472802145536697E-2,4.8923658069566264E-2,null,null,{"$f":"MIN(X8:X616)","v":0.49102953068018224},0.37967091013139259,0.2954657340538831,0.22457292802116643,0.16475436261295176,0.11394735626595291,3.8563761133118449E-2,2.4738076554663296E-2,9.5567111467280558E-3,5.0520907952378525E-3,4.595697956726672E-3]
[null,null,null,null,null,null,null,null,null,"max",{"$f":"MAX(K8:K616)","v":6.2229999999999999},{"$f":"MAX(L8:L616)","v":5.9939999999999998},4.8959999999999999,3.577,1.8220000000000001,1.0960000000000001,0.60830406267104586,0.38705695007847163,0.24317841827946302,0.15284891860561972,8.0159254547549755E-2,null,null,{"$f":"MAX(X8:X616)","v":0.49102953068018224},0.37967091013139259,0.2954657340538831,0.22457292802116643,0.16475436261295176,0.11394735626595291,5.9476236022973993E-2,3.7687638909087842E-2,1.8025654152950175E-2,9.8030327897208353E-3,6.9028772813473187E-3]

{"sheet":"MAP","index":7,"n_rows":620,"n_cols":34,"rows_kept":620,"cut":false,"hidden":true,"merged":[]}
[null,null,null,"Northing",{"$f":"Beregn!B3","v":6140000},null,null,null,null,"lambda",null,null,null,null,null,null,null,null,null,null,null,null,"Std(lambda)"]
[null,null,null,"Easting",{"$f":"Beregn!B4","v":589900},null,null,null,null,"b_0",-0.83220000000000005,-0.37459999999999999,0.27929999999999999,0.4209,1.0660000000000001,1.6950000000000001,1.2,0.18429999999999999,-0.92510000000000003,-3.0720000000000001,-5.1680000000000001,null,"V(b_0)",1.353,1.427,1.4379999999999999,1.84,1.587,1.6439999999999999,1.3939999999999999,1.3560000000000001,1.3009999999999999,1.2809999999999999,1.111]
[null,null,null,null,null,null,null,null,null,"b_1",7.2909999999999997E-3,6.6309999999999997E-3,5.4900000000000001E-3,5.875E-3,4.339E-3,3.258E-3,3.3519999999999999E-3,4.3620000000000004E-3,5.5240000000000003E-3,8.8509999999999995E-3,1.239E-2,null,"Cov",-1.8829999999999999E-3,-1.9840000000000001E-3,-2E-3,-2.5630000000000002E-3,-2.2060000000000001E-3,-2.2829999999999999E-3,-1.9300000000000001E-3,-1.8730000000000001E-3,-1.7949999999999999E-3,-1.761E-3,-1.5200000000000001E-3]
[null,null,null,"MAP",null,null,null,{"$f":"SUM(H8:H616)","v":675.69619700264082},null,null,null,null,null,null,null,null,null,null,null,null,null,null,"V(b_1)",2.694E-6,2.8389999999999998E-6,2.8600000000000001E-6,3.6660000000000001E-6,3.1489999999999998E-6,3.2540000000000001E-6,2.7460000000000001E-6,2.6620000000000001E-6,2.553E-6,2.5009999999999999E-6,2.154E-6]
[null,null,null,null,null,null,null,null,null,null,null,null,null,null,null,null,null,null,null,null,null,null,"Res.var.",0.35709999999999997,0.39290000000000003,0.39739999999999998,0.52359999999999995,0.41870000000000002,0.4128,0.31069999999999998,0.311,0.313,0.28889999999999999,0.2094]
[]
["Northing","Easting","MAP [mm]",null,"dist","dist = 0?","1/dist^2","w*MAP",null,null,1,2,5,10,30,60,180,360,720,1440,2880,null,null,1,2,5,10,30,60,180,360,720,1440,2880]
[6055000,655000,592.90052893591201,null,{"$f":"(SQRT(($A8-E$1)^2+($B8-E$2)^2)/1000)","v":107.06544727408559},{"$f":"IF(E8=0,1,0)","v":0},{"$f":"IF($F$618=0,1/E8^2,F8)","v":8.7237121837981468E-5},{"$f":"G8/$G$618*C8","v":0.24234749681263426},null,null,{"$f":"K$2+K$3*$C8","v":3.4906377564717337},{"$f":"L$2+L$3*$C8","v":3.5569234073740321},3.5343239038581569,3.9041906074984829,3.6385953950529224,3.6266699232732016,3.187402572993177,2.7705321072184481,2.3500825218419781,2.1757625816117567,2.1780375535159493,null,null,{"$f":"SQRT(X$2+2*X$3*$C8+X$4*$C8^2+X$5)","v":0.65135337742103394},{"$f":"SQRT(Y$2+2*Y$3*$C8+Y$4*$C8^2+Y$5)","v":0.68210506216311273},0.68496470761934636,0.78301000702129087,0.70483622389663592,0.70249425618153594,0.61758253415463504,0.6178755859116839,0.61882617844072185,0.60073576650316129,0.52457625393313267]
[6055000,665000,592.83688861232702,null,113.42402743687072,{"$f":"IF(E9=0,1,0)","v":0},{"$f":"IF($F$618=0,1/E9^2,F9)","v":7.7730215522568572E-5},{"$f":"G9/$G$618*C9","v":0.21591383085545204},null,null,3.4901737548724761,3.5565014083883404,3.5339745184816755,3.9038167205974212,3.6383192596888874,3.6264625830989612,3.1871892506285198,2.7702545081269707,2.3497309726944944,2.175199301107706,2.1772490499067318,null,null,0.65138130198505817,0.68213313045804602,0.68499298853301394,0.78304166710370038,0.70486683695537788,0.70252630735484423,0.61761365190883466,0.61790594745479721,0.61885511768513601,0.6007652412821044,0.52460572852242571]
[6055000,685000,584.881848164286,null,127.55002940023181,0,6.1466555125357978E-5,0.16844665410078138,null,null,3.432173554965809,3.5037515351773805,3.4903013464219304,3.8570808579651801,3.6038023391848366,3.6005450613192438,3.1605239550466866,2.7355546216926157,2.3057873292595161,2.1047892381020947,2.0786860987555036,null,null,0.65499369096046856,0.68576467132251895,0.68865142677219415,0.78713770604000532,0.70882476290397844,0.70666813385163241,0.62163200837698385,0.62182601692058304,0.62259272804533339,0.60457022612916866,0.52840713257560323]
[6055000,695000,567.20802115744004,null,135.17029999226901,0,5.4731511832131889E-5,0.14545718558315651,null,null,3.3033136822588949,3.3865563882949847,3.3932720361543458,3.7532471242999601,3.5271156038021321,3.5429637329309398,3.1012812869197388,2.6584613882887536,2.2081571088736989,1.9483581952645013,1.859707382140682,null,null,0.66386864566863213,0.69469106415843218,0.69763976497122715,0.79720468569476854,0.71853325907707766,0.71681317493789265,0.63145365748794413,0.6314036276967071,0.63173330922882365,0.6138627066259269,0.5376645188767083]
[6065000,605000,579.45878344742096,null,76.504967159002163,0,1.708522623402318E-4,0.46387253117224803,null,null,3.3926339901151454,3.4677911930398482,3.4605287211263414,3.8252203527535982,3.5802716613783598,3.5828767164716977,3.1423458421157551,2.7118992133976505,2.2758303197635534,2.0567896922931226,2.0114943269135459,null,null,0.65759355781174755,0.68837898200607217,0.69128443054462052,0.7900861940404873,0.71167084550971638,0.70964417159420112,0.62451607719945978,0.62463889050362598,0.62527602963853712,0.60729987770936567,0.53113013841485457]
[6065000,615000,585.67735220908799,null,79.088621179029289,0,1.598718467276631E-4,0.43871834406952143,null,null,3.4379735749564597,3.5090265224984623,3.4946686636278934,3.8617544442283918,3.6072540312352332,3.6031368134972088,3.1631904846048631,2.7390246103360418,2.3101816936030022,2.1118302444026371,2.0885423938705996,null,null,0.65462162981372718,0.68539058747759929,0.68827462492155078,0.78671579188505592,0.70841730702895334,0.7062419235300843,0.62121875460954956,0.62142292403455934,0.6222082928756244,0.60417901793020157,0.5280166067869726]
[6065000,635000,590.07762601120396,null,87.515770007467793,0,1.3056517748377404E-4,0.36098726665162773,null,null,3.4700559712476879,3.5382047380802932,3.5188261668015097,3.8876060528158232,3.626346819262614,3.6174729055445027,3.1779402023895553,2.7582186046608719,2.3344888060858908,2.1507770678251656,2.1430617862788166,null,null,0.6526069594747218,0.68336516284109439,0.68623427883746557,0.78443133030654077,0.70621022174615711,0.70393255457360981,0.61897860234032043,0.61923764801896264,0.62012457576476643,0.60205797444332887,0.52589802575281186]
[6065000,645000,597.84174548849001,null,93.064547492587096,0,1.1545997522228934E-4,0.32342461435624059,null,null,3.5266641663565803,3.5896886143341771,3.5614511827318105,3.9332202547448789,3.6600353336745579,3.6427684068015003,3.2039655308774186,2.7920856938207934,2.3773778020784189,2.2194972893186247,2.2392592266023907,null,null,0.6492328781924176,0.67997384999086585,0.6828171135973321,0.78060597988756397,0.70251069386566312,0.70005870840844797,0.61521685053956854,0.61556713114900874,0.61662630272192787,0.59849450186613895,0.52233367775813844]
[6065000,655000,608.478771001871,null,99.312688011149916,0,1.0138892690973648E-4,0.28906221698700335,null,null,3.6042187193746411,3.6602227305134063,3.6198484528002721,3.9957127796359924,3.7061893873771181,3.6774238359240958,3.2396208403982714,2.8384843991101616,2.4361367310143356,2.3136456021375595,2.3710519727131816,null,null,0.64499053463616951,0.67571133494123548,0.67852020029323046,0.77579712319289773,0.69785214939757789,0.69517462930858298,0.61046588673208668,0.61092919386617228,0.61220936695335582,0.59398994254620052,0.51781783818949156]
[6065000,665000,632.82574051027302,null,106.13675141062119,0,8.8770449382645928E-5,0.26321335822674924,null,null,3.7817324740604006,3.8216674853236201,3.7535133154013991,4.1387512254978542,3.8118308880740743,3.7567462625824692,3.3212318821904354,2.9446858801058111,2.5706293905787483,2.5291406292564265,2.6727109249222822,null,null,0.63697737709640145,0.66766555994609356,0.67040041245266357,0.76671538004082629,0.68901950675275181,0.68588767339975076,0.60139747010855382,0.60206453505545465,0.60378097216228521,0.58537104042787191,0.50913526778527785]
[6065000,675000,639.79890168015504,null,113.43284356834224,0,7.7718133428045837E-5,0.23298138544264982,null,null,3.8325737921500096,3.8679065170411082,3.7917959702240513,4.1797185473709106,3.8420874343901925,3.7794648216739448,3.3446059184318795,2.9751028091288365,2.6091491328811767,2.5908600787710521,2.7591083918171204,null,null,0.63512706906653538,0.66580905501304988,0.6685239922471139,0.76461815855930171,0.68696957874030551,0.68372446781430762,0.59927549099045574,0.59998617283045297,0.60180868145898747,0.58334740712110533,0.50708517410946696]
[6065000,685000,626.48443683883499,null,121.11568849657752,0,6.8170926326998214E-5,0.20010818543526182,null,null,3.7354980289919455,3.7796183006783144,3.7186995582452043,4.1014960664281555,3.7843159714437054,3.7360862952209244,3.2999758322837751,2.9170251134909986,2.5356000290977248,2.4730137504605283,2.5941421724331652,null,null,0.63883341982928132,0.66952840174373085,0.67228187280656204,0.76881892328583834,0.69107079460896492,0.68804863824908424,0.60351280368123961,0.6041344047811803,0.60574692032286093,0.58738502722354524,0.51117037732157566]
[6065000,695000,623.62516801493803,null,129.11626543545938,0,5.9984368073679995E-5,0.17527383684336786,null,null,3.7146510999969129,3.7606584891070538,3.7030021724020101,4.0846978620877605,3.7719096040168161,3.7267707973926685,3.2903915631860725,2.9045529828811598,2.5198054281145179,2.4477063621002157,2.558715831705082,null,null,0.63972393471335309,0.67042235902635117,0.67318437998797498,0.7698281629827477,0.6920535770011883,0.68908290817209628,0.60452392927094012,0.60512325091638997,0.60668662820285546,0.58834678724007561,0.51214067942888819]
[6075000,515000,886.89154947106601,null,99.171618923964331,0,1.0167757836545158E-4,0.42252370834855146,null,null,5.634126287193542,5.5063778645426389,5.1483346065961522,5.6313878531425123,4.9142224331549551,4.5844926681767335,4.1728604738270132,4.0529209387927905,3.9740889192781688,4.7778771043684047,5.8205862979465079,null,null,0.69935959304311757,0.73061984462793061,0.73310499712664234,0.83724775798405315,0.75476106269545762,0.75284361476841144,0.66425749449920446,0.66224709853204666,0.6619587975052319,0.64303661691337566,0.56438969711973574]
[6075000,525000,889.27351586808004,null,91.853198093479577,0,1.1852540177148065E-4,0.49385808310514595,null,null,5.6514932041941712,5.5221726837212382,5.1614116021157592,5.6453819057249701,4.9245577853515989,4.5922531146982051,4.180844825189804,4.0633110762165661,3.9872469016552743,4.7989598889483762,5.8500988616055123,null,null,0.70109274507049413,0.73236934531605202,0.73485717017485519,0.83921620267103136,0.75662256547157802,0.75476112821850305,0.66607905744900009,0.66401104746462025,0.66365603632742287,0.64473866764727816,0.56604559998072901]
[6075000,545000,717.69920348475898,null,79.000063291113875,0,1.6023047551598222E-4,0.53881906950760239,null,null,4.4005448926073774,4.3844634183074369,4.2194686271313264,4.6373828204729586,4.180096843920369,4.0332640049533452,3.6057277300809121,3.3149039256005191,3.039470400049809,3.2803556500436013,3.7242931311761636,null,null,0.62841311478952844,0.6591025451358391,0.66163942262637609,0.75696875277368469,0.67914378752141391,0.67520017934976739,0.59061333318797271,0.59133245997097683,0.59370877538616484,0.57481202508298745,0.49809929267243175]
[6075000,595000,564.55331051649296,null,65.199769938244415,0,2.3523821397738418E-4,0.62225472581608854,null,null,3.2839581869757497,{"$f":"L$2+L$3*$C24","v":3.3689530020348646},3.3786976747355464,3.7376506992843961,3.5155968143310634,3.5343146856627339,3.0923826968512844,2.6468815404729424,2.1934924872931072,1.9248613513814785,1.8268155172993472,null,null,0.66530075835914415,{"$f":"SQRT(Y$2+2*Y$3*$C24+Y$4*$C24^2+Y$5)","v":0.69613202354805859},0.69909027852009575,0.79882968450998992,0.72009823001343565,0.71844686462711482,0.63303281967548009,0.63294321324294012,0.63320367941573252,0.61535604477339478,0.53914911173445801]
[6075000,605000,579.31786558805697,null,66.730877410685977,0,2.2456720285829134E-4,0.60956303576989057,null,null,3.3916065580025228,3.4668567667144057,3.4597550820784329,3.8243924603298347,3.5796602187865796,3.5824176060858894,3.1418734854511667,2.7112845296951047,2.2750518895084269,2.0555424283198915,2.0097483546360255,null,null,0.65766258401303013,0.68844839895477006,0.69135433700942961,0.79016448243231874,0.71174638349136288,0.70972313474929916,0.62459256551264886,0.62471348445666908,0.62534720200083571,0.60737225822555285,0.53120229908886318]
[6075000,615000,583.263565650283,null,69.677901805378724,0,2.0597279923213342E-4,0.56289850016214116,null,null,3.4203746571562128,3.4930207038270265,3.4814169754200539,3.8475734481954125,3.5967806113565777,3.5952726968886219,3.1550994720597485,2.7284956733665346,2.2968479366521635,2.090465819570654,2.0586355784070065,null,null,0.65575794191124015,0.68653311226443769,0.68942541602554974,0.78800438912098703,0.7096615891123349,0.70754335739082785,0.6224804537761186,0.62265356765073487,0.62338204607206038,0.60537334406498533,0.52920863376708627]
[6075000,625000,573.05838518979897,null,73.871577754911939,0,1.8325053463343478E-4,0.4920389621844925,null,null,3.3459686864188241,3.4253501521935568,3.4253905346919966,3.7876180129900692,3.5525003333385374,3.5620242189483653,3.1208917071562059,2.683980676197903,2.2404745197884495,2.0001397673149102,1.9321933925016088,null,null,0.66080308001424848,0.69160705903659403,0.69453493069300443,0.79372673759620382,0.71518188879769717,0.71331319460166187,0.6280683162013232,0.6281028650224022,0.6285818662988919,0.61066074490277678,0.53447853583889349]
[6075000,635000,581.69983198506702,null,79.113905225314213,0,1.5976967603502793E-4,0.43546039754010979,null,null,3.4089734750031235,3.4826515858929792,3.4728320775980182,3.838386512912269,3.5899955709832057,3.5901780526073486,3.1498578368139443,2.7216746671188625,2.2882098718855102,2.0766252128998275,2.0392609182949801,null,null,0.65650579571849776,0.68728511147707505,0.6901828007272377,0.78885251561800918,0.7104802983626195,0.70839947992749064,0.62331016333845968,0.62346280260066256,0.62415398605826,0.6061586448874281,0.52999207804093718]
[6075000,645000,606.31045426260403,null,85.211560248595376,0,1.377218871754756E-4,0.39124913779593096,null,null,3.5884095220286456,3.6458446222153267,3.6079443939016964,3.9829739187927986,3.6967810610454386,3.670359459987564,3.232352642688249,2.8290262014934791,2.4241589493466247,2.2944538306783082,2.3441865283136636,null,null,0.64581928262113897,0.67654388420243272,0.67935966352236588,0.77673647312439176,0.69876292067698975,0.69613009408166626,0.61139611234117286,0.61183752675705894,0.61307409178321604,0.59487234750353779,0.51870343882409875]
[6075000,655000,623.48879589297303,null,91.994619407876229,0,1.1816126886296958E-4,0.34519076735298238,null,null,3.7136568108556656,3.7597542055663036,3.7022534894524219,4.0838966758712161,3.7713178853796103,3.726326497019306,3.2899344438332454,2.9039581276851485,2.5190521085127831,2.4464993324487043,2.5570261811139359,null,null,0.63976723675601477,0.67046583123499737,0.67322826235664401,0.76987723801599606,0.69210134506762633,0.68913316313345918,0.60457304016958813,0.60517127181398467,0.60673227046236455,0.58839348709322603,0.51218777084046763]
[6075000,665000,643.84460796515805,null,99.322756707614587,0,1.0136837164888836E-4,0.30580100255390508,null,null,3.8620710366739672,3.8947335954169624,3.814006897728718,4.203487071795303,3.8596417539608208,3.7926457327504854,3.3581671258992101,2.9927501799440197,2.631497614399533,2.6266686250996134,2.8092346926883076,null,null,0.63414577581472675,0.66482475635278626,0.66752841337877045,0.76350577780334583,0.68587978048402343,0.68257253897793757,0.59814324166844735,0.59887612158807835,0.60075615437339502,0.58226585391935792,0.50598683342082129]
[6075000,675000,641.80811761045902,null,107.08412580770317,0,8.7206691195002009E-5,0.26224691398895961,null,null,3.8472229854978561,3.8812296278749532,3.80282656568142,4.1915226909614463,3.8508054223117814,3.7860108471748752,3.3513408102302584,2.9838670090168224,2.6202480416801759,2.6086436489701725,2.7840025771935872,null,null,0.63463123517745768,0.66531167551832515,0.6680209852047394,0.76405610400549961,0.68641918381515876,0.68314288408771373,0.5987040670637519,0.59942606041153479,0.60127750941323255,0.58280174760590409,0.50653130381003197]
[6075000,685000,641.23535469819899,null,115.19118889915148,0,7.5363572715673582E-5,0.22643017889654943,null,null,3.8430469711045685,3.8774316370037569,3.7996820972931125,4.1881577088519188,3.8483202040354856,3.7841447856067321,3.3494209089483631,2.9813686171935441,2.6170840993528515,2.6035741244337585,2.7769060447106853,null,null,0.63477087506925711,0.66545174528572604,0.66816265410144671,0.76421439643489253,0.68657424190938354,0.68330676635168031,0.59886513094396798,0.59958395739585724,0.60142723106529639,0.58295558477500709,0.5066875073307251]
[6075000,695000,612.76540136901497,null,123.57592807662826,0,6.5483553478126201E-5,0.18801038811244339,null,null,3.6354725413814881,{"$f":"L$2+L$3*$C34","v":3.6886473764779382},3.6433820535158925,4.0208967330429628,3.7247890765401559,3.6913896776602506,3.2539896253889378,2.8571826807716434,2.4598160771624387,2.3515865675171508,2.4241633229620954,null,null,0.64340693968274154,{"$f":"SQRT(Y$2+2*Y$3*$C34+Y$4*$C34^2+Y$5)","v":0.67412067713209556},0.67691602483073154,0.77400226165416497,0.69611069136655312,0.69334679181565417,0.60868512141599107,0.60918994744793165,0.61055410738087146,0.59230003427550892,0.51612033033368665]
[6085000,475000,747.89653702552005,null,127.38528172438133,0,6.1625647608524309E-5,0.21595257668845089,null,null,4.620713651453066,4.5847019370162228,4.3852519882701051,4.8147921550249295,4.3111230741537314,4.1316469176291442,3.7069491921095432,3.4466246945053185,3.2062804705289731,3.5476322492128771,4.0984380937461937,null,null,0.63277837149920735,0.66350509065249408,0.66599748495692379,0.76187704305523785,0.68364552526277877,0.67972553775023115,0.59480446612455529,0.59528751273201286,0.59755335871394655,0.57856790531719404,0.50163011180205597]
[6085000,485000,756.40161169882197,null,118.44412184654838,0,7.1280867288568472E-5,0.2526275978481865,null,null,4.6827241508961102,4.6410990871748883,4.4319448482265331,4.8647594687305791,4.3480265931611886,4.1593564509147622,3.7354582024144509,3.4837238302302618,3.2532625030242923,3.6229106651462724,4.2038159689484038,null,null,0.63470138257349562,0.66544234326779039,0.66792489997091564,0.76404387057408452,0.6856643858736059,0.68178065289561529,0.59673742152340936,0.597130880572178,0.59933322080144902,0.58033108002791667,0.5033249249903492]
[6085000,495000,797.33597697573202,null,109.68596081541156,0,8.3118541169860212E-5,0.31052362296021341,null,null,4.9811766081300615,4.912534863326079,4.6566745135967693,5.1052488647324257,4.5256408040977014,4.2927206129869351,3.8726701948226534,3.6622795315681431,3.4793839368139436,3.9852207322122037,4.7109927547293191,null,null,0.64809630860999046,0.67893293749152805,0.68138522159746673,0.779163465674379,0.6998668476856168,0.69633113771683608,0.6105226987815674,0.61035376270459363,0.61206205575600447,0.59302620869676914,0.51564777515389404]
[6085000,505000,851.30751711263395,null,101.15834122799761,0,9.7722957370314302E-5,0.38979695438826523,null,null,5.374683107268214,5.2704201459738753,4.9529782689483604,5.422331663036724,4.759823316751719,4.4685598907529611,4.0535827973615488,3.8977033896453097,3.7775227245301903,4.4629228339639226,5.3797001370255346,null,null,0.67563574734567966,0.70668564121185606,0.70914171306583706,0.8103318103266467,0.72930696513311211,0.72662463698187096,0.63933280057789621,0.63813684253101099,0.63877040726503542,0.61978292244074418,0.54173950993183939]
[6085000,515000,875.02717485998903,null,92.924754505998024,0,1.1580762500564562E-4,0.47480367047888455,null,null,5.5476231319041798,5.4277051964965866,5.0831991899813396,5.5616846523024348,4.8627429117174925,4.5458385356938447,4.1330910901306828,4.0011685367392724,3.9085501139265797,4.6728655246857622,5.6735866965152644,null,null,0.69099169846253983,0.72217488100198346,0.72464806136932558,0.82774772406162345,0.7457767666687295,0.74358887783000693,0.65546315369970742,0.65373431072994437,0.65376943918990071,0.63482387680245345,0.55639561074026533]
[6085000,525000,871.24512134412396,null,85.070617724335349,0,1.3817861243800963E-4,0.56407461840583339,null,null,5.5200481797200069,5.4026263996328856,5.062435716179241,5.539465087896728,4.8463325815121543,4.5335166053391562,4.1204136467455035,3.9846712193030691,3.8876580503049412,4.6393905690168404,5.6267270534536964,null,null,0.68841864487190085,0.71957875525081461,0.72204859283574863,0.82482787375557709,0.74301537681663199,0.74074438772959361,0.65275931888954664,0.65111823432248994,0.65125323438516036,0.63230048580742393,0.5539381152362528]
[6085000,535000,804.945541381461,null,77.711067422858122,0,1.6559005532363745E-4,0.62453405115441363,null,null,5.0366579422122317,4.9629938849004676,4.6984510221842211,5.1499550556160827,4.5586587040541593,4.3175125738208004,3.8981774547106571,3.6954724515059332,3.5214191705911904,4.052572986767311,4.8052752577163025,null,null,0.65132038475898368,0.68218044263161759,0.68463025261906951,0.78280737530070565,0.70330285550292471,0.69986192371621592,0.61387792238474215,0.61358223576252835,0.61516623454035002,0.5961317405186688,0.51867383910024689]
[6085000,545000,721.458528313633,null,71.000070422500286,0,1.9837294510425488E-4,0.67057781959117246,null,null,4.4279541299346974,4.4093915012477005,4.2401073204418447,4.6594688538425935,4.1964085543528533,4.0455118852458165,3.6183289869072981,3.3313021005040673,3.0602369104045088,3.3136294341039649,3.7708711658059135,null,null,0.62874531388224031,0.65943831870813452,0.66196886168775426,0.75734101425491784,0.67947557433145833,0.67552586597464603,0.59090582438098527,0.59160270725944331,0.59397519407235655,0.57506485362839188,0.49832545682844542]
[6085000,555000,688.28828251400603,null,65.138391137638635,0,2.3568174479909312E-4,0.76006667714263532,null,null,4.1861098678096171,4.1894396013503741,4.0580026710018933,4.4645936597697853,4.0524828578282719,3.9374432244306314,3.5071423229869483,3.1866134883260946,2.8770044726073696,3.0200395885314668,3.3598918203485342,null,null,0.6279043996322955,0.65857582113788959,0.66116975362138652,0.75641780084086796,0.67880906763501014,0.67500232190726095,0.59059237722245661,0.59141355785338467,0.59372150513667699,0.57495591949358804,0.49843878045942425]
[6085000,565000,653.39974797760203,null,60.373918209770018,0,2.7434766982806631E-4,0.83991552778383416,null,null,3.9317375625046962,{"$f":"L$2+L$3*$C44","v":3.9580937288394793},3.8664646163970353,4.2596235193684118,3.9011015064748156,3.8237763789110275,3.3901959552209222,3.0344297006783001,2.6842802078282739,2.7112411693497549,2.9276228774424888,null,null,0.63209910971842942,{"$f":"SQRT(Y$2+2*Y$3*$C44+Y$4*$C44^2+Y$5)","v":0.66277263360872729},0.66545046980911082,0.76118511773160968,0.68359838886755941,0.68015511120095096,0.59576012974276005,0.59653623534983446,0.59854017127359538,0.57998370278528277,0.50366123236128213]
[6085000,575000,621.86596764157196,null,56.982541185875519,0,3.0797564528597081E-4,0.89736377905562481,null,null,3.7018247700747011,3.7489932314312631,3.6933441623522301,4.0743625598942348,3.7642764335967804,3.7210393225762415,3.2844947235345492,2.896879350852537,2.5100876052520436,2.4321356795955529,2.5369193390790761,null,null,0.6402883122396541,0.67098897395946189,0.67375630247632379,0.7704677829870975,0.69267602158054942,0.68973765044072277,0.605163631162149,0.60574870130177805,0.60728115101195113,0.58895499278388486,0.5127538231692278]
[6085000,585000,598.20540448040094,null,55.217841319631468,0,3.2797531001866177E-4,0.91927797585251358,null,null,{"$f":"K$2+K$3*$C46","v":3.5293156040666025},3.5921000371095384,3.5634476705974012,3.9353567513223555,3.6616132500404595,3.6439532077971464,3.2051845158183037,2.7936719743435092,2.3793866543497351,2.2227160350560284,2.2437649615121673,null,null,{"$f":"SQRT(X$2+2*X$3*$C46+X$4*$C46^2+X$5)","v":0.64908054550643002},0.67982076329909935,0.68266283119424198,0.78043328904176801,0.70234356227393135,0.69988360911108483,0.61504669029525239,0.61540106601642053,0.616468082875819,0.59833325162477602,0.52217222924523055]
[6085000,595000,578.97693528314096,null,55.2359484393995,0,3.2776031543652756E-4,0.88914584582423062,null,null,3.38912083514938,3.4645960578625075,3.4578833747044442,3.8223894947884531,3.5781809221935488,3.5813068551524734,3.1407306870690883,2.7097973917050608,2.2731685905040706,2.0525248541910805,2.0055242281581167,null,null,0.65782988930784347,0.68861665287742246,0.6915237760297408,0.79035423874806932,0.71192946683449343,0.70991451480483037,0.62477794016180432,0.624894266769633,0.62551969494367854,0.60754767483631555,0.53137717378883198]
[6085000,605000,592.25503422527004,null,57.035164591679759,0,3.0740760096034127E-4,0.85305834225657251,null,null,3.485931454536443,3.5526431319477654,3.5307801378967327,3.9003983260734616,3.635794593503447,3.6245669015059301,3.1852388747231051,2.7677164592906283,2.3465168090603918,2.1700493079278651,2.1700398740510956,null,null,0.65163733316946848,0.68239048262242219,0.68525228654512538,0.78333195025046698,0.7051475047838196,0.70282014834273143,0.61789891899276728,0.61818427822667621,0.61912041671969964,0.601035439385319,0.5248759044027147]
[6085000,615000,602.71932171749302,null,60.456678704672484,0,2.7359706266193531E-4,0.77264841206684587,null,null,3.5622265746422412,3.622031822308696,3.588229076229037,3.9618760150902714,3.6811991369322019,3.6586595501555923,3.2203151663970369,2.8133616813317048,2.4043215331674315,2.2626687165215307,2.2996923960797382,null,null,0.6472325540411249,0.67796379714225563,0.68079113840941641,0.77833842638327788,0.70031522290478065,0.69775787123378008,0.61297996131135968,0.61338381692074062,0.61454652203399662,0.59637427125987608,0.52020966250237655]
[6085000,625000,551.77524268824402,null,65.245766146164613,0,2.3490665983871308E-4,0.607313467391978,null,null,3.1907932944399864,3.2842216342657458,3.3085460823584598,3.6625795507934336,3.4601527780242911,3.4926837406782991,3.049550613490994,2.5911436086061204,2.1229064406098601,1.8117626730336474,1.6684952569073435,null,null,0.67254641499551648,0.703424615345972,0.70642972473978016,0.8070535936321438,0.72801051945599393,0.72670062646263212,0.64100196198584081,0.64071178839388376,0.64062691056175203,0.62288991585963627,0.5466272135152116]
[6085000,635000,556.66191039204,null,71.126717905439733,0,1.9766713250220889E-4,0.51556252216825293,null,null,3.2264219886683634,3.3166251278096173,3.3353738880522998,3.6912887235532352,3.4813560291910619,3.5086045040572662,3.0659307236341178,2.6124592531300785,2.1499003930056291,1.8550145688799455,1.7290410697573755,null,null,0.6697071847219811,0.70056656880616275,0.70355359307475807,0.80383055932634573,0.72491109708983092,0.72346857232650164,0.63788311059348313,0.63767157066681313,0.6377210906559192,0.61994179588490828,0.54370315400313074]
[6085000,645000,601.90563472308997,null,77.852488720656837,0,1.6498900348291785E-4,0.46530613663132786,null,null,3.5562939827660482,3.6166362638488092,3.5837619346297642,3.9570956039981535,3.6776685490634877,3.6560085579278274,3.2175876875917977,2.8098123786621185,2.3998267262103492,2.2554667729340689,2.2896108142190847,null,null,0.64755980316490491,0.67829261197661606,0.68112259205392722,0.77870937939378537,0.70067452323425006,0.6981345221652383,0.61334628836636251,0.61374141035933638,0.61488709935851316,0.59672156629109963,0.52055775587707309]
[6085000,655000,591.33679527069501,null,85.22329493747587,0,1.3768396298504339E-4,0.38148163295569132,null,null,3.4792365743186364,3.5465542894399782,3.5257390060361158,3.8950036722153332,3.6318103546795459,3.6215752789919247,3.1821609377473696,2.763711100970772,2.3414444570753195,2.1619219749409213,2.1586628934039114,null,null,0.6520440234130358,0.68279928281518143,0.68566416449930145,0.78379305597152482,0.70559328029641322,0.70328680301785307,0.61835189689702319,0.61862622786296484,0.6195416987331186,0.6014644626780481,0.52530481712719457]
[6085000,665000,603.02388612321704,null,93.086035472566991,0,1.1540667581456917E-4,0.3260774894936162,null,null,3.5644471537243749,{"$f":"L$2+L$3*$C54","v":3.6240513888830521},3.5899011348164618,3.9636653309739001,3.6825206418886385,3.6596518209894411,3.2213360662850237,2.8146901912694728,2.4060039469446513,2.2653644160765936,2.3034659490666591,null,null,0.64711073051793044,{"$f":"SQRT(Y$2+2*Y$3*$C54+Y$4*$C54^2+Y$5)","v":0.67784139339793648},0.68066774875826996,0.77820033478304096,0.70018145463004311,0.69761763216289074,0.61284355118749068,0.61325065466119921,0.61441970239322585,0.59624494041386333,0.52008001593017006]
[6085000,675000,596.29619477287599,null,101.32625523525479,0,9.7399340216869387E-5,0.27212812209390319,null,null,3.5153955560890386,3.5794400675389406,3.5529661093030893,3.9241401442906465,3.6533291891195088,3.6377330025700303,3.1987848448786802,2.7853440015992854,2.3688401799253671,2.2058176199347255,2.2201098532359334,null,null,0.64988600977832789,0.68063023837254277,0.6834785990389497,0.78134641258655546,0.70322716670866547,0.70080924291253355,0.61594608473126788,0.61627878167290062,0.61730438648015196,0.59918548957176887,0.52302535415061324]
[6085000,685000,629.20278780336605,null,109.85904605447837,0,8.2856837470513328E-5,0.24427237942022234,null,null,3.7553175258743412,3.79764368592412,3.7336233050404797,4.1174663783447754,3.7961108962788055,3.7449426826633667,3.3090877447168827,2.9288825603982831,2.5506161998257944,2.4970738748475929,2.627822540883705,null,null,0.63801765205060823,0.66870958021993565,0.67145501158304344,0.76789438658326825,0.69016974059203839,0.68709980138696991,0.60258448534623754,0.60322624556835525,0.60488416914997056,0.58650153278021644,0.51027818712587514]
[6085000,695000,601.95563783447903,null,118.6212881400299,0,7.1068103853241536E-5,0.20044470414380519,null,null,3.556658555451186,3.6169678344804304,3.5840364517112899,3.9573893722775644,3.6778855125638046,3.6561714680647328,3.2177552980211734,2.8100304922339978,2.4001029433976622,2.2559093504729733,2.2902303527691954,null,null,0.64753961821787931,0.67827233015780297,0.68110214787161505,0.77868649860505446,0.70065236282667887,0.69811129288228368,0.61332369747238114,0.61371935853530291,0.61486609618827137,0.59670014994021214,0.52053629236817156]
[6085000,705000,586.28193528314,null,127.56570855837396,0,6.1451446290514166E-5,0.16880837654564085,null,null,3.4423815901493731,3.5130355128625013,3.4979878247044387,3.8653063697884478,3.6098773171935443,3.60510654515247,3.1652170470690852,2.7416618017050567,2.3135214105040656,2.1171814091910717,2.0960331781581045,null,null,0.65434046436399418,0.68510790097954499,0.68798987689933622,0.78639695875839899,0.70810936590831819,0.70591978252178778,0.62090636957976042,0.62111821239220721,0.62191770061381335,0.60388328304298999,0.52772134142405247]
[6095000,475000,755.22426571251299,null,123.39777145475522,0,6.5672774891459325E-5,0.23238959251455693,null,null,4.6741401213099314,4.633292105939673,4.4254812187616963,4.8578425610610134,4.3429180889265941,4.1555206576913672,3.7315117386683436,3.4785882470379819,3.2467588437959223,3.6124899758214521,4.1892286521780351,null,null,0.63441721310527355,0.66515609737931425,0.66763994405669047,0.76372358027866405,0.68536545308035146,0.68147593865522071,0.59645035943184566,0.59685680650373785,0.59906876946240695,0.58006872752680005,0.50307218544678434]
[6095000,485000,793.99940572495802,null,114.14468888213766,0,7.6751802324198071E-5,0.28553814365092473,null,null,4.9568496671406681,4.8904100593621962,4.6383567374300201,5.0856465086341283,4.5111634214405933,4.2818500638519135,3.8614860079900595,3.6477254077722669,3.4609527172246684,3.9556887400716034,4.6696526369322298,null,null,0.64675364683111158,0.67758060988725188,0.68003429185159847,0.77764642519516602,0.69843726576099208,0.69486285454948915,0.60912803126958304,0.60901259921491802,0.61077232432373785,0.59173657046185291,0.5143917941104863]
[6095000,495000,832.34270068450599,null,105.02861514844419,0,9.0653530365759802E-5,0.35354302113459635,null,null,5.2364106306907328,5.1446644482389585,4.8488614267579377,5.3109133665214721,4.6775349782700717,4.4067725188301203,3.9900127326944643,3.8149788603858155,3.6727610785812108,4.2950652437585619,5.1447260614810295,null,null,0.66474463196580391,0.69570639212212504,0.69815549802083388,0.79799466275187747,0.71764439666475777,0.71461605996094357,0.62790964252423498,0.62710673721208987,0.6281669640174129,0.60915329024597342,0.53137300070440507]
[6095000,505000,830.46531113876904,null,96.08855290824188,0,1.0830704179893666E-4,0.42143787393314019,null,null,5.2227225835127644,5.1322154781611768,4.8385545581518423,5.2998837029402681,4.6693889850311185,4.4006559836901094,3.9837197229371535,3.8067896871873108,3.6623903787305605,4.2784484688892439,5.1214652050093479,null,null,0.66373617617722247,0.694690039155613,0.69713878520613637,0.79685299001654764,0.71656553684077284,0.71350552705500514,0.62685321187305609,0.62608744879048817,0.62718718503577997,0.6081713815317944,0.53041522002154895]
[6095000,515000,864.59016179216098,null,87.378544277185128,0,1.3097559793634844E-4,0.53058632302055009,null,null,5.4715268696266453,5.3584973628438188,5.0258999882389643,5.5003672005289452,4.8174567120161864,4.5118347471188605,4.0981062223273232,3.9556422857374063,3.8508960537398971,4.5804875220224162,5.5442721046048744,null,null,0.68400435162838102,0.71512557065551474,0.7175900889318706,0.81982011974378821,0.73827945644496462,0.7358660655437228,0.64812137561356797,0.64663222897612782,0.64693898064085076,0.62797399308041757,0.54972328553469629]
[6095000,525000,898.89684194150902,null,78.974742797935093,0,1.6033323659894722E-4,0.67528761711639218,null,null,5.7216568745955421,{"$f":"L$2+L$3*$C64","v":5.5859849589141461},5.2142436622588848,5.7019189464063649,4.9663133971842077,4.6236059110454368,4.2131022141879377,4.1052880245488632,4.0404061548848968,4.8841359480242961,5.9693318716552968,null,null,0.70827137290384101,{"$f":"SQRT(Y$2+2*Y$3*$C64+Y$4*$C64^2+Y$5)","v":0.73961708187987873},0.74211660475149022,0.84737225006391947,0.76433503455404084,0.76270542301418021,0.67362366512772942,0.67131943028296481,0.67068919163872509,0.65179150757393478,0.57290405601664329]
[6095000,535000,795.11311138767996,null,70.985984532159591,0,1.9845167999269693E-4,0.73933125555177159,null,null,4.9649696951275741,4.8977950416117055,4.6444709815183636,5.0921895294026198,4.5159957903111438,4.2854785169010619,3.8652191493715033,3.6525833918730601,3.4671048273055445,3.9655461488923551,4.6834514500933553,null,null,0.64719696776654156,0.67802711691456796,0.68048031107812967,0.77814729159866747,0.69890919037063493,0.69534750126853573,0.60958833267262824,0.60945518440418611,0.61119795274890554,0.59216211995025847,0.51480618645014264]
[6095000,545000,719.75842252644998,null,63.568938956065644,0,2.4746288675355914E-4,0.8345496940454048,null,null,4.4155586586403466,4.3981180997728897,4.2307737396702105,4.6494807323428935,4.1890317953422667,4.0399729405911744,3.6126302323086605,3.3238862390603749,3.05084552603611,3.2985817977816083,3.7498068551027144,null,null,0.62858760089470811,0.65927895289770733,0.66181233301881315,0.75716421133728917,0.67931743392869026,0.67537016412050122,0.59076543060216535,0.59147262867487382,0.59384719922277596,0.57494291459504909,0.49821562187668822]
[6095000,555000,695.06143123833795,null,56.947431899954893,0,3.0835550923370572E-4,1.0042232550768584,null,null,4.2354928951587212,4.2343523505414185,4.0951872574984751,4.5043859085252347,4.0818715501431484,3.959510142974505,3.5298459175109089,3.2161579630616304,2.914419346160579,3.0799887278905285,3.443811133043007,null,null,0.62769263913477857,0.65836665098342151,0.66094629099844149,0.75617313158129851,0.67853046618982493,0.67467823769746837,0.59024064171634594,0.59104969779749239,0.59338882335398224,0.57458918590544805,0.49802915173478468]
[6095000,565000,699.99810205351901,null,51.429660702750127,0,3.7807040427068316E-4,1.2400092246038963,null,null,4.2714861620722067,4.267087414716884,4.1222895802738195,4.5333888495644237,4.1032917648102192,3.975593816490365,3.546393638083396,3.2376917211574501,2.9416895157436391,3.1236832012756963,3.5049764844431008,null,null,0.62766232114187326,0.65833880903663866,0.66090845993867897,0.75613490057419508,0.67846149961833579,0.67458136629347021,0.59011865723586177,0.59091457627152966,0.59327062121493157,0.57444759474359919,0.49785544721098834]
[6095000,575000,640.076191661488,null,47.402637057446498,0,4.4503584763752726E-4,1.334695019962278,null,null,3.8345955134039089,3.8697452269073267,3.7933182922215694,4.1813476260112417,3.8432905956191963,3.780368232433128,3.3455353944493078,2.976312348027411,2.6106808827380599,2.5933143723958301,2.7625440146858358,null,null,0.6350576438970752,0.6657394102579518,0.66845356786481991,0.76453946312316801,0.68689254467040617,0.68364309049149585,0.59919556129429219,0.59990783784604307,0.60173438402249557,0.58327110191492915,0.50700775083536231]
[6095000,585000,633.30304293715506,null,45.265991649360778,0,4.8804056593184031E-4,1.4481810777602857,null,null,3.7852124860547969,3.8248324777162752,3.7561337057249813,4.141555377255786,3.8139019033043162,3.7583013138892509,3.3228317999253436,2.9467678732918707,2.5732660091848447,2.5333652330367586,2.6786247019913514,null,null,0.63684433981614008,0.66753205645167457,0.67026552697022634,0.76656459748501793,0.68887230023167401,0.68573246645792485,0.60124538236715164,0.60191564708055889,0.60363962078504818,0.58522612382153916,0.50898864472968486]
[6095000,595000,648.48126011201703,null,45.288077901363849,0,4.8756466326346516E-4,1.4814432661484007,null,null,3.8958768674767157,3.9254792358027846,3.8394621180149735,4.2307274031580997,3.8797601876260419,3.8077519454449513,3.3737091838954809,3.0129752566086183,2.657110480858782,2.667707633251462,2.8666828127878903,null,null,0.63310493402303603,0.66378098415484388,0.6664719659828422,0.762325721720301,0.6847212413076893,0.68134609299233673,0.59693556784550839,0.59769104766227354,0.59963332050429408,0.58111048142445876,0.50481101630089609]
[6095000,605000,630.52559738643799,null,{"$f":"(SQRT(($A72-E$1)^2+($B72-E$2)^2)/1000)","v":47.465882484159081},0,4.4385067088028907E-4,1.3112786033381862,null,null,3.7649621305445189,3.8064152362694701,3.7408855296515449,4.1252378846453235,3.8018505670597547,3.7492523962850148,3.3135218024393405,2.9346526557996429,2.5579233999626836,2.508782062467362,2.6442121516179666,null,null,0.63763159681718518,0.66832211491668014,0.67106366559253383,0.7674568515315604,0.68974304492657135,0.6866502687451721,0.60214441674004038,0.60279562397271724,0.60447517882569324,0.58608252911406267,0.50985475512546152]
[6095000,615000,629.698273179843,null,51.526789148946591,{"$f":"IF(E73=0,1,0)","v":0},{"$f":"IF($F$618=0,1/E73^2,F73)","v":3.7664641564438551E-4},{"$f":"G73/$G$618*C73","v":1.1112754315910567},null,null,3.7589301097542345,3.8009292494555389,3.7363435197573382,4.1203773549315779,3.7982608073273392,3.7465569740199287,3.3107486116988341,2.9310438676104753,2.5533532610454528,2.5014594159147903,2.6339616046982544,null,null,0.63787220889184604,0.6685636031110711,0.67130757844915001,0.76772954936668514,0.69000900852029956,0.68693048328798678,0.60241875202423145,0.60306407872820467,0.60473014056401631,0.5863437472080939,0.51011875771477344]
[6095000,625000,596.82350031114197,null,57.070219904955685,0,3.0703006745450581E-4,0.85858282218159299,null,null,3.5192401407685354,{"$f":"L$2+L$3*$C74","v":3.5829366305631822},3.5558610167081697,3.927238064327959,3.6556171678500453,3.6394509640137009,3.2005523730429477,2.7876441083572012,2.3717530157187485,2.2104848012539176,2.2266431688550492,null,null,0.6496621371905057,{"$f":"SQRT(Y$2+2*Y$3*$C74+Y$4*$C74^2+Y$5)","v":0.68040524510177969},0.68325186399530091,0.78109261324427071,0.70298160252327768,0.70055202158245355,0.61569618691114003,0.61603491557573398,0.61707201329331296,0.59894870940990486,0.52278836716405308]
[6095000,635000,579.16331051649502,null,63.710360225005786,0,2.4636549306357957E-4,0.66855369340727333,null,null,3.3904796969757651,3.4658319120348784,3.4589065747355576,3.8234844492844084,3.5789896043310723,3.5819140656627408,3.1413554168512912,2.7106103604729515,2.2741981272931184,2.0541744613814972,2.0078334172993735,null,null,0.65773837536222513,0.68852461977465196,0.69143109493608834,0.79025044412716161,0.7118293233939702,0.70980983407534026,0.62467654552456742,0.62479538422312275,0.62542534590470056,0.60745172740080189,0.5312815243587572]
[6095000,645000,605.03764779092,null,71.140775930544933,0,1.9758901879269155E-4,0.56014514398070669,null,null,3.5791294900435977,3.6374046425015907,3.6009566863721512,3.9754961807716551,3.6912583537648018,3.6662126565028172,3.2280861953951634,2.8234742196639933,2.4171279663970422,2.2831882205974328,2.3284164561294984,null,null,0.64631439272828084,0.67704129852202799,0.67986115996960439,0.77729767332058952,0.6993068542571137,0.69670057194740231,0.6119513250480686,0.61237961219796067,0.61359023131848522,0.5953989109383282,0.51923166959650568]
[6095000,655000,575.63581829496297,null,79.139181193641377,0,1.5966763584921624E-4,0.43064566142834393,null,null,3.3647607511885749,3.4424411111138995,3.4395406424393471,3.8027604324829074,3.563683815581844,3.5704214960049896,3.1295312629247158,2.6952234394026284,2.2547122602613756,2.0229526277287171,1.9641277886745909,null,null,0.65949236238977471,0.69028866937967304,0.69320746489770801,0.79223990924775611,0.71374833680735861,0.71181543589948815,0.62661866560655,0.62668930210002294,0.62723265231688929,0.60928933424172427,0.53311276355792581]
[6095000,665000,571.70375544493299,null,87.550042832656573,0,1.304629739556765E-4,0.34947305061541123,null,null,3.3360920809490064,3.4163676023553506,3.4179536173926821,3.7796595632389813,3.5466225948755641,3.5576108352395917,3.1163509882514155,2.6780717812507979,2.2329915450778102,1.9881499394431019,1.9154095299627194,null,null,0.661501763159412,0.69230988418602035,0.69524255079159936,0.79451934784247136,0.71594588857047081,0.71411125277604637,0.62884050379938028,0.62885579577851891,0.62930062186426583,0.61139118286211402,0.5352056705244429]
[6095000,675000,588.95937461108304,null,96.265310470594741,0,1.0790967097262226E-4,0.29778380784139408,null,null,3.4619028002894057,3.5307896130460916,3.5126869666148459,3.881036325840113,3.621494726437489,3.6138296424829086,3.1741918236963502,2.7533407920535442,2.328311585351623,2.1408794246826952,2.1292066514313186,null,null,0.65311197178520497,0.68387283908220076,0.68674572884771767,0.78500394591491041,0.70676359034625935,0.70451168135664544,0.6195405313720117,0.61978584571061901,0.62064723006217282,0.60259009128959551,0.52642972502317376]
[6095000,685000,609.08335407592403,null,105.20936270123492,0,9.0342316069820134E-5,0.25782398850824689,null,null,3.6086267345675616,3.664231720877452,3.6231676138768232,3.9992647051960537,3.7088126733354345,3.6793935675793605,3.2416474028624975,2.8411215904791809,2.4394764479154043,2.318996766926003,2.3785427570006989,null,null,0.64476277058327036,0.67548253861789254,0.67828948526694943,0.77553896749124673,0.69760177447724414,0.69491191176177669,0.61021003492414105,0.61067934006394675,0.61197153823166683,0.59374720210519849,0.51757412801902292]
[6095000,695000,614.874623522094,null,114.32851787721206,0,7.6505182078508101E-5,0.22041076124847728,null,null,3.6508508800995871,3.702633628575005,3.6549616831362961,4.0332884131923024,3.733940991462366,3.698261523434982,3.2610597380460593,2.8663831078033741,2.4714674203360474,2.3702552927940532,2.4502965854387444,null,null,0.64265458074984938,0.67336505893293863,0.67615382975675975,0.77314956014080083,0.69528276159408375,0.69247733596551331,0.60783745959389701,0.60836184704858098,0.60976623449056344,0.59149526911584716,0.51531121994774098]
[6095000,705000,600.05097386434898,null,123.58402000258771,0,6.5474978409625878E-5,0.18408520292623154,null,null,3.5427716504449682,3.6043380076944977,3.5735798465152762,3.9461994714530504,3.6696211755974106,3.6499660728500491,3.2113708643932979,2.8017223479962903,2.3895815796266637,2.2390511696733526,2.2666315661792833,null,null,0.64831537675381679,0.67905183958516746,0.68188786048461614,0.7795658802954929,0.70150390699642629,0.69900379436443283,0.61419151499873625,0.61456642418309226,0.61567294401439776,0.59752276886314748,0.52136053004975502]
[6095000,715000,593.74149035470396,null,132.94739561194871,0,5.6577054270407772E-5,0.15739578642334071,null,null,3.4967692061761459,3.5624998225420419,3.5389407820473249,3.909131255833886,3.6422443266490605,3.6294097755756258,3.1902214756689675,2.7742003809272187,2.3547279927193849,2.1832059311294847,2.1884570654947817,null,null,0.65098583584841596,0.68173563515637137,0.68459247487498132,0.78259330316273901,0.70443326959254726,0.70207234835017374,0.61717288028970207,0.61747587940466053,0.61844521001355712,0.60034772702964712,0.52418817565233033]
[6095000,725000,580.995242688242,null,142.39736654868307,0,4.931693578096573E-5,0.13425301037941523,null,null,3.4038363144399719,{"$f":"L$2+L$3*$C84","v":3.4779794542657325},3.4689638823584485,3.8342470507934219,3.5869383580242822,3.5878825006782926,3.147496053490987,2.7186012486061117,2.2843177206098488,2.0703888930336296,2.0305310569073178,null,null,0.65684576399267369,{"$f":"SQRT(Y$2+2*Y$3*$C84+Y$4*$C84^2+Y$5)","v":0.68762697888893054},0.69052710246770765,0.78923807968745452,0.71085242538132531,0.70878856357823139,0.62368717271384977,0.62383049574707428,0.62450476285816436,0.60651544975372329,0.53034795085164954]
[6105000,465000,782.11230242688703,null,129.71125625788997,0,5.9435328716000758E-5,0.21780565834214,null,null,4.8701807969944326,4.8115866773926879,4.5730965403236103,5.015809776757961,4.4595852802302627,4.2431218813067977,3.8216404377349251,3.5958738631860814,3.3952883586061238,3.850475988780377,4.5223714270691309,null,null,0.64232696960264068,0.67312235185125591,0.67558256313337683,0.772646923170488,0.69373102201252956,0.69003326003722087,0.60454425928824551,0.60460879336312179,0.60653610770290378,0.58750430170750834,0.51027409741509411]
[6105000,475000,775.08913814561799,null,120.11248894265742,0,6.9314431749891339E-5,0.25172751572542762,null,null,4.8189749062197,4.7650160750435928,4.5345393684194431,4.9745486866055053,4.4291117704138365,4.2202404120784234,3.7980987910641115,3.565238820591186,3.356492399116394,3.7883139617268649,4.4353544216242069,null,null,0.63997678966016436,0.67075550340541845,0.67322070641171927,0.76999406924924418,0.69123798460017394,0.68747825939965079,0.60212257661189739,0.60228535808232997,0.6042999026603455,0.58527322576852647,0.50810716652979593]
[6105000,485000,818.95550404480696,null,110.58485429750314,0,8.1772768196280827E-5,0.31377936350526603,null,null,5.138804579990687,5.0558939473211151,4.7753657172059905,5.2322635862632403,4.6194479320504174,4.3631570321779813,3.9451388495581927,3.756583908643448,3.5988102043435135,4.1765751663005863,4.9788586951151581,null,null,0.65783535979444874,0.68874387534961545,0.69119172461183576,0.79017512325261796,0.71025713547513913,0.70701365136679351,0.62067811732906664,0.62013260752311594,0.62146319659770077,0.60243646709425258,0.52482137249312555]
[6105000,495000,864.34014623522103,null,101.14845525266314,0,9.774206065676802E-5,0.39584170436464849,null,null,5.4697040062009963,5.3568395096857504,5.0245274028313638,5.4988983591319229,4.8163718945146243,4.5110201964343499,4.0972681701804605,3.9545517178780343,3.8495149678033616,4.5782746343279408,5.5411744118543877,null,null,0.68384135924305367,0.71496115900725055,0.71742549150816814,0.81963525134682869,0.73810462629810769,0.73568598268813545,0.64795014704972487,0.64646664500768003,0.64677974773893665,0.62781431158643819,0.5495676946886876]
[6105000,505000,879.60927815805701,null,91.831421637694362,0,1.1858162150880884E-4,0.48872275254331565,null,null,5.5810312470503929,5.4580891234660758,5.108354937087733,5.5886045091785848,4.882624657927809,4.5607670282389501,4.1484503003858073,4.0211556713254453,3.9338616525451076,4.713421720976962,5.7303589563783257,null,null,0.69417064585166632,0.725382741245161,0.72786027953305943,0.83135600075219951,0.74918920926752908,0.74710404434713595,0.65880396362711147,0.65696748145869832,0.65687948554104869,0.63794281903936334,0.55943228464679318]
[6105000,515000,863.83102364654405,null,82.674119287719066,0,1.4630556502477681E-4,0.59216810875416581,null,null,5.4659919934069521,5.3534635178002334,5.0217323198195274,5.4959072639234456,4.8141628116023547,4.5093614750404409,4.0955615912632153,3.9523309251462253,3.8467025746235097,4.5737683902955606,5.5348663829806801,null,null,0.6835100889826482,0.714627007878606,0.71709096523282079,0.8192595278349859,0.73774930531236482,0.73531998733599302,0.64760214288082152,0.64613012080906918,0.64645613356781739,0.62748978660204213,0.54925147674336805]
[6105000,525000,884.47776291226,null,73.736083432740031,0,1.8392462033360249E-4,0.76222319156650109,null,null,5.6165273693932871,5.4903720458711955,5.1350829183883073,5.6172068571095268,4.903749013276296,4.5766285515681435,4.1647694612818951,4.0423920018232788,3.9607551623273243,4.7565126795364128,5.7906794824829015,null,null,0.69762124733042408,0.72886523378200008,0.73134776938041546,0.83527368849140882,0.75289420594117451,0.75092057218148123,0.66243048125338466,0.66047810771163418,0.66025681537887171,0.64132979242492405,0.56272885791877447]
[6105000,535000,791.535616054765,null,65.10768003853309,0,2.3590413799448454E-4,0.87490599401099767,null,null,4.9388861766552914,4.8740726700591468,4.6248305321406598,5.0711717443217443,4.5004730380616254,4.2738230371064247,3.8532273850155718,3.6369783572308854,3.4473427430865224,3.9338817377007249,4.6391262829185385,null,null,0.64579021605586917,0.67661027207358226,0.67906510867727687,0.77655804362627801,0.69741201775346695,0.69381016419497943,0.60812839440488586,0.60805164194097772,0.60984812415878942,0.59081271786801604,0.51349235574477592]
[6105000,545000,710.44875233354696,null,56.929869137386923,0,3.0854579282384192E-4,1.0270882400054699,null,null,4.3476818532638903,4.3363856767237499,4.1796636503111726,4.594786419959588,4.1486371363752603,4.0096420351026962,3.5814242178220494,3.2832774576789321,2.9994189078905138,3.2161819069042235,3.6344600414126473,null,null,0.62794317760678064,0.65862653578253805,0.66117625455378504,0.75644372744453792,0.67868864054544431,0.67476410178946822,0.59023452790187281,0.59099070347968996,0.59336635995562814,0.57449787287828458,0.49783553153950111]
[6105000,555000,688.02008400747104,null,49.426814584797995,0,4.0933111202983211E-4,1.3195663829993241,null,null,4.1841544324984712,{"$f":"L$2+L$3*$C94","v":4.1876611770535401},4.0565302612010159,4.4630179935438923,4.0513191445084171,3.9365694336963406,3.5062433215930424,3.1854436064405891,2.8755229440572703,3.0176657635501254,3.3565688408525665,null,null,0.62791683446578084,{"$f":"SQRT(Y$2+2*Y$3*$C94+Y$4*$C94^2+Y$5)","v":0.65858817272683856},0.66118268498455679,0.75643206366803295,0.67882447739870844,0.6750197033851919,0.59061069087911167,0.59143221110601618,0.59373873472696126,0.57497454357197697,0.49845907410360268]
[6105000,565000,661.99573739888399,null,42.95357959472063,0,5.4200248237136917E-4,1.6811708085367689,null,null,3.9944109213752625,4.0150937346919999,3.9136565983198732,4.3101249572184432,3.9383995045737574,3.851782112445564,3.4190097117610589,3.0719254065339321,2.7317644533914351,2.7873242717175222,3.0341271863721717,null,null,0.63058558889367755,0.66125608324935936,0.66391170310557091,0.75946801408277598,0.68189983919400499,0.67834731115298341,0.59396883767944741,0.59477262232357864,0.59687337556591857,0.57826044484574157,0.50189478763129003]
[6105000,575000,659.73196017424198,null,38.039584645471614,0,6.9108022750361106E-4,2.1362464939456824,null,null,3.9779057216303979,4.0000826279153987,3.9012284613565886,4.2968252660236717,3.9285769751960355,3.8444067262476809,3.4114215305040592,3.0620508102800437,2.7192593480025127,2.7672875795022156,3.0060789865588573,null,null,0.63095392896121283,0.66162505402328875,0.66428642981060981,0.75988601688033419,0.6823144891978431,0.67878950899847601,0.59440799262588162,0.59520552700581053,0.59728214681541703,0.57868379164614925,0.50232985532357433]
[6105000,585000,703.27103298071302,null,35.341335571820146,0,8.0063410220894947E-4,2.6382271534145469,null,null,4.2953491014623779,4.288790219695108,4.1402579710641145,4.5526173187616887,4.1174930121033135,3.9862570254511631,3.5573645025513496,3.2519682458618702,2.9597691861854587,3.1526519129122903,3.545528098631034,null,null,0.62769988263501075,0.65837828422816069,0.6609415141676751,0.75617468851632563,0.67847812912945504,0.67458194308779151,0.59010029074977255,0.59088550384407623,0.59325006017919235,0.57441220091686418,0.49779838675505317]
[6105000,595000,719.55841008090204,null,35.369619732193897,0,7.9935412186952961E-4,2.6950116322425437,null,null,4.4141003678998567,4.3967918172464611,4.2296756713441521,4.6483056592252989,4.1881639413410339,4.0393213000435786,3.6119597905911833,3.3230137847728951,3.049740657286903,3.2968114876260639,3.7473287009023766,null,null,0.62856985825064349,0.65926101975243778,0.66179473665050914,0.7571443283515068,0.67929970763995784,0.67535275947217388,0.59074979478673817,0.59145817867899253,0.59383295613952991,0.57492939374845842,0.49820352010013413]
[6105000,605000,729.24992221531295,null,38.118368275675181,0,6.8822650910867786E-4,2.3515984215614476,null,null,4.4847611828718463,4.4610562342097397,4.2828820729620682,4.7052432930149628,4.2302154124922433,4.0708962465774894,3.6444457392657288,3.3652881607031953,3.1032765703173886,3.3825910615277346,3.867406536247727,null,null,0.62962581957908392,0.66032717534987206,0.66284530278544085,0.75832952925850017,0.68037100338547929,0.67641687322018029,0.59172042667382008,0.59236466535007493,0.59472017846574854,0.57578398903956907,0.49898814988072482]
[6105000,615000,665.29139701307395,null,43.069827025424651,0,5.3908065185632439E-4,1.6804323137331962,null,null,4.0184395756223221,4.0369472535936932,3.931749769601776,4.3294869574518096,3.9526993716397278,3.8625193714685953,3.4300567627878236,3.0863010737710286,2.7499696771002204,2.8164941549627169,3.0749604089919869,null,null,0.6300881358413809,0.66075792084368412,0.6634052839365856,0.75890331922293242,0.68133807246853717,0.67774701870520049,0.59337132138459192,0.59418286940491671,0.59631699803701954,0.57768323475059546,0.50130009572327983]
[6105000,625000,606.61047293093304,null,49.568235796727727,0,4.0699875051383586E-4,1.1568001911476473,null,null,3.5905969581394324,3.6478340460050172,3.6095914963908227,3.9847365284692318,3.6980828420473184,3.6713369208089799,3.2333583052644874,2.8303348829247299,2.4258162524704741,2.2971092959116879,2.34790375961426,null,null,0.64570350718771297,0.676427573516589,0.67924239315800194,0.7766052449176406,0.69863570954521625,0.69599665928557519,0.6112662272399958,0.61171070625362411,0.61295334972798599,0.59474915323760547,0.51857982892978538]
[6105000,655000,580.22246733043403,null,73.912177616411768,0,1.8304927137237527E-4,0.49764302093724749,null,null,3.3982020093061944,3.4728551808681081,3.4647213456440831,3.8297069955662999,3.5835852857467536,3.5853647985625541,3.1449057104916145,2.7152304024953535,2.2800489095333178,2.0635490583416711,2.0209563702240771,null,null,0.6572207701150049,0.68800409043194621,0.69090688941420408,0.78966339004130459,0.71126286810913442,0.70921767413074399,0.62410291662869177,0.62423595734796322,0.62489159154674101,0.60690889527288017,0.53074030531998062]
[6105000,665000,588.54116677038201,null,82.855355892060473,0,1.456662117025321E-4,0.40169002154992506,null,null,3.4588536469228544,3.5280164768544027,3.5103910055693972,3.8785793547759941,3.6196801226166873,3.6124671213379047,3.1727899910143202,2.7515165694524066,2.3260014052395905,2.1371778670846506,2.1240250562850331,null,null,0.65330206273066038,0.68406393831506551,0.68693824261800829,0.78521948753474169,0.7069718609689748,0.70472962655372884,0.61975197631863865,0.61999211764672724,0.62084390237567577,0.60279030665589228,0.52662974807009721]
[6105000,675000,585.65916925949296,null,92.01635724152527,0,1.1810544690510581E-4,0.32409344423118358,null,null,3.4378410030709627,{"$f":"L$2+L$3*$C104","v":3.5089059513596976},3.4945688392346166,3.8616476193995211,3.6071751354169397,3.6030775734474281,3.1631295353578204,2.7389452963099084,2.3100812509894393,2.1116693071157719,2.0883171071251176,null,null,0.65463010734716864,{"$f":"SQRT(Y$2+2*Y$3*$C104+Y$4*$C104^2+Y$5)","v":0.68539911097324702},0.68828321047364316,0.78672540523305734,0.7084265915099428,0.70625163579201311,0.62122817224183779,0.62143211023357037,0.62221705362133717,0.60418793340723198,0.52802550748745936]
[6105000,685000,612.48356565028598,null,101.33612386508574,0,9.738037064916676E-5,0.27946101692796116,null,null,3.6334176771562348,3.6867785238270461,3.6418347754200702,4.0192409481954297,3.7235661913565909,3.6904714568886319,3.2530449120597584,2.8559533133665478,2.4582592166521797,2.3490920395706807,2.4206713784070431,null,null,0.64350881436809482,0.67422299801020413,0.67701922825506544,0.77411772474692941,0.69622276933217586,0.69346446760922642,0.60879981697128638,0.60930198563627103,0.610660715175664,0.59240890723984296,0.51622975409019856]
[6105000,695000,655.09076228998504,null,110.7745909493689,0,8.1492884448794339E-5,0.25013619376734308,null,null,3.9440667478562803,3.9693068447448905,3.8757482849720182,4.2695582284536622,3.9084388175762452,3.829285703540771,3.3958642351960302,3.041805905108915,2.6936213708898773,2.7262083370286572,2.9485745447729146,null,null,0.63177675981046433,0.6624495503398693,0.66512293930957334,0.76081950222667694,0.68323767417233383,0.67977191191878372,0.59538124402512826,0.59616363899822289,0.59818772767044859,0.57961991530285983,0.50328923887442156]
[6105000,705000,606.45137212197096,null,120.30382371313058,0,6.9094127620999366E-5,0.19633263376384349,null,null,3.5894369541412896,3.6467790485407896,3.6087180329496209,3.9838018112165794,3.6973925036372322,3.6708185703733816,3.2328249993528466,2.8296408851960373,2.4249373796017677,2.295701094651565,2.3459325005912204,null,null,0.64576485906980352,0.67648920887132769,0.67930453731236995,0.77667478548181446,0.69870312235546261,0.69606737094270865,0.61133505878601957,0.61177791404718662,0.61301733588158358,0.59481443957314972,0.51864533674346147]
[6105000,715000,593.09144990666402,null,129.90384905767806,0,5.9259224142681971E-5,0.16467701876749508,null,null,3.4920297612694871,3.5581894043310891,3.5353720599875857,3.905312268201651,3.6394238011450151,3.6272919437959112,3.1880425400871379,2.7713649044928688,2.3511371692844123,2.1774524231238832,2.180403064343567,null,null,0.65126969706507842,0.68202095150163056,0.68487995934848034,0.78291513287961056,0.70474448532349021,0.70239820646357431,0.61748927954867117,0.61778459703920774,0.61873945285356202,0.60064743467166659,0.52448792002598787]
[6105000,725000,583.09537336652602,null,139.56005875607821,0,5.1342582870779444E-5,0.14027254611266105,null,null,3.4191483672153407,3.4919054207934339,3.4804935997822279,3.8465853185283403,3.5960508250373566,3.5947247264281419,3.154535691524595,2.7277620186247868,2.2959188424766896,2.0889771496671212,2.0565516760112574,null,null,0.65583793852363015,0.68661355017280024,0.68950643204863449,0.78809510991094056,0.70974917258353187,0.70763495038113799,0.62256923121965035,0.62274015625470069,0.623464639801801,0.60545737366156327,0.52929247762710607]
[6115000,465000,771.98439950218096,null,127.37743128199752,0,6.1633243985673974E-5,0.22293534197141254,null,null,{"$f":"K$2+K$3*$C110","v":4.7963382567704009},4.7444285530989614,4.517494353266974,4.9563083470753124,4.4156403094399632,4.2101251735781053,3.7876917071313105,3.5516959506285137,3.3393418228500482,3.7608339199938037,4.3968867098320219,null,null,{"$f":"SQRT(X$2+2*X$3*$C110+X$4*$C110^2+X$5)","v":0.63900137503619181},0.66977316756834993,0.67224084477591861,0.76889336678360543,0.69020474909170437,0.68642027142141959,0.60112073597974069,0.60132497708792676,0.60337522642795771,0.58435151026864873,0.50721305018341745]
[6115000,475000,775.85282202862902,null,117.5883072418342,0,7.2322215721258622E-5,0.2629095967081681,null,null,4.8245429254107339,4.7700800628718385,4.5387319929371737,4.9790353294181955,4.4324253947822214,4.2227284941692735,3.8006586594399643,3.5685700096888802,3.3607109888861468,3.7950733277753947,4.4448164649347133,null,null,0.64022270386632707,0.67100316147269146,0.67346778099020899,0.77027160222623325,0.69149862340793522,0.68774523606847937,0.60237548136574126,0.60252787797751728,0.60453336997930007,0.58550603074698282,0.50833311377069457]
[6115000,485000,820.464688861235,null,107.83788759058665,0,8.5991842813790665E-5,0.33057691499697056,null,null,5.149808046487264,5.0659013518388489,4.7836511418481802,5.2411300470597553,4.6259962849688989,4.368073956309904,3.9501976370628595,3.7631669728127073,3.6071469412694621,4.1899329611107907,4.9975574949907022,null,null,0.65858122750243986,0.68949539548174987,0.69194323377427891,0.79101897415725397,0.71105407198980042,0.70783357740630271,0.62145795703362616,0.62088431548434531,0.62218577077829973,0.60316025424990172,0.52552730877763998]
[6115000,495000,869.33591163659105,null,98.137709368010007,0,1.0383127003294567E-4,0.42293259625048824,null,null,5.5061281317423845,5.389966430062235,5.0519541548848848,5.5282484808649723,4.838048520591169,4.5272964001120135,4.1140139758058529,3.9763432465588102,3.8771115758805288,4.6224921538954673,5.603071945177363,null,null,0.68713738860419604,0.71828612065113051,0.72075435858561476,0.82337416785428985,0.74164056914675391,0.73932822262828168,0.65141304204132033,0.64981587498165394,0.65000067424736552,0.63104435842161233,0.55271457547725877]
[6115000,505000,902.23795892968496,null,88.504293681154252,0,1.2766484403824329E-4,0.53969424319858561,null,null,5.746016958556333,{"$f":"L$2+L$3*$C114","v":5.6081399056627408},5.2325863945239703,5.7215480087118991,4.9808105037959027,4.634491270192914,4.224301638332304,4.1198619768512863,4.0588624851275803,4.9137081744866409,6.0107283111387959,null,null,0.71082884712449257,{"$f":"SQRT(Y$2+2*Y$3*$C114+Y$4*$C114^2+Y$5)","v":0.74219971416587793},0.7447036330295207,0.85027902886442319,0.76708349978900514,0.76553638065046004,0.67631133005494726,0.67392384019105123,0.67319598224196331,0.65430518744557786,0.57534720598881894]
[6115000,515000,879.60927815805996,null,78.962079506558084,0,1.6038466658433587E-4,0.66100998385332499,null,null,5.5810312470504151,5.4580891234660953,5.108354937087749,5.5886045091786016,4.8826246579278223,4.5607670282389599,4.1484503003858171,4.0211556713254577,3.9338616525451235,4.7134217209769886,5.730358956378363,null,null,0.69417064585166854,0.72538274124516278,0.72786027953306098,0.83135600075220195,0.74918920926753174,0.74710404434713862,0.6588039636271138,0.65696748145870032,0.65687948554105069,0.63794281903936556,0.55943228464679517]
[6115000,525000,835.86564716863995,null,69.548616089754077,0,2.0673928728698104E-4,0.80968270597663938,null,null,5.262096433506553,5.1680251063752509,4.8682024029558333,5.3316106771157594,4.692821043064729,4.4182502784754289,4.0018216493092806,3.8303459529496076,3.6922218349595677,4.3262468430896321,5.1883753684194494,null,null,0.66667133641484477,0.69764830694699176,0.70009824914725882,0.80017621316881682,0.71970614884082329,0.71673853386543063,0.62992873543708783,0.62905524366051935,0.63003996706747767,0.61103053306998467,0.53320407479556742]
[6115000,535000,806.29107965153003,null,60.324207412944929,0,2.7480001428960076E-4,1.0381592497810039,null,null,5.0464682617393049,4.9719161491692949,4.7058380272868998,5.1578600929527383,4.564496994607989,4.3218963375046853,3.9026876989919286,3.7013416894399742,3.528851923995052,4.0644823459956916,4.8219464768824567,null,null,0.65191371057892711,0.68277811710276148,0.68522759288661284,0.78347812624017543,0.70393562377397723,0.7005123790411657,0.61449621676628252,0.6141774481937573,0.61573847373437729,0.59670443737793,0.51923207248778058]
[6115000,545000,721.22669570629,null,51.390757923969169,0,3.7864301914797749E-4,1.2795495829558994,null,null,4.4262638383945596,4.4078542192284091,4.2388345594275316,4.6581068372744534,4.1954026326695928,4.0447565746110925,3.6175518840074838,3.3302908466708372,3.058956267081546,3.3115774836963725,3.7679987598009328,null,null,0.62872308062368076,0.65941585652240398,0.66194678369878202,0.75731608331198585,0.67945322310325462,0.67550381615470623,0.59088589079086118,0.59158420510682674,0.5939570102984908,0.57504748688050045,0.49830974506627385]
[6115000,565000,688.79285936528197,null,35.28469923352047,0,8.0320639994859474E-4,2.5922158886388909,null,null,4.18978873763227,4.1927854504511846,4.0607727979153978,4.4675580487710311,4.0546722167859581,3.9390871358120885,3.5088336645924247,3.1888144525513602,2.8797917551338177,3.0245055982421105,3.3661435275358427,null,null,0.62788184112593637,0.65855342325071509,0.66114626781137553,0.75639191158047159,0.67878097990585784,0.67497055985170684,0.590558827719317,0.5913793404435076,0.59368992717167479,0.5749217274552183,0.49840144124398894]
[6115000,575000,694.29320161792805,null,29.103436223236596,0,1.1806236053883662E-3,3.8406943522370365,null,null,4.2298917329963128,4.2292582199284805,4.0909696768824251,4.4998725595053273,4.0785382018201899,3.95700725087121,3.5272708118232945,3.2128069454574022,2.9101756457374348,3.0731891275202807,3.4342927680461282,null,null,0.62770676187433472,0.65838043287965942,0.66096166000238188,0.75618970445285283,0.67855136748991818,0.67470387986406977,0.59026981672871137,0.59108059124040713,0.59341664314704101,0.57462075448390537,0.4980656546866355]
[6115000,585000,749.90120721842595,null,25.475674672125958,0,1.5408083080383969E-3,5.413872654197573,null,null,4.6353297018295434,4.5979949050653826,4.3962576276291587,4.8265695924082523,4.3198213381207502,4.1381781331176315,3.713668846596164,3.4553690658867744,3.2173542686745855,3.5653755850902877,4.1232759574362978,null,null,0.63320443640150226,0.66393435549430002,0.66642432279065444,0.76235699385044231,0.68409192129627039,0.68017932343823062,0.59523057672684243,0.59569339778455466,0.59794553601990186,0.57895582859698602,0.50200214302509594]
[6115000,595000,733.96839763534797,null,25.514897609044016,0,1.5360747146741214E-3,5.2825677179377166,null,null,4.5191635871593219,4.4923444447199925,4.3087865030180605,4.7329643361076688,4.2506888773397753,4.0862690394959635,3.6602620688736867,3.3858701504853879,3.129341428537662,3.4243542874704644,3.9258684467019611,null,null,0.63028461857869911,0.66099166209569438,0.66350274333944781,0.75907010171383738,0.68104918142189119,0.6770977501040466,0.59235004067949382,0.59295814429884186,0.595297474856188,0.57634714795471365,0.49951633445500315]
[6115000,605000,732.40011823273699,null,29.206334929258073,0,1.1723191990715229E-3,4.0229965024623038,null,null,4.5077292620348848,4.4819451840012787,4.3001766490977262,4.7237506946173298,4.2438841130118456,4.0811595852022569,3.6550051963161341,3.379029315731199,3.1206782531176391,3.4104734464779547,3.9064374649036102,null,null,0.63005516801481098,0.66076026754892081,0.66327365090496959,0.75881210388589038,0.68081242494835326,0.6768596477416019,0.59212939477282767,0.59274986229001503,0.59509506381058175,0.57614930919493912,0.49933018800987983]
[6115000,615000,680.37869943995497,null,35.426120306914783,0,7.9680639994900442E-4,2.5401472569680701,null,null,4.1284410976167116,{"$f":"L$2+L$3*$C124","v":4.1369911559863413},4.014579059925353,4.4181248592097351,4.0181631768699644,3.9116738027753737,3.4806294005227292,3.1521118869570839,2.8333119357063112,2.9500318687430411,3.2618920860610414,null,null,0.62840058753994854,{"$f":"SQRT(Y$2+2*Y$3*$C124+Y$4*$C124^2+Y$5)","v":0.65907017946358659},0.66168164682403663,0.75698468739042091,0.67940346116929795,0.67566029680120121,0.59127260189787234,0.5920993048640576,0.59435924313171751,0.57563623268184028,0.49916734659039269]
[6115000,625000,605.54677037959402,null,43.093038881007217,0,5.385000619275072E-4,1.5278785067898035,null,null,3.5828415028376197,3.6407806343870881,3.6037517693839711,3.9784872759801151,3.6934674366770581,3.6678713778967174,3.2297927743123989,2.8256950123957894,2.4199403595768776,2.2876944646297863,2.3347244850031696,null,null,0.64611558363815158,0.67684156123525607,0.6796597877443481,0.7770723247354121,0.69908845592897451,0.69647152859395611,0.61172842777042757,0.61216199025414186,0.61338301847977383,0.59518752457278423,0.5190196349969719]
[6115000,635000,588.92755444928798,null,51.565589301393622,0,3.7607981918082292E-4,1.0377608327655845,null,null,3.4616707994897586,3.5305786135532284,3.5125122739265913,3.8808493823895671,3.6213566587554604,3.6137259723957804,3.1740851625140132,2.7532019925077944,2.3281358107778671,2.1405977844306472,2.1288123996266783,null,null,0.65312641181444742,0.68388735559838654,0.68676035293045168,0.78502031919262649,0.70677941179172155,0.70452823811992915,0.61955659486413517,0.61980151632448688,0.62066217116379319,0.60260530189174821,0.526444921686404]
[6115000,655000,580.36793092719904,null,69.73528518619537,0,2.0563395921456055E-4,0.55918255742797329,null,null,3.3992625843902076,3.4738197499782566,3.465519940790323,3.8305615941972944,3.5842164522931164,3.5858387189608143,3.1453933044679712,2.7158649147044422,2.2808524504418477,2.0648365566366387,2.0227586641879958,null,null,0.6571500100344021,0.68793293223393848,0.69083522717254175,0.78958313728763097,0.71118542437778554,0.70913671085746088,0.6240244793387445,0.62415946069798534,0.62481860860679606,0.60683466638899974,0.53066628732853716]
[6115000,665000,612.06990354698803,null,79.151816150989234,0,1.596166646182528E-4,0.45775661430775094,null,null,3.630401666761089,3.6840355304200774,3.6395637704729644,4.0168106833385542,3.7217713114903814,3.689123745756087,3.2516583166895039,2.854148919271962,2.4559741471935621,2.3454307162943904,2.4155461049471816,null,null,0.64365891299408473,0.67437375612511641,0.67717128331034726,0.77428784467383804,0.6963878886742082,0.69363782398513074,0.60896876998608618,0.60946701978792095,0.61081775545431372,0.5925692755656371,0.51639091797272119]
[6115000,675000,607.63780958307802,null,88.69616677173822,0,1.2711309633520234E-4,0.36190156326390377,null,null,3.5980872696702217,3.6546463153453903,3.6152315746110983,3.9907721313005835,3.7025404557809756,3.6746839836216685,3.2368019377224773,2.8348161254013866,2.431491260136923,2.3062022526198236,2.3606324607343367,null,null,0.6453097531252765,0.67603200926427076,0.67884355009351161,0.77615894008042097,0.69820300734229568,0.69554274209979294,0.61082432513351315,0.61127921200213386,0.61254256112428895,0.59432998194886355,0.51815916966996023]
[6115000,685000,614.79280024891398,null,98.331124268971919,0,1.0342320465073469E-4,0.29792169849276601,null,null,3.6502543066148316,3.7020910584505486,3.654512473366538,4.0328077014623691,3.7335859602800374,3.6979949432109622,3.2607854664343598,2.8660261946857628,2.4710154285750008,2.3695310750031373,2.4492827950840441,null,null,0.64268343582318599,0.67339403782682106,0.67618306286444418,0.77318226333653828,0.6953145222947249,0.69251069546656729,0.60786999037168132,0.60839362972902722,0.60979647024622929,0.59152615817503396,0.51534228484934186]
[6115000,695000,633.68033914126204,null,108.03244882904394,0,8.568238738549621E-5,0.25440003300348046,null,null,3.7879633526789407,3.8273343288457085,3.7582050618855289,4.1437719924549139,3.8155389915339359,3.7595305449222316,3.3240964968015101,2.9484136393341851,2.5753501934163316,2.5367046817393097,2.6832994019602365,null,null,0.6367398394470235,0.66742719198691858,0.67015957201812792,0.76644615759953583,0.68875665180905499,0.685610519366466,0.60112586985994876,0.60179864174904252,0.60352854443322168,0.58511223440648652,0.50887339521723629]
[6115000,705000,618.365749844437,null,117.78374251143492,0,7.2082410378137104E-5,0.20884789352017605,null,null,3.6763046821157896,3.7257832872184613,3.6741279666459592,4.0537987803360673,3.7490889885750125,3.7096356129931758,3.2727619934785528,2.8816114008214342,2.4907524021406702,2.4011552518731119,2.4935516405725746,null,null,0.64144841604776193,0.67215380536437042,0.67493179972718442,0.77178255851383593,0.69395458591674608,0.69108186410859473,0.60647609383635281,0.60703158651629507,0.60850094341827365,0.59020225914524871,0.51401017161499907]
[6115000,865000,622.49327940261696,null,276.23361489869404,0,1.3105299376803698E-5,3.8224075059122745E-2,null,null,3.7063985001244797,3.7531529357187532,3.6967881039203672,4.0780480164903743,3.7669983393279551,3.7230831042937265,3.2865974725575722,2.8996156847542154,2.5135528754200562,2.4376880159925625,2.5446917317984239,null,null,0.64008562419896797,0.67078547754670415,0.67355090935103501,0.77023807261054522,0.69245251427967236,0.68950257230041312,0.60493398644249619,0.60552418584346346,0.60706772438661416,0.58873667719995626,0.51253377487314233]
[6115000,875000,644.040074673307,null,286.19400762419883,0,1.2208967217824217E-5,3.6842338723661987E-2,null,null,3.8634961844430808,{"$f":"L$2+L$3*$C134","v":3.8960297351586988},3.8150800099564557,4.2046354387056786,3.8604898840074791,3.7932825632856346,3.3588223303049247,2.9936028057249655,2.6325773724953478,2.62839870093344,2.8116565252022738,null,null,0.6341000875994669,{"$f":"SQRT(Y$2+2*Y$3*$C134+Y$4*$C134^2+Y$5)","v":0.66477893362267215},0.66748205082417056,0.76345398291263555,0.68582898666282743,0.68251881096034073,0.59809038631229539,0.59882428041787961,0.60070701687964378,0.5822153287928743,0.50593547187607324]
[6115000,885000,616.83383634101199,null,296.15706981262497,0,1.1401337217236858E-5,3.2951815828178924E-2,null,null,3.6651355007623181,3.7156251687772501,3.6657177615121559,4.0447987885034449,3.7424420158836513,3.7046446387990173,3.2676270194150723,2.8749291941194945,2.4822901119477505,2.3875962854542969,2.4745712322651388,null,null,0.64197166519931226,0.67267924103386234,0.67546194724036046,0.77237557681728053,0.69453090089324776,0.69168748692806636,0.60706705177335329,0.60760909163098642,0.60905018898397589,0.59076362999641141,0.51457519762281623]
[6115000,895000,633.10303049160302,null,{"$f":"(SQRT(($A136-E$1)^2+($B136-E$2)^2)/1000)","v":306.12254082311551},0,1.0671104707974013E-5,3.1654768773262669E-2,null,null,3.7837541953142768,3.823506195189819,3.7550356373989007,4.1403803041381675,3.8130340493030657,3.7576496733416427,3.3221613582078531,2.9458954190043727,2.5721611404356151,2.5315949228811778,2.6761465477909612,null,null,0.63689997485710126,0.66758788609458164,0.67032193539826201,0.76662765355807094,0.68893386385010302,0.68579737825510778,0.60130899241744562,0.60197792008664541,0.60369874050043371,0.58528673665129349,0.50904997457258405]
[6125000,475000,792.45840074673595,null,115.8749757281528,{"$f":"IF(E137=0,1,0)","v":0},{"$f":"IF($F$618=0,1/E137^2,F137)","v":7.447674500875473E-5},{"$f":"G137/$G$618*C137","v":0.27653654534164274},null,null,4.9456141998444512,4.8801916553516058,4.6298966200995801,5.0765931043870731,4.5044770008400876,4.2768294696328661,3.8563205593030592,3.6410035440572623,3.4524402057249692,3.942049305009359,4.6505595852520587,null,null,0.6461482620531519,0.67697088235463165,0.67942527432184086,0.77696250847722903,0.6977929806667742,0.69420129172222234,0.60849978090681955,0.60840862455096167,0.61019146208452468,0.5911558975195087,0.51382643408337714]
[6125000,485000,818.57366210330304,null,105.96702317230583,0,8.9055045814368311E-5,0.34156366910641162,null,null,5.136020570395182,5.053361953407002,4.7732694049471336,5.230020264856905,4.617791119866232,4.3619129911325611,3.9438589153702717,3.7549183140946081,3.596700909458646,4.1731954832763343,4.9741276734599245,null,null,0.65764799114579486,0.68855509028339035,0.69100294848425625,0.78996315139297579,0.71005696030033871,0.70680771157183631,0.62048225092699305,0.61994382214109578,0.62128172700273576,0.60225470163003891,0.52464409382830413]
[6125000,495000,890.28721530802397,null,96.07814527768528,0,1.0833050771259052E-4,0.45189370049714916,null,null,5.6588840868108026,5.528894524707507,5.1669768120410522,5.6513373899346409,4.9289562272215157,4.5955557474735418,4.1842427457124964,4.0677328331736007,3.9928465773615245,4.8079321426913193,5.8626585976664165,null,null,0.70183563509984936,0.73311928322492026,0.73560827237526605,0.84006003029382725,0.75742053762697914,0.75558310520054828,0.66685984239237406,0.66476720780921539,0.66438363289650049,0.64546832096019247,0.56675538030930039]
[6125000,505000,881.39575295581903,null,86.214905903793692,0,1.3453499995291275E-4,0.55559919549357639,null,null,5.5940564348008763,5.4699352378500361,5.118162683727447,5.5991000486154361,4.8903761720752987,4.5665873631300586,4.1544385639079051,4.028948274393283,3.9437301393279447,4.7292338094119541,5.7524933791225985,null,null,0.69542815697634308,0.72665181349190766,0.72913114176833227,0.8327836054888178,0.75053931973651222,0.7484947990566464,0.66012556483653251,0.65824673597984207,0.65811011943018394,0.63917697070867774,0.56063362596620803]
[6125000,515000,864.32650902302498,null,76.387237153859672,0,1.7137931211771705E-4,0.6940513450187652,null,null,5.4696045772868747,5.356749081331678,5.0244525345364073,5.4988182405102712,4.8163127226509053,4.5109757663970154,4.0972224582451799,3.9544922323584353,3.8494396358431904,4.5781539313627935,5.5410054467952792,null,null,0.68383247471430986,0.71495219715043579,0.71741651954753427,0.81962517445776073,0.73809509658714778,0.73567616667079683,0.64794081362739386,0.64645761933784962,0.64677106827668129,0.62780560768037796,0.54955921369462224]
[6125000,525000,827.19238021157696,null,66.610884996372789,0,2.2537699937570565E-4,0.87351725749698095,null,null,5.1988596441226074,5.1105126731829662,4.820586167361558,5.2806552337430146,4.6551877377380322,4.3899927747293175,3.9727488584692061,3.7925131624828992,3.6443107082887516,4.2494797572526668,5.0809135908214378,null,null,0.66200871912398163,0.69294915564278592,0.69539741734547844,0.79489761506742562,0.71471795695570639,0.7116038863017583,0.62504425172786848,0.62434243834312864,0.62550982657054965,0.60649053482221893,0.52877566692741151]
[6125000,535000,772.22077784692397,null,56.912300955065938,0,3.0873631140379321E-4,1.1170807444617761,null,null,4.7980616912819221,4.7459959779029521,4.5187920703796127,4.9576970698506777,4.4166659550778027,4.2108952942252786,3.7884840473428891,3.5527270329682827,3.3406475768264081,3.7629261047231237,4.3998154375233876,null,null,0.6390742612122835,0.66984657126168146,0.67231405434100344,0.76897560766128303,0.69028192203326177,0.68649927146359835,0.60119552108512675,0.60139664876795895,0.60344424195774271,0.58442028515370936,0.50727973939641791]
[6125000,545000,718.35833540759904,null,47.339307134769093,0,4.4622737069446362E-4,1.5019404462968076,null,null,4.4053506234568038,{"$f":"L$2+L$3*$C144","v":4.3888341220877889},4.2230872613877191,4.6412552205196436,4.1829568173335723,4.0354114567579575,3.6079371402862721,3.3177790590479472,3.0431114447915775,3.2861896266926589,3.7324597757001525,null,null,0.62846699308757781,{"$f":"SQRT(Y$2+2*Y$3*$C144+Y$4*$C144^2+Y$5)","v":0.65915702898884043},0.66169277976368512,0.75702908778355071,0.67919723522684461,0.67525237058615706,0.59065987689261978,0.5913752529241536,0.59375110274195575,0.57485191703292349,0.49813453600376517]
[6125000,555000,700.76633167393095,null,37.986971450748747,0,6.9299589053436886E-4,2.2754078865205867,null,null,4.2770873242346301,4.2721815453298362,4.1265071608898811,4.5379021985843435,4.1066251131331866,3.9780967085936672,3.5489687437710167,3.2410427387616871,2.9459332161667948,3.1304828016459627,3.5144948494400046,null,null,0.6276670084903474,0.65834392609958015,0.66091205534655384,0.75613957536515497,0.67846093753979875,0.67457686078638246,0.5901098693069573,0.59090341827514647,0.59326165495937999,0.57443509843616558,0.49783789176228527]
[6125000,565000,715.72635345364404,null,29.069055712217416,0,1.1834179477165951E-3,3.9686292757581256,null,null,4.3861608430305186,4.3713814497511132,4.2086376804605061,4.6257923265401582,4.1715366476353619,4.0268364595519728,3.599114736776615,3.3062983537647956,3.0285723764779298,3.2628939544182032,3.6998495192906491,null,null,0.62826295672365173,0.65895062810697458,0.66149091864185738,0.75680071165231744,0.67899582869694697,0.67505645639749134,0.59048607489420191,0.59121604768757785,0.5935932335884827,0.57470390630255885,0.49800502041981748]
[6125000,575000,722.872252644686,null,21.142611002428247,0,2.2370864186483526E-3,7.57704188047237,null,null,4.4382615940324053,4.4187659072869128,4.2478686670193264,4.6677744842875297,4.2025427042252925,4.0501177991163875,3.6230677908649875,3.3374687660361206,3.0680463236092455,3.326142308158115,3.7883872102676586,null,null,0.62888585897281746,0.65958028408987035,0.66210850262019727,0.7574986557353004,0.67961724670239965,0.67566591296338685,0.59103276993483611,0.59172075447146244,0.59409106598037242,0.57517580320113115,0.49842628388606769]
[6125000,585000,728.227131300564,null,15.78005069700348,0,4.0159029757841046E-3,13.702677571087548,null,null,4.4773040143124119,4.4542741076540393,4.2772669508400964,4.6992343963908132,4.2257775227131473,4.0675639937772372,3.6410173441194909,3.3608267467330606,3.0976266733043158,3.3735383391412919,3.8547341568139872,null,null,0.62949549073172406,0.66019567687874647,0.66271537889034648,0.75818310183735504,0.68023750223597124,0.67628332115910006,0.59159748964727543,0.59224913957319836,0.59460757440432621,0.57567460011693905,0.49888626219226506]
[6125000,595000,711.50336341008494,null,15.843295111813074,0,3.9839050237042341E-3,13.281321980992184,null,null,4.3553710226229292,4.3433788027722731,4.1854534651213662,4.6009822600342485,4.1532130938363583,4.0130779579900571,3.5849592741506049,3.2878776711947908,3.0052445794773095,3.2255162695426618,3.6475266726509519,null,null,0.62799753882414866,0.65868171342554449,0.66122951365702787,0.75650428529077585,0.67873970522707083,0.67481179471144681,0.59027444336352608,0.59102571084580269,0.59340212220136035,0.57452935648710135,0.49785977050493202]
[6125000,605000,697.40703173615896,null,21.284031572989175,0,2.2074567890333543E-3,7.2132985036617301,null,null,4.2525946683883342,4.2499060274424698,4.1080646042315125,4.5181663114499333,4.0920491107031935,3.9671521093964062,3.5377083703796046,3.2263894724331257,2.9273764433105423,3.1007496378967421,3.4728731232110102,null,null,0.62766519135980681,0.65834031805876758,0.66091516648687842,0.7561402338832296,0.67848359474973796,0.67461755468430984,0.59016854625871562,0.59097181227718876,0.59331958837905052,0.57450868625353491,0.49793348030743251]
[6125000,615000,649.79952395768896,null,29.240554030318918,0,1.1695769640121167E-3,3.5609310656471029,null,null,3.90548832917551,3.9342206433634352,3.8466993865277126,4.2384722032514226,3.8854801344524121,3.812046849054151,3.3781280043061734,3.0187255235034396,2.6643925703422742,2.6793755865495044,2.883016101835767,null,null,0.63282540550578059,0.66350072050282627,0.66618814849047858,0.76200876557250941,0.6844095543492974,0.68101574918305829,0.59660982937845219,0.59737117678204799,0.59933041943637677,0.5807984757051734,0.5044929739110271]
[6125000,635000,570.06728998133599,null,47.529043752215337,0,4.4267178985484798E-4,1.1823970583748009,null,null,3.3241606112539204,3.4055161998662387,3.4089694219975346,3.7700453286403488,3.5395219712290169,3.5522792307591926,3.1108655560174379,2.6709335188985879,2.2239517098568999,1.973665583624804,1.8951337228687528,null,null,0.66235478138807402,0.69316800816387913,0.69610648989915092,0.79548708923319678,0.71687850607563364,0.71508529903942708,0.62978275647634552,0.62977452103420051,0.63017773892316975,0.61228242598289773,0.53609260654899371]
[6125000,645000,558.79840696951305,null,57.105253698762255,0,3.0665346012431728E-4,0.80289434771420853,null,null,3.241999185214719,3.3307922366148408,3.3471032542626267,3.7038406409458893,3.4906262878407173,3.5155652099066739,3.0730922601618076,2.6217786512010162,2.1617024000995904,1.8739247000871595,1.7555122623522665,null,null,0.66849229344886285,0.69934379159271187,0.70232297318862558,0.80245162725485308,0.72358448064522685,0.72208475279474149,0.636547084233549,0.63636918013971855,0.63647656517666862,0.61867876591343451,0.54244956784874265]
[6125000,655000,592.52777846920196,null,66.805763224440454,0,2.2406402853679467E-4,0.62206565959306503,null,null,3.487920032818951,{"$f":"L$2+L$3*$C154","v":3.5544516990292778},3.5322775037959189,3.9020006985065616,3.6369780307778674,3.62545550225266,3.1861531134287651,2.7689061696826589,2.3480234482638718,2.1724633672309066,2.1734191752334118,null,null,0.65151715677416222,{"$f":"SQRT(Y$2+2*Y$3*$C154+Y$4*$C154^2+Y$5)","v":0.68226968547464284},0.68513057685383172,0.78319569610628392,0.70501576736780391,0.70268223047122058,0.61776502907204189,0.61805364472368218,0.61899589809411459,0.60090862370567411,0.52474910374444572]
[6125000,665000,633.12575917859999,null,76.583353282550902,0,1.7050269309003735E-4,0.50579740668506123,null,null,3.7839199101711722,3.8236569091132964,3.7551604178905142,4.140513835174275,3.8131326690759453,3.7577237234038785,3.3222375447666668,2.9459945615370535,2.5722866937025866,2.5317960944897884,2.6764281562228538,null,null,0.63689364441606089,0.66758153348421723,0.67031551699260894,0.766620478722008,0.68892685905242435,0.68578999266434304,0.60130175514081796,0.60197083502376469,0.60369201412235285,0.58527984053664661,0.50904299711917922]
[6125000,675000,643.81733354076505,null,86.411862611565084,0,1.3392241338902722E-4,0.40399064070580598,null,null,3.8618721788457178,3.8945527387088132,3.8138571611388001,4.2033268345519943,3.85952341023338,3.7925568726758128,3.3580757020286445,2.9926312089048173,2.6313469504791862,2.6264272191693108,2.8088967625700789,null,null,0.63415216355700754,0.66483116294221067,0.66753489533065313,0.76351301930290771,0.68588688164079215,0.68258005005511579,0.59815063040802141,0.59888336838476952,0.60076302335678489,0.58227291663552816,0.50599401266433663]
[6125000,685000,656.75450217797595,null,96.275697868153628,0,1.0788638700357428E-4,0.33199005914191737,null,null,3.9561970753796221,3.9803391039421587,3.884882216957088,4.2793327002956083,3.9156577849502376,3.8347061680958454,3.4014410913005753,3.0490631385003315,2.7028118700311392,2.7409340987772648,2.9691882819851214,null,null,0.63147135445304825,0.66214348980701832,0.66481253976055055,0.76047306548758953,0.68289546032128368,0.67940804851412318,0.59502111311183858,0.59580929356811241,0.59785268314494844,0.57927382137716366,0.5029349291560643]
[6125000,695000,650.43592719353296,null,106.16501306927816,0,8.8723193396155248E-5,0.27039400496351751,null,null,3.9101283451680482,3.938440633220317,3.8501932402924961,4.2422110722620063,3.8882414880927394,3.8141202507965302,3.3802612279527224,3.0215015144181909,2.6679080618170761,2.6850083915899594,2.890901137927874,null,null,0.63269306488529631,0.66336804030006746,0.66605376061127775,0.76185869797758465,0.68426189634283874,0.68085918809561907,0.59645537616634081,0.59721946740333975,0.59918678664574343,0.58065047126480318,0.50434202084402469]
[6125000,705000,632.97120410703803,null,116.07329580915673,0,7.4222464022516112E-5,0.2201276983647549,null,null,3.7827930491444137,3.8226320544337691,3.754311910547639,4.1396058241288483,3.812462054620438,3.7572201829807303,3.3217194761667912,2.9453203923149003,2.5714329314872781,2.5304281275513931,2.6745132188862009,null,null,0.63693673326245615,0.66762477336269588,0.670359204401617,0.76666931499557689,0.68897453683352272,0.68584026144686083,0.60135101342300945,0.60201905685274726,0.6037377950937306,0.58532677604225891,0.50909048501936605]
[6125000,715000,611.18348475420805,null,125.99607136732479,0,6.299208630419759E-5,0.18039021433094682,null,null,3.6239387873429303,3.6781576874051538,3.6346973313006026,4.0116029729309721,3.717925140348509,3.6862357933292103,3.2486870408961055,2.8502823604978555,2.4510775697822456,2.3375850235594955,2.4045633761046377,null,null,0.64398284558009555,0.67469912036873902,0.67749943306764338,0.77465498844001224,0.69674418829778129,0.6940118577793879,0.60933325113637848,0.60982302927272258,0.61115654146958143,0.59291520644899842,0.51673850179117853]
[6125000,865000,621.63413503422896,null,275.50863870303596,0,1.3174360954566768E-5,3.8372472567706234E-2,null,null,3.7001344785345633,3.7474559494119717,3.692071401337917,4.0730005433260947,3.7632705119135199,3.7202840119415184,3.2837176206347358,2.8958680970193069,2.5088069619290807,2.4300837291879605,2.5340469330740962,null,null,0.64036362142254055,0.67106458485844767,0.67383261548012097,0.7705531324283097,0.69275905654590109,0.68982497664572162,0.60524892964452282,0.60583209093873813,0.60736042570454807,0.5890360769992532,0.5128355397617973]
[6125000,875000,710.362383322965,null,285.49432568791974,0,1.2268883375797984E-5,4.0835733948191552E-2,null,null,4.3470521368077373,4.3358129638145808,4.1791894844430777,4.5942790020224189,4.1482623812383448,4.00936064486622,3.5811347088985785,3.2829007160547734,2.998941805476059,3.215417454791563,3.6333899293715364,null,null,0.627938936792931,0.65862222910955459,0.66117210576320429,0.75643900654564289,0.67868468697203521,0.6747604333693723,0.59023148808037351,0.59098805834518042,0.5933636430555872,0.57449550890573997,0.49783375958984138]
[6125000,885000,696.643347853146,null,295.48098077541306,0,1.1453571630236097E-5,3.7385810685631259E-2,null,null,4.247026649197287,4.2448420396142108,4.1038719797137713,4.5136796686372325,4.0887354863348007,3.9646640273055498,3.5351485020037456,3.2230582833354231,2.9231578535407787,3.0939902718481944,3.4634110799004789,null,null,0.62767153540057119,0.65834628686690422,0.66092268635325935,0.75614801637301532,0.67849605213157715,0.67463439904150724,0.59018920971797884,0.59099445071651568,0.59333953184077515,0.57453226722737349,0.49796201830576703]
[6125000,895000,650.38592408214402,null,305.46850901525022,0,1.0716848954908965E-5,3.2658303072844008E-2,null,null,3.9097637724829113,{"$f":"L$2+L$3*$C164","v":3.9381090625886968},3.8499187232109708,4.2419173039825964,3.8880245245924225,3.8139573406596252,3.3800936175233467,3.0212834008463125,2.6676318446297635,2.684565814051056,2.8902815993777642,null,null,0.63270340165394889,{"$f":"SQRT(Y$2+2*Y$3*$C164+Y$4*$C164^2+Y$5)","v":0.6633784033907737},0.66606425768824373,0.76187041952690981,0.6842734317277831,0.68087142056008387,0.59646744572814225,0.5972313234738339,0.59919801085993751,0.5806620384039185,0.50435382046362587]
[6135000,465000,791.23105164903802,null,125.0000399999936,0,6.3999959040026208E-5,0.23726757442228252,null,null,4.9366655975731355,4.8720531034847712,4.623158473553219,5.0693824284380984,4.4991515331051763,4.2728307662725662,3.8522064851275752,3.635649847293104,3.4456603293092862,3.9311860381456354,4.6353527299315802,null,null,0.64567277949437851,0.67649199509341451,0.67894698165001499,0.77642538654549709,0.6972870796109194,0.69368190118613171,0.60800661290306346,0.60793459248999837,0.60973554587216194,0.59070019925787054,0.51338282991022455]
[6135000,475000,822.14661169882402,null,115.00873879840609,0,7.5602876235823536E-5,0.29123459416552788,null,null,5.1620709458961258,5.0770541821749022,4.7928848982265437,5.2510113437305908,4.6332941481611973,4.3735536609147685,3.9558354424144584,3.7705035202302706,3.6164378830243042,4.204819660146291,5.0183965189484292,null,null,0.65942243522697586,0.69034300527422743,0.69279087712698295,0.7919707733663861,0.71195304282404026,0.70875855363672102,0.62233774531168706,0.6217324816016615,0.62300105901245495,0.60397697511371373,0.52632391221089181]
[6135000,485000,862.43548226509404,null,105.01909350208656,0,9.0669969471421282E-5,0.36639155685429753,null,null,5.4558171011947998,5.3442096828998382,5.014070797635366,5.4877084583074272,4.8081075575482428,4.504814801219676,4.0908837365525947,3.9462435736403405,3.8389936040323795,4.5614164535283468,5.5175756252645156,null,null,0.68260647441389344,0.71371556018440607,0.71617851098683816,0.81823471277568471,0.73678014675701242,0.73432172193037593,0.64665292201804614,0.6452122672445344,0.64557350803729263,0.62660468327165564,0.54838898608425546]
[6135000,495000,904.51082762912404,null,95.031626314611714,0,1.1072958617031758E-4,0.46928083527980219,null,null,5.762588444243943,5.6232112980087212,5.2450644436838916,5.7349011123211033,4.9906724810827692,4.6418962764156859,4.2319202942128236,4.1297762301182397,4.0714178118232809,4.933825335345376,6.0388891543248464,null,null,0.71258749977136204,0.74397582894713332,0.74648283580850472,0.85227820640255814,0.76897371616507393,0.76748328425716383,0.67815941973312999,0.67571494477289518,0.67492009411045317,0.65603399162949683,0.57702711682212182]
[6135000,505000,924.46206907280396,null,85.047104595041915,0,1.3825502798973043E-4,0.59886013363987789,null,null,5.9080529456098132,5.755507980021763,5.3545967592096941,5.8521146558027226,5.077240917706896,4.7068974210391952,4.2987968555320384,4.2168035452955719,4.18162846955817,5.1104137733633879,6.2860850358120404,null,null,0.7286627364464936,0.7602166878728519,0.76275412733742842,0.87056386521651929,0.78625923852753477,0.78528503986380438,0.69504727543158917,0.69209136760850309,0.69068941002721307,0.67184411564637725,0.59237537285845032]
[6135000,515000,876.59090852520205,null,75.066703670802013,0,1.7746197433544928E-4,0.7288827006671742,null,null,5.5590243140572477,5.4380743144306143,5.0917840878033598,5.5708715875855619,4.8695279520908521,4.5509331799751083,4.1383327253764772,4.0079895429869321,3.9171881786932166,4.686706131356563,5.6929613566272534,null,null,0.69206903212254833,0.7232619627304897,0.72573659250381195,0.8289704489017391,0.74693313343924772,0.74478005217106968,0.65659531228066303,0.65482989510593925,0.65482326361797927,0.63588071528215506,0.55742467609665092]
[6135000,525000,850.59838207841005,null,65.092319055323259,0,2.3601549205689865E-4,0.94063348549709358,null,null,5.369512803733687,5.2657178715619368,4.9490851176104718,5.4181654947106583,4.756746379838221,4.4662495288114599,4.0512057767268308,3.8946101426260249,3.7736054626011373,4.4566462797760069,5.3709139539514998,null,null,0.67520584117145011,0.70625215601327229,0.70870785899859257,0.80984457947631694,0.72884626951425691,0.72615017905539803,0.63888151924404857,0.63770081711613991,0.63835120468832351,0.61936260374150476,0.54132970105102329]
[6135000,535000,813.87791537025601,null,55.127216508726427,0,3.2905452762577294E-4,1.2548231047656826,null,null,5.1017838809645362,5.022224456820167,4.7474897553827056,5.2024327528002541,4.5974162747915406,4.3466142482762944,3.9281187723210982,3.7344354668450568,3.5707616045052943,4.131633428942135,4.9159473714374711,null,null,0.65538842848567458,0.68627855580049146,0.68872672762383491,0.78740724222300584,0.70764370461180426,0.70432529851488423,0.61812144901042254,0.61766887419089633,0.61909489699004849,0.60006460664304273,0.52250821787117741]
[6135000,545000,708.64864032358798,null,45.177538666908362,0,4.8995350341252608E-4,1.6268263472476399,null,null,4.3345572365992799,4.3244491339857118,4.1697810353764977,4.5842107619010788,4.140826450364048,4.0037772701742496,3.5753902423646666,3.275425369091491,2.9894750891475002,3.2002491155040769,3.6121566536092553,null,null,0.62786140256942213,0.65854341947117256,0.66109645260167005,0.75635280415737383,0.67861339259491293,0.67469507929119699,0.59017834525549351,0.59094251919207363,0.59331636862420634,0.57445531615342404,0.49780527335277658]
[6135000,555000,685.84267579340803,null,35.256346946330098,0,8.0449875704942061E-4,2.5852661173639975,null,null,{"$f":"K$2+K$3*$C174","v":4.1682789492097374},{"$f":"L$2+L$3*$C174","v":4.1732227831860884},4.0445762901058098,4.4502257202862721,4.0418713702675975,3.929475437734923,3.4989446492595038,3.175945751810846,2.8634949410827861,2.9983935234474544,3.3295907530803257,null,null,{"$f":"SQRT(X$2+2*X$3*$C174+X$4*$C174^2+X$5)","v":0.62802920070880097},{"$f":"SQRT(Y$2+2*Y$3*$C174+Y$4*$C174^2+Y$5)","v":0.65869991797774574},0.66129917587520737,0.75656075028847292,0.67896191972219533,0.67517363310063261,0.59077172796877031,0.59159560920339904,0.59389004291628877,0.57513730176385769,0.49863530216144974]
[6135000,565000,712.76707840697304,null,25.397047072445254,0,1.5503635602548797E-3,5.1776960966333538,null,null,4.3645847686652397,4.3517584969166379,4.1923912604542819,4.6084065856409664,4.1586963532078558,4.0171951414499185,3.5891952468201733,3.2933899960112165,3.0122253411201192,3.2367014109801175,3.663184101462396,null,null,0.62806895563717158,0.6587541384050476,0.66129966235136561,0.75658394183117106,0.6788076852481354,0.67487600255427949,0.59032908354922997,0.59107425383394985,0.59345127415670795,0.57457345649684499,0.49789515121739331]
[6135000,575000,711.46245177349704,null,15.716551784663199,0,4.0484190923444395E-3,13.495619364509123,null,null,4.3550727358805661,4.3431075177100587,4.1852288602364984,4.6007419041692943,4.1530355782452038,4.0129446678780534,3.5848221383447623,3.2876992146359942,3.0050185835967977,3.2251541606472216,3.6470197774736279,null,null,0.62799534111720057,0.6586794836244545,0.66122735796167764,0.7565018356676797,0.6787376281364158,0.67480984462654547,0.59027279850332337,0.59102425944398007,0.59340064569990403,0.57452804490548215,0.4978587405071318]
[6135000,585000,701.43910080896796,null,7.0007142492748553,0,2.0403999183840033E-2,67.059550907363032,null,null,4.2819924839981853,4.2766426774642667,4.1302006634412338,4.5418547172526864,4.1095442584101116,3.9802885904356176,3.5512238659116608,3.2439773577287183,2.9496495928687394,3.1364374812601747,3.5228304590231128,null,null,0.6276731938425737,0.65835049758161568,0.66091730155526374,0.75614601934547709,0.6784626951213486,0.67457525334230217,0.59010442891404036,0.59089583032554749,0.59325588871805934,0.57442626517438433,0.49782461459659993]
[6135000,595000,666.16417859365595,null,7.1421285342676386,0,1.960399921584003E-2,61.190122701875474,null,null,4.024803026126345,4.042734668254532,3.9365413404791711,4.3346145492377284,3.9564863709178733,3.8653628938581308,3.4329823266459343,3.0901081470255276,2.7547909225513556,2.8242191447324485,3.0857741727753973,null,null,0.6299641099387463,0.66063374807603881,0.66327894912447427,0.75876249103744353,0.6811976326898338,0.67759669134903056,0.59322140225287157,0.59403474020621561,0.59617735677629358,0.57753815441872403,0.50115030533321636]
[6135000,605000,635.17588674549199,null,15.906288064787461,0,3.9524129481048175E-3,11.76282640322324,null,null,3.7988673902613819,3.8372513050093575,3.7664156182327511,4.1525583346297656,3.8220281725886895,3.7644030390168126,3.3291095723708892,2.9549372179838365,2.583611598382098,2.549941773584349,2.7018292367766454,null,null,0.63633137534758544,0.66701732298275695,0.66974539739545003,0.76598320150112986,0.68830445418142605,0.685133576635237,0.60065830808124576,0.60134082512279641,0.60309398099918377,0.58466656569944642,0.50842223908223994]
[6135000,615000,622.77511512134902,null,25.593163149560077,0,1.5266942489427645E-3,4.4549075115688748,null,null,3.7084533643497553,3.7550217883696648,3.6983353820162064,4.0797038013379252,3.7682212245115334,3.7240013250653554,3.2875421858867622,2.9008450521593248,2.515109735930332,2.4401825439390601,2.5481836763535144,null,null,0.63999507984657122,0.67069457382283593,0.6734591549573109,0.77013545694558838,0.6923526571668398,0.68939753609859189,0.6048313659981277,0.60542385278562039,0.60697235149810924,0.58863911135996305,0.51243542035864087]
[6135000,635000,543.94748288737298,null,45.376315407930598,0,4.8567029786159374E-4,1.2378097160527481,null,null,3.1337210977318364,3.2323157590261702,3.2655716810516777,3.6165914619633162,3.4261881282483113,3.4671808992470612,3.0233119626384743,2.556998920354721,2.0796658954698484,1.7424791710361376,1.571509312974551,null,null,0.67726762763178816,0.70817828489369083,0.71121278102232055,0.8124143761989725,0.73316181616081455,0.73206940726014291,0.64617805362131553,0.64575712573944821,0.64545121936711625,0.62778181280089984,0.55147323178816954]
[6135000,645000,589.79124455507304,null,55.326395147343554,0,3.2668955671494049E-4,0.90279458303215609,null,null,3.467967964051037,3.5363057426446889,3.5172539326073511,3.8859235617610541,3.6251042101244622,3.616539874760428,3.1769802517486045,2.7569694087492289,2.3329068349222237,2.1482423055569511,2.1395135200373545,null,null,0.65273583749323216,0.6834947186410224,0.68636479989844945,0.78457745899726605,0.70635144835655517,0.70408036239485705,0.6191220312602459,0.61937757438429297,0.62025797792208626,0.60219379835210951,0.52603375607646163]
[6135000,655000,659.81832918481996,null,65.291729951043564,0,2.3457603899592076E-4,0.72520935223512584,null,null,3.9785354380865217,4.0006553408245411,3.9017026272246618,4.2973326839608168,3.9289517303329342,3.8446881164841438,3.4117110394275167,3.062427551904185,2.7197364504169457,2.7680520316148414,3.0071490985999185,null,null,0.63093947827907138,0.66161057711264637,0.66427173204307577,0.75986961955138599,0.68229823986510862,0.6787721925057254,0.59439080926538734,0.59518859578612482,0.59726615432829622,0.57866723914458029,0.50231286005237064]
[6135000,665000,660.42291225887197,null,75.266260701591918,0,1.7652219501819062E-4,0.54623160258226278,null,null,3.982943453279435,{"$f":"L$2+L$3*$C184","v":4.0046643311885797},3.9050217883012075,4.3008846095208728,3.9315750162912453,3.8466578481394054,3.4137376018917385,3.0650647432731999,2.7230761673180091,2.773403196403275,3.0146398828874235,null,null,0.63083920621136991,{"$f":"SQRT(Y$2+2*Y$3*$C184+Y$4*$C184^2+Y$5)","v":0.66151012626972672},0.66416973798033929,0.75975583618212073,0.68218544784813662,0.67865196617023682,0.59427147696903182,0.59507099811820885,0.59715508789828453,0.57855226128545501,0.50219477292543346]
[6135000,675000,656.42266334785802,null,85.246759469202104,0,1.3760817722832365E-4,0.42323656487203731,null,null,3.9537776384692327,3.9781386806596464,3.8830604217797409,4.2773831471686661,3.9142179362663558,3.8336250371873213,3.4003287675420202,3.0476156575233571,2.7009787923335677,2.7379969932918913,2.9650767988799602,null,null,0.63153133773178982,0.66220359854032596,0.66487351102650838,0.76054111090599485,0.68296271084875781,0.67947957961572847,0.59509194017088918,0.59587899861435534,0.59791858037665391,0.57934191354806952,0.5030046710829168]
[6135000,685000,671.55087741132797,null,95.231349880173397,0,1.1026561884924593E-4,0.34695600767685547,null,null,4.0640774472059915,4.0784538681145159,3.9661143169881909,4.366261404791552,3.9798592570877522,3.882912758606107,3.4510385410827711,3.1136049272682129,2.7845470468201761,2.8718968159676637,3.1525153711263529,null,null,0.62927027639435129,0.65993938187864198,0.66257146925987676,0.75797428199068062,0.68040824383514853,0.67674921806932209,0.59237343668184361,0.59319534700736487,0.59538707851581374,0.57671504464342327,0.50029741558397867]
[6135000,695000,654.31344119477603,null,105.21886712942693,0,9.0325995550541473E-5,0.27691977532973733,null,null,3.9383992997511115,3.96415242856256,3.8714807921593204,4.2649914670193088,3.9050660213441333,3.8267531914125801,3.3932586548848889,3.0384152304916134,2.689327449159943,2.7193282680149622,2.9389435364032748,null,null,0.63192344328289374,0.66259656243580489,0.66527199106786661,0.76098587848433463,0.68340187390216522,0.67994638732656831,0.59555380178726336,0.59633335681974309,0.59834824862743596,0.57978563668971728,0.50345875068441814]
[6135000,705000,637.84423459863604,null,115.20855002993486,0,7.5340860889881037E-5,0.22516484472803008,null,null,3.8183223144586549,3.8549451196235553,3.7810648479465119,4.1682348782669862,3.8336061339234817,3.7730965163223562,3.3380538743746282,2.9665765513192506,2.5983515519228657,2.5735593204325271,2.7348900666771003,null,null,0.63562548992690338,0.66630908132746136,0.66902954118044344,0.76518311828495711,0.68752235211444179,0.68430820952836047,0.59984861365873077,0.60054774961966639,0.60234140319345841,0.58389435691571301,0.50763986570563679]
[6135000,715000,605.19674859988004,null,125.19988019163597,0,6.3795812570454494E-5,0.18090231782940003,null,null,3.5802894940417254,3.638459639965804,3.6018301498133414,3.9764308980242955,3.6919486921748792,3.6667310069384094,3.228619501306798,2.824168217392677,2.4180068392657375,2.2845964218575379,2.3303877151525132,null,null,0.64625215538410063,0.67697877018132591,0.67979812041212462,0.77722712757094436,0.6992384867109307,0.69662887392612216,0.61188155341130535,0.61231149259677109,0.61352536895831589,0.59533274378737489,0.51916530256127558]
[6135000,865000,626.06622899813601,null,275.14543427067804,0,1.3209165417189693E-5,3.8748155016000832E-2,null,null,3.7324488756254093,3.7768451644866401,3.7164035971997667,4.0990390953640485,3.7825013676229124,3.7347237740759276,3.2985739996017518,2.9152008908898694,2.5332898489857034,2.4693121928625015,2.5889605772869047,null,null,0.6389615954051725,0.66965706596244634,0.67241178161185045,0.76896418785963649,0.69121230202938611,0.68819759817635595,0.60365847867621303,0.60427688971509053,0.60588230585686442,0.58752362345825981,0.51131026215568864]
[6135000,875000,685.11990354698605,null,285.1438408943809,0,1.2299062528556884E-5,3.9481529226473487E-2,null,null,4.1630092167610746,4.1684300804200642,4.0406082704729531,4.4459794333385423,4.0387352614903724,3.927120645756081,3.4965219166894972,3.1727930192719533,2.8595023471935512,2.9919962662943735,3.3206356049471575,null,null,0.62807099088117269,0.65874152366024463,0.66134237200384938,0.75660854019510904,0.67901239702423011,0.67522977185633581,0.59083004436921238,0.59165455345652374,0.59394476495329018,0.57519587496811031,0.49869831276434562]
[6135000,885000,663.55947106409803,null,295.1423554829093,0,1.1479868729997047E-5,3.5692103697689714E-2,null,null,4.0058121035283385,4.0254628526260339,3.9222414961418983,4.3193118925015757,3.9451845449471215,3.8568767567268312,3.424251347006857,3.0787464127815958,2.7404025181580778,2.8011648783883309,3.053501846484175,null,null,0.63034381758506264,0.66101394470948804,0.66366562863445266,0.75919358964200601,0.68162709244570574,0.67805605051072082,0.5936791380981028,0.59448680413996458,0.59660365409031135,0.57798078097896055,0.50160688958113231]
[6145000,455000,796.35409769757803,null,134.99262942842472,0,5.4875676411306366E-5,0.20475828218036166,null,null,4.9740177263130407,4.9060240218326401,4.6512839963597035,5.0994803239732702,4.5213804299097911,4.2895216502987097,3.8693789354822812,3.6579965741568357,3.4739600356814209,3.9765301187212625,4.6988272704729921,null,null,0.64769667365261108,0.67853042040803557,0.68098309606046581,0.7787118988059204,0.69944125214809516,0.69589397058577807,0.61010740695463583,0.60995434898783785,0.61167797373924571,0.59264210958837471,0.51527365309362316]
[6145000,465000,810.25496266334801,null,125.0000399999936,0,6.3999959040026208E-5,0.24297230152188681,null,null,5.0753689327784697,{"$f":"L$2+L$3*$C194","v":4.9982006574206608},4.7275997450217808,5.181147905647169,4.5816962829962673,4.3348106683571883,3.9159746348475428,3.7186321471375243,3.5507484137523346,4.0995666745332926,4.8710589873988814,null,null,0.65370185420288029,{"$f":"SQRT(Y$2+2*Y$3*$C194+Y$4*$C194^2+Y$5)","v":0.68457944161782391},0.6870281131623921,0.7854999061490312,0.70584337559024102,0.70247383053686185,0.61636095685320547,0.61597304656688634,0.61746468715192948,0.59843236535607569,0.52091663502019103]
[6145000,475000,841.91602364654796,null,115.00873879840609,0,7.5602876235823536E-5,0.29823764761555616,null,null,5.3062097284069809,5.2081451528002596,4.9014189698195487,5.3671566389234693,4.7190736266023716,4.4379624050404534,4.0221025112632285,3.8567376951462427,3.7256441146235315,4.3797987252955952,5.2633395329807291,null,null,0.67008381174183218,0.70108812117908426,0.70353998842287435,0.80404109405398783,0.72335941435079387,0.72049992833448695,0.63350689282838424,0.63250953536169252,0.63336052103615403,0.61435906804552598,0.53645050923131454]
[6145000,485000,874.14984754200202,null,105.01909350208656,0,9.0669969471421282E-5,0.37136821263855824,null,null,5.5412265384287362,5.4218876390510156,5.0783826630055913,5.5565303543092615,4.8589361884847468,4.5429802032918429,4.1301502889607908,3.9973416349782132,3.9037037578220191,4.6651003005942595,5.662716611045405,null,null,0.69039070641693812,0.72156847347792374,0.72404085787407702,0.82706567335408443,0.74513173060573734,0.74292442738786879,0.65483159327244655,0.653123196546465,0.65318163544624763,0.63423439263988968,0.55582157263389054]
[6145000,495000,922.09828562539406,null,95.031626314611714,0,1.1072958617031758E-4,0.47840560938623461,null,null,5.8908186004947476,5.7398337319819879,5.3416195880834136,5.8382274280491897,5.0669844613285848,4.6991962145675341,4.2908734534163209,4.2064927218979697,4.1685709297946776,5.0894919260703615,6.2567977588986325,null,null,0.72669968721510503,0.75823284201716623,0.7607663687288202,0.86832976935458894,0.78414770986420279,0.78311068564798636,0.69298556223352537,0.69009123539118644,0.68876290089608272,0.66991284818171837,0.59050195313122411]
[6145000,505000,927.92592097075396,null,85.047104595041915,0,1.3825502798973043E-4,0.60110399293915195,null,null,5.9333078897977662,5.7784767819570693,5.3736133061294398,5.8724647857031789,5.0922705710921017,4.7181826505227162,4.3104076870939672,4.2319128672744295,4.2007627874424447,5.1410723265121421,6.329002160827641,null,null,0.73156701164057636,0.76315201705295721,0.76569533658755584,0.87386969989538776,0.78938350110190603,0.78850212684392762,0.6980971814293212,0.69505058986108093,0.69353997435147674,0.67470159320944889,0.59514653082111035]
[6145000,515000,885.95058182949901,null,75.066703670802013,0,1.7746197433544928E-4,0.73666524083391638,null,null,5.6272656921188764,5.5001383081114081,5.1431686942439496,5.6258596682483066,4.9101395745581966,4.5814269956005083,4.1697063502924809,4.0488164379402756,3.9688910140261524,4.7695485997728957,5.8089277088674924,null,null,0.69867977538234038,0.72993365030538404,0.7324177717204321,0.83647572262905123,0.75403096082554466,0.75209154083354446,0.66354299964315355,0.66155526624364391,0.66129315875389316,0.64236908614909072,0.56374018561457795]
[6145000,525000,837.92941194773005,null,{"$f":"(SQRT(($A200-E$1)^2+($B200-E$2)^2)/1000)","v":65.092319055323259},0,2.3601549205689865E-4,0.92662351583013791,null,null,5.2771433425108993,5.1817099306253978,4.8795324715930377,5.3437352951929133,4.7017757184412003,4.4249740241257047,4.0087393888487908,3.8393480949159988,3.7036220715992614,4.3445132251493579,5.2139454140323744,null,null,0.66782068611828105,0.69880680735670775,0.70125733686949498,0.80147779032375532,0.72093637855186243,0.71800510507744053,0.63113361537282442,0.63021824367866408,0.63115792135874804,0.61215111315521875,0.53429705614173684]
[6145000,535000,804.95463285625794,null,55.127216508726427,{"$f":"IF(E201=0,1,0)","v":0},{"$f":"IF($F$618=0,1/E201^2,F201)","v":3.2905452762577294E-4},{"$f":"G201/$G$618*C201","v":1.2410653398018521},null,null,5.0367242281549762,4.9630541704698459,4.6985009343808564,5.1500084680305154,4.558698151963303,4.3175421938456884,3.8982079293341769,3.6955121085189973,3.5214693918979694,4.0526534554107387,4.805387901089035,null,null,0.65132437040296998,0.68218445744724354,0.68463426507244107,0.78281188087961318,0.7033071056736202,0.69986629246706866,0.61388207496398506,0.61358623304905902,0.61517007759531361,0.59613558645084996,0.5186775877342511]
[6145000,545000,714.38990665837798,null,45.177538666908362,0,4.8995350341252608E-4,1.6400064238166674,null,null,4.3764168094462335,4.3625194710517041,4.2013005875544946,4.6179407016179699,4.1657378049907017,4.0224823158929954,3.5946349671188829,3.3004687728438449,3.02118984438088,3.2510650638333027,3.6832909434973038,null,null,0.62817070011074572,0.65885722539049374,0.66139986252616856,0.75669756962276957,0.67890583728592546,0.67496973920519387,0.59041013716396817,0.59114713276075392,0.59352446258584202,0.57464027750092761,0.49795071422231074]
[6145000,555000,693.15222153080902,null,35.256346946330098,0,8.0449875704942061E-4,2.6128192597903772,null,null,4.221572847181128,4.2216923809707945,4.084705696204141,4.493169301493503,4.0735874892221799,3.9532899377473756,3.5234462465712717,3.2078299903173892,2.9038728717361892,3.06309031276919,3.4201560247667233,null,null,0.62773241088624165,0.65840559782608821,0.6609891982522994,0.75621959809719397,0.67858746346739185,0.67474721466023102,0.59031821161830844,0.59113137629197987,0.59346264444733932,0.57467237736247856,0.49812457409100863]
[6145000,565000,705.130239576858,null,25.397047072445254,0,1.5503635602548797E-3,5.1222204275133958,null,null,4.3089045767548715,{"$f":"L$2+L$3*$C204","v":4.3011186186341455},4.15046501527695,4.5635401575140406,4.1255601095239873,3.9923143205414036,3.563596563061628,3.2600781050342547,2.9700394434225639,3.1691077504947698,3.5685636683572701,null,null,0.62774169344754749,{"$f":"SQRT(Y$2+2*Y$3*$C204+Y$4*$C204^2+Y$5)","v":0.65842127869540945},0.66098093340316477,0.75622041780167815,0.67850971757532386,0.6746052836286639,0.59011205818894041,0.59089048184196447,0.59325891104639616,0.57441286700366012,0.49778661497845256]
[6145000,575000,681.72878344742298,null,15.716551784663199,0,4.0484190923444395E-3,12.931606085889879,null,null,4.1382845601151601,4.1459435630398618,4.0219910211263521,4.4260566027536097,4.0240211913783686,3.9160723764717043,3.4851548821157614,3.1580009533976594,2.8407697997635646,2.9619814622931404,3.2786196269135699,null,null,0.62829693538948594,0.65896674743088668,0.66157515821493718,0.75686650867571614,0.6792815145173644,0.67552670369355172,0.59113598127094091,0.59196239947735352,0.59423141282423564,0.57550092465965241,0.49902395067277971]
[6145000,585000,668.65069695084503,null,7.0007142492748553,0,2.0403999183840033E-2,63.9248872777491,null,null,4.0429322314686109,4.0592227714810534,3.9501923262601393,4.3492228445862144,3.9672753740697164,3.8734639706658536,3.4413171361792321,3.100954340099586,2.7685264499564681,2.8462273187119287,3.1165821352209706,null,null,0.629628501574236,0.66029781433669021,0.66293691265502275,0.75838132331130059,0.68081668463457823,0.67718830097125737,0.59281342740945608,0.59363125236849124,0.59579724174322479,0.57714272535117672,0.50074127903857879]
[6145000,595000,634.35765401369497,null,7.1421285342676386,0,1.960399921584003E-2,58.268552908259785,null,null,3.7929016554138499,3.8318256037648109,3.7619235205351855,4.147751217330458,3.8184778607654222,3.761737236776618,3.3263668562539053,2.9513680868077374,2.5790916807716511,2.5426995956752139,2.6916913332296808,null,null,0.63655371088443047,0.6672404195976197,0.6699708463162336,0.7662351994382085,0.68855062664738897,0.68539324349238206,0.60091289575956897,0.60159011931582485,0.60333060229457713,0.58490925382606906,0.50866794839420715]
[6145000,605000,593.518749222157,null,15.906288064787461,0,3.9524129481048175E-3,10.991377600824785,null,null,3.4951452005787464,3.5610228260921231,3.5377179332296422,3.9078226516801724,3.6412778528749392,3.6286840849657875,3.1894748473926704,2.7732287841070491,2.3534975707031953,2.1812344493653111,2.1856973028625246,null,null,0.6510829200082876,0.6818332161951236,0.68469079835435243,0.78270337248770538,0.70453971272924076,0.70218380252509671,0.61728110338394726,0.61758147602503266,0.61854585382895166,0.60045024268529157,0.52429070904943376]
[6145000,615000,583.78177971375703,null,25.593163149560077,0,1.5266942489427645E-3,4.1759758417083059,null,null,3.4241529558930024,3.4964569812819226,3.4842619706285261,3.8506179558183224,3.5990291421779919,3.5969610383074206,3.1568365256005135,2.7307561231114081,2.2997105511387939,2.0950525322464628,2.0650562506534493,null,null,0.65551213541748621,0.68628595300694362,0.68917647728042042,0.78772563303317922,0.70939245884258373,0.70726189565889475,0.62220762855773382,0.62238746609442863,0.6231282279413134,0.60511510378512057,0.52895094473482973]
[6145000,635000,546.42490976976296,null,45.376315407930598,0,4.8567029786159374E-4,1.2434473615282904,null,null,3.1517840171313418,3.2487435766832982,3.279172754635999,3.6311463448973575,3.4369376834910019,3.4752523560298876,3.0316162975482452,2.567805456415706,2.0933512015681708,1.7644068763721714,1.6022046320473633,null,null,0.67575054580857297,0.70665061719320765,0.70967575799745597,0.8106915935139124,0.73150686344490534,0.73034496936326876,0.64451611935397279,0.6441372000835216,0.6439019945734602,0.62621122875204471,0.54991816333369936]
[6145000,645000,604.27396390790602,null,55.326395147343554,0,3.2668955671494049E-4,0.92496330917046299,null,null,3.5735614708525425,3.6323406546733246,3.5967640618544041,3.9710095379589481,3.6879447293964045,3.6637245744119582,3.2255263270193009,2.8201430305662862,2.4129093766272729,2.2764288545488762,2.3189544128189556,null,null,0.6466145166294307,0.67734283107432092,0.6801651501329069,0.7776378649482919,0.69963651141455396,0.69704626469517228,0.61228769849502229,0.61270801173433898,0.61390294058284989,0.59571789026538835,0.51955157419286702]
[6145000,655000,660.89112321095899,null,65.291729951043564,0,2.3457603899592076E-4,0.72638846507022869,null,null,3.9863571793311019,4.0077690380118689,3.907592266428165,4.3036353488643844,3.9336065836123515,3.8481832794213044,3.4153070450031349,3.0671070794462034,2.7256625646173376,2.7775473315401973,3.0204410165837823,null,null,0.63076261360555463,0.66143340100198866,0.66409182093278862,0.75966891850723728,0.68209924427790947,0.6785600482843116,0.59418020594017618,0.59498103392551926,0.59707013372587503,0.57846428841835063,0.50210438031806026]
[6145000,665000,676.59210018668705,null,75.266260701591918,0,1.7652219501819062E-4,0.5596050353786135,null,null,4.100833002461135,4.1118822163379214,3.993790630024912,4.3958785885967862,4.0017331227100348,3.8993370624082262,3.4679367198257749,3.1355947410143292,2.8123947614312592,2.9165166787523669,3.214976121313053,null,null,0.62873288332272959,0.65940206284836689,0.66202224098095319,0.75736312294134656,0.67979042190711403,0.67608165604576287,0.59170075071406303,0.59252681013936037,0.5947593711151008,0.57605778798667684,0.49961124235542381]
[6145000,675000,662.50031425016005,null,85.246759469202104,0,1.3760817722832365E-4,0.42715520484900382,null,null,3.9980897911979163,{"$f":"L$2+L$3*$C214","v":4.0184395837928113},3.9164267252333786,4.31308934621969,3.9405888635314446,3.8534260238270219,3.4207010533665363,3.0741263707591981,2.7345517359178841,2.7917902814281659,3.040378893559482,null,null,0.63050644387335342,{"$f":"SQRT(Y$2+2*Y$3*$C214+Y$4*$C214^2+Y$5)","v":0.66117681365321335},0.66383115989732167,0.75937818516762856,0.68181060857383902,0.67825206047557862,0.59387413892014851,0.5946792149778023,0.59678521355178538,0.57816906336401264,0.50180076132404927]
[6145000,685000,666.12781269446498,null,95.231349880173397,0,1.1026561884924593E-4,0.34415418737280201,null,null,4.0245378823553439,4.0424935259769974,3.9363416916926131,4.3344008995799816,3.9563285792812835,3.8652444137585666,3.4328604281518462,3.0899495189732566,2.7545900373242245,2.8238972701587093,3.085323599284421,null,null,0.62996921313456034,0.66063885705098846,0.66328414797819579,0.75876828592024992,0.681203414620977,0.67760288262009949,0.59322757924092095,0.59404084484168507,0.59618311068868957,0.57754413430119778,0.50115648212628949]
[6145000,695000,635.25316428127496,null,105.21886712942693,0,9.0325995550541473E-5,0.26885304879119737,null,null,3.7994308207747753,3.837763732349134,3.7668398719041996,4.1530123401524905,3.8223634798164525,3.7646548092283938,3.3293686066708332,2.9552743025949217,2.5840384794897631,2.550625757053564,2.7027867054449963,null,null,0.63631051947115269,0.66699639616761741,0.66972424883746406,0.76595956301887391,0.68828135831635651,0.68510921179989726,0.60063441630424008,0.60131742850838243,0.60307177511330323,0.58464378796623684,0.50839917366572529]
[6145000,705000,604.08758867455401,null,115.20855002993486,0,7.5340860889881037E-5,0.21324844018011122,null,null,3.5722026090261725,3.6311048005009674,3.5957408618233018,3.9699145834630047,3.6871360472588899,3.663117363901697,3.2249015972371051,2.819330061798405,2.4118798398382366,2.2747792473584774,2.3166452236777237,null,null,0.6466881088265084,0.67741677003893896,0.68023968981749816,0.77772128264353924,0.69971733831854122,0.69713101741402939,0.61237015858981148,0.61278851474044171,0.61397960049080424,0.59579608212844437,0.51962998324614429]
[6145000,715000,600.66010267579804,null,125.19988019163597,0,6.3795812570454494E-5,0.17954624682482773,null,null,3.5472128086092427,3.6083771408432166,3.5769239636901315,3.9497781032203134,3.6722641855102873,3.6519506145177498,3.2134126641692751,2.8043793678718312,2.3929464071811086,2.2444425687834881,2.2741786721531376,null,null,0.64806574290330776,0.67880099250925352,0.68163502542328214,0.77928289778598958,0.70122991601678553,0.69871665072060363,0.61391234760225244,0.61429394209290733,0.61541338495705467,0.59725815884007516,0.5210954421565549]
[6145000,865000,631.01653702551801,null,275.14543427067804,0,1.3209165417189693E-5,3.905453682344779E-2,null,null,3.768541571453051,3.80967065701621,3.7435807882700942,4.1281221550249185,3.8039807541537227,3.7508518776291382,3.3151674321095363,2.9367941345053099,2.5606353505289614,2.5131273692128593,2.6502948937461683,null,null,0.63749014058338893,0.66818014787318181,0.67092026359099055,0.76729653109212614,0.68958664957523419,0.68648546737744842,0.60198304137293845,0.60263769400988332,0.60432519903406767,0.58592884675984103,0.50969939711729051]
[6145000,895000,575.92674548849095,null,305.14096742325501,0,1.0739868464534972E-5,2.8981548170910771E-2,null,null,3.3668819013565869,3.4443702493341832,3.4411378327318154,3.8044696297448843,3.5649461486745624,3.5713693368015038,3.1305064508774216,2.6964924638207979,2.2563193420784242,2.0255276243186326,1.9677323766024024,null,null,0.65934595657328088,0.69014141464294076,0.69305918960019275,0.79207383967747647,0.71358818531478552,0.71164808656622025,0.62645665485682456,0.62653131896330427,0.62708187645289604,0.60913605576103957,0.53296006880716507]
[6155000,445000,799.50883945239798,null,145.67432855517131,0,4.7123110539979008E-5,0.17652758972511282,null,null,4.9970189484474332,4.9269431144088509,4.6686035285936649,5.1180144317828375,4.5350688543839546,4.2997997989359131,3.8799536298444384,3.6717575576913601,3.4913868291350467,4.0044527379931738,4.7379145208152105,null,null,0.64899403856653337,0.67983715863291838,0.6822886350124967,0.78017794254901052,0.70082315650497473,0.69731359213483901,0.61145611385709797,0.61125164914652463,0.6129254356309628,0.593889756385238,0.5164890240669]
[6155000,455000,797.62690416926296,null,135.73138914783124,0,5.4279946653668432E-5,0.20285913923106985,null,null,4.9832977582980957,4.9144640015463823,4.6582717038892536,5.1069580619944199,4.5269031371904322,4.2936684537834591,3.8736453827753694,3.6635485559863255,3.4809910186310087,3.9877957288021459,4.714597342657167,null,null,0.64821544112784213,0.67905293005869216,0.68150510132443332,0.77929808398961042,0.6999937332784355,0.69646148106248662,0.6106465265551696,0.61047286466787332,0.61217658368843908,0.59314074875253431,0.51575934725988315]
[6155000,465000,826.80599253267303,null,125.79749600051663,0,6.3191113307353367E-5,0.24480201842495672,null,null,5.1960424915557182,5.1079505364841546,4.8184648990043755,5.2783852061294541,4.6535112015992679,4.3887339236714489,3.9714536869695198,3.7908277394275198,3.6421763027504857,4.2460598399066889,5.0761262474798192,null,null,0.66180736344019331,0.69274624319357425,0.69519445972534344,0.79466971602490355,0.71450264034051314,0.71138228532819625,0.62483345522511946,0.62413912341488376,0.62531439447673942,0.60629471024334358,0.52858465383218767]
[6155000,475000,871.68605787181298,null,115.8749757281528,0,7.447674500875473E-5,0.30418385474770837,null,null,5.523263047943388,{"$f":"L$2+L$3*$C224","v":5.4055502497479919},5.0648564577162531,5.5420555899969006,4.8482458051057966,4.5349531765463666,4.1218916659863174,3.9865945844368484,3.8900937836838954,4.6432932982234165,5.6321902570317635,null,null,0.68871624198337178,{"$f":"SQRT(Y$2+2*Y$3*$C224+Y$4*$C224^2+Y$5)","v":0.71987900572760599},0.72234922114495248,0.82516554849100887,0.74333472545926016,0.74107334483678833,0.6530720288552625,0.65142076452744091,0.65154420409156844,0.63259228534595391,0.55422232443583452]
[6155000,485000,904.96994710640797,null,105.96702317230583,0,8.9055045814368311E-5,0.37761397645077333,null,null,5.7659358843528201,5.6262557192625913,5.2475850096141796,5.7375984392501467,4.9926646004947042,4.6433920876726775,4.2334592627006797,4.1317789092781521,4.0739539878157984,4.9378890018388164,6.0445776446483945,null,null,0.7129445907739711,0.74433648167170152,0.74684412185440974,0.85268416759682075,0.7693575430406544,0.76787861717954686,0.67853466083501024,0.676078641202847,0.67527020138328231,0.65638504691288757,0.57736820515473375]
[6155000,495000,950.97735532047398,null,96.07814527768528,0,1.0833050771259052E-4,0.48269891872599613,null,null,6.1013758976415753,5.9313308431300626,5.5001656807094026,6.0078919625077845,5.1922907447355362,4.793284223634104,4.3876760950342284,4.3324632239079079,4.328098910790299,5.3451005719415141,6.6146094324206723,null,null,0.75170442607342203,0.78351389158190665,0.78610066751564833,0.89680892570577486,0.81105550423047734,0.81081323429510899,0.719231732583824,0.71556944981891712,0.71331415977668577,0.69451921378924419,0.61434177927403155]
[6155000,505000,941.22674859987399,null,86.214905903793692,0,1.3453499995291275E-4,0.5933144362738243,null,null,6.0302842240416803,5.8666745699657641,5.4466348498133081,5.9506071480242593,5.1499828621748529,4.7615167469383897,4.3549920613067776,4.2899310773926507,4.2742365592657041,5.2587979518574839,6.4937994151524387,null,null,0.74301793866292298,0.77472865174737715,0.7772961414551024,0.88691017198762778,0.80170519710597521,0.80118825626174728,0.71011798175026142,0.7067185739698234,0.70478263756779103,0.68596995555435913,0.60606605978826023]
[6155000,515000,896.47850964530005,null,76.387237153859672,0,1.7137931211771705E-4,0.71986929580932657,null,null,5.7040248138238825,5.5699489974579848,5.2009670179526974,5.6877112441661373,4.9558202533509572,4.6157269844243878,4.2049959643310455,4.0947392590727993,4.027047287280638,4.8627312888705498,5.9393687345052681,null,null,0.70644103055887275,0.73776890681014129,0.74026535487658363,0.84529226347114295,0.76236825368888061,0.76067956733707764,0.67170006930156623,0.66945570493185058,0.66889547246231174,0.64999281410424392,0.57115542525778984]
[6155000,525000,828.86975731176699,null,66.610884996372789,0,2.2537699937570565E-4,0.87528857198125054,null,null,5.211089400560093,5.1216353607343263,4.8297949676416012,5.2905098242066311,4.662465876975757,4.3954576693217371,3.9783714265090433,3.799829881393928,3.6535765393902007,4.2643262219664493,5.1016962930927923,null,null,0.66288916486751503,0.69383642866078576,0.69628491587071217,0.79589418106454635,0.71565954937526699,0.7125730003427968,0.62596612655152573,0.625231667190836,0.62636457967304227,0.60734703941627244,0.52961112944368693]
[6155000,535000,787.87175171127001,null,56.912300955065938,0,3.0873631140379321E-4,1.1397211628984336,null,null,4.9121729417268689,4.8497775855974314,4.6047159168948726,5.0496465413037113,4.4845755306752002,4.2618861670753176,3.8409461117361774,3.6209965809645599,3.4271035564530554,3.9014528743964503,4.5937310037026355,null,null,0.6444017799190731,0.67521191873600506,0.67766866460567121,0.77498980358458824,0.69593538892498852,0.69229452908052169,0.60668961417971257,0.60666905993998765,0.60851826165421397,0.58948382100912167,0.51219910312999917]
[6155000,545000,736.50037336652804,null,47.339307134769093,0,4.4622737069446362E-4,1.5398717394212991,null,null,4.5376242222153556,4.5091339757934472,4.3226870497822389,4.747839693528352,4.2616751200373653,4.0945182164281482,3.6687492515246021,3.3969146286247955,3.143328062476701,3.4467648046671391,3.9572396260112823,null,null,0.63067706238473309,0.66138735820524097,0.66389480676183055,0.75951150801660694,0.68145523683465059,0.67750691974892308,0.59273014730159657,0.59331754978810258,0.59564636986647668,0.57668892630745483,0.49983909020709505]
[6155000,555000,709.65779402613896,null,37.986971450748747,0,6.9299589053436886E-4,2.3042787135630149,null,null,4.3419149762445786,4.3311408321873275,4.1753212892035032,4.590139539903566,4.1452051682794169,4.007065092937161,3.5787729255756178,3.2798272975420182,2.9950496542003919,3.2091811349253554,3.6246600679838616,null,null,0.6279055351478855,0.65858829586189005,0.66113946479883912,0.75640184336530503,0.67865372623415032,0.67473184987577628,0.59020798540111397,0.59096773434932093,0.59334267736801494,0.57447743661494233,0.49782050965827462]
[6155000,565000,659.64559116366604,null,29.069055712217416,0,1.1834179477165951E-3,3.6576671965264662,null,null,3.9772760051742884,3.9995099150062696,3.9007542954885266,4.296317848086538,3.9282022200591467,3.8441253360112242,3.4111320215806087,3.0616740686559116,2.7187822455880912,2.7665231273896076,3.0050088745178227,null,null,0.63096841116213775,0.66163956262526546,0.66430115936861822,0.75990244984286126,0.6823307725701665,0.67880686080863273,0.59442520994995984,0.59522249110531145,0.5972981707585443,0.57870037591284296,0.50234688200564781]
[6155000,575000,639.09885812072605,null,21.142611002428247,0,2.2370864186483526E-3,6.6989413357978727,null,null,3.8274697745582129,{"$f":"L$2+L$3*$C234","v":3.8632645281985338},3.7879527310827861,4.1756057914592652,3.8390499453858302,3.7771840797573253,3.3422593724206733,2.9720492191226073,2.6052820922588906,2.5846639932265463,2.750434852115796,null,null,0.63530375603558453,{"$f":"SQRT(Y$2+2*Y$3*$C234+Y$4*$C234^2+Y$5)","v":0.66598630534565872},0.66870321504204933,0.76481843598812105,0.68716558742579315,0.68393149670783648,0.59947880028657918,0.60018540833720446,0.60199766199591498,0.58354146825850672,0.50728203613464551]
[6155000,585000,609.87885812073,null,15.78005069700348,0,4.0159029757841046E-3,11.475778628745166,null,null,3.6144267545582416,3.6695067081985604,3.627534931082808,4.0039382914592885,3.7122643653858471,3.6819853197573384,3.2443139324206873,2.8445915791226244,2.4438708122589126,2.3260377732265809,2.3883990521158447,null,null,0.64446528631182121,0.67518371429565294,0.67798814240622662,0.77520179153244761,0.69727471181385159,0.69456868836039198,0.6098757317027188,0.6103528580524118,0.61166078920188549,0.5934300025082867,0.51725560084159461]
[6155000,595000,598.16449284381395,null,15.843295111813074,0,3.9839050237042341E-3,11.165674873242606,null,null,3.5290173173242474,3.5918287520473302,3.5632230657125388,3.9351163954574071,3.6614357344493085,3.6438199176851462,3.2050473800124646,2.7934935177847167,2.3791606584692282,2.2223539261605971,2.2432580663348549,null,null,0.64909765731726721,0.67983795970266547,0.68268016204673909,0.7804526876578104,0.70236233696344352,0.69990327927450657,0.61506580619751494,0.61541972202365225,0.6164858572951234,0.59835136685089074,0.52219036746177228]
[6155000,605000,599.47821095208701,null,21.284031572989175,0,2.2074567890333543E-3,6.2004182425198504,null,null,3.5385956360516664,3.6005400168232886,3.570435378126958,3.9428344893435114,3.667135957321106,3.6481000112818993,3.2094509631113954,2.7992239561730039,2.3864176372993287,2.2339816451369217,2.2595350336963582,null,null,0.64855142540823441,0.67928904081447283,0.68212693456109241,0.77983346581122837,0.70176296153607132,0.69927526258614314,0.61445541261403558,0.61482399400567656,0.61591831020382048,0.59777289054284055,0.5216110666299727]
[6155000,615000,580.26337896702296,null,29.240554030318918,0,1.1695769640121167E-3,3.179869815594961,null,null,{"$f":"K$2+K$3*$C238","v":3.3985002960485637},3.4731264659303291,3.4649459505289562,3.8299473514312599,3.5837628013379126,3.5854980886745609,3.1450428462974607,2.7154088590541545,2.2802749054138349,2.0639111672371202,2.0214632654014144,null,null,{"$f":"SQRT(X$2+2*X$3*$C238+X$4*$C238^2+X$5)","v":0.6572008608454365},0.68798406910721921,0.69088672630667691,0.78964080984957452,0.71124107844298401,0.70919489433137584,0.62408084772690642,0.62421443449208702,0.62487105721850866,0.60688801050332364,0.53071948012308623]
[6155000,635000,556.43916925949395,null,47.529043752215337,0,4.4267178985484798E-4,1.1541304832951989,null,null,3.2247979830709701,3.3151481313597042,3.3341510392346221,3.689980119399527,3.4803895554169442,3.5078788134474315,3.0651840953578233,2.611487656309913,2.1486699709894448,1.8530430871157808,1.7262813071251299,null,null,0.66983477351280984,0.70069499158623783,0.70368283576377211,0.80397538228843035,0.72505040535092669,0.7236138720945251,0.6380233682625166,0.63780829535322681,0.63785175093862867,0.62007438516087565,0.54383472138399169]
[6155000,645000,594.50517423771498,null,57.105253698762255,0,3.0665346012431728E-4,0.85419864861632289,null,null,3.5023372253671798,3.567563810370288,3.5431334065650555,3.9136178986465757,3.6455579510174454,3.6318978576664755,3.1927813440448203,2.7775315700249128,2.3589465824891378,2.1899652971780146,2.1979191088052881,null,null,0.65065442543274499,0.68140253481883428,0.6842568328690839,0.78221757031267669,0.70406988415679728,0.70169183205626451,0.61680336240250178,0.61711532143491354,0.61810157683951905,0.59999768185010738,0.52383802901877219]
[6155000,655000,645.53562227753901,null,66.805763224440454,0,2.2406402853679467E-4,0.67771597763794855,null,null,3.8744002220255362,3.9059467113223612,3.8232905663036894,4.2134217808805419,3.8669790650622415,3.7981550573802219,3.363835405874311,3.0001263843746253,2.6408387774611257,2.641635792778497,2.8301863600187085,null,null,0.63375578582288816,0.66443363484261131,0.66713263765873232,0.76306365048150704,0.68544603952755068,0.68211362135228959,0.59769163623947263,0.59843311141797717,0.60033630224825552,0.58183404304944242,0.50554771133661047]
[6155000,665000,661.45479464841503,null,76.583353282550902,0,1.7050269309003735E-4,0.52842917054365279,null,null,3.9904669077815935,4.0115067433136398,3.9106868226197986,4.3069469185594382,3.9360523539794725,3.8500197209645366,3.4171964716614873,3.0695658142563866,2.7287762856378448,2.7825363874331215,3.027424905693862,null,null,0.6306716349757665,0.66134226934448692,0.66399925839235518,0.75956567019209353,0.68199679358517995,0.6784507681827513,0.5940716519284106,0.59487401086645775,0.59696908649015601,0.57835961918350376,0.50199678443345819]
[6155000,675000,661.79572495333196,null,86.411862611565084,0,1.3392241338902722E-4,0.41527194906337722,null,null,3.9929526306347425,4.0137674521655438,3.9125585299937926,4.3089498841008247,3.9375316505725078,3.8511304718979558,3.4183392700435684,3.071052952246434,2.7306595846422059,2.7855539615619405,3.0316490321717824,null,null,0.63061725996512297,0.66128780531058473,0.6639439309662224,0.75950395911544244,0.68193553204010959,0.67838540246713552,0.59400669748898005,0.59480995994927488,0.59690862044104265,0.57829696887688842,0.50193235683319437]
[6155000,685000,678.89224331052196,null,96.275697868153628,0,1.0788638700357428E-4,0.34318070947395074,null,null,4.1176033459770149,{"$f":"L$2+L$3*$C244","v":4.1271344653920705},4.0064184157747658,4.409391929449316,4.0117134437243545,3.9068309287056806,3.4756467995768698,3.145627965320497,2.8251007520473235,2.9368752455414295,3.2434748946173668,null,null,0.62852372612164131,{"$f":"SQRT(Y$2+2*Y$3*$C244+Y$4*$C244^2+Y$5)","v":0.65919312000585195},0.66180798266240615,0.75712498997058175,0.67954746973379843,0.67581750446747269,0.59143277444191134,0.59225947815731261,0.59450900709631804,0.57579432856389867,0.49933427361496707]
[6155000,695000,653.84523024269299,null,106.16501306927816,0,8.8723193396155248E-5,0.27181129307300789,null,null,3.9349855736994739,3.9610477217392974,3.8689103140323846,4.2622407276758212,3.9030344540230448,3.8252277601306934,3.3916892117735067,3.0363728943186272,2.6867410518606363,2.7151841328780755,2.9331424027069657,null,null,0.63201302296343242,0.66268634702056783,0.665363008024215,0.76108748038140939,0.68350210217976348,0.6800528543160812,0.59565906018320669,0.59643686260716156,0.59844615983179461,0.57988669190467435,0.50356207402024056]
[6155000,705000,600.16007156192097,null,116.07329580915673,0,7.4222464022516112E-5,0.20871700694461859,null,null,3.5435670817579652,3.6050614345270979,3.5741787928749464,3.9468404204262857,3.6700945505071747,3.6503215131487385,3.2117365598755594,2.8021982321530996,2.3901842353080518,2.2400167933945623,2.2679832866522007,null,null,0.64827055992948646,0.679006804518833,0.68184246907503276,0.7795150761353915,0.70145471940355442,0.69895224733896566,0.61414140223756597,0.61451751214641337,0.6156263507559443,0.59747527046182969,0.52131294882896462]
[6165000,445000,829.03340385812101,null,147.04084466569142,0,4.6251308333884508E-5,0.17966001179650451,null,null,5.2122825475295596,5.1227205009832,4.8306933871810847,5.2914712476664603,4.6631759393403867,4.3959908297697581,3.9789199697324218,3.800543707629124,3.654480522912261,4.2657746575482287,5.1037238738021182,null,null,0.66297561153183704,0.69392354743876261,0.6963720592079361,0.79599203399255103,0.7157520084763237,0.71266816530455657,0.6260566536092429,0.62531899479575437,0.62644852168439857,0.60743115641022716,0.52969318000349463]
[6165000,455000,856.071449906662,null,137.19697518531521,0,5.3126465958420048E-5,0.21309649785089541,null,null,5.4094169412694724,5.3020097843310756,4.9791322599875745,5.4503197682016387,4.7804940211450067,4.4840807837959051,4.0695515000871305,3.91848366449286,3.8038386892844014,4.5050884031238647,5.4387252643435415,null,null,0.67856853266249706,0.7096430638734208,0.71210183020470752,0.81365617789475442,0.7324504323311849,0.72986214924995962,0.64241199416765526,0.64111248314380687,0.64163136187971692,0.62265161215507836,0.54453615985121884]
[6165000,465000,900.16510267579395,null,127.37743128199752,0,6.1633243985673974E-5,0.25995164555808215,null,null,5.7309037636092128,5.594394795843189,5.2212064136901093,5.7093699782202894,4.97181638051027,4.6277379045177369,4.2173534241692616,4.1108201778718136,4.0474120271810854,4.8953613237834519,5.9850456221530868,null,null,0.7092382622602077,0.74059344964986717,0.74309462104919488,0.84847113277471731,0.76537408358239278,0.76377566685213605,0.6746397913185016,0.67230402640545328,0.67163685412743579,0.65274178338469757,0.57382774651965995]
[6165000,475000,892.21006222775497,null,117.5883072418342,0,7.2322215721258622E-5,0.30233902742782437,null,null,5.6729035637025609,5.5416449226322433,5.1775332416303748,5.6626341155880597,4.937299460006229,4.6018203827380262,4.1906881285874347,4.0761202914374675,4.0034683837461191,4.8249512607778584,5.8864826710018834,null,null,0.70325345342817835,0.73455061941572009,0.7370418612200258,0.84167062679259141,0.75894358904231873,0.75715196311910204,0.66834997662643325,0.66621046191028821,0.66577242402786529,0.64686102640375787,0.5681100030453291]
[6165000,485000,899.04685127566904,null,107.83788759058665,0,8.5991842813790665E-5,0.36223878805187304,null,null,5.7227505926509021,5.5869796708089607,5.2150672135034233,5.7028002512445548,4.9669642876851281,4.6240946414561295,4.2136050454760428,4.1059423652644691,4.0412348064467967,4.8854636806409459,5.971190487305539,null,null,0.70838548600361251,0.73973231154063424,0.74223202811047639,0.84750193692538267,0.76445766096975454,0.76283173151207395,0.67374359015999064,0.67143563064589395,0.67080103134527613,0.6519036562404138,0.57301307208545849]
[6165000,495000,929.91240821406302,null,98.137709368010007,0,1.0383127003294567E-4,0.4524031088870108,null,null,5.9477913682887333,5.791649178867452,5.3845191210952059,5.8841353982576194,5.1008899392408189,4.7246546259614171,4.3170663923335395,4.2405779246297435,4.211736142974484,5.1586547251026706,6.353614737772241,null,null,0.73324728633008041,0.76485041286450606,0.76739718257374057,0.87578259645597278,0.79119121694228178,0.79036347652927674,0.69986151848757194,0.69676268864821744,0.69518935369874935,0.67635490146314137,0.59674949880211714]
[6165000,505000,918.56170192905699,null,88.504293681154252,0,1.2766484403824329E-4,0.54945866292513468,null,null,5.8650333687647542,5.7163826454915769,5.3222037435905234,5.8174499988332098,5.0516392246701782,4.6876740248848678,4.2790188248661991,4.1910661438145471,4.1490348414561105,5.0581896237740827,6.2129794869010153,null,null,0.72379155674188578,0.75529419159526101,0.75782201670384042,0.86502066243015652,0.78101994614656778,0.77988973080048174,0.68993094498112817,0.6871282794656306,0.68590927790415002,0.66705205346593943,0.58772611740155145]
[6165000,515000,889.74172682016297,null,78.962079506558084,0,1.6038466658433587E-4,0.66862433023738832,null,null,5.6549069302458079,{"$f":"L$2+L$3*$C254","v":5.5252773905445007},5.163982080242695,5.6481326450684568,4.9265893526726874,4.5937785459800908,4.1824142683011862,4.0653534123895509,3.9898332989545806,4.803104024085262,5.8558999953018196,null,null,0.70143548096307184,{"$f":"SQRT(Y$2+2*Y$3*$C254+Y$4*$C254^2+Y$5)","v":0.73271532978417797},0.73520369040955935,0.83960550045300497,0.7569907088799116,0.75514034665545682,0.66643927655558832,0.66435990065329886,0.66399170918883454,0.64507528986324103,0.56637306061029602]
[6165000,525000,841.70237398880101,null,69.548616089754077,0,2.0673928728698104E-4,0.81533660117116336,null,null,5.3046520087523481,5.206728441919739,4.9002460331985178,5.3659014471842053,4.7181466007374073,4.4372663344555141,4.0213863576104609,3.8558057553391505,3.7244639139141369,4.3779077121748768,5.2606924137212436,null,null,0.66996109996143849,0.70096441738555348,0.70341620615889477,0.80390209130002854,0.72322801049664776,0.72036462478552798,0.63337818276150692,0.6323852548701685,0.63324104913075341,0.61423929998314153,0.53633370240278844]
[6165000,535000,793.21299315495298,null,60.324207412944929,0,2.7480001428960076E-4,1.0213202485710124,null,null,4.9511159330927619,4.8851953576104927,4.6340393324206923,5.0810263347853484,4.5077511772993413,4.2792879316988373,3.8588499530554019,3.6442950761419053,3.4566085741879609,3.9487282024144887,4.6599089851898681,null,null,0.64644353847799796,0.67726827582323734,0.67972231503631608,0.77729608154729724,0.69810720720662367,0.69452393142461433,0.60880616243094998,0.60870315345227088,0.61047472431816452,0.59143905538556052,0.51410211156455787]
[6165000,545000,773.44358120721995,null,51.390757923969169,0,3.7864301914797749E-4,1.3721891017975314,null,null,4.8069771505818402,4.754104386985075,4.5255052608276376,4.9648810395924166,4.421971698858127,4.2148791875731231,3.7925828842066016,3.5580609012258937,3.347402342588683,3.7737491372651037,4.4149659711574545,null,null,0.6394549329487571,0.67022994486868803,0.67269643884859187,0.76940515652589103,0.69068507343722174,0.68691202592521794,0.60158631404909302,0.60177122210247191,0.60380491081819487,0.58477974933995902,0.5076283735580488]
[6165000,555000,724.62690728065604,null,42.930292335366175,0,5.4259065333340573E-4,1.8422227304724941,null,null,4.451054780983263,4.4304010221780299,4.2575017209708017,4.6780830802738542,4.210156150690767,4.0558344639203776,3.628949393204759,3.3451225695582218,3.0777390358183445,3.3416727563410866,3.8101273812073275,null,null,0.62907215809584638,0.65976840426028738,0.66229378184990007,0.75770771713877749,0.67980591965769532,0.67585307643726278,0.59120320267590754,0.59187973886999568,0.59424679212620735,0.57532556313804251,0.49856340741108579]
[6165000,575000,611.90625700062697,null,29.103436223236596,0,1.1806236053883662E-3,3.384945869964179,null,null,3.6292085197915709,3.6829503901711576,3.6386653509334423,4.0158492598786832,3.7210612491257207,3.6885905853080425,3.2511097734661014,2.8534350930367349,2.4550701636714636,2.3439822807125488,2.4135185242377677,null,null,0.64371848069951865,0.67443358623860428,0.67723162702072004,0.77435535818109924,0.69645341338736133,0.69370661414840562,0.60903580858482897,0.60953250198713793,0.61088006754921853,0.59263290534903779,0.51645485824419568]
[6165000,585000,572.82200684505699,null,25.475674672125958,0,1.5408083080383969E-3,4.1354586027193019,null,null,3.34424525190731,3.4237827273895727,3.4240928175793632,3.7862292902147097,3.5514746877007024,3.5612540983011955,3.1200993669446309,2.6829495938581389,2.2391687658120949,1.998047582585599,1.9292646648102556,null,null,0.66092451235565142,0.69172920866559007,0.69465791580037983,0.79386449209329668,0.71531468114038987,0.71345191457523538,0.62820255098851008,0.62823375388514779,0.62870680922996169,0.61078772561196049,0.534604957120702]
[6165000,605000,581.08615743621999,null,29.206334929258073,0,1.1723191990715229E-3,3.1918448957053722,null,null,3.4044991738674799,3.4785823099595747,3.4694630043248478,3.8347811749377927,3.5873328371157589,3.5881787009272048,3.1478007997262094,2.7189978187367916,2.2848199336776793,2.071193579467983,2.0316574906347658,null,null,0.65680179258569982,0.68758276133455443,0.69048257053754469,0.78918821048488108,0.71080429635421194,0.70873824316079326,0.62363841631807049,0.62378294460241934,0.6244593983592851,0.60646930717223912,0.53030193188968189]
[6165000,635000,583.86360298693603,null,51.565589301393622,0,3.7607981918082292E-4,1.0288375442440125,null,null,3.4247495293777499,3.4969995514063728,3.4847111803982789,3.851098667548249,3.5993841733603151,3.5972276185314378,3.1571107972122094,2.731113036229015,2.3001625428998347,2.0957767500373707,2.0660700410081372,null,null,0.65547341633405309,0.68624702128077941,0.68913726482168336,0.78768172414896587,0.7093500642329833,0.70721755704387212,0.6221646483032387,0.62234554466132486,0.62308824252624007,0.60507442039729309,0.52891034549060556]
[6165000,645000,609.86522090852895,null,60.506280665729236,0,2.7314866662478393E-4,0.78052770663559901,null,null,3.6143273256440844,3.6694162798444552,3.627460062787824,4.0038581728376075,3.7122051935221068,3.6819408897199875,3.244268220485389,2.8445320936030036,2.4437954802987139,2.3259170702613892,2.3882300870566739,null,null,0.64447036491348519,0.67518881569595046,0.67799328692323879,0.77520754771549005,0.69728029581825557,0.69457454864271473,0.60988144015485268,0.61035843310658844,0.61166609540632111,0.59343541917579934,0.51726104075935975]
[6165000,655000,654.77710640946304,null,{"$f":"(SQRT(($A264-E$1)^2+($B264-E$2)^2)/1000)","v":69.73528518619537},0,2.0563395921456055E-4,0.63087554876160112,null,null,3.941779882831395,{"$f":"L$2+L$3*$C264","v":3.967226992601149},3.8740263141879523,4.2677155001555951,3.9070778647106605,3.8282638126820308,3.39481286068452,3.0404377381580781,2.6918887358058741,2.7234321688301568,2.9446883484132469,null,null,0.63183564193384789,{"$f":"SQRT(Y$2+2*Y$3*$C264+Y$4*$C264^2+Y$5)","v":0.66250856333299457},0.66518277437489515,0.76088629053548762,0.68330359984264033,0.67984197161843318,0.59545054327586355,0.59623180278785204,0.59825219415897846,0.57968647731322998,0.50335733407703021]
[6165000,665000,659.24102053516401,null,79.151816150989234,{"$f":"IF(E265=0,1,0)","v":0},{"$f":"IF($F$618=0,1/E265^2,F265)","v":1.596166646182528E-4},{"$f":"G265/$G$618*C265","v":0.49303508606480018},null,null,3.97432628072188,3.9968272071686721,3.8985332027380504,4.2939409956440882,3.9264467881020764,3.8428072449035646,3.4097759008338695,3.0599093315743855,2.716547397436246,2.7629422727567361,2.9999962444306822,null,null,0.63103666838583583,0.66170794581676851,0.66437057888365547,0.75997989962073442,0.68240750041149911,0.67888861044125726,0.59450631159081402,0.5953023921648547,0.59737364898081446,0.57877848291805045,0.50242705664768095]
[6165000,675000,660.53200995644204,null,88.69616677173822,0,1.2711309633520234E-4,0.39340469473600381,null,null,3.9837388845924186,4.0053877580211665,3.9056207346608671,4.301525558494097,3.9320483912010022,3.8470132884380881,3.4141032973739938,3.0655406274300003,2.723678822999386,2.7743688201244678,3.0159916033603169,null,null,0.630821276563449,0.66149216525943588,0.66415149901263493,0.75973548988349648,0.68216527212535283,0.67863045559358759,0.59425012066506355,0.59504994916948006,0.597135210079344,0.57853167926426574,0.50217362799920473]
[6165000,685000,646.15838830118696,null,98.331124268971919,0,1.0342320465073469E-4,0.31312111081993416,null,null,3.8789408091039537,3.9100762728251706,3.8267095517735168,4.217080531269473,3.8696812468388506,3.8001840290852673,3.3659229175855785,3.0028428897697776,2.6442789369757569,2.6471478948538056,2.8379024310517069,null,null,0.63361516330140333,0.66429261386121308,0.66698991171016697,0.76290422157058568,0.6852895431014191,0.68194797138552121,0.59752854419625478,0.59827308290009518,0.60018466996052366,0.5816780329322746,0.50538896621835017]
[6165000,695000,664.71863410081198,null,108.03244882904394,0,8.568238738549621E-5,0.2668608003247166,null,null,4.0142635612290194,4.0331492627224836,3.9286053012134579,4.3261219753422706,3.9502141533634232,3.8606533099004459,3.428136861505922,3.0838026819477422,2.7468057347728854,2.8114246304262869,3.0678638765090609,null,null,0.63017128434062275,0.66084117500702733,0.66348996255134152,0.75899772305367985,0.6814321333965484,0.67784764021019939,0.59347160071322491,0.59428191347950232,0.59641039192305567,0.57778021587934625,0.50140014978402292]
[6165000,705000,624.16611076540596,null,117.78374251143492,0,7.2082410378137104E-5,0.21080691722144973,null,null,3.7185951135905748,3.7642454804854069,3.705971948102079,4.0878759007467602,3.7742567546110966,3.7285331888736923,3.2922048032856406,2.9069125751587008,2.5227935958681025,2.4524942463846076,2.5654181123833792,null,null,0.63955291273681836,0.67025066745255701,0.67301106356916107,0.76963434046956658,0.69186489832007092,0.68888439271151358,0.60432991580531292,0.60493353661618054,0.60650631786908038,0.58816228694816919,0.51195461160019451]
[6165000,715000,620.62498133167696,null,127.57354741481481,0,6.1443894658129238E-5,0.17867482296562645,null,null,3.6927767388892567,3.7407642512103498,3.6865311475109066,4.0670717653236022,3.7588917939981465,3.7169961891786034,3.2803349374237811,2.8914661685687753,2.5032323968761836,2.4211517097666722,2.5215435186994775,null,null,0.64069396768124531,0.67139626322672885,0.67416735725538735,0.7709275210915213,0.69312323180944024,0.69020792586831703,0.60562292813722962,0.60619769720057148,0.607708013873971,0.58939155893993567,0.51319372389512341]
[6165000,725000,609.41973864343902,null,137.39363158458255,0,5.2974491193255718E-5,0.15126508037335093,null,null,3.6110793144493138,3.6664622869446442,3.6250143651524804,4.0012409645302043,3.7102722459738819,3.6804895085003242,3.2427749639328072,2.8425888999626814,2.4413346362663573,2.3219741067330784,2.3827105617922095,null,null,0.64463667127457192,0.67535587014105403,0.6781617509652127,0.77539604302921861,0.6974631437640606,0.69476643631671098,0.61006834719364467,0.61054096943095104,0.61183983282931531,0.59361276732921564,0.51743913899998795]
[6165000,735000,596.21437149969199,null,147.23793668752629,0,4.6127567633392859E-5,0.12886007102613942,null,null,3.5147989826042538,3.5788974974144576,3.5525168995333094,3.9236594325606906,3.6529741579371633,3.6374664223459967,3.1985105732669674,2.7849870884816568,2.3683881881642987,2.2050934021437731,2.2190960628811833,null,null,0.64992084501495218,0.6806652483971205,0.68351387959569765,0.78138590477319447,0.70326537539701894,0.70084926381037815,0.61598496398587721,0.61631672195219123,0.61734053960721269,0.59922232694701827,0.52306222099385924]
[6175000,445000,841.10688238954901,null,149.06713252759644,0,4.5002454883913916E-5,0.17735472514559286,null,null,5.3003102795022015,5.2027797371250992,4.8969767843186238,5.3624029340385997,4.7155627626882533,4.4353262228251511,4.0193902697697679,3.853208220983213,3.7211744183198685,4.3726370160298975,5.2533142728065121,null,null,0.66961992407904058,0.7006204869138325,0.70307206101976127,0.80351563035451534,0.72286268063814596,0.71998845676142476,0.63302034464491075,0.63203974176321609,0.63290890574564362,0.61390633651989424,0.53600896823912969]
[6175000,455000,868.27675482265204,null,139.36645937957954,0,5.148532590983582E-5,0.20945802896055135,null,null,5.4984058194119552,{"$f":"L$2+L$3*$C274","v":5.3829431612290053},5.0461393839763602,5.5220259345830804,4.8334528391754876,4.5238456672122007,4.1104636821655296,3.9717232045364086,3.8712607936403303,4.6131175569352925,5.5899489922526593,null,null,0.6864317345567299,{"$f":"SQRT(Y$2+2*Y$3*$C274+Y$4*$C274^2+Y$5)","v":0.71757423139516474},0.72004160740217593,0.82257360519899947,0.74088345948628431,0.73854834317669349,0.65067161183459488,0.64909869555262756,0.64931094039545667,0.63035266434827908,0.55204076643533695]
[6175000,465000,915.92971997510995,null,129.71125625788997,0,5.9435328716000758E-5,0.25507165024163497,null,null,5.8458435883385258,5.6989299731549536,5.307754162663354,5.8019871048537706,5.0402190549720025,4.679099027678908,4.2701964213565686,4.1795854385314302,4.1344957731425076,5.034893951499698,6.1803692304916114,null,null,0.72164997837114797,0.75313036014921753,0.75565406147912284,0.86258423414555252,0.77871688809796802,0.77751795888317221,0.68768125952796588,0.68494643120517307,0.68380814522499545,0.66494554914955584,0.58568161311485545]
[6175000,475000,885.29599564405703,null,120.11248894265742,0,6.9314431749891339E-5,0.28751965509195337,null,null,5.6224931042408191,5.4957977471157422,5.1395750160858729,5.6220139744088344,4.9072993250995633,4.5792943538083382,4.167512177398879,4.045961132999377,3.9652750799377716,4.7637548574455479,5.8008173860298671,null,null,0.69820848329438612,0.72945794944612175,0.73194136182313307,0.83594052418484699,0.7535248289965194,0.7515701760813206,0.66304766838341445,0.66107566742410007,0.66083172774256338,0.64190634215595654,0.56328990673896773]
[6175000,485000,886.49152457996502,null,110.58485429750314,0,8.1772768196280827E-5,0.33965550626581464,null,null,5.6312097057125241,5.5037252994897479,5.1461384699440078,5.6290377069072939,4.9124867251524682,4.5831893870815259,4.1715195903920428,4.0511760302178077,3.9718791817797272,4.7743364840572697,5.8156299895457666,null,null,0.69907025226627828,0.73032778736368842,0.7328124998218688,0.83691916281008705,0.75445031596467027,0.75252351651283855,0.66395339437119416,0.66195263951008609,0.66167548501154549,0.64275249943721868,0.56411325453897343]
[6175000,495000,880.65025202240201,null,101.14845525266314,0,9.774206065676802E-5,0.40331124063608814,null,null,5.5886209874953323,5.464991821160547,5.114069883602987,5.5947202306316113,4.8871414435252021,4.5641585210889861,4.1519396447790911,4.0256963993217179,3.939611992171749,4.7226353806502797,5.7432566225575608,null,null,0.69490216644541836,0.72612097865861369,0.72859955378627261,0.83218645044746387,0.74997458112272264,0.74791305944568309,0.65957276345567795,0.65771163152752299,0.65759534603424219,0.63866072621642223,0.56013112397880094]
[6175000,505000,887.54158991910003,null,91.831421637694362,0,1.1858162150880884E-4,0.49313005170915286,null,null,5.6388657321001574,5.5106882827535522,5.1519033286558598,5.6352068407747122,4.9170429586589748,4.5866104999564277,4.1750394094088232,4.0557564152271146,3.9776797427131085,4.7836306123739538,5.8286402990976489,null,null,0.69983083047204153,0.73109551415787433,0.73358138709683374,0.83778294370196127,0.75526717642625307,0.75336495849763085,0.66475277033365576,0.66272668628538933,0.66242023723166499,0.64349936672002672,0.56483992926221727]
[6175000,515000,866.50391723708799,null,82.674119287719066,0,1.4630556502477681E-4,0.59400041426193972,null,null,5.4854800605756084,5.3711874751991298,5.0364065056316134,5.5116105137678915,4.8257604968917249,4.5180697623584329,4.1045211305787186,3.9639900869881779,3.8614676388176741,4.5974261714654654,5.5679835345675199,null,null,0.68525883988394676,0.71639102238396835,0.71885699649589041,0.82124306737008668,0.73962514807239876,0.73725219935803843,0.64943931157987445,0.64790680406138934,0.64816469560754564,0.62920316988839853,0.55092090241351377]
[6175000,525000,840.834138145613,null,73.736083432740031,0,1.8392462033360249E-4,0.72461209001474336,null,null,5.2983217012196642,5.2009711700435597,4.8954794184194155,5.3608005616054761,4.7143793254138151,4.4344376220784074,4.018476031064095,3.8520185105911642,3.7196677791163668,4.3702229567268205,5.2499349716241452,null,null,0.66946407872887392,0.70046338501322958,0.70291486278839244,0.80333910359259297,0.72269580823993518,0.71981663567856768,0.63285689552370983,0.63188192721373004,0.63275719851464807,0.6137542563410141,0.53586064527228883]
[6175000,535000,825.364993777226,null,65.10768003853309,0,2.3590413799448454E-4,0.91229853168424302,null,null,5.1855361696297546,5.0983952737367852,4.8105538158369709,5.269919338441202,4.6472587079993835,4.3840391497262026,3.9666234591412612,3.78454210285626,3.6342162256253965,4.2333055599222265,5.0582722728998304,null,null,0.66106124993832938,0.69199437606471492,0.69444244652550846,0.7938252900627436,0.71370487239719649,0.71056126407359044,0.62405247387420615,0.6233859158748124,0.62459039016659734,0.6055692790026288,0.52787705032302445]
[6175000,545000,776.70742065961997,null,56.929869137386923,0,3.0854579282384192E-4,1.1228776953498609,null,null,4.8307738040292891,4.7757469063939402,4.5434237394213142,4.9840560963752667,4.436133498242091,4.2255127765090421,3.8035232740510461,3.5722977689172626,3.3654317917237413,3.8026373802582958,4.4554049419726907,null,null,0.64050069010335065,0.67128311878017954,0.67374709710810554,0.77058534605122686,0.69179332184675391,0.68804714314318294,0.60266151874901175,0.60280220726388667,0.6047974431316433,0.58576939329690636,0.50858876912057704]
[6175000,555000,736.60492532670196,null,49.426814584797995,0,4.0933111202983211E-4,1.4127481444310406,null,null,4.5383865105569834,{"$f":"L$2+L$3*$C284","v":4.5098272598413605},4.3232610400435938,4.7484539362943741,4.2621287709925602,4.0948588467143949,3.6690997096951046,3.3973706842750744,3.1439056075047014,3.4476901940666389,3.958535024797837,null,null,0.63069385090196406,{"$f":"SQRT(Y$2+2*Y$3*$C284+Y$4*$C284^2+Y$5)","v":0.6614042840591603},0.66391158484973212,0.75953039457835714,0.68147263561464988,0.67752447208414479,0.59274647617480403,0.59333300427296731,0.59566136299482719,0.57670363260019586,0.49985300709742048]
[6175000,565000,676.18752955818695,null,42.95357959472063,0,5.4200248237136917E-4,1.71721156431684,null,null,4.0978832780087409,4.1091995085003372,3.9915695372744464,4.3935017361543478,3.9999776907529734,3.8980189713005728,3.4665805990790428,3.1338300039328115,2.810159913279425,2.9129358241195122,3.2099634912259356,null,null,0.62877200882680739,0.65944116227848215,0.66206228305127279,0.75740764843730501,0.67983567990630012,0.67613073995370998,0.59175041124817918,0.59257627633166554,0.59480574492266736,0.57610649041319217,0.49966230093247999]
[6175000,585000,587.68202240199696,null,35.341335571820146,0,8.0063410220894947E-4,2.2046104508289122,null,null,3.4525896253329593,3.5223194905476416,3.5056743029869635,3.8735318816117323,3.6159522952022645,3.6096680289857064,3.1699101390914937,2.747768981717511,2.3212554917486314,2.1295735802800744,2.1133802575607419,null,null,0.653694663588824,0.68445863118248784,0.6873358468986509,0.78566465984385803,0.70740197150178585,0.70517968247633811,0.62018856115729193,0.62041801114248896,0.62124999530315717,0.60320368524725909,0.52704266939492184]
[6175000,625000,550.75699751089405,null,49.568235796727727,0,4.0699875051383586E-4,1.050288164195686,null,null,3.1833692688519282,3.2774696504947385,3.3029559163348083,3.6565973603765025,3.4557346121997696,3.4893662978904931,3.0461374556565168,2.5867020231425202,2.1172816542501787,1.8027501849689225,1.6558791991599771,null,null,0.67314855535877804,0.70403081486463059,0.70703971814535183,0.8077372095585339,0.72866768501104473,0.72738573738074852,0.64166280075407267,0.64135594866033385,0.64124271382231712,0.62351452573695154,0.54724637212924754]
[6175000,635000,581.33162725576005,null,57.087739489315915,0,3.0684164823059764E-4,0.83578318624809345,null,null,3.4062888943217464,3.4802100203329447,3.4708106336341227,3.8362233101275902,3.5883979306627429,3.5889784415992665,3.1486236145613073,2.7200685580896256,2.2861759089608187,2.0733662328407316,2.0346988616988666,null,null,0.65668322445366423,0.68746353022988294,0.69036249101595415,0.78905373971303006,0.71067451463901721,0.7086025497759928,0.62350693683463287,0.62365471462728983,0.62433706657248167,0.60634487495618827,0.53017782847712047]
[6175000,645000,618.62485687617004,null,65.276412278862267,0,2.3468614248734455E-4,0.68025255976561882,null,null,3.6781938314841556,3.7275014259458832,3.6755504642501737,4.0553210341474992,3.7502132539857023,3.7104797837025618,3.273630520248922,2.8827416256938538,2.4921837093839634,2.4034486082109803,2.4967619766957467,null,null,0.64136084639985647,0.67206587301378995,0.67484307304305691,0.77168331296520143,0.69385811403754405,0.69098046960752735,0.60637713335244037,0.6069348709695479,0.60840896894695151,0.59010823978176141,0.51391551452792927]
[6175000,655000,646.25839452396394,null,73.912177616411768,0,1.8304927137237527E-4,0.55428046631260108,null,null,3.8796699544742204,3.9107394140884049,3.8272585859365624,4.2176680678282876,3.8701151738394799,3.8005098493590745,3.3662581384443273,3.0032791169135309,2.644831371350377,2.6480330499316045,2.8391415081519122,null,null,0.63359273234315316,0.6642701198275156,0.66696714434313908,0.7628787904171721,0.68526457503635496,0.68192153936856892,0.59750251618083539,0.59824754171561412,0.60016047041837961,0.58165313171238087,0.50536362369724119]
[6175000,665000,641.63537958930101,null,82.855355892060473,0,1.456662117025321E-4,0.43792778484597789,null,null,3.8459635525855935,3.8800842020566551,3.8018782339452626,4.1905078550871435,3.8500559120379769,3.7854480667019432,3.350761792383337,2.9831135257685313,2.6192938368512988,2.6071147447449032,2.781862353111439,null,null,0.63467320537781924,0.66535377446657584,0.66806356600043393,0.76410368068363121,0.6864657925671811,0.68319214847940868,0.59875248799556346,0.59947353109661039,0.60132252080246673,0.58284799896592976,0.5065782709734068]
[6175000,675000,635.63955196018003,null,92.01635724152527,0,1.1810544690510581E-4,0.35175170559493796,null,null,3.8022479733416725,3.8403258690479536,3.7689611402613887,4.1552823677660573,3.8240400159552213,3.7659136602862668,3.3306637781705231,2.9569597256503055,2.5861728850280348,2.5540456743995534,2.70757404878663,null,null,0.63620660914630467,0.66689213357770405,0.66961887862084324,0.76584178845978401,0.68816627726335533,0.68498780015583671,0.60051535277461532,0.60120082840938116,0.60296111269646158,0.58453026925609919,0.5082842104923333]
[6175000,685000,630.67106098320403,null,101.33612386508574,0,9.738037064916676E-5,0.28775951867749533,null,null,3.76602270562854,3.8073798053796253,3.7416841247977901,4.1260924832763237,3.8024817336061227,3.7497263166832786,3.3140093964156998,2.935287168008736,2.5587269408712192,2.5100695607623384,2.6460144455818977,null,null,0.63758958096162488,0.66827994700623528,0.67102107220979978,0.76740923263589667,0.68969659453576737,0.68660132374966931,0.60209649172770174,0.60274872325149753,0.60443063811662212,0.58603689056962749,0.50980862189386222]
[6175000,695000,631.78931238332802,null,110.7745909493689,0,8.1492884448794339E-5,0.24123889842381399,null,null,3.7741758765868445,{"$f":"L$2+L$3*$C294","v":3.8147949304138482},3.7478233249844708,4.132662210252052,3.8073338264312602,3.7533695797448825,3.3177577751089151,2.940164980616077,2.5649041616055039,2.5199672039048355,2.6598695804294339,null,null,0.63726947856130045,{"$f":"SQRT(Y$2+2*Y$3*$C294+Y$4*$C294^2+Y$5)","v":0.66795869544038422},0.67069655825733254,0.76704644065368932,0.68934263036691701,0.68622829301518651,0.60173116520114867,0.60239117442548951,0.60409110787708487,0.58568894272101168,0.50945682060947683]
[6175000,705000,629.91192283759005,null,120.30382371313058,0,6.9094127620999366E-5,0.20392775502712154,null,null,3.7604878294088691,3.8023459603360594,3.7375164563783696,4.121632546670841,3.7991878331923035,3.7472530446048689,3.3114647653516016,2.9319758074175679,2.5545334617548474,2.5033504290355095,2.6366087239577407,null,null,0.63780980460432168,0.66850097072740866,0.67124431913713545,0.7676588236113151,0.68994003622692601,0.68685782056971811,0.60234762030772815,0.60299447454276112,0.60466403230527344,0.5862760212808602,0.51005031746064089]
[6175000,715000,645.49925637834997,null,129.90384905767806,0,5.9259224142681971E-5,0.1792285037556183,null,null,3.8741350782545494,3.9057055690448381,3.8230909175171415,4.2132081312228058,3.8668212734256606,3.7980365772806639,3.3637135073802291,2.9999677563223628,2.6406378922340052,2.6413139182047756,2.8297357865277561,null,null,0.63376404733838565,0.66444191992839374,0.66714102245605333,0.76307301674846173,0.68545523196011404,0.68212335027299364,0.59770121354936734,0.59844250813823252,0.60034520647160639,0.58184320335288209,0.50555703064789037]
[6175000,725000,633.02575295582199,null,139.56005875607821,0,5.1342582870779444E-5,0.15228406565692545,null,null,3.7831907648008976,3.822993767850055,3.7546113837274628,4.1399262986154541,3.8126987420753116,3.7573979031300677,3.3219023239079153,2.9455583343932958,2.5717342593279606,2.5309109394119798,2.6751890791226343,null,null,0.6369215142301391,0.66760950094977178,0.6703437740039272,0.76665206597597602,0.68895769729110146,0.68582250700273417,0.60133361615199965,0.60200202576350226,0.60372162596580248,0.58531019934451278,0.50907371354872144]
[6175000,735000,619.415815183576,null,149.26154896690574,0,4.4885297865569437E-5,0.13026920810073928,null,null,3.6839607085034523,3.7327462704822922,3.6798928253578325,4.0599679142035088,3.7536452220815359,3.7130567258680909,3.2762818124953466,2.8861917858307589,2.4965529630740741,2.4104493801898306,2.5065619501245067,null,null,0.64109519961921191,0.67179913170690186,0.67457391164375979,0.77138224750501028,0.69356542342557348,0.69067281400361769,0.60607682504507354,0.60664136094671584,0.60812986211916309,0.5898229014919476,0.51362819496628598]
[6185000,445000,815.79621655258404,null,151.72676098829763,0,4.3438580670439751E-5,0.16603998486590915,null,null,5.1157702148848898,5.0349447119601844,4.7580212288736865,5.2137027722464309,4.6057397836216625,4.3528640735283188,3.9345489178842614,3.7428030966023718,3.5813583002364742,4.1486123127069208,4.9397151230865157,null,null,0.65630150723840175,0.68719846868739065,0.6896464668526795,0.78843999375921514,0.7086187197420174,0.70532817655937752,0.61907515240753552,0.6185877801834766,0.6199782203254397,0.60094917931761638,0.52337085271550809]
[6185000,455000,831.20172059738604,null,142.2076298937578,0,4.944862312781333E-5,0.19258214016556804,null,null,5.2280917448755408,5.1370986092812663,4.8425974460796493,5.3042101085096425,4.6725842656720582,4.4030552057062842,3.986188167442438,3.8100019052457981,3.6664583045799604,4.2849664290074632,5.1305893182016122,null,null,0.66413022315149051,0.69508716668455617,0.69753604676550807,0.79729907638588471,0.71698706992858818,0.71393942670706401,0.6272659716451584,0.62648567908997443,0.62756997839499684,0.60855499929461421,0.53078941236799437]
[6185000,465000,867.71762912258703,null,132.75921813569104,0,5.6737556460960876E-5,0.23067706690971829,null,null,5.4943292339327812,5.3792355987118743,5.043069783883003,5.5187410710951985,4.8310267927629056,4.5220240356813886,4.1085894928189113,3.9692842982327248,3.8681721832731708,4.6081687353640168,5.5830214248288526,null,null,0.6860607057136634,0.71719993307698737,0.71966686142645542,0.82215269351794429,0.74048539531927637,0.73813830926509294,0.65028178257513347,0.64872163538939975,0.64894831614035164,0.62998901088784642,0.55168649917019119]
[6185000,475000,893.21921593030504,null,123.39777145475522,0,6.5672774891459325E-5,0.27485193344572961,null,null,{"$f":"K$2+K$3*$C302","v":5.6802613033478533},5.5483366208338527,5.1830734954573749,5.6685628935905417,4.9416781779215935,4.605108205500934,4.1940708117983823,4.0805222198879907,4.0090429487990047,4.8338832801991298,5.8989860853764791,null,null,{"$f":"SQRT(X$2+2*X$3*$C302+X$4*$C302^2+X$5)","v":0.70400207542984616},0.73530641429892685,0.73779886142581264,0.84252110973889793,0.75974783120803024,0.75798038720094241,0.66913677632667345,0.66697256942209215,0.66650580205018195,0.64759646488306666,0.56882525120907823]
[6185000,485000,904.933581207217,null,114.14468888213766,0,7.6751802324198071E-5,0.32543230264683548,null,null,5.7656707405818191,5.6260145769850558,5.2473853608276215,5.7373847895923999,4.9925068088581144,4.6432736075731134,4.2333373642065917,4.1316202812258807,4.0737531025886664,4.9375671272650772,6.0441270711574182,null,null,0.71291628381307337,0.74430789217196913,0.74681548207383552,0.85265198625315064,0.76932711643123297,0.76784727852752088,0.67850491522536704,0.67604981043211476,0.67524244767076336,0.65635721811059189,0.57734116692659443]
[6185000,495000,891.88731487243604,null,105.02861514844419,0,9.0653530365759802E-5,0.37883498654137199,null,null,5.6705504127349302,{"$f":"L$2+L$3*$C304","v":5.5395047849191235},5.175761358649674,5.6607379748755617,4.9358990592314997,4.6007688718543971,4.1896062794524056,4.0747124674735664,4.0016855273553364,4.8220946239359312,5.8824838312694832,null,null,0.70301468466725947,{"$f":"SQRT(Y$2+2*Y$3*$C304+Y$4*$C304^2+Y$5)","v":0.73430956803379366},0.73680042770148868,0.84139938052841823,0.75868708863142553,0.75688774935314029,0.66809903034368801,0.6659673998909279,0.66553852912710765,0.64662647338136425,0.56788187763195797]
[6185000,505000,891.44183260734599,null,96.08855290824188,0,1.0830704179893666E-4,0.45238174988181479,null,null,5.6673024015401587,5.5365507920193107,5.17331566101433,5.6581207665681577,4.933966111683274,4.5993174906347329,4.1881130228998238,4.0727692738332433,3.9992246833229799,4.8181516604076187,5.876964306005017,null,null,0.70268563927657512,0.73397738104970489,0.73646771593092852,0.84102558645742453,0.75833361385398745,0.75652364436028319,0.66775320254447257,0.66563244436262281,0.66521620990048869,0.64630324647467796,0.56756749908746174]
[6185000,515000,845.22077473553497,null,87.378544277185128,0,1.3097559793634844E-4,0.51869961378916807,null,null,5.330304668596785,5.2300589572713321,4.9195620532980868,5.3865720515712674,4.7334129415774866,4.4487292840883734,4.0331800369135129,3.8711530193964037,3.7438995596390954,4.4090490771842195,5.3042853989732786,null,null,0.67200238103593102,0.70302228736921302,0.70547546595557709,0.80621458439854787,0.72541418620610776,0.72261576846514675,0.63551959176026673,0.63445320911415204,0.63522902656218017,0.6162322814092388,0.53827732372069015]
[6185000,525000,821.30565028002604,null,78.974742797935093,0,1.6033323659894722E-4,0.61699797977254045,null,null,5.1559394961916691,5.0714777670068525,4.7882680200373429,5.2460706953951526,4.6296452165650335,4.3708138086123247,3.9530165397386474,3.7668352465214738,3.6117924121468641,4.1973763106285098,5.0079770069695231,null,null,0.65900052003731457,0.68991787545639116,0.69236572449834577,0.79149337901047467,0.71150213437228493,0.70829459199353773,0.62189644538667921,0.62130702823743311,0.62259209834536788,0.60356728758247891,0.52592431306655285]
[6185000,535000,791.31287492221998,null,70.985984532159591,{"$f":"IF(E308=0,1,0)","v":0},1.9845167999269693E-4,0.73579762799971349,null,null,4.9372621710579052,4.8725956736092408,4.6236076833229882,5.0698631401680423,4.4995065642875129,4.2730973464965931,3.8524807567392809,3.6360067604107238,3.4461123210703435,3.9319102559365682,4.6363665202863045,null,null,0.6457042936937305,0.67652373478895256,0.67897868090364444,0.77646098496284677,0.69732060612949387,0.69371631948991841,0.60803929156325875,0.60796600092472175,0.60976575467333283,0.59073039166283892,0.513412218824708]
[6185000,545000,741.39613254512005,null,63.568938956065644,0,2.4746288675355914E-4,0.85963831226891818,null,null,4.5733192023864699,4.5415977549066913,4.3495647676727094,4.7766022787025797,4.2829178191132762,4.110468599832001,3.6851598362912421,3.4182699301618138,3.1703722361792432,3.490097169156857,4.017898082234038,null,null,0.63151275833167919,0.6622297470196703,0.66473046742924535,0.76045193057635374,0.68232360713014328,0.67838459895341996,0.59354854493528453,0.59409334567498462,0.59639824235897432,0.57742796328511226,0.50054082198447925]
[6185000,555000,671.95544803983103,null,56.947431899954893,0,3.0835550923370572E-4,0.97083978044208297,null,null,4.0670271716584079,4.0811365759521196,3.9683354097386725,4.3686382572340072,3.981614689044827,3.8842308497137692,3.4523946618295138,3.1153696643497431,2.7867818949720267,2.875477670600544,3.1575280012135059,null,null,0.62922315051434763,0.65989224168872018,0.6625233602755819,0.75792071648901971,0.68035434164698805,0.67669115867991525,0.59231513190469642,0.5931375136772119,0.59533270571421104,0.5766582579863837,0.50023834457076244]
[6185000,565000,632.62572806472099,null,51.429660702750127,0,3.7807040427068316E-4,1.120662664971102,null,null,3.7802741833198805,3.8203412027971648,3.7524152470753185,4.1375761523802357,3.8109630340728247,3.756094622034861,3.3205614404729449,2.9438134258183131,2.5695245218295191,2.5273703191008448,2.6702327707218929,null,null,0.63703340424410526,0.66772178432796825,0.67045721676782077,0.76677888014313977,0.6890814934870253,0.68595302338012287,0.60146149993066,0.60212721471980213,0.60384048166473281,0.58543204609195054,0.50919698380954215]
[6185000,575000,621.697775357816,null,47.402637057446498,0,4.4503584763752726E-4,1.296372112416488,null,null,3.7005984801338361,3.7478779483976776,3.6924207867144099,4.0733744302271688,3.7635466472775638,3.720491352115765,3.2839309429993992,2.8961456961107936,2.5091585110765755,2.430647009692029,2.5348354366833403,null,null,0.64034292667934645,0.67104380713132006,0.67381164495682933,0.77052967864821564,0.69273623929655337,0.68980098060059192,0.60522549128952652,0.60580917729191919,0.60733864255741343,0.58901379697406109,0.51281308657270275]
[6185000,585000,594.75518979465198,null,45.265991649360778,0,4.8804056593184031E-4,1.3600332753269488,null,null,3.5041600887928075,3.5692216635283369,3.5445059919726396,3.9150867400435803,3.646642768518995,3.6327124083509763,3.1936193961916732,2.7786221378842719,2.3603276684256578,2.1921781848724642,2.2010168015557383,null,null,0.65054641605755581,0.68129397677949799,0.68414744403098904,0.78209511730365711,0.70395144478960758,0.70156780117869244,0.61668290544297721,0.616997782569774,0.61798955986580184,0.59988356765976236,0.52372386799811255]
[6185000,595000,560.11212507779101,null,45.288077901363849,0,4.8756466326346516E-4,1.2795656359309922,null,null,3.2515775039421735,{"$f":"L$2+L$3*$C314","v":3.3395035013908321},3.354315566677073,3.711558734832022,3.4963265107125352,3.5198453035034429,3.0774958432607553,2.6275090895893247,2.1689593789297175,1.8855524190635276,1.7717892297138302,null,null,0.66775331042295361,{"$f":"SQRT(Y$2+2*Y$3*$C314+Y$4*$C314^2+Y$5)","v":0.6986000610153692},0.70157443988078005,0.80161291752299013,0.7227774176331726,0.72124275761196377,0.63573396530449522,0.63557651554889605,0.63571920611977983,0.61791002801101769,0.54168631730120675]
[6185000,605000,553.26169881767805,null,47.465882484159081,0,4.4385067088028907E-4,1.1505959959648127,null,null,3.2016310460796902,3.2940783248600232,3.3167067265090528,3.6713124805538588,3.4666025111699055,3.4975266147479953,3.0545332144368569,2.5976275302427116,2.1311176242688536,1.8249192962352678,1.6869124483510305,null,null,0.67167389493014784,0.70254625580054464,0.70554584247386065,0.80606306199367228,0.72705817136711171,0.72570767269508851,0.64004401709996595,0.63977801061842754,0.63973431249399204,0.62198445617079068,0.54572943890522607]
[6185000,645000,601.46924393279801,null,71.140775930544933,0,1.9758901879269155E-4,0.55684150808269761,null,null,3.5531122575140301,3.6137425565183836,3.5813661491910613,3.9545318081051883,3.675775049424411,3.6545867967330561,3.2161249056627392,2.8079088420348652,2.3974161034847765,2.2516042780491947,2.2842039323273671,null,null,0.64773637740430146,0.67847003529338035,0.68130143348189887,0.77890953725205803,0.700868370250746,0.69833771217726803,0.61354388494696388,0.61393428919290427,0.61507080982438922,0.59690888468242065,0.52074547521186343]
[6185000,655000,620.53861232110103,null,79.139181193641377,0,1.5966763584921624E-4,0.46423841715824937,null,null,3.6921470224331472,3.7401915383012208,3.686056981642845,4.0665643473864685,3.7585170388612577,3.7167147989421476,3.2800454285003307,2.8910894269446428,2.5027552944617621,2.420387257654065,2.520473406658442,null,null,0.64072243156629005,0.67142484254282631,0.67419619929690577,0.7709597798810518,0.6931546060016649,0.69024091396332132,0.60565514078712146,0.60622918532386438,0.60773795191509605,0.58942217385161022,0.51322456623916923]
[6185000,665000,629.24369943995396,null,87.550042832656573,0,1.304629739556765E-4,0.38464626675867442,null,null,3.7556158126167043,3.7979149709863345,3.7338479099253474,4.1177067342097295,3.79628841186996,3.7450759727753704,3.3092248805227253,2.9290610169570792,2.5508421957063057,2.4974359837430322,2.628329436061029,null,null,0.63800560497428038,0.66869748879297763,0.67144279982358768,0.76788073311756078,0.69015642812699152,0.68708577853581498,0.60257076029463574,0.60321281626162471,0.60487141343169926,0.58648846656858022,0.51026498586339375]
[6185000,675000,645.15378033603599,null,96.265310470594741,0,1.0790967097262226E-4,0.32619626689633452,null,null,3.8716162124300384,3.9034147174082543,3.8211942540448378,4.211178459474211,3.8653222528780606,3.7969110163348052,3.3625554716863926,2.9984607898257893,2.6387294825762631,2.6382561097542538,2.8254553383634855,null,null,0.63384280670673265,0.66452090488325577,0.66722095550276872,0.76316230739656221,0.68554285689885475,0.68221608270612566,0.5977924933260188,0.59853206297705486,0.60043007046055397,0.58193050251852108,0.50564583651565453]
[6185000,685000,635.82138145613499,null,105.20936270123492,0,9.0342316069820134E-5,0.26914215180704126,null,null,3.8035736921966796,3.8415315804356309,3.7699593841941814,4.1563506160547927,3.8248289741381694,3.7665060607840877,3.3312732706409642,2.9577528659116612,2.58717731116369,2.5556550472682504,2.7098269162415125,null,null,0.63615792306377994,0.66684328312176699,0.66956950755651468,0.76578660617563454,0.68811235122202064,0.68493090324303207,0.6004595509557813,0.60114617870714926,0.60290924798649004,0.58447706210986494,0.50823032012160652]
[6185000,695000,628.87549471064494,null,114.32851787721206,0,7.6505182078508101E-5,0.22542957737579383,null,null,3.7529312319353121,3.7954734054262866,3.7318264659614409,4.1155435314250388,3.7946907715494884,3.7438763617672812,3.3079906582700822,2.9274549079278334,2.5488082327816026,2.4941770036839177,2.6237673794648906,null,null,0.63811427486072858,0.66880655954272705,0.67155295427943518,0.76800389319480877,0.69027650595148893,0.6872122592090093,0.60269454904313335,0.6033339351172986,0.6049864594878146,0.58660630889537146,0.51038403923249809]
[6185000,705000,638.07152146858095,null,123.58402000258771,0,6.5474978409625878E-5,0.19574924569249449,null,null,3.8199794630274235,3.8564522588581598,3.7823126528625095,4.1695701886279126,3.8345923316521731,3.7738370169446371,3.3388157399626834,2.9675679766459502,2.5996070845924413,2.5755710365184097,2.7377061509957175,null,null,0.63556672200893993,0.66625012152522289,0.66896993679990835,0.7651165061445806,0.68745719977187314,0.68423942461355824,0.5997811008739955,0.60048160673434914,0.60227865089662436,0.58382994350002437,0.5075745647650155]
[6185000,715000,689.57927193528894,null,132.94739561194871,0,5.6577054270407772E-5,0.18280156190979527,null,null,4.1955224716801913,4.1980001522029005,4.0650902029247362,4.4721782226198226,4.0580844609272191,3.9416492679651718,3.5114697195270885,3.1922447841817307,2.8841358981705363,3.0314661358992421,3.3758871792782292,null,null,0.62784885889963515,0.65852070177910993,0.6611118581508435,0.75635402031619114,0.67873955633958161,0.67492350125900391,0.59050889563016906,0.59132829185422009,0.59364289079404409,0.5748706415561704,0.49834543442664303]
[6185000,725000,667.11423771002501,null,142.39736654868307,0,4.931693578096573E-5,0.15415288818052864,null,null,4.0317299071437915,{"$f":"L$2+L$3*$C324","v":4.0490345102551757},3.9417571650280374,4.340196146546397,3.9606086774237985,3.8684581864592618,3.4361669248040041,3.0942523048911292,2.7600390491101785,2.8326281179714305,3.0975454052272093,null,null,0.629832778574415,{"$f":"SQRT(Y$2+2*Y$3*$C324+Y$4*$C324^2+Y$5)","v":0.66050227618220958},0.66314513552044063,0.7586133484616584,0.68104872895176261,0.67743717512828294,0.5930621752751627,0.59387733474514326,0.59602902323277607,0.57738393775720542,0.5009909242893682]
[6195000,445000,786.74895457374396,null,154.98712849782075,0,4.1630222875724203E-5,0.1534617980160623,null,null,4.9039866277971669,4.8423323177784958,4.5985517606098547,5.0430501081207453,4.4797037138954749,4.2582280940012582,3.8371824957311897,3.6160989398506715,3.4209012250653621,3.8915149969322069,4.5798195471686869,null,null,0.64398693378198035,0.67479411682292967,0.67725149377499227,0.77452129763736177,0.69549441313369853,0.69184203474184347,0.60626018578096796,0.60625653366595478,0.60812142251047974,0.58908738716424258,0.51181343909680577]
[6195000,455000,799.45883634101097,null,145.68119302092498,0,4.7118669783409608E-5,0.17649991483591848,null,null,4.9966543757623105,4.9266115437772431,4.6683290115121503,5.1177206635034391,4.5348518908836466,4.2996368887990135,3.8797860194150688,3.6715394441194902,3.4911106119477444,4.0040101604542873,4.7372949822651256,null,null,0.64897317314645897,0.67981614206963281,0.68226763612720542,0.78015436227430524,0.70080092558028528,0.69729075123155071,0.61143441124941766,0.61123077016662419,0.61290535965047366,0.59386967454759931,0.51646945883115558]
[6195000,465000,832.56544181705203,null,136.47347727672218,0,5.3691246340270405E-5,0.20944849177378536,null,null,5.238034636288126,5.1461414446888716,4.8500842755756155,5.3122219706751803,4.6785014520441885,4.4074982094399555,3.9907593609707579,3.815950457205981,3.673991500597396,4.2970367255227266,5.1474858241132742,null,null,0.66486512547974419,0.6958278321494582,0.69827698470502197,0.7981310814011715,0.71777331550325174,0.71474876843129131,0.62803588649344722,0.62722855247388121,0.62828405800001463,0.6092706429866025,0.53148746907903976]
[6195000,475000,863.83556938394804,null,{"$f":"(SQRT(($A328-E$1)^2+($B328-E$2)^2)/1000)","v":127.38528172438133},0,6.1625647608524309E-5,0.24942957723206202,null,null,5.4660251363783647,5.3534936605849595,5.0217572759178752,5.495933970130694,4.8141825355569505,4.5093762850529027,4.0955768285749938,3.9523507536527815,3.8467276852769294,4.5738086246173237,5.5349227046671166,null,null,0.68351304294304194,0.71462998750609918,0.71709394819108085,0.81926287813976773,0.73775247368320696,0.73532325088257378,0.64760524602544356,0.64613312154004521,0.64645901916772242,0.62749268031817873,0.5492542964258379]
[6195000,485000,888.58710952084596,null,118.44412184654838,0,{"$f":"IF($F$618=0,1/E329^2,F329)","v":7.1280867288568472E-5},{"$f":"G329/$G$618*C329","v":0.29677571211534787},null,null,5.6464886155164873,5.517621123232729,5.1576432312694447,5.6413492684349693,4.9215794682109504,4.5900168028189166,4.1785439911138758,4.0603169717299306,3.9834551929931536,4.7928845063690071,5.8415942869632813,null,null,0.70059150829503092,0.73186336689087961,0.73435041251947708,0.83864689012693683,0.75608418647902442,0.75420655165155737,0.66555225179011335,0.66350088021562725,0.66316515179149982,0.64424639334288636,0.5655667028350152]
[6195000,495000,893.93289670193599,null,109.68596081541156,0,8.3118541169860212E-5,0.34814342985008956,null,null,5.6854647498538151,5.5530690380305376,5.1869916028936291,5.6727557681238734,4.9447748387897006,4.6074333774549077,4.1964630697448895,4.0836352954138455,4.0129853213814943,4.8402000687088353,5.9078285901369876,null,null,0.70453337689114648,0.73584282117291089,0.73833613028022027,0.8431247326335275,0.76031862973090547,0.7585683457167226,0.66969516953728092,0.66751346377873999,0.6670263185336458,0.64811844083807146,0.56933286336207023]
[6195000,505000,886.74154013690304,null,101.15834122799761,0,9.7722957370314302E-5,0.40602149602444149,null,null,5.6330325691381598,5.5053831526478039,5.1475110553515977,5.6305065483043046,4.9135715426540223,4.5840039377660302,4.1723576425388993,4.0522665980771713,3.973260267716253,4.7765493717517282,5.8187276822962284,null,null,0.69925103203512518,0.73051026395949148,0.7329952511475617,0.83712446778734395,0.75464446941638352,0.75272351280872796,0.66414339573434411,0.66213661635404641,0.66185249719757522,0.64293001462659127,0.56428597544084036]
[6195000,515000,851.23478531425303,null,92.924754505998024,0,1.1580762500564562E-4,0.46189354127336996,null,null,5.3741528197262181,5.2699378614188115,4.9525789713752495,5.4219043637212359,4.7595077334785438,4.4683229305538363,4.0533390003733762,3.8973861335407718,3.7771209540759343,4.4622790848164531,5.3787989900435944,null,null,0.67559157470801523,0.70664110044893502,0.70909713408526409,0.8102817467064537,0.72925962775965014,0.72657588524069139,0.63928643056365886,0.63809203913809531,0.63872733228661405,0.61973973255346126,0.54169740049306292]
[6195000,525000,847.16635034225806,null,85.070617724335349,0,1.3817861243800963E-4,0.54848517838279509,null,null,5.3444898603454032,5.2429600691195128,4.9302432633789968,5.3980023082607653,4.7418547941350582,4.4550679694150768,4.0397016063472488,3.87963962019293,3.7546469192906335,4.4262693668793256,5.3283910807405777,null,null,0.6731497660782042,0.70417907839489002,0.70663311454128808,0.80751461482355136,0.72664328985706772,0.72388147467840236,0.63672356132538699,0.63561610125382662,0.63634697994483735,0.61735311435212892,0.53937031095289301]
[6195000,535000,787.43081518357496,null,77.711067422858122,0,1.6559005532363745E-4,0.61094487978208301,null,null,4.9089580735034444,{"$f":"L$2+L$3*$C334","v":4.8468537354822852},4.6022951753578267,5.0470560392035022,4.4826623070815321,4.2604495958680877,3.839468092495343,3.6190732158307544,3.4246678230740684,3.8975501451898218,4.5882678001244939,null,null,0.64423826786233374,{"$f":"SQRT(Y$2+2*Y$3*$C334+Y$4*$C334^2+Y$5)","v":0.67504724128965576},0.67750423242191982,0.7748051379189792,0.69576156514173382,0.69211615737806242,0.60652032790619537,0.60650642935051391,0.60836181795357192,0.58932753029518592,0.51204705028266106]
[6195000,545000,737.22314561295002,null,71.000070422500286,0,1.9837294510425488E-4,0.68523064062022776,null,null,4.5428939546640184,4.5139266785594714,4.3266550694150956,4.7520859804760809,4.2648112288145903,4.0968730084069911,3.6711719840946087,3.4000673611636882,3.1473206563659359,3.4531620618202199,3.9661947741444505,null,null,0.63079406717025188,0.66150531735984786,0.66401174803667085,0.7596431402382704,0.68157653850151956,0.67762932336654524,0.59284405516442384,0.5934253812938648,0.59575096771956348,0.57679155263080051,0.49993625295767979]
[6195000,555000,726.15427504667605,null,65.138391137638635,0,2.3568174479909312E-4,0.80188153852003885,null,null,4.4621908193653148,4.4405289978345088,4.2658869700062514,4.6870563658992213,4.216783399427527,4.0608106281020708,3.6340691299564583,3.3517849477536013,3.0861762153578387,3.3551914884381295,3.8290514678283154,null,null,0.6292450112176724,0.65994289533439288,0.66246583984035567,0.75790177488556709,0.67998171787473227,0.67602801832422854,0.59136315738191358,0.59202936468208056,0.59439307882559989,0.57546678552127084,0.49869356422074529]
[6195000,565000,664.64590230243004,null,60.373918209770018,0,2.7434766982806631E-4,0.85437194542787676,null,null,4.0137332736870173,4.0326669781674136,3.9282060036403412,4.3256946760267763,3.9498985700902436,3.8604163497013175,3.427893064517745,3.0834854258431998,2.7464039643186235,2.8107808812788075,3.0669627295271082,null,null,0.63018194244549319,0.66085184705738553,0.66350081580196751,0.7590098233804049,0.68144418518729521,0.67786052915993056,0.59348444199592243,0.59429459446986921,0.59642235089868756,0.57779263138674342,0.50141295447399103]
[6195000,575000,646.52659303049597,null,56.982541185875519,0,3.0797564528597081E-4,0.93294950515156527,null,null,3.8816253897853459,3.9125178383852184,3.8287309957374229,4.2192437340541638,3.8712788871593222,3.8013836400933556,3.3671571398382225,3.0044489987990235,2.6463128999004599,2.6504068749129193,2.8424644876478444,null,null,0.6335327826342958,0.66421000220341353,0.66690629431389448,0.76281082179831605,0.68519783765359388,0.68185088408353967,0.59743293512599338,0.59817925925018856,0.6000957768896884,0.58158655823629568,0.50529586387072156]
[6195000,595000,569.13541381456605,null,55.2359484393995,0,3.2776031543652756E-4,0.87403203489824965,null,null,3.317366302122001,3.3993369290043871,3.4038534218419678,3.7645705561605758,3.5354785605414021,3.5492431782078562,3.1077419071064254,2.6668686750591371,2.218804025911663,1.9654175476727236,1.8835877771624734,null,null,0.66284490105534188,0.6936610855143277,0.69660288961449535,0.79604314957539379,0.71741429090393105,0.7156448131495291,0.63032390098893298,0.63030213970373383,0.6306815074751031,0.61279424426886508,0.53660181595405254]
[6195000,605000,568.41264156814395,null,57.035164591679759,0,3.0740760096034127E-4,0.81871679886703641,null,null,3.3120965696733373,3.3945442262383625,3.3998854022091103,3.7603242692128456,3.532342451764177,3.5468883862290133,3.1053191745364184,2.6637159425202439,2.2148114320224273,1.9590202905196419,1.8746326290293034,null,null,0.66322722216664642,0.69404572589622671,0.69699011230979691,0.7964769203900639,0.71783219864941383,0.71608119398660175,0.63074590155814192,0.63071358575761294,0.63107437743467187,0.61319336025782256,0.53699882980351266]
[6195000,635000,548.97506845053204,null,71.126717905439733,0,1.9766713250220889E-4,0.50844321411988747,null,null,3.170377224072829,3.2656536788954775,3.2931731257934209,3.646128527146876,3.4480028220068588,3.4835607730118334,3.0401644294461834,2.578929248581221,2.107438278120739,1.7869783308556588,1.6338010981020918,null,null,0.67421097593211443,0.7051004552391561,0.70811601869286489,0.80894345366844356,0.72982706552875343,0.72859427375176189,0.64282829136057595,0.64249201194363192,0.64232886505248221,0.62461607967908761,0.54833801786952197]
[6195000,645000,569.77636278780699,null,77.852488720656837,0,1.6498900348291785E-4,0.44046844358686638,null,null,3.3220394610859003,3.4035870616459478,3.4073722317050605,3.7683361313783661,3.538259638136295,3.5513313899626753,3.109890368064729,2.6696644944804144,2.222344628039846,1.9710905870348796,1.891529134940928,null,null,0.66250745415969914,0.69332160038096735,0.69626111849006889,0.79566030070431637,0.71704540901568237,0.71525959944503636,0.62995134264630359,0.62993889446357199,0.63033467861239378,0.61244187833964447,0.53625125665269469]
[6195000,655000,629.30733976353895,null,85.22329493747587,0,1.3768396298504339E-4,0.4059770904228967,null,null,3.7560798142159619,3.7983369699720262,3.7341972953018292,4.1180806211107912,3.7965645472339959,3.7452833129496099,3.3094382028873826,2.9293386160485571,2.5511937448537894,2.497999264247083,2.6291179396702473,null,null,0.63798687867380055,0.66867869359681398,0.67142381748296232,0.76785950979403828,0.69013573451764687,0.68706398039924554,0.60254942475446749,0.60319194031671319,0.60485158471083167,0.58646815495928806,0.51024446393167888]
[6195000,665000,662.95943372744705,null,93.086035472566991,0,1.1540667581456917E-4,0.35848687383800198,null,null,4.0014372313068156,{"$f":"L$2+L$3*$C344","v":4.0214840050467009},3.9189472911636845,4.3157866731487511,3.9425809829433929,3.8549218350840224,3.4222400218544022,3.0761290499191243,2.7370879119104177,2.7958539479216338,3.0460673838830692,null,null,0.63043536575291492,{"$f":"SQRT(Y$2+2*Y$3*$C344+Y$4*$C344^2+Y$5)","v":0.66110562721887267},0.66375881755899346,0.75929750782508865,0.68173042847126863,0.67816644080952271,0.5937889815259112,0.59459520038592462,0.59670592925638333,0.57808685899546519,0.50171614032568357]
[6195000,675000,645.77654635968304,null,101.32625523525479,0,9.7399340216869387E-5,0.29470917371874639,null,null,3.8761567995084487,3.9075442789110584,3.8246132395146599,4.2148372098631377,3.8680244346546644,3.7989399880398471,3.3646429833976574,3.0011772952209377,2.6421696420908893,2.6437682118295545,2.8331714093964733,null,null,0.63370119256532242,0.66437888627585873,0.66707722892483268,0.76300175655013536,0.68538529001737825,0.68204932310997868,0.5976283361655218,0.59837100302020119,0.60027745049621373,0.58177349599274797,0.50548610889775403]
[6195000,685000,653.63612632234504,null,109.85904605447837,0,8.2856837470513328E-5,0.25375801720330854,null,null,3.9334609970162173,3.95966115364347,3.8677623335096745,4.2610122421437771,3.902127152112655,3.8245464995581999,3.3909882954325008,3.0354607830180691,2.6855859618046343,2.7133333540790758,2.9305516051338545,null,null,0.63205332715458762,0.66272674441805501,0.66540395672324215,0.76113319268360158,0.68354718580817364,0.68010073611500343,0.5957063892101836,0.59648339872401579,0.59849018406784937,0.57993212306487729,0.50360851445842247]
[6195000,695000,656.022638456756,null,118.6212881400299,0,7.1068103853241536E-5,0.21844842943934803,null,null,3.9508610569882077,3.9754861156067491,3.8808642851275907,4.2750330009334414,3.9124822282638645,3.832321756092111,3.3989878841070462,3.0458707489483698,2.6987690548351204,2.7344563729807465,2.9601204904792064,null,null,0.63160426313619222,0.66227667863051987,0.66494763280485469,0.7606238356886339,0.68304444603194003,0.67956649980730721,0.59517798489997986,0.5959636696238948,0.59799863342197235,0.57942461845945248,0.50308935743148486]
[6195000,705000,680.27869321718003,null,127.56570855837396,0,6.1451446290514166E-5,0.1958728981562817,null,null,4.1277119522464591,4.1363280147231203,4.0140300257623185,4.4175373226509329,4.017729249869344,3.9113479825015727,3.4802941796639875,3.1516756598133395,2.8327595013317026,2.94914671366526,3.260653008960861,null,null,0.62840857564459496,0.659078152784905,0.66168984759082106,0.75699379178505166,0.67941282945494175,0.6756705407365915,0.59128305743054022,0.5921097707298566,0.59436902239863454,0.5756465692616628,0.49917827975473156]
[6195000,715000,718.58562227754101,null,136.65654027524624,0,5.3547494753684203E-5,0.18029058676733931,null,null,4.4070077720255512,4.3903412613223738,4.2243350663037003,4.6425905308805531,4.1839430150622503,4.0361519573802287,3.6086990058743176,3.318770484374634,3.0443669774611366,3.2882013427785148,3.7352758600187324,null,null,0.62848600254287224,0.65917624933786523,0.66171161317123539,0.75705037965490252,0.67921613152850502,0.67527085205488224,0.5906763939066112,0.59139046183419419,0.59376613081284935,0.57486611049447556,0.4981471238821451]
[6195000,725000,697.83433105165705,null,145.86641148667502,0,4.6999084927816456E-5,0.15367283577235885,null,null,4.2557101076976309,4.2527394492035375,4.1104104774735974,4.5206766949284845,4.0939031624331399,3.9685442505662989,3.5391406776851539,3.2282533520473282,2.9297368447293537,3.1045316641382161,3.4781673617300308,null,null,0.62766273383286064,0.65833807564296432,0.66091206001487746,0.75613711303305298,0.67847780543550784,0.67460935704600988,0.59015816821474965,0.59096029134668271,0.59330952415314708,0.57449659944636933,0.49791861267190451]
[6205000,445000,786.039819539517,null,158.81124015635669,0,3.9649482713023788E-5,0.14602843965896595,null,null,4.8988163242626177,4.8376300433665369,4.5946586092719484,5.0388839397946619,4.4766267769819645,4.2559177320597463,3.8348054750964611,3.6130056928313734,3.4169839631362922,3.8852384427442646,4.5710333640946148,null,null,0.64372750629548459,0.67453284242516287,0.67699062906427387,0.77422832869130298,0.69521870011109155,0.69155915260717271,0.6059917544122011,0.60599869935449413,0.60787338179609096,0.58883962921496202,0.51157244695171522]
[6205000,455000,812.02325451151398,null,149.74314675470129,0,4.4597045624115576E-5,0.16967971568377613,null,null,5.0882615486434482,5.0099262006658494,4.7373076672682117,5.1915366202551443,4.589368901325459,4.340571763198513,3.9219019491225948,3.7263454361792241,3.5605164579216031,4.1152178256814098,4.8929681233976572,null,null,0.65451883147592116,0.68540247985841318,0.68785087943166212,0.78642377319364398,0.70671534708952377,0.70337051831390951,0.61721355028679581,0.61679425203148264,0.61825412619999409,0.59922274159530409,0.52168729135712111]
[6205000,465000,862.176375233356,null,140.80131391432394,0,5.0441336473474686E-5,0.20376898170840937,null,null,5.4539279518263983,5.3424915441723835,5.0126483000311248,5.4861862044959659,4.8069832921375317,4.503970630510274,4.0900152097822096,3.9451133487678991,3.8375622967890588,4.5591230971904331,5.5143652891412804,null,null,0.68243941686243903,0.71354705849154343,0.71600982592188478,0.8180452570148028,0.73660098133357665,0.73413717698176628,0.64647743945180114,0.64504259233625472,0.6454103480307174,0.62644106630747964,0.54822954227337684]
[6205000,475000,875.28628189172696,null,132.01140102279047,0,5.7382190060142267E-5,0.23533288194730226,null,null,5.5495122812725803,{"$f":"L$2+L$3*$C354","v":5.4294233352240413},5.0846216875855808,5.5632069061138951,4.8638671771282036,4.5466827064032467,4.1339596169010688,4.0022987616117138,3.9099814211698996,4.6751588810236751,5.676797032638496,null,null,0.69116966742423458,{"$f":"SQRT(Y$2+2*Y$3*$C354+Y$4*$C354^2+Y$5)","v":0.72235445671708531},0.72482787453237851,0.82794970315528327,0.74596778436614841,0.74378564506444866,0.65565017698726547,0.65391528533640386,0.65394351297914466,0.63499844836205255,0.55656560186206716]
[6205000,485000,882.68219663970206,null,123.40587506273759,0,6.5664150197550591E-5,0.27157392371922895,null,null,5.6034358957000672,5.478465645917864,5.1252252595519643,5.606657905258249,4.895958051219667,4.5707785966521497,4.158750723136281,4.0345597417423811,3.9508364542377143,4.7406201224580027,5.7684324163659086,null,null,0.69633993351520218,0.72757201638402524,0.73005266508533773,0.83381880271150011,0.75151831674227454,0.74950326713392057,0.66108382619573103,0.65917437405612178,0.65900253513869134,0.64007193498618431,0.56150470454435819]
[6205000,495000,904.18808027380203,null,115.02612746676296,0,7.5580019968241272E-5,0.32019987026486796,null,null,5.7602352932762901,5.621071160295581,5.2432925607031731,5.7330049716085867,4.9892720803080266,4.6408447655320471,4.2308384450777847,4.1283684061543253,4.0696349554324822,4.9309686985034213,6.0348903145924071,null,null,0.71233684542968134,0.7437226777470477,0.74622924132009927,0.85199325486021538,0.76870429942308083,0.76720579016508583,0.67789602315211439,0.67545965701727173,0.67467434779239832,0.655787578895207,0.57678769231018512]
[6205000,505000,875.29537336652197,null,106.92525426670727,0,8.7466030380450982E-5,0.35871490404308726,null,null,5.5495785672153115,5.4294836207934072,5.0846715997822054,5.5632603185283163,4.8639066250373393,4.5467123264281284,4.1339900915245815,4.0023384186247695,3.9100316424766679,4.6752393496670859,5.6769096760112072,null,null,0.69117591586897964,0.7223607616002039,0.7248341877666038,0.82795679464441874,0.74597449099973323,0.74379255356633889,0.65565674334516311,0.65392163937606029,0.65394962474951879,0.63500457761014906,0.55657157023829806]
[6205000,515000,832.00177037958997,null,99.171618923964331,0,1.0167757836545158E-4,0.39637368693274827,null,null,5.23392490783759,5.1424037393870607,4.8469897193839495,5.3089104009800909,4.6760556816770409,4.4056617678967038,3.9888699343123859,3.8134917223957716,3.670877779576855,4.29204766962975,5.1405019350031198,null,null,0.66456055032243677,0.69552086567250049,0.69796990178508989,0.79778625505693934,0.7174474487869239,0.71441332466119412,0.62771678312495871,0.62692064743728038,0.62798808687560703,0.6089740195245843,0.53119813586501341]
[6205000,525000,839.87498755445301,null,91.853198093479577,0,1.1852540177148065E-4,0.46642460840263145,null,null,5.2913285342595167,5.1946110424735776,4.8902136816739477,5.3551655518824113,4.7102175709987719,4.4313127094524081,4.0152609582825267,3.8478346957125242,3.7143694312507987,4.3617335148444631,5.2380510957996735,null,null,0.66891811355689301,0.69991302630602148,0.70236417525399375,0.80272070761747505,0.72211124370262381,0.7192147451519072,0.63228432966491621,0.63132912380514694,0.63222579131085244,0.61322155101310438,0.53534109356602277]
[6205000,535000,818.064539514628,null,85.082371852223289,0,1.3814043633038223E-4,0.52949731596953831,null,null,5.132308557601152,5.0499859615214984,4.7704743219353078,5.2270291696484392,4.6155820369539713,4.3602542697386584,3.9421523364530326,3.7526975213628075,3.5938885162788048,4.1686892392439718,4.9678196445862399,null,null,0.65739901265023215,0.6883042318039172,0.69075210579610236,0.78968148665279592,0.70979097847618677,0.70653407637290555,0.62022200367393554,0.6196929931166173,0.62104061741860672,0.60201320454662133,0.52440856065002273]
[6205000,545000,780.534931549475,null,79.000063291113875,0,1.6023047551598222E-4,0.58599355202516867,null,null,4.8586801859272217,4.8011271311045682,4.5644367742066176,5.0065427228531654,4.4527410679931725,4.2379828069881897,3.8163530905538403,3.5889933714188103,3.3865749618792997,3.8365146791444031,4.5028278018979959,null,null,0.64178185032346591,0.67257336420654812,0.67503462340629505,0.77203150327168546,0.69315236581614548,0.68943997172461635,0.60398167883317899,0.60406881155692405,0.60601649108444056,0.58698565083354215,0.5097700686096629]
[6205000,555000,750.99218419415797,null,73.776757857742709,0,1.8372187447754092E-4,0.64647488378789564,null,null,4.6432840149596055,4.6052291733914617,4.4022470912259273,4.8329790821406773,4.3245550872184513,4.1417325361045672,3.7173258014188173,3.4601279074549174,3.2233808254885292,3.5750318223024919,4.1367931621656178,null,null,0.63344336977065263,0.66417507052258662,0.66666374499038461,0.76262618209898669,0.6843425058732634,0.68043422999924985,0.59547013270996696,0.59592171469683841,0.59816606503792169,0.57917412608875785,0.50221173586662982]
[6205000,565000,720.34027691351196,null,69.606106053994992,0,2.0639792281130489E-4,0.69662393561294844,null,null,4.4198009589764151,4.4019763762134971,4.2339681202551809,4.652899126866882,4.1915564615277283,4.0418686221842224,3.6145806082140917,3.3264242878967392,3.0540596896702401,3.3037317909614936,3.7570160309584137,null,null,0.62864018780603403,0.65933209871591425,0.66186450270528974,0.75722315103213589,0.67937005303157283,0.67542188914673462,0.5908119714860347,0.5915156866877439,0.59388960953270009,0.57498323556843134,0.49825180873765468]
[6205000,575000,688.574663970134,null,66.68590555732149,0,2.2487019368069776E-4,0.72550148309384965,null,null,4.1881978750062467,{"$f":"L$2+L$3*$C364","v":4.1913385967859584},4.0595749051960359,4.4662761508245366,4.0537254669664113,3.9383762552146964,3.5081022736278893,3.1878626842377247,2.8785864437710202,3.0225743507996556,3.3634400865899599,null,null,0.6278914622031263,{"$f":"SQRT(Y$2+2*Y$3*$C364+Y$4*$C364^2+Y$5)","v":0.65856297422914845},0.66115628878775046,0.7564029556193288,0.67879298115102327,0.67498414435745036,0.59057319057267521,0.59139399676984561,0.59370344836276667,0.5749363775401648,0.4984174532504278]
[6205000,585000,612.20172993155199,null,65.184430656407514,0,2.3534894010604826E-4,0.6750907712426607,null,null,3.631362812930945,3.6849096711761211,3.6402874973242207,4.0175851633478681,3.7223433061730038,3.6895532361169963,3.2521001987305622,2.85472394596143,2.4567023561418933,2.3465975116241662,2.4171794338519295,null,null,0.64361100540869187,0.67432563777898558,0.67712275144834777,0.7742335467284972,0.69633518846679998,0.69358249609646949,0.60891484913117588,0.60941435019338075,0.61076763638444664,0.59251809547655776,0.51633948601927993]
[6205000,595000,568.799029247048,null,65.199769938244415,0,2.3523821397738418E-4,0.62693438758648312,null,null,{"$f":"K$2+K$3*$C366","v":3.3149137222402265},3.3971063629371749,3.4020066705662937,3.762594296826407,3.5340189879029413,3.5481472372868827,3.1066143460361051,2.6654013655756237,2.2169458375606932,1.9624402078656216,1.8794199723709246,null,null,{"$f":"SQRT(X$2+2*X$3*$C366+X$4*$C366^2+X$5)","v":0.66302260003488578},0.69383986115069263,0.69678286649057797,0.7962447605193973,0.71760853394755697,0.71584764631583231,0.63052005587670379,0.63049338933921029,0.63086412005652559,0.61297976353916417,0.53678636544466141]
[6205000,645000,554.74360920971003,null,85.211560248595376,0,1.377218871754756E-4,0.35797330769278912,null,null,3.2124356547479955,3.303904872669587,3.3248424145613082,3.6800187041070465,3.473032520360932,3.5023546788052355,3.0595005780709479,2.6040916233727551,2.1393036972744381,1.8380356851151429,1.7052733181083068,null,null,0.67081174644889752,0.70167838683225492,0.70467248631115442,0.80508436166204156,0.72611703076411793,0.7247262766749254,0.63909702272031887,0.63885489452247712,0.63885199213002974,0.62108930817789709,0.54484163258895779]
[6205000,655000,582.30441505912199,null,91.994619407876229,0,1.1816126886296958E-4,0.32238928620906959,null,null,3.4133814901960582,3.4866605762570377,3.4761512386745799,3.8419384384723418,3.59261885694153,3.5921477842626195,3.1518843992781767,2.7243118584878903,2.29154958878659,2.0819763776882887,2.0467517025825215,null,null,0.65621556530563752,0.68699326701072527,0.68988887127125209,0.78852336641092124,0.71016258877034422,0.70806726933859443,0.62298822748692584,0.62314881580009818,0.6238544592421994,0.60585394946879312,0.52968813495466638]
[6205000,665000,624.27975420038001,null,99.322756707614587,0,1.0136837164888836E-4,0.29650846236319273,null,null,3.7194236878749702,3.7649990501027197,3.7065958505600864,4.0885435559272327,3.7747498534754493,3.7289034391848386,3.2925857360796735,2.907408287822058,2.5234213622028991,2.4535001044275635,2.5668261545427082,null,null,0.63951713462147108,0.6702147497587102,0.67297480495283946,0.76959379242838299,0.69182542270109748,0.68884285621371244,0.60428931777572747,0.6048938367931358,0.60646858730818931,0.58812367719637271,0.51191566962880675]
[6205000,675000,639.72616988177003,null,107.08412580770317,0,8.7206691195002009E-5,0.26139621679153591,null,null,3.8320435046079853,3.8674242324860169,3.7913966726509178,4.1792912480553985,3.8417718511170005,3.7792278614748067,3.3443621214436927,2.9747855530242813,2.608747362426898,2.5902163296235461,2.7582072448351305,null,null,0.63514533168085441,0.66582737555799476,0.66854251744170623,0.76463885967186473,0.68698984131407415,0.68374587166012379,0.59929651271598361,0.60000677449159445,0.60182822178950568,0.58336747451999404,0.50710553396416802]
[6205000,685000,674.03285003111898,null,115.19118889915148,0,7.5363572715673582E-5,0.23801148470132227,null,null,4.0821735095768883,4.0949118285563495,3.9797403466708432,4.3808429939328235,3.9906285362850253,3.8909990254013858,3.4593581133043108,3.1244312918357413,2.7982574635719013,2.893864755625434,3.1832670118855644,null,null,0.62899215334706393,0.65966122691078777,0.66228740666706964,0.75765808114817679,0.68008943278157286,0.67640535729921747,0.59202761403598991,0.59285203627829819,0.59506449287937024,0.5763777665524602,0.49994602240380837]
[6205000,695000,676.49663970131098,null,123.57592807662826,{"$f":"IF(E372=0,1,0)","v":0},6.5483553478126201E-5,0.2075645842647908,null,null,4.1001370000622579,4.1112492178593927,3.9932665519601973,4.3953177582452021,4.001318919663988,3.8990260521468709,3.467616736278794,3.1351783423771189,2.8118674377100419,2.9156717579963027,3.2137933658992432,null,null,0.62874205218598689,0.65941122524477891,0.66203162559083906,0.75737355777823934,0.67980103268887382,0.67609316695349764,0.59171240027443672,0.59253841602735202,0.59477025024554375,0.57606921588765958,0.49962322674744475]
[6205000,705000,744.55087429994205,null,132.18551357845533,0,5.7231123887641575E-5,0.19965584288790511,null,null,4.5963204245208766,4.5625168474829154,4.3668842999066824,4.7951363865121595,4.2966062435874486,4.1207467484692115,3.6957345306534055,3.4320309136963476,3.1877990296328798,3.5180197884287869,4.0569853325762812,null,null,0.63210480404445224,0.66282639305364432,0.66532298580745219,0.76111847339634309,0.68294113985744076,0.67901041695380093,0.5941340028493256,0.59464956793107004,0.5969365465018297,0.57795863846130469,0.50104707927558756]
[6205000,715000,723.35864654636396,null,140.97875726505751,0,5.0314440093363458E-5,0.17053035377707221,null,null,4.441807891969539,{"$f":"L$2+L$3*$C374","v":4.4219911852489391},4.2505389695395381,4.670632048459888,4.2046531673646736,4.0517024704480535,3.624698183223412,3.3395904162352399,3.0707331635221147,3.3304473805818668,3.7944136307094487,null,null,0.62893618583870614,{"$f":"SQRT(Y$2+2*Y$3*$C374+Y$4*$C374^2+Y$5)","v":0.65963110927799262},0.66215853539770397,0.75755512116593671,0.67966812345149685,0.67571631494211015,0.59107858624866216,0.59176344207732023,0.59413291232121745,0.57521597980993899,0.49846296574767757]
[6205000,725000,675.88751088986305,null,149.92334708110008,0,4.4489903238909448E-5,0.14089359628599127,null,null,4.0956958418979914,4.1072100847106814,3.9899224347853481,4.3917391264779448,3.9986759097511158,3.8970415104791742,3.4655749365028212,3.1325213225015829,2.8085026101556037,2.9102803588861779,3.2062462599254031,null,null,0.62880147450696255,0.65947061087817049,0.66209243217126912,0.75744117721593285,0.67986972962749692,0.67616764560373699,0.59178772591367701,0.59261343123816124,0.59484058578631283,0.57614306297612916,0.49970061683436784]
[6215000,445000,797.18596764157201,null,163.15946187702386,0,3.7564314802481197E-5,0.14031060223705086,null,null,4.9800828900747014,4.9115401514312635,4.6558509623522308,5.1043675598942349,4.524989913596781,4.2922318825762416,3.8721673635345493,3.6616251908525372,3.4785552852520438,3.983892999595553,4.7091341390790769,null,null,0.64803500983535722,0.67887119634315396,0.68132353919922073,0.77909419963716386,0.69980156213241052,0.69626407445856842,0.61045898903877593,0.61029248592866914,0.61200313187889455,0.59296727982660358,0.5155903745199214]
[6215000,455000,828.49700684505603,null,154.34704402741247,0,4.1976223827299739E-5,0.16294824317954681,null,null,5.2083716769073032,5.1191636523895667,4.8277485675793574,5.2883199152147036,4.6608485127006984,4.3942432483011924,3.9771219669446278,3.7982039438581348,3.6515174658120899,4.2610270075855903,5.097077914810245,null,null,0.66269262288612896,0.69363835977108568,0.69608679273798602,0.79567170952585908,0.71544934350070799,0.71235664491063344,0.6257603158418763,0.62503313454036913,0.62617374401431536,0.60715580789456824,0.52942459577124912]
[6215000,465000,900.40602675793195,null,145.68805716324175,0,4.7114229863731527E-5,0.19876772246517085,null,null,5.7326603410920818,5.5959923634318463,5.222529086901047,5.7107854072028497,4.9728617501026671,4.6285228351773426,4.2181610016925877,4.1118710887180994,4.0487428918108161,4.8974937428344552,5.9880306715307769,null,null,0.70942247801356839,0.74077947581854597,0.7432809631701921,0.84868050559531127,0.76557205405520101,0.76397957969888797,0.67483338571295481,0.67249162108487692,0.67181741580894183,0.65292284178653126,0.5740037288252462]
[6215000,475000,937.35832607342797,null,137.21155199180569,0,5.3115178671493788E-5,0.23328115659509882,null,null,6.0020795554013633,5.8410230601929003,5.42539721014312,5.9278801656813886,5.1331977768326036,4.7489134263472286,4.3420251089981301,4.2730570183322936,4.2528673932296162,5.2245585440759106,6.4458696600497722,null,null,0.73963937507308108,0.7713124625294514,0.77387266502929264,0.8830615921196876,0.79806917859856608,0.79744498112214401,0.70657203124909584,0.7032759568428828,0.7014649966403721,0.68264499913849264,0.60284542703735444]
[6215000,485000,928.16229931549606,null,128.95351875772914,0,6.0135870986907814E-5,0.26152481363883712,null,null,5.9350313243092812,5.7800442067610538,5.3749110232420731,5.8738535084785388,5.0932962167299376,4.718952771169886,4.3112000273055431,4.232943949614195,4.2020685414188002,5.1431645112414559,6.331930888518996,null,null,0.73176639353369799,0.76335354329093541,0.7658972704012027,0.87409667337113872,0.78959799889477933,0.78872299156324244,0.69830654570248096,0.69525374689228747,0.69373568352008841,0.67489777132634277,0.59533675085469551]
[6215000,495000,936.499181705041,null,120.95871196404168,0,6.834798144489E-5,0.29990828742355108,null,null,5.9958155338114532,5.8353260738861268,5.4206805075606752,5.9228326925171153,5.1294699494181728,4.746114333995024,4.3391452570752973,4.2693094305973895,4.2481214797386464,5.2169542572713175,6.4352248613254579,null,null,0.73889433222699796,0.770559182351507,0.77311779487713261,0.88221301527872398,0.79726742013128182,0.79661953939148811,0.70578998889066535,0.70251678618847724,0.70073344363826728,0.68191180227923009,0.602135078495321]
[6215000,505000,891.97822962041096,null,113.28287602281291,0,7.7924041203116028E-5,0.32567250437581358,null,null,5.671213272162416,5.5401076406129448,5.1762604806160564,5.6612720990199144,4.9362935383229631,4.6010650721032986,4.1899110256876178,4.0751090376042329,4.0021877404231496,4.8228993103702571,5.883610264996892,null,null,0.70308191129632314,0.73437743709600589,0.73686840424345612,0.84147575086025195,0.7587593073039911,0.75696213979376104,0.66816968566214052,0.66603583491938501,0.66560438290836077,0.6466925125057007,0.56794610761361619]
[6215000,515000,839.56587741132898,null,105.99533008581085,0,8.9007486419682768E-5,0.35013593683190636,null,null,5.2890748122059987,5.1925613331145222,4.8885166669881963,5.353349529791557,4.7088763420877564,4.43030562860611,4.0142248210827747,3.8464863572682173,3.7126619068201818,4.3589975809676726,5.2342212211263659,null,null,0.66874285736759964,0.69973636257346539,0.70218740884692898,0.8025222080190999,0.72192360739629857,0.71902155069139162,0.63210054710798669,0.63115169272368887,0.63205522867086428,0.61305057450707057,0.53517433657037528]
[6215000,525000,837.07935905413694,null,99.181701941436756,0,1.0165690590941759E-4,0.39871161920197362,null,null,5.2709456068637124,{"$f":"L$2+L$3*$C384","v":5.1760732298879821},4.8748656812072122,5.338741234443054,4.6980873389358999,4.4222045517983783,4.0058900115494671,3.8356401641941456,3.6989263794150529,4.3369894069881658,5.2034132586807571,null,null,0.66734543284501646,{"$f":"SQRT(Y$2+2*Y$3*$C384+Y$4*$C384^2+Y$5)","v":0.69832776326490598},0.70077804216262252,0.80093957318017128,0.72042765359640415,0.71748134287541177,0.63063536482062765,0.62973729015585667,0.63069559425260613,0.61168769208714369,0.53384505298914597]
[6215000,535000,824.36947728687005,null,92.946274804319074,0,1.1575400422039102E-4,0.447108883125031,null,null,5.1782778588985687,5.0917940038892349,4.8050884303049166,5.2640706790603611,4.6429391619477292,4.3807957570006231,3.963286487865588,3.7801996599253274,3.6287169925326705,4.2244942434660864,5.0459378235843202,null,null,0.66055025020748248,0.69147944924208904,0.69392743942554258,0.79324699686727418,0.71315856699913693,0.70999906398932611,0.62351770143956442,0.62287021238157958,0.62409468120235012,0.60507261856432881,0.52739260007610334]
[6215000,545000,776.44376789048204,null,87.412870905833998,0,1.3087275111536303E-4,0.47611801266830656,null,null,4.8288515116895043,4.7739986248817861,4.5419762857187465,4.9825071363565812,4.4349895088768019,4.2246537957871908,3.8026395099688957,3.5711477155382827,3.3639753738270231,3.8003037895986562,4.4521382841630723,null,null,0.64041461355545648,0.67119643192021106,0.673660606736465,0.77048819571023275,0.69170206298289916,0.68795364725593344,0.60257293264622258,0.60271724301111795,0.60471565716622355,0.58568782312281342,0.50850958044863925]
[6215000,555000,735.00028002489705,null,82.722487873612693,0,1.4613452267350189E-4,0.50326381060970926,null,null,4.5266870416615239,4.4991868568450917,4.3144515373366854,4.7390266451462697,4.2551662150280283,4.0896309123211143,3.663720938643455,3.3903712214686013,3.1350415468575314,3.4334874785003633,3.9386534695084743,null,null,0.63044127749969403,0.66114962943174571,0.66365921765715596,0.75924628655821291,0.68121111688965419,0.67726081451097375,0.59250139194622364,0.59310116911330568,0.59543636991626248,0.57648310318312168,0.49964455905144745]
[6215000,565000,720.10844430616601,null,79.025375671362681,0,1.601278460723041E-4,0.5402815502343693,null,null,4.418110667436256,4.4004390941941862,4.2326953592408509,4.6515371102987251,4.1905505398444545,4.0411133115494886,3.6138035053142685,3.3254130340634962,3.0527790463472613,3.3016798405538745,3.7541436249533975,null,null,0.62861906185577809,0.6593107492335798,0.66184354151108016,0.75719947136100774,0.67934890002629056,0.67540108495448214,0.59079323970813424,0.59149834853920613,0.59387253761747227,0.57496699403344931,0.49823721544235311]
[6215000,575000,723.12681393902199,null,76.465743964209224,0,1.71027585039191E-4,0.57947673022073121,null,null,4.4401176004294092,4.4204539032296548,4.2492662085252304,4.6692700318917542,4.2036472456814167,4.050947159813334,3.6239210803236013,3.3385791624020142,3.0694525201991576,3.3283954301742833,3.7915412247044822,null,null,0.62891207237016866,0.65960675767286481,0.66213456101569756,0.75752806546055962,0.67964373754228025,0.6756921499342573,0.59105661191854264,0.59174296328939746,0.59411284043681978,0.57519670225915254,0.49844535469032653]
[6215000,595000,587.48200995644299,null,75.1732000117063,0,1.7695951697130246E-4,0.4871064362135466,null,null,3.451131334592425,3.5209932080211734,3.5045762346608722,3.8723568084941027,3.6150844412010059,3.6090163884380915,3.1692396973739969,2.7468965274300046,2.3201506229993911,2.1278032701244767,2.1109021033603286,null,null,0.65378646536353824,0.68455092398199591,0.68742881853939608,0.78576875582935934,0.70750253697842436,0.70528490488594286,0.62029062477342911,0.62051757340703806,0.62134493258552914,0.60330031999128408,0.52713918563202711]
[6215000,685000,658.08640323584802,null,121.11568849657752,0,6.8170926326998214E-5,0.21020231033292341,null,null,3.9659079659925673,3.9891709398569084,3.8921943537648058,4.2871576190106069,3.9214369036403447,3.839045501742393,3.4059056236465626,3.0548728909147691,2.7101692914748248,2.7527227550404909,2.9856905360921564,null,null,0.63123527092801934,0.66190692877314194,0.66457253136956251,0.7602052334674122,0.68263058142716115,0.67912617721913271,0.59474186542889551,0.59553438899556599,0.59759285181602551,0.57900522521580478,0.50265965661259526]
[6215000,695000,675.92387678905095,null,{"$f":"(SQRT(($A392-E$1)^2+($B392-E$2)^2)/1000)","v":129.11626543545938},0,5.9984368073679995E-5,0.18997272299956786,null,null,4.0959609856689703,4.1074512269881964,3.9901220835718898,4.3919527761356738,3.9988337013876922,3.8971599905787278,3.4656968349968986,3.1326799505538405,2.8087034953827175,2.9106022334598896,3.2066968334163404,null,null,0.62879788244372381,0.65946702078290953,0.66208875709720438,0.75743708999768622,0.67986558027461952,0.67616314922809362,0.59178318080412207,0.59260890620261442,0.59483634218453352,0.57613860925130356,0.49969595197404865]
[6215000,705000,714.08988799004703,null,137.37907409791345,0,{"$f":"IF($F$618=0,1/E393^2,F393)","v":5.2985718759222843E-5},{"$f":"G393/$G$618*C393","v":0.17728299701266517},null,null,4.3742293733354325,4.3605300472620012,4.1996534850653582,4.6161780919415261,4.1644360239888139,4.0215048550715737,3.5936293045426373,3.2991600914125851,3.01953254125702,3.2484095985999062,3.6795737121966825,null,null,0.62815104041203929,0.65883731343597662,0.66138048118354409,0.75667560270321355,0.6788867721705456,0.67495145405524315,0.59039423036002325,0.59113276643270263,0.5935100790641189,0.5746270609632641,0.49793958414801393]
[6215000,715000,704.74385189794998,null,145.85955573770269,0,4.7003503171091344E-5,0.1552089978269735,null,null,4.306087424187953,{"$f":"L$2+L$3*$C394","v":4.2985564819353064},4.1483437469197453,4.5612701299004561,4.1238835733852053,3.9910554694835207,3.5623013915619284,3.258392681978858,2.9679050378842757,3.1656878331487546,3.5637763250156,null,null,0.62773178324749801,{"$f":"SQRT(Y$2+2*Y$3*$C394+Y$4*$C394^2+Y$5)","v":0.65841111674238317},0.66097151014379196,0.75620953498072752,0.67850183228310401,0.67459906046627527,0.59010828858240105,0.59088816542542799,0.59325584715704271,0.5744114896849708,0.49778783021634526]
[6215000,725000,637.96696950840396,null,154.52187547399234,0,4.1881290831640991E-5,0.12519114869860007,null,null,3.8192171746857726,3.8557589748102261,3.7817386626011378,4.1689559458618728,3.8341386806969648,3.7734963866583806,3.3384652817921703,2.9671119209956585,2.5990295395644236,2.5746456471188832,2.7364107522091246,null,null,0.63559372873112741,0.666277216343379,0.66899732804539036,0.76514711770841859,0.68748714122775345,0.68427103602191686,0.59981212832527986,0.60051200492465262,0.60230749056931865,0.58385954707012111,0.50760457701464923]
[6225000,445000,794.60398879900902,null,167.99110095478272,0,3.5434592879560299E-5,0.13192696148302316,null,null,4.9612576823335743,4.8944190497262285,4.64167589850656,5.0891984341941772,4.5137867073989,4.2838197955071715,3.8635125704542785,3.6503625991412774,3.4642924341257264,3.9610399048600282,4.6771434212197223,null,null,0.64699370362480235,0.67782239130170097,0.68027580582268932,0.77791763883225662,0.69869279931736661,0.69512526996182267,0.60937725879115867,0.60925222719135741,0.61100277347783583,0.5919669707738302,0.51461614717181137]
[6225000,455000,823.72398257623104,null,159.4459469538188,0,3.9334445449221E-5,0.15181340254013376,null,null,5.1735715569633003,5.0875137284629881,4.8015446643435089,5.2602783976353571,4.6401383603982662,4.3786927352333604,3.9611227895955263,3.7773840119975199,3.6251512797511007,4.2187809697822205,5.037940144119502,null,null,0.66022086682674119,0.69114754028093384,0.69359548742969934,0.79287425394940836,0.71280645760867289,0.7096367230043602,0.6231730425843145,0.62253786572536907,0.62377521977185313,0.60475255538451655,0.52708040812510148]
[6225000,465000,941.87678904791505,null,151.07948239254728,0,4.3811590882106947E-5,0.19334746834662711,null,null,6.0350236689483481,5.8709849881767244,5.4502035718730539,5.9544261356565009,5.1528033876789037,4.7636345787181069,4.3571709968886108,4.2927665538270059,4.2778273827006839,5.2645514598630951,6.5018534163036668,null,null,0.74358947857573798,0.77530660044540034,0.77787533515683771,0.88756130632743424,0.80232033187409924,0.80182151220121567,0.71071777277403736,0.70730094591028581,0.70534391018184428,0.68653244295300175,0.60661078394125989]
[6225000,475000,947.83625077784802,null,142.92309120642471,0,4.8954790740299247E-5,0.21741218708688648,null,null,6.0784741044212893,5.91050217890791,5.4829210167703861,5.9894379733198564,5.178661492125082,4.7830505050342289,4.3771471126073465,4.3187617258929736,4.3107474492968318,5.3172986556347324,6.5756911471375377,null,null,0.7488797804722287,0.7806568188998646,0.78323723966243186,0.89358948247995063,0.80801471312034867,0.8076833027984891,0.71626865285172348,0.7126914176208764,0.71053966393041046,0.69173912282032068,0.61165147117374186]
[6225000,485000,929.81240199128899,null,135.014851034988,0,5.4857614319153923E-5,0.23899434402529543,null,null,5.947062222918488,5.7909860376042372,5.3839700869321767,5.8835478616988226,5.100456012240203,4.7243288056876196,4.3167311714748005,4.2401416974860036,4.2111837085998811,5.1577695700248976,6.3523756606720712,null,null,0.73316244128079344,0.76476465008694661,0.76731124474995238,0.87568600000934049,0.79109993391257982,0.79026948652595475,0.6997724322008303,0.69667623617570074,0.69510606568122379,0.67627141632010634,0.59666856259250933]
[6225000,495000,893.77834163037096,null,127.40098115791731,0,6.1610460470420503E-5,0.25801185010200145,null,null,5.6843378888270344,5.5520441833509899,5.1861430955507366,5.6718477570784289,4.94410422433418,4.6069298370317489,4.1959450011450032,4.0829611261916785,4.0121315591661695,4.8388321017704126,5.9059136528002965,null,null,0.70441818672473644,0.73572652307397668,0.73821964483862768,0.84299386051602121,0.76019487468712554,0.7584408704085569,0.66957410592228117,0.6673961922682895,0.66691346427860354,0.64800527036486455,0.56922280951288762]
[6225000,505000,853.56674859988004,null,120.13746293309178,0,6.9285616790953501E-5,0.27709963115484237,null,null,5.3911551640417246,5.2854011099658047,4.965381449813342,5.4356046480242952,4.7696261221748797,4.4759204669384092,4.0611557413067976,3.907558157392677,3.7900027192657375,4.482919291857538,5.4076920151525139,null,null,0.67701690692216898,0.70807835528069485,0.71053565803725882,0.81189726877060242,0.73078720642635209,0.72814913458381936,0.64078278690557144,0.63953794962642108,0.64011748657068601,0.62113361961333624,0.54305635693882948]
[6225000,515000,838.470354698194,null,113.29170313840285,0,7.7911898783094059E-5,0.30608840092338252,null,null,5.2810873561045319,5.1852969220037242,4.8825022472930852,5.346913333851889,4.7041228690354639,4.4267364156067162,4.0105526289483464,3.8417076871935225,3.7066102393528237,4.3493011094337142,5.2206476947106237,null,null,0.66812446101245682,0.69911301048669472,0.70156370582527261,0.8018218241738877,0.72126156837527622,0.71833991371839545,0.6314521153011976,0.63052570237421979,0.63145347437105803,0.61244737125565007,0.53458601144428464]
[6225000,525000,805.391023646549,null,106.94395728604772,0,8.7435439857095536E-5,0.32995115722321244,null,null,5.0399059534069881,{"$f":"L$2+L$3*$C404","v":4.9659478778002661},4.7008967198195544,5.1525722639234752,4.5605916516023761,4.3189639550404566,3.8996707112632318,3.697415645146247,3.5238800146235367,4.056515950295605,4.810794782980742,null,null,0.65151605456922657,{"$f":"SQRT(Y$2+2*Y$3*$C404+Y$4*$C404^2+Y$5)","v":0.68237754522372829},0.68482724112673199,0.78302857326243747,0.70351151875952156,0.70007641224916062,0.61408180040540061,0.61377849376084248,0.61535491928350783,0.59632056969713443,0.5188578938445576]
[6225000,535000,783.95787181083006,null,101.18799335889609,0,9.7665692288609936E-5,0.35874852975564597,null,null,4.883636843372761,4.8238246479776139,4.5832287162414573,5.0266524968886266,4.4675932057871917,4.249134746359684,3.8278267863099025,3.6039242368388411,3.4054832838830253,3.8668111233976568,4.5452380317361838,null,null,0.64297742260674828,0.67377742457616008,0.6762364636802678,0.77338133326307823,0.69442177793072246,0.69074165764552387,0.60521616234206377,0.60525386837711359,0.60715679128835054,0.5881239897865459,0.51087651222054609]
[6225000,545000,749.00569695084596,null,96.130172162542181,0,1.0821327971726034E-4,0.37977034798720755,null,null,4.6288005364686171,4.5920567764810594,4.3913412762601443,4.8213084695862198,4.3159357190697207,4.1352605606658566,3.7106670961792352,3.4514628500995901,3.2124074699564731,3.5574494237119367,4.1121805852209805,null,null,0.63301202994393879,0.66374050781090199,0.66623155105564336,0.76214024254831381,0.68389026007320319,0.67997427272608613,0.59503797384010437,0.5955098982407333,0.59776825644555176,0.57878042471669822,0.50183385462228014]
[6225000,555000,724.22688238955095,null,91.885853100463734,0,1.1844117204646211E-4,0.40191360667850845,null,null,4.4481381995022158,4.4277484571251122,4.2553055843186343,4.6757329340386118,4.2084204426882614,4.0545311828251567,3.6276085097697743,3.3433776609832213,3.0755292983198799,3.3381321360299152,3.8051710728065364,null,null,0.62902853022121008,0.65972435553043007,0.6622503764923543,0.75765874956819157,0.67976165559962554,0.67580910702579355,0.59116309331754957,0.59184227882977836,0.59421012929017358,0.57529024651944027,0.49853097874876151]
[6225000,565000,697.94797448662803,null,88.572061057649549,0,1.2746956345498605E-4,0.41685491020049653,null,null,4.2565386819820041,4.25349301882083,4.1110343799315876,4.5213443501089392,4.0943962612974794,3.9689145008774345,3.5395216104791771,3.2287490647106716,2.9303646110641335,3.1055375221811445,3.4795754038893216,null,null,0.62766221216175122,0.65833761180531991,0.66091136683435103,0.75613643204215208,0.67847640837641898,0.67460732506909049,0.59015555108693118,0.59095736568946855,0.59330697973118574,0.57449351863894238,0.49791479140961697]
[6225000,575000,700.75724019913503,null,86.296060164992468,0,1.342820809962656E-4,0.44090094363763022,null,null,4.2770210382918927,4.2721212597604641,4.1264572486932511,4.5378487861699179,4.1065856652240473,3.9780670885687819,3.5489382691475004,3.2410030817486271,2.945882994860022,3.1304023330025439,3.5143822060672827,null,null,0.62766693820766173,0.65834385066166123,0.6609119978644461,0.75613950331159319,0.6784609281749211,0.67457689746011718,0.59010995724883364,0.59090353477774626,0.59326174621959704,0.57443523129862806,0.49783808459190615]
[6225000,585000,647.540292470449,null,85.141118150985079,0,1.3794987177559415E-4,0.41854626427739333,null,null,3.889016272402043,3.9192396793715467,3.8342962056627652,4.2251992182638878,3.8756773290292781,3.8046862728687225,3.3705550603609451,3.0088707557560985,2.6519125756067603,2.6593791286559441,2.8550242237088623,null,null,0.6333089056537754,0.66398550684890334,0.66667903895665415,0.76255699232440999,0.68494852132409001,0.68158686681357306,0.5971728567739335,0.59792399689079567,0.59985395953734333,0.58133765943833193,0.50504244367445228]
[6225000,595000,621.40684816428598,null,85.152862547303712,0,1.3791182193928847E-4,0.40154377979704109,null,null,3.6984773299658089,3.7459488101773797,3.69082359642193,4.0716652329651799,3.7622843141848366,3.7195435113192437,3.2829557550466868,2.8948766716926158,2.5075514292595158,2.4280720131020948,2.5312308487555031,null,null,0.64043766483585318,0.67113892563187549,0.67390764519101998,0.7706370473809121,0.69284069085646327,0.68991082593218978,0.60533278062741813,0.60591406357125543,0.60743835523779954,0.58911578199875947,0.51291586054353699]
[6225000,605000,626.57989732421504,null,86.330817209151903,0,1.3417397803035288E-4,0.39391282887698603,null,null,3.736194031390851,3.7802512991568697,3.7192236363099407,4.1020568967797635,3.784730174489769,3.736397305482293,3.3002958158307685,2.9174415121282262,2.5361273528189638,2.4738586712166271,2.5953249278470238,null,null,0.63880426215222275,0.66949913323717136,0.67225232049677308,0.76878587813335508,0.69103860166413822,0.68801474796237849,0.60347965841225493,0.60410198437262519,0.60571611619872023,0.58735349093957478,0.51113854504095158]
[6225000,695000,657.77729309272399,null,135.17029999226901,0,5.4731511832131889E-5,0.16868314661441855,null,null,3.9636542439390503,3.9871212304978529,3.8904973390790549,4.2853415969197535,3.9200956747293292,3.8380384208960949,3.4048694864468105,3.0535245524704622,2.7084617670442075,2.7499868211636995,2.9818606614188505,null,null,0.63128939492249336,0.6619611598852263,0.66462756046608773,0.76026663859415755,0.68269133503291646,0.67919084752382208,0.59480595566195194,0.59559749415993479,0.59765248877206545,0.57906688988899435,0.50272287851299735]
[6225000,705000,663.71402613565999,null,143.08392642082478,0,4.884479614868552E-5,0.15189891397306576,null,null,4.0069389645550961,{"$f":"L$2+L$3*$C414","v":4.0264877073055612},3.9230900034847735,4.3202199035470024,3.9458551594026288,3.8573802971499802,3.4247694156067325,3.079420582003749,2.7412562803733858,2.8025328453267262,3.055416783820827,null,null,0.63032048407380015,{"$f":"SQRT(Y$2+2*Y$3*$C414+Y$4*$C414^2+Y$5)","v":0.66099057791663052},0.66364187461046609,0.75916710212577143,0.68160074245997004,0.67802789359174465,0.5936511115358214,0.59445914182060322,0.59657755719263161,0.57795370704037652,0.50157899580559251]
[6225000,715000,678.00582451773903,null,151.24486768151837,0,4.3715827883791087E-5,0.1388760974584427,null,null,4.1111404665588349,4.1212566223771274,4.0015519766023875,4.4041842190417162,4.0078672725824696,3.9039429762787936,3.4726755237834608,3.1417614065463777,2.8202041746359905,2.929029552806508,3.2324921657747856,null,null,0.62860165311082228,0.65927095109876666,0.66188785336927281,0.75721373593145624,0.67963820469540215,0.67591629777972939,0.59153315163999887,0.59235969988297998,0.59460281346416743,0.575893152543552,0.49943832645317493]
[6235000,445000,799.89977286870203,null,173.26572078746563,0,3.3310005226339819E-5,0.12484341675875278,null,null,4.9998692439857058,4.9295353938923627,4.6707497530491739,5.1203111656036242,4.5367651144772978,4.301073460006231,3.881264038655889,3.6734628092532784,3.4935463453267102,4.0079128896608811,4.7427581858432175,null,null,0.64915750277743756,0.68000180739090244,0.6824531470382702,0.78036267775977919,0.70099732478673871,0.69749254277956385,0.61162614920196245,0.6114152354801764,0.61308272954107801,0.59404709930406163,0.51664232243574448]
[6235000,455000,863.56282514001396,null,164.99396958677005,0,3.6733630851254145E-5,0.14863228946997561,null,null,5.4640365580958417,5.3516850935034324,5.0202599100186767,5.4943315976975819,4.8129990982825204,4.5084876843061652,4.0946625898693263,3.9511610432607411,3.8452210460734375,4.5713945653142627,5.5315434034847728,null,null,0.68333592691090872,0.71445133319818166,0.71691509463563341,0.81906199930016732,0.73756250349734553,0.73512757433993003,0.64741918615233141,0.64595320373472065,0.64628600484919785,0.62731917954047922,0.54908523332756631]
[6235000,465000,927.45771001866501,null,156.92358012739831,0,4.060912056482414E-5,0.1764708884355505,null,null,5.929894163746086,5.7753720751337676,5.3710428280024711,5.8697140463596567,5.0902390037709875,4.7166572192408109,4.3088382439825654,4.2298705311014171,4.1981763901431055,5.1369281913752038,6.3232010271312591,null,null,0.73117252936892219,0.76275329684084059,0.76529581143653813,0.87342063602996212,0.788959116680918,0.78806514315615639,0.69768294286401511,0.69464863937114485,0.69315276405777271,0.67431345292882872,0.59477016660710458]
[6235000,475000,913.18409458618396,null,149.0872563299761,0,4.4990306838391671E-5,0.19250085617317023,null,null,5.8258252336278664,5.6807237312009855,5.29268067927815,5.7858565556938304,5.0283057864094518,4.6701537801617876,4.2609930850528883,4.1676090205849352,4.1193289384940801,5.0105924211823138,6.1463509319228189,null,null,0.71943678198908445,0.75089436594647085,0.75341387482983313,0.86006671828983261,0.77633705302625799,0.77506703861586623,0.68535614704996828,0.68269173063042665,0.68163703835006362,0.66276881381899433,0.5835684475891213]
[6235000,485000,908.42470752955398,null,141.52388490993314,0,4.992758004514451E-5,0.21251266919365946,null,null,5.7911245425979772,5.6491642356284721,5.2665516443372518,5.7578951567361294,5.0076548059707351,4.6546476971312867,4.2450396196390647,4.146848574243915,4.0930380843932568,4.9684670863440816,6.0873821262911738,null,null,0.71565134788080942,0.74707041230657856,0.74958292052129183,0.85576171108234145,0.77226719473790151,0.77087543564447814,0.6813788759396997,0.67883562921977336,0.67792433346543057,0.65904630994760161,0.57995348675130076]
[6235000,495000,888.99168014934799,null,134.27959636519617,0,5.5460010282285888E-5,0.23101118829246559,null,null,5.6494383399688957,5.5203038310703265,5.1598643240199209,5.6437261208774192,4.9233349001680207,4.5913348939265761,4.1799001118606141,4.0620817088114567,3.985690041144998,4.7964653610018786,5.8466069170504218,null,null,0.70088676348263346,0.73216141383190381,0.73464891784744579,0.83898224283372902,0.75640131821950052,0.75453322473934104,0.66586256845884428,0.66380139363529167,0.66345430565458297,0.64453636604793096,0.56584879873621408]
[6235000,505000,832.59271624144503,null,127.40883014924829,0,6.1602869708082486E-5,0.24031945079312519,null,null,5.2382334941163755,5.1463223013970216,4.8502340121655338,5.312382207918489,4.6786197957716302,4.4075870695146282,3.9908507848413235,3.8160694282451835,3.6741421645177428,4.2972781314530293,5.1478237542315037,null,null,0.66487989210181297,0.69584271481104187,0.6982918731374288,0.79814779978359085,0.71778911485008901,0.71476503227677157,0.62805135810203772,0.62724348147248321,0.62829840839310658,0.6092850251520523,0.5315014977381729]
[6235000,515000,811.69141568139605,null,120.97524540169366,0,6.8329300765766461E-5,0.25986829751248475,null,null,5.0858421117330579,5.007725777383337,4.7354858720908641,5.1895870671282012,4.5879290526415772,4.339490632289988,3.9207896253640397,3.7248979552022496,3.5586833802240316,4.1122807201960363,4.8888566402924978,null,null,0.65436461350187858,0.68524711586988585,0.68769556240119867,0.78624937115872395,0.70655073213154795,0.70320122956464803,0.61705258118942885,0.61663919854302418,0.61810507198078901,0.59907350354658984,0.52154177193307083]
[6235000,525000,772.41624455507497,null,115.05220554165835,0,7.5545761467280001E-5,0.27341156047908227,null,null,4.7994868390510508,{"$f":"L$2+L$3*$C424","v":4.7472921176447018},4.5198651826073615,4.9588454367610648,4.4175140851244707,4.211532124760434,3.7891392517486109,3.5535796587492374,3.3417273349222341,3.764656180556968,4.4022372700373795,null,null,0.63913470409483997,{"$f":"SQRT(Y$2+2*Y$3*$C424+Y$4*$C424^2+Y$5)","v":0.66990744325757068},0.67237476652387618,0.7690438090903472,0.69034592412336104,0.68656479159055006,0.60125754834559431,0.60145609608201489,0.60350148507346713,0.5844773311799969,0.50733505881714658]
[6235000,535000,748.40565961419099,null,109.72242250333338,0,8.306330836173407E-5,0.29127395958680835,null,null,4.6244256642470658,4.5880779289017006,4.3880470712819086,4.8177832502333713,4.3133321570659744,4.1333056390230345,3.708655771026768,3.4488454872371013,3.2090928637087912,3.552138493245204,4.1047461226198267,null,null,0.63288498507216329,0.66361250789327031,0.66610427951105022,0.76199713235645039,0.68375716996597991,0.67983899137241999,0.59491095632529012,0.59538891870702015,0.59765135740044162,0.57866480472423987,0.50172298759845257]
[6235000,545000,718.69471997511505,null,105.07621043794832,0,9.0571424172245123E-5,0.30499380829982875,null,null,4.4078032033385632,4.3910646881549873,4.2249340126633816,4.6432314798538004,4.1844163899720241,4.0365073976789247,3.6090647013565853,3.3192463685314522,3.0449696331425358,3.2891669664997432,3.7366275804916755,null,null,0.6284952055305516,0.65918555393404465,0.66172073232372874,0.75706068839577179,0.6792252866373687,0.6752798114012144,0.59068440721274795,0.59139784456637101,0.59377342304718861,0.57487300306105649,0.49815324529301735]
[6235000,555000,705.32570628500901,null,101.2077566197374,0,9.7627552838472299E-5,0.32263946398651333,null,null,4.3103297245240002,4.3024147583758943,4.1515381275046996,4.5646885244244277,4.1264082395706545,3.9929511510765598,3.5642517674673497,3.2609307308152093,2.9711192015183898,3.1708378263286141,3.5709855008712621,null,null,0.62774695082842391,0.65842666458539378,0.66098594646694409,0.75622619884444475,0.67851397048984996,0.67460870609293722,0.59011422977658146,0.59089190985983031,0.5932607057239645,0.57441381136099245,0.49778624628068907]
[6235000,565000,700.17084007467804,null,98.209011806452878,0,1.0368055605955826E-4,0.34013921832166177,null,null,4.2727455949844773,4.2682328405351901,4.1232379120099827,4.5344036854387335,4.1040412750840281,3.9761565969633015,3.546972655930321,3.2384452044057457,2.9426437205725215,3.1252121055009745,3.5071167085252606,null,null,0.627663154353029,0.65833973782879529,0.66090904580978893,0.75613570235346472,0.67846113451803747,0.67458010512877187,0.5901164419337086,0.59091183569512251,0.59326838381926539,0.5744445610234945,0.49785127736055373]
[6235000,575000,664.56862476665106,null,96.161374782185803,0,1.0814306462305113E-4,0.33673935697979801,null,null,4.0131698431736522,4.0321545508276628,3.9277817499689145,4.3252406705040745,3.9495632628624993,3.8601645794897497,3.4276340302178143,3.0831483412321319,2.7459770832109807,2.8100968978096281,3.0660052608588062,null,null,0.63019329126236256,0.66086321082183097,0.66351237217004189,0.7590227077611067,0.68145701676544534,0.67787425122388401,0.5934981123721319,0.59430809368764803,0.59643508185770033,0.57780584765946585,0.50142658399768636]
[6235000,585000,647.10390168015499,null,95.12628448541443,0,1.1050932643460447E-4,0.33506442680991927,null,null,{"$f":"K$2+K$3*$C430","v":3.8858345471500098},3.9163459720411078,3.8319004202240512,4.2226354223709102,3.8737838293901925,3.8032645116739454,3.3690922784318795,3.0069672191288364,2.6495019528811765,2.6555166337710512,2.8496173418171198,null,null,{"$f":"SQRT(X$2+2*X$3*$C430+X$4*$C430^2+X$5)","v":0.63340475712868916},0.66408162137757243,0.66677634004864339,0.76266566906474242,0.68505528242038782,0.68169993572549947,0.59728425351162728,0.59803333826855087,0.59995753620538506,0.581444279932534,0.50515101782082839]
[6235000,595000,650.84504355943398,null,95.136796246247442,0,1.1048490720925066E-4,0.33692708836897295,null,null,3.9131112125918328,3.9411534838426068,3.8524392891412926,4.2446146309116743,3.8900166440043842,3.8154531519166364,3.3816325860112224,3.0232860800062511,2.6701680206223135,2.6886294805445496,2.8959700897013869,null,null,0.63260888492867107,0.66328364727840505,0.66596827254628677,0.76176323959313175,0.68416794088263,0.68075954495669233,0.59635704848174254,0.59712287303255851,0.5990953444860071,0.58055622696609077,0.50424586931661552]
[6235000,605000,664.71408836341595,null,96.192567280429742,0,1.0807294058906234E-4,0.33659466164774227,null,null,4.0142304182576654,4.0331191199378109,3.9285803451151535,4.3260952691350685,3.950194429408862,3.860638499888009,3.4281216241941701,3.0837828534412206,2.7467806241195101,2.8113843961045939,3.0678075548227239,null,null,0.63017194981492319,0.66084184134943269,0.66349064021666837,0.75899847858120029,0.68143288592353857,0.67784844503276764,0.59347240258444944,0.59428270535512673,0.59641113870265827,0.57778099118553161,0.50140094942094582]
[6235000,615000,662.39576228998703,null,98.259910441644507,0,1.0357317082012346E-4,0.32145500290769385,null,null,3.9973275028562947,4.0177462997449034,3.9158527349720291,4.3124751034536732,3.9401352125762541,3.8530853935407778,3.4203505951960365,3.0736703151089237,2.7339741908898887,2.7908648920286749,3.0390834947729397,null,null,0.63052275475972297,0.66119314987579347,0.6638477597411081,0.75939669828749434,0.68182900218077869,0.67827169787751762,0.59389366573597713,0.59469847725279912,0.59680339297038609,0.57818790899663208,0.50182015593882245]
[6245000,445000,811.38685127567101,null,178.94415329929058,0,3.1229495884108585E-5,0.11872667658295434,null,null,5.0836215326509171,{"$f":"L$2+L$3*$C434","v":5.0057062108089738},4.733813813503434,5.1877977512445668,4.5866075476851362,4.3384983614561365,3.9197687254760494,3.7235694452644772,3.557000966446807,4.1095850206409636,4.8850830873055644,null,null,0.65422343805730021,{"$f":"SQRT(Y$2+2*Y$3*$C434+Y$4*$C434^2+Y$5)","v":0.68510489211300374},0.68755338340177852,0.78608972144647948,0.70640004542887536,0.70304626763811517,0.61690523684728049,0.61649727332040161,0.61796863752651909,0.5989369035943013,0.52140857762526815]
[6245000,455000,849.84833540759405,null,170.94738956766784,0,3.4219609821164905E-5,0.13626108827687319,null,null,5.3640442134567676,5.2607443120877555,4.9449673613876914,5.4137589705196145,4.7534919273335507,4.4638058767579416,4.0486916202862551,3.8913384390479253,3.7694622047915494,4.4500076166926146,5.3616208757000896,null,null,0.67475301949860789,0.70579557350796529,0.70825089545124542,0.80933139871980586,0.7283610440934728,0.72565046488350449,0.63840620911792301,0.63724159770717936,0.63790970764969668,0.61891993656311883,0.54089809068166439]
[6245000,465000,863.71738021157603,null,163.17171936337499,{"$f":"IF(E436=0,1,0)","v":0},3.7558671339466157E-5,0.15199778213794718,null,null,5.4651634191226002,5.3527099481829605,5.0211084173615523,5.4952396087430087,4.8136697127380286,4.5089912247293151,4.0951806584692028,3.9518352124828948,3.8460748082887464,4.5727625322526588,5.5334583408214266,null,null,0.68343626229569332,0.71455253983559763,0.71701641403053218,0.81917579581667588,0.73767012028699086,0.73523842368580938,0.64752458791196144,0.64605512567643453,0.64638401590844485,0.62741746613126648,0.54918100631700251]
[6245000,475000,871.71787803360201,null,155.65028107909089,0,4.1276244984420285E-5,0.16858988181819634,null,null,5.5234950487429915,5.4057612492408147,5.0650311504044749,5.5422425334474115,4.8483838727877995,4.5350568466334753,4.121998327168634,3.986733383982572,3.8902695582576174,4.6435749384754113,5.6325845088363282,null,null,0.68873774250969444,0.71990069810540969,0.72237094091064658,0.82518994484077501,0.74335779779295597,0.74109711138633927,0.653094621386617,0.65144262190445723,0.65156522635013614,0.6326133675737905,0.55424285797176143]
[6245000,485000,869.10862476664602,null,148.42173021495202,0,4.5394686370381598E-5,0.18485638313224606,null,null,5.5044709831736158,5.3884592908276296,5.0507063499688867,5.5269131705040451,4.8370623228624767,4.5265558994897326,4.1132521102177977,3.9753518212321102,3.8758560432109532,4.620480437809583,5.6002558608587441,null,null,0.68698565105621323,0.71813304045463133,0.72060109189106836,0.82320201789854441,0.74147776292063616,0.73916051968724894,0.65125360936776422,0.64966165317021862,0.64985235298819022,0.63089561536195737,0.55256968198597189]
[6245000,495000,851.91210018668403,null,141.53095067864132,0,4.9922595016427027E-5,0.19927247315523952,null,null,5.3790911224611131,5.2744291363379014,4.9562974300248959,5.4258835885967684,4.7624466027100221,4.4705296224082165,4.0556093598257652,3.9003405810143161,3.7808624414312431,4.4682739987523394,5.3871909213130147,null,null,0.67600363663104313,0.70705659981018176,0.70951299275242019,0.81074877032811177,0.72970122176822383,0.72703067569254665,0.6397190001054841,0.63851000265924218,0.6391291735186081,0.62014264768693328,0.5420902315979369]
[6245000,505000,823.44214685750205,null,135.02966340771201,0,5.4845579528558369E-5,0.21160703095025149,null,null,5.1715166927380469,5.085644875812096,4.7999973862476866,5.2586226127878239,4.6389154752147013,4.3777745144617422,3.960178076266347,3.7761546445924243,3.6235944192408414,4.2162864418357504,5.0344481995644506,null,null,0.66007753333741603,0.69100310917439389,0.69345103975903499,0.79271205640743225,0.71265324256790485,0.70947905909528464,0.62302307389992351,0.62239325987584126,0.62363622024664822,0.60461329690168786,0.5269445751270776]
[6245000,515000,802.70449284381095,null,128.97678085609053,0,6.0114180875154272E-5,0.226093459584993,null,null,5.0203184573242252,4.9481334920473099,4.6861476657125225,5.1367888954573893,4.5489347944492957,4.3102112376851363,3.8906654600124542,3.6856969977847038,3.5090396184692119,4.0327374661605706,4.7775086663348167,null,null,0.65034762287460202,0.6812005768749636,0.68365101237637749,0.78170778239916217,0.70226570967828095,0.69879593436804965,0.61286475049440725,0.61260706520975516,0.61422866785904318,0.59519355489288384,0.51775946235116432]
[6245000,525000,756.08341008089894,null,123.43828417472433,0,6.5629674063349711E-5,0.23250126926252063,null,null,4.6804041428998335,4.6389890922464403,4.4301979213441349,4.8628900342252805,4.3466459163410205,4.1583197500435691,3.7343915905911729,3.4823358347728814,3.2515047572868858,3.6200942626260364,4.199873450902337,null,null,0.63462401230661891,0.66536440842199107,0.66784731148305743,0.76395666293429321,0.6855829782372741,0.68169765865168275,0.59665922170408425,0.59705620946589544,0.5992611766395779,0.58025959648848147,0.50325604446953343]
[6245000,535000,721.39943372744597,null,118.48632832525446,0,7.123009385989469E-5,0.24076573825486297,null,null,4.427523271306808,4.4089996450466939,4.2397828911636779,4.6591216731487446,4.1961521429433883,4.0453193550840192,3.618130901854399,3.3310443299191195,3.0599104719104115,3.313106387921624,3.7701389838830552,null,null,0.62873962478652479,0.65943257115203691,0.66196321198351815,0.75733463468017181,0.67946985337519339,0.67552022091482933,0.5909007196148931,0.5915979681133261,0.59397053710788483,0.57506040466251596,0.49832142985466193]
[6245000,545000,700.90270379589901,null,114.19724164794874,0,7.6681177301451359E-5,0.25182676073910532,null,null,4.2780816133758997,{"$f":"L$2+L$3*$C444","v":4.273085828870606},4.1272558438394853,4.5387033848009066,4.1072168317704056,3.9785410089670394,3.5494258631238536,3.2416375939577118,2.9466865357685461,3.1316898312975017,3.516184500031188,null,null,0.627668105301041,{"$f":"SQRT(Y$2+2*Y$3*$C444+Y$4*$C444^2+Y$5)","v":0.65834510043953787},0.66091296049875814,0.75614070425609436,0.67846112404895431,0.67457635852510012,0.59010859633221824,0.59090171541643688,0.59326032873748791,0.57443314867966688,0.49783504222411279]
[6245000,555000,654.47708774113801,null,110.6481359987596,0,8.1679260247275785E-5,0.25047340210937691,null,null,3.9395924467206367,3.965237568811486,3.8723792116988478,4.2659528904791859,3.9057760837087976,3.8272863518606277,3.3938071981082949,3.0391290567268441,2.6902314326820465,2.7207767035968118,2.9409711171127002,null,null,0.63189235130481936,0.66256540007658904,0.66524039865064921,0.76095061301842648,0.68336707743262159,0.67990941906725377,0.59551724645515347,0.59629740660534114,0.59831424406298239,0.57975053529892739,0.50342285388469754]
[6245000,565000,654.71801182327795,null,107.91204752019118,0,8.5873691821647207E-5,0.26343276777463215,null,null,3.941349024203519,3.9668351364001557,3.8737018849097962,4.2673683194617578,3.9068214533012027,3.8280712825202396,3.3946147756316272,3.0401799675731387,2.6915622973117874,2.7229091226478328,2.9439561664904135,null,null,0.63184678201224587,0.66251972833023853,0.66519409439918398,0.76089892624791822,0.68331607066499123,0.67985522317907543,0.59546364954390352,0.59624469354075549,0.59826438624098788,0.57969906464301424,0.5033702097063194]
[6245000,575000,674.32832296204697,null,106.05192124615188,0,8.8912519860834128E-5,0.28092454858812477,null,null,4.0843278027162837,4.0968711095613335,3.981362493061638,4.3825788974020261,3.9919105933323218,3.8919616762103493,3.4603485385687813,3.1257201447604492,2.7998896560423474,2.8964799865370772,3.1869279214997617,null,null,0.62896079281924766,0.65962987144463037,0.66225535361928112,0.75762241491660753,0.68005336917262682,0.67636638394993476,0.59198833457858091,0.59281299528122333,0.59502783872450438,0.57633938186352995,0.49990594146689926]
[6245000,585000,666.23691039204198,null,105.11427115287438,0,9.0505846225136922E-5,0.28252747924170513,null,null,4.0253333136683773,4.0432169528096304,3.9369406380523104,4.3350418485532467,3.9568019541910706,3.8655998540572725,3.4332261236341246,3.0904254031300873,2.7551926930056401,2.8248628938799634,3.0866753197573997,null,null,0.62995392038984788,0.66062354705748449,0.66326856840228043,0.75875092030822,0.68118608702105288,0.67758432769021182,0.59320906644930893,0.59402254852638381,0.59616586577490893,0.57752621164916063,0.50113796857157489]
[6245000,595000,673.655553827012,null,105.12378417846269,0,9.0489466573643484E-5,0.28562176231623582,null,null,4.0794226429527445,4.0924099774269163,3.977668990510296,4.3786263787336956,3.9889914480554047,3.8897697943684051,3.4580934164281443,3.1227855257934265,2.7961732793404144,2.8905253069228829,3.1785923119166783,null,null,0.62903273961027051,0.65970180944335177,0.66232888172690285,0.75770423580259127,0.68013606807480231,0.676455730519818,0.59207835572022549,0.59290245471888459,0.59511183859983618,0.57642732779719175,0.4999977447658584]
[6245000,605000,663.32309271935901,null,106.08020550507999,0,8.8865112534335241E-5,0.276192438169304,null,null,4.0040886690168458,4.0238954278220698,3.9209437790292809,4.3179231697262344,3.9441588993092989,3.8561066360796721,3.4234590067952917,3.0777153304418441,2.7390967641817392,2.7990726936590464,3.0505731187928573,null,null,0.63037969991964249,0.66104987899175249,0.6637021557747278,0.75923432127232748,0.68166760389605963,0.6780993334923473,0.59372221338987075,0.5945293156055913,0.59664376248912787,0.57802238564322994,0.50164974604225054]
[6245000,615000,646.74024268824496,null,107.95837160683742,0,8.5800012183601728E-5,0.25999955614612952,null,null,3.8831831094399938,3.9139345492657522,3.8299039323584649,4.2204989257934393,3.8722059130242945,3.802079710678302,3.3678732934909972,3.0053809386061245,2.6474931006098652,2.6522978880336554,2.8451116069073548,null,null,0.63348524092563496,0.66416232802447428,0.66685803734575111,0.76275692036499931,0.68514490590105692,0.68179483979199063,0.59737773696092977,0.59812508825159305,0.60004445537850393,0.58153374104572708,0.50524209864732439]
[6255000,445000,806.000152458,null,184.98921590190059,0,2.9221814318163028E-5,0.1103564375794502,null,null,5.0443471115712777,4.9699870109489979,4.70424083699442,5.1561508956907494,4.5632346615152617,4.3209484967081639,3.9017125110392161,3.7000726650217963,3.5272448421779923,4.0619073494057574,4.8183418889546195,null,null,0.65178483560670553,0.68264829653774173,0.68509784195268997,0.78333242972888228,0.703798170828006,0.70037107849150892,0.61436189853818945,0.6140481374547323,0.61561415521979446,0.59658001449468989,0.51911078769345154]
[6255000,455000,855.99871810827506,null,177.26536604762927,0,3.1823813186578882E-5,0.12763820924916661,null,null,5.4088866537274329,5.3015274997759718,4.9787329624144299,5.4498924688861159,4.7801784378718057,4.4838438235967599,4.0693077030989375,3.9181664083882959,3.8034369188301116,4.5044446539763419,5.4378241173615285,null,null,0.67852317525633976,0.70959732249037555,0.71205604485848495,0.81360475759696549,0.73240180838141622,0.72981206889103389,0.64236436524664409,0.64106644893428499,0.64158710023283472,0.62260722942765712,0.54449289599491335]
[6255000,465000,883.03676415681502,null,169.77929791349712,0,3.4692095510114302E-5,0.14353727280506373,null,null,5.6060210474673378,{"$f":"L$2+L$3*$C454","v":5.4808167831238404},5.1271718352209144,5.6087409894212881,4.8974965196764204,4.5719337776229034,4.1599392334536436,4.0361063652520279,3.9527950852022466,4.743758399551969,5.7728255079029376,null,null,0.69659215120913709,{"$f":"SQRT(Y$2+2*Y$3*$C454+Y$4*$C454^2+Y$5)","v":0.72782657148534724},0.73030758873984047,0.83410517488717972,0.75178914078269055,0.74978224361353341,0.66134890450636208,0.659430993167616,0.65924941557165206,0.64031952000379966,0.56174566789931757]
[6255000,475000,833.00637834474503,null,162.56386437335942,0,3.7840073470286655E-5,0.14769155720448582,null,null,5.2412495045115355,5.1490652948040037,4.8525050171126507,5.3148124727753769,4.6804146756378486,4.4089347806471793,3.9922373802115851,3.8178738223397781,3.6764272339763715,4.3009394547293374,5.152949027691391,null,null,0.66510418174575414,0.69606876813479412,0.69851801552950776,0.79840173775593626,0.71802909562228834,0.71501207029195613,0.62828636272177696,0.62747024797911122,0.62851638629965489,0.60950348727775328,0.53171458981105513]
[6255000,485000,834.00189483510098,null,{"$f":"(SQRT(($A456-E$1)^2+($B456-E$2)^2)/1000)","v":155.65670560563717},0,4.1272837808891078E-5,0.16128231180503738,null,null,5.2485078152427205,5.155666564651554,4.8579704026447041,5.3206611321562178,4.6847342216895029,4.4121781733727587,3.9955743514872584,3.8222162652707108,3.6819264670690983,4.3097507711854783,5.1652834770069012,null,null,0.66564648476239496,0.69661534450884788,0.69906481812691523,0.79901575065379982,0.71860937697809313,0.7156094303026157,0.62885462621550114,0.62801862029274425,0.62904350765628836,0.61003179181310696,0.53222990484282784]
[6255000,495000,827.15146857498598,null,149.10067068930309,0,{"$f":"IF($F$618=0,1/E457^2,F457)","v":4.4982211784349868E-5},{"$f":"G457/$G$618*C457","v":0.17433364995406037},null,null,5.1985613573802221,5.1102413881207314,4.8203615624766734,5.2804148778780426,4.6550102221468643,4.389859484617304,3.9726117226633528,3.7923347059240893,3.644084712408223,4.2491176483572008,5.0804066956440765,null,null,0.66198737324993562,0.69292764465363665,0.69537590145339234,0.79487345508016727,0.71469513065874934,0.71158039361915015,0.62502190441497296,0.62432088388179452,0.62548910780634337,0.60646977430475058,0.52875541648883451]
[6255000,505000,811.34593963908003,null,142.94407997535259,0,4.8940415533492132E-5,0.18604975022809089,null,null,5.0833232459085318,5.005434925746739,4.7335892086185494,5.1875573953795948,4.5864300320939684,4.3383650713441231,3.9196315896701961,3.7233909887056673,3.5567749705662783,4.1092229117454968,4.8845761921282014,null,null,0.65420450097231109,0.68508581446546901,0.6875343118874212,0.78606830645089343,0.70637983298675666,0.7030254819647056,0.61688547310042507,0.61647823676477786,0.61795033741191874,0.59891858148414723,0.52139071245586899]
[6255000,515000,781.03950840075197,null,137.24070096002862,0,5.3092618480160077E-5,0.19429540041953441,null,null,4.8623590557498817,4.8044729802053858,4.5672069011201284,5.0095071118544174,4.4549304269508632,4.2396267183696503,3.8180444321593203,3.5911943356440803,3.3893622444057541,3.8409806888550548,4.5090795090853169,null,null,0.64195514019631394,0.67274788354296278,0.67520880291214558,0.77222713517411068,0.69333629237426875,0.68962853404299118,0.60416046655363709,0.60424040360988085,0.6061816170700941,0.58715045630013374,0.5099302106510808]
[6255000,525000,742.97350342253401,null,132.04927110741656,0,5.7349281786269553E-5,0.199644192312806,null,null,4.584819813453695,4.5520573011948224,4.3582245337897119,4.7858693326073869,4.2897620313503753,4.115607674150616,3.690447183472334,3.4251504219290934,3.1790856329060779,3.5040584787928477,4.037441707405196,null,null,0.63180354595197197,0.66252280630208271,0.66502144245386019,0.76077928025198649,0.68262670446961504,0.67869161549315782,0.59383559336632952,0.59436595014243687,0.59666213211728958,0.57768797593727728,0.50078866370630815]
[6255000,535000,717.23099253267605,null,127.43237422256558,0,6.1580108639627666E-5,0.2069449677937984,null,null,4.3971311665557407,4.3813587114841743,4.2168981490043915,4.634632081129471,4.1780652765992814,4.0317385736714586,3.6041582869695299,3.3128615894275333,3.0368840027505026,3.2762115149067155,3.7184919974798563,null,null,0.62837597129063272,0.65906497693172073,0.66160265891742109,0.75692716941211102,0.67910704244236597,0.6751643750917059,0.59058149600469489,0.59130324847181293,0.59367984145802899,0.57478483471650788,0.4980753975890484]
[6255000,545000,678.39675793404399,null,123.45448554021841,0,6.5612449568630961E-5,0.2085572960216564,null,null,4.1139907620971146,4.1238489018606455,4.0036982010579019,4.4064809528625082,4.0095635326758172,3.9052166373491151,3.4739859325949149,3.1434666581082999,2.8223636908276593,2.9324897044742233,3.2373358308028051,null,null,0.62856687140428968,0.65923620963561769,0.66185221101506542,0.75717412904772907,0.67959774097358594,0.67587226288550861,0.59148843518897209,0.59231506635239695,0.59456102840468295,0.57584915008709281,0.49939202141440442]
[6255000,555000,667.67790914748696,null,120.17907471768953,0,6.9237645061521086E-5,0.21660309964589664,null,null,4.0358396355943267,4.0527722155569856,3.9448517212197034,4.3435077162414855,3.9630544477909462,3.8702946280025126,3.4380563514623761,3.0967110397013382,2.7631527701307181,2.8376171738644063,3.1045292943373637,null,null,0.6297566715724372,0.66042609529372642,0.66306757110405679,0.75852690999251449,0.68096234161379099,0.67734456569429891,0.59296966113709026,0.59378583873422741,0.59594282692108125,0.57729426957299179,0.50089817391836]
[6255000,565000,658.10004044804396,null,117.66482057097609,0,7.2228189073175113E-5,0.22271733204747224,null,null,3.9660073949066881,{"$f":"L$2+L$3*$C464","v":3.989261368210979},3.8922692220597614,4.2872377376322577,3.9214960755040629,3.8390899317797276,3.4059513355818432,3.0549323764343681,2.7102446234349951,2.7528434580056365,2.985859501151265,null,null,0.63123289239002456,{"$f":"SQRT(Y$2+2*Y$3*$C464+Y$4*$C464^2+Y$5)","v":0.66190454556079348},0.66457011298108737,0.76020253491605616,0.68262791114838051,0.67912333452014662,0.59473904792044829,0.59553161462715842,0.59759023003845524,0.57900251407011993,0.50265687665841108]
[6255000,575000,659.79105476042605,null,115.96124352558486,0,7.4365974294657346E-5,0.22989846267119762,null,null,3.978336580258266,4.0004744841163848,3.901552890634739,4.2971724467175028,3.928833386605489,3.8445992564094684,3.4116196155569485,3.0623085808649786,2.7195857864965935,2.7678106256845307,3.0068111684816783,null,null,0.63094403824717149,0.66161514534479471,0.66427637000879358,0.75987479380551348,0.68230336755578602,0.67877765705623949,0.59439623192037938,0.59519393893479511,0.59727120118893962,0.57867246281848417,0.50231822358650757]
[6255000,585000,640.42621344120005,null,115.10434396668094,0,7.5477337552013314E-5,0.22648583416422338,null,null,3.8371475221997891,3.8720662213285975,3.7952399117921884,4.1834040039670501,3.8448093401213672,3.7815086033914298,3.3467086674549025,2.9778391430305149,2.6126144030491893,2.5964124151680616,2.7668807845364682,null,null,0.63497046380156563,0.66565195586006876,0.66836513070501469,0.76444064119251454,0.68679579598295337,0.68354087710281808,0.59909515442019645,0.59980942861345132,0.601641051500307,0.58317523880180278,0.50691046944491513]
[6255000,595000,665.02774424393897,null,115.11303140826411,0,7.5465945614711639E-5,0.23515063401740949,null,null,4.0165172832825586,4.0351989720815586,3.9303023158992252,4.3279379974331409,3.9515553822744511,3.8616603907467528,3.4291729987056829,3.085151020392062,2.7485132592035191,2.8141605643031031,3.0716937511824041,null,null,0.63012623769521903,0.66079607042090704,0.66344408866219029,0.75894657958064449,0.68138118364818367,0.67779314276608238,0.59341729525262321,0.59422828062719857,0.59635981624541501,0.57772770247662164,0.50134597975985917]
[6255000,605000,672.31001555694297,null,115.987111352943,0,7.4332807304833639E-5,0.23415610635023618,null,null,4.0696123234256705,4.0834877131580889,3.9702819854076172,4.37072134139704,3.9831531575015759,3.8853860306845203,3.4535831721468728,3.1169162878593855,2.7887405259365532,2.8786159476945015,3.1619210927505241,null,null,0.62918242252904799,0.65985150408607396,0.66248177548081566,0.75787441933591237,0.68030772097118419,0.67664091828986095,0.59226465260229189,0.59308742770866296,0.59528562624842563,0.57660906905017295,0.50018714829956057]
[6255000,615000,640.57622277535995,null,117.70730648519658,0,7.2176057613816219E-5,0.21663037049501518,null,null,3.8382412402551491,3.8730609332234121,3.7960634630367265,4.1842853088052392,3.8454602306222867,3.7819973338021224,3.3472114987430066,2.9784934837461203,2.6134430546110887,2.5977401477847106,2.7687394001867096,null,null,0.63493325637013365,0.66561463185239955,0.66832738597792174,0.76439846489527674,0.68675450005889416,0.68349724523817712,0.59905228966887847,0.59976741474538664,0.60160120657304161,0.58313431063969812,0.50686893108545672]
[6265000,445000,779.93489421282004,null,191.36616733372699,0,2.7306729115335703E-5,9.9789168755217664E-2,null,null,4.8543053137056704,4.7971482835252095,4.561142569228382,5.0030175035003177,4.4501375059894261,4.2360278853453677,3.8143417654013723,3.5863760085563214,3.3832603556316179,3.8312037486776696,4.4953933392968404,null,null,0.6415771065338246,0.67236716805840935,0.67482883703314078,0.77180036953330111,0.69293508484397692,0.68921723296511217,0.60377050475430549,0.60386615359517093,0.6058214630409301,0.58679101820713431,0.50958096476714054]
[6265000,455000,849.84378967019802,null,183.91033141180515,0,2.9565671417180197E-5,0.11772866596738003,null,null,5.3640110704854136,5.2607141693030828,4.9449424052893871,5.4137322643124133,4.7534722033789896,4.4637910667455056,4.0486763829745041,3.8913186105414042,3.7694370941381741,4.4499673823709225,5.3615645540137526,null,null,0.67475028104603141,0.70579281233961544,0.70824813200211023,0.80932829531018113,0.72835810976291526,0.72564744295456785,0.63840333474883393,0.63723882071495797,0.63790703784256186,0.61891725969705558,0.54089548064124182]
[6265000,465000,847.94367143746399,null,176.7059987663124,0,3.2025610239996717E-5,0.12723886570463186,null,null,5.3501573084505498,5.2481144853018238,4.9345107561916777,5.402569069695101,4.7452275903671559,4.4576004815432579,4.0423071866583795,3.8830302948102182,3.7589408410205514,4.433149435892993,5.3380220891101784,null,null,0.67361186996682998,0.70464498711749446,0.70709938357515445,0.8080382360866597,0.72713835920692749,0.72439130128095286,0.63720851114960142,0.63608454921588187,0.63679733296626939,0.61780463942438735,0.53981059924861741]
[6265000,475000,819.77373677660603,null,169.7851878109513,0,3.468968859413445E-5,0.1332446479370813,null,null,5.144770314838234,5.0613196485656742,4.7798578149035675,5.2370707035625603,4.6229982438736936,4.3658228344181822,3.9478815656751829,3.760153039819556,3.6033301219539715,4.1838173442097393,4.9889965986621485,null,null,0.65823869386088685,0.68915026321954664,0.69159810170965708,0.7906314338311744,0.71068806787116356,0.70745700731511763,0.62109979373135882,0.62053906040388818,0.62185389735664176,0.60282781689633613,0.52520306745183298]
[6265000,485000,794.09941194773501,null,163.18397592901087,0,3.7553029571884198E-5,0.13972535620177723,null,null,4.9575788125109357,{"$f":"L$2+L$3*$C474","v":4.8910732006254305},4.6389057715930653,5.0862340451929429,4.5115973484412226,4.2821758841257207,3.8618212288488074,3.6481616349160202,3.4615051515992881,3.9565738951494023,4.6708917140324369,null,null,0.64679325653487596,{"$f":"SQRT(Y$2+2*Y$3*$C474+Y$4*$C474^2+Y$5)","v":0.67762050405343333},0.68007414134671529,0.77769117519504316,0.69847942717456846,0.69490615030521574,0.60916915017981699,0.60905213315787698,0.61081034427875547,0.59177458135296679,0.5144288062530582]
[6265000,495000,788.58088674548901,null,156.94269654877223,0,4.0599228371065577E-5,0.15000971911741556,null,null,4.9173432452613595,4.8544798600093371,4.6086090682327345,5.0538127096297476,4.4876524675886769,4.2641965290168029,3.8433231323708794,3.6240898279838234,3.4310208183820818,3.9077294285843225,4.6025171867766081,null,null,0.64466636484747786,0.6754783904829349,0.67793474888613525,0.77528862761797912,0.69621669394371244,0.69258321444851623,0.60696361422121581,0.60693230728185954,0.60877148760950106,0.58973681761280794,0.51244526115003119]
[6265000,505000,778.471166770384,null,151.10595620292403,0,4.3796240618297814E-5,0.15974774508280801,null,null,4.8436332769228692,4.7874423068544161,4.5531067055694088,4.9944181047760052,4.4437863926166958,4.2312590613379113,3.8094353510143275,3.5799912294524154,3.3751747252396016,3.8182482970846685,4.4772577562850584,null,null,0.64108372856316764,0.67187029118520902,0.67433298551086418,0.77124343219490288,0.6924116340400619,0.68868071978830514,0.60326193311169962,0.6033781690814557,0.60535181917092618,0.58632240424898285,0.50912576153404032]
[6265000,515000,745.223643434976,null,145.72237302487218,0,4.7092042810434291E-5,0.16443320700016481,null,null,4.6012255842844096,4.5669779796173255,4.3705778024580182,4.7990889051804837,4.2995253888643612,4.1229386303111522,3.697989652794039,3.4349655326633655,3.1915154063348079,3.5239744680429723,4.0653209421593521,null,null,0.63223647611840939,0.66295907579371849,0.66545480946550128,0.76126674273410289,0.68307869597860171,0.67914997097692908,0.59426473035670746,0.5947738811378821,0.59705678597401046,0.57807731570872034,0.50116050956932612]
[6265000,525000,733.97294337275105,null,140.84392070657503,0,5.0410823002055259E-5,0.17336411631991216,null,null,4.5191967301307274,4.4923745875047123,4.3088114591164031,4.7329910423149117,4.2507086012943667,4.0862838495084226,3.6602773061854617,3.3858899789919401,3.1293665391910772,3.4243945217922187,3.9259247683883851,null,null,0.63028529881110285,0.66099234804086637,0.66350342266963336,0.75907086667110835,0.68104988408198597,0.67709845731401996,0.59235069668544471,0.59295876395711677,0.59529807678586155,0.57634773681426288,0.49951688932433297]
[6265000,535000,713.64440572495596,null,136.52475965919149,0,5.3650918154987853E-5,0.17939667777626328,null,null,4.370981362140653,4.3575760543621831,4.197207787430008,4.6135608836341158,4.1625030764405837,4.0200534738519069,3.5921360479900519,3.297216897772258,3.0170716972246567,3.2444666350715847,3.6740541869322039,null,null,0.6281225598031801,0.65880846166509144,0.66135241987354887,0.7566437885235392,0.67885923264298864,0.67492510305540521,0.59037138274337531,0.59111218177083602,0.59348943538054311,0.57460815860100811,0.49792377555792]
[6265000,545000,682.94704107032203,null,132.81946393507241,0,5.6686096771103249E-5,0.18139234419515793,null,null,4.1471668764437171,4.1540218293373048,4.0286792554760682,4.433213866288142,4.0293072112041273,3.9200414598071092,3.4892384816677193,3.1633149931487448,2.8474994548724593,2.9727642605134195,3.2937138388612892,null,null,0.62821009846375353,0.65888014186732513,0.66148581686374586,0.75676743214644282,0.6791787099084915,0.67541366958578641,0.59101994240328048,0.59184587139240119,0.59412276328412916,0.5753856013822406,0.49890127554383945]
[6265000,555000,678.64677349098201,null,129.78062259058555,0,5.937181062054821E-5,0.1887902032114441,null,null,4.1158136255227493,4.1255067550187015,4.0050707864654909,4.4079497942595189,4.0106483501773713,3.9060311880336194,3.4748239847417715,3.144557225967664,2.823744776764185,2.9347025921686818,3.2404335235532669,null,null,0.62854496969762497,0.65921433536189067,0.66182976172235697,0.75714918592402924,0.67957223302547942,0.67584448530297714,0.59146020767999341,0.59228688000037333,0.59453464792194421,0.57582135522419753,0.49936275108881706]
[6265000,565000,684.07892968264298,null,127.45591394674474,0,6.1557364384509457E-5,0.1973065953789665,null,null,4.1554194763161494,4.1615273827256054,4.0348933239577098,4.4398637118855273,4.0342184758929882,3.9237291529060512,3.4930325722962188,3.1682522912756887,2.85375200756692,2.9827826066210728,3.3077379387679455,null,null,0.62813511159580804,0.65880539768490676,0.66140854990820497,0.75668181198561457,0.67908934734006621,0.67531504100929363,0.59091829054038314,0.59174356742425782,0.59402751499958506,0.57528421560924381,0.49879301425518358]
[6265000,575000,663.636748599881,null,125.88490775307419,0,6.3103386695660582E-5,0.19621782918931788,null,null,4.006375534041732,4.0259752799658104,3.9226657498133468,4.3197658980243006,3.9455198521748835,3.8571285269384123,3.424510381306801,3.0790834973926811,2.7408293992657429,2.8018488618575468,3.054459315152525,null,null,0.63033213817581391,0.66100224859185563,0.6636537388610344,0.75918033158077447,0.68161390378551623,0.67804195786767696,0.59366511117102028,0.59447295977053471,0.59659059300651818,0.57796723124746907,0.50159293006481553]
[6265000,585000,622.72511200996303,null,125.09600313359336,0,6.3901805928937366E-5,0.18645107133819097,null,null,3.7080887916646397,{"$f":"L$2+L$3*$C484","v":3.754690217738065},3.6980608649346971,4.079410033058533,3.7680042610112299,3.7238384149284594,3.2873745754573962,2.9006269385874588,2.514833518743036,2.4397399664001824,2.5475641378034419,null,null,0.64001112070403043,{"$f":"SQRT(Y$2+2*Y$3*$C484+Y$4*$C484^2+Y$5)","v":0.67071067826772401},0.67347541026062396,0.7701536363580459,0.69237034844045076,0.68941614536391471,0.6048495478071706,0.60544162954073288,0.60698924920920949,0.58865639798238034,0.51245284736748087]
[6265000,595000,632.07114810205996,null,125.10399673871335,0,6.3893640090958989E-5,0.18922519853180225,null,null,3.7762307408121192,3.8166637830647598,3.7493706030803096,4.1343179950996021,3.8085567116148384,3.7542878005165115,3.3187024884381051,2.9413943480211859,2.5664610221157793,2.5224617318513323,2.6633615249845226,null,null,0.63718961113652495,0.66787854388492107,0.67061558683354572,0.76695592126875489,0.68925429259894744,0.686135180825163,0.60163995653912561,0.60230189900243469,0.60400633903394374,0.58560205855038483,0.50936895123315162]
[6265000,605000,650.36319539515,null,125.90873678978755,0,6.3079503513843735E-5,0.19222045210910396,null,null,3.9095980576260381,3.9379583486652399,3.8497939427193737,4.2417837729465058,3.8879259048195562,3.8138832905973992,3.3800174309645428,3.0211842583136446,2.6675062913628089,2.6843646424424721,2.8899999909459089,null,null,0.6327081036486818,0.66338311737031419,0.66606903258125405,0.76187575142145603,0.68427867882400994,0.68087698464874058,0.59647293561706982,0.59723671620307039,0.59920311622761935,0.58066729967829389,0.50435918736582053]
[6265000,615000,650.84049782203294,null,127.49513716216786,0,6.1519494605047936E-5,0.18760426152145354,null,null,3.9130780696204415,3.9411233410579003,3.8524143330429612,4.2445879247044438,3.8899969200498008,3.8154383419041835,3.3816173486994545,3.0232662514997077,2.6701429099689102,2.6885892462228131,2.8959137680149878,null,null,0.63260981640717362,0.66328458110182675,0.66596921852502389,0.76176429588228811,0.68416898067075882,0.68076064778747414,0.59635813686652994,0.59712394228986598,0.59909635666815608,0.58055727024771986,0.50424693383965047]
[6275000,445000,787.95357498444605,null,198.04294988713937,0,2.5496538717386426E-5,9.4131987582230958E-2,null,null,4.912769515211596,4.8503201557218611,4.605165126664609,5.0501272530336205,4.484930561857511,4.262152747299325,3.8412203833478626,3.6213534940821539,3.4275555482140798,3.9021770921873316,4.594744794057287,null,null,0.64443220720543437,0.675242562939253,0.67769926366214617,0.77502416776403049,0.69596773687737501,0.69232772444944168,0.60672111972827325,0.6066993278558761,0.60854737774333734,0.58951290958556113,0.51222740409290923]
[6275000,455000,836.35204107031996,null,190.84813334167038,0,2.745517188173081E-5,0.10758919543631813,null,null,5.2656427314437027,5.1712503843372915,4.8708727054760566,5.3344682412881292,4.6949315062041181,4.4198349498071021,4.0034520416677122,3.8324676031487357,3.694908674872448,4.3305519155134018,5.1944017888612644,null,null,0.66694084725430014,0.69791995833866216,0.70037003248414464,0.8004814063163922,0.71999460439574781,0.71703550356828361,0.63021124091768077,0.62932791371939834,0.63030207448786701,0.61129325007982949,0.53346032447408054]
[6275000,465000,825.57864343497397,null,183.9157687638556,0,2.9563923262698222E-5,0.11436045851727275,null,null,5.1870938892843945,5.099811984617312,4.8117267524580072,5.2711745301804713,4.6481857338643522,4.3847352203111454,3.9673396127940324,3.7854740426633566,3.6353964263347964,4.2351965730429537,5.0609193921593265,null,null,0.66117139138345105,0.69210536539025169,0.69455345527789947,0.79394994017658871,0.71382263135220403,0.71068245234680683,0.62416775094427057,0.6234970878558761,0.62469725181287405,0.60567634852150787,0.52798148813184365]
[6275000,475000,807.56388612321302,null,177.27664820838643,0,3.1819762681845963E-5,0.12040075140573034,null,null,5.0557482937243456,4.9803561288830256,4.7128257348164393,5.1653378309738764,4.5700197018886213,4.3260431409894284,3.9069541462850097,3.7068936712694556,3.5358829069446291,4.0757479560765582,4.8377165490666085,null,null,0.65248134819250336,0.68334992655076021,0.68579911475195521,0.78411988288602297,0.70454111308784129,0.70113485274658505,0.61508795697232332,0.61474717217415276,0.61628619491496195,0.59725264999853989,0.51976648484923427]
[6275000,485000,780.09854075918201,null,170.96493792587998,0,3.4212585373230232E-5,0.12505202577036864,null,null,4.8554984606751956,4.7982334237741355,4.5620409887679099,5.003978926960194,4.4508475683540905,4.2365610457934153,3.8148903086247783,3.5870898347915521,3.3841643391537217,3.8326521842595191,4.4974209200062658,null,null,0.6416328023071971,0.67242325888606025,0.67488481549509061,0.77186324327982836,0.69299418779323119,0.68927781846960667,0.60382794262649286,0.60392127330169731,0.60587450827350664,0.58684395405931233,0.5096323945832586]
[6275000,495000,775.82100186683601,null,165.01821111622803,0,3.6722839145518282E-5,0.13349135891792319,null,null,4.8243109246111011,4.7698690633789891,4.5385573002489297,4.9788483859676615,4.4322873271002017,4.2226248240821516,3.8005519982576343,3.5684312101431388,3.3605352143124025,3.7947916875233654,4.4444222131300988,null,null,0.64021241032922427,0.67099279494523245,0.67345743857675744,0.7702599849298053,0.69148771239279028,0.6877340590164025,0.60236489270609939,0.60251772348611154,0.6045235947999944,0.58549628264925302,0.50832365196648166]
[6275000,505000,762.68382078407399,null,159.47730246025608,0,3.9318979546660024E-5,0.1405083530614151,null,null,{"$f":"K$2+K$3*$C494","v":4.728527737336683},{"$f":"L$2+L$3*$C494","v":4.6827564156191945},4.4664341761045661,4.9016674471064343,4.375285098382097,4.1798238881145133,3.7565161672682157,3.511126826260131,3.2879654260112248,3.6785144977598385,4.2816525395146767,null,null,{"$f":"SQRT(X$2+2*X$3*$C494+X$4*$C494^2+X$5)","v":0.63631474882789318},{"$f":"SQRT(Y$2+2*Y$3*$C494+Y$4*$C494^2+Y$5)","v":0.6670673776298478},0.66954344358904228,0.76586281323860839,0.68736461875807153,0.68351584094349294,0.59837436790646636,0.59869538536391009,0.60084190928679804,0.58182969675280471,0.504771377757113]
[6275000,515000,726.37247044182095,null,154.38591256976787,0,4.1955090432099655E-5,0.14279053123690816,null,null,4.4637816819913159,4.4419758514997145,4.2670848627255973,4.6883382638456981,4.2177301492470614,4.0615215086994532,3.6348005209209839,3.352736716067223,3.0873815267206193,3.3571227358805569,3.8317549087741609,null,null,0.62927051593392147,0.65996863807137063,0.66249123802943444,0.75793041448129006,0.68000771007724259,0.6760539229433622,0.59138688878316503,0.59205159296000209,0.59441479191006219,0.57548778493475183,0.49871297779784945]
[6275000,525000,713.58076540137495,null,149.78988617393367,0,4.4569218447556057E-5,0.14901621404519011,null,null,4.3705173605414247,4.3571540553765171,4.1968584020535484,4.6131869967330772,4.1622269410765655,4.0198461336776798,3.5919227256254089,3.2969392986807979,3.0167201480771952,3.2439033545675695,3.6732656833230353,null,null,0.62811856052270076,0.65880440969296772,0.66134848107621957,0.75663932202405981,0.67885537348204039,0.67492141664971972,0.59036819407927354,0.59110931400301203,0.59348655591334765,0.57460552872569737,0.49792158722942442]
[6275000,535000,709.36232109521495,null,145.7360971070654,0,4.708317383908196E-5,0.15649094707611863,null,null,4.3397606831052116,4.3291815511823701,4.1736991428127297,4.5884036364343874,4.1439231112321373,4.0061024421282108,3.5777825003111605,3.278538444617328,2.9934174617299676,3.2065659040137469,3.6209991583697123,null,null,0.62789216138742976,0.65857470217586966,0.66112641531356897,0.75638697434538626,0.67864142784134018,0.67472057542791519,0.59019881657242113,0.59095987670129957,0.59333452080542526,0.57447050096521002,0.49781559241201478]
[6275000,545000,704.18927193528805,null,142.2709035607773,0,4.9404649273924586E-5,0.16300938045368499,null,null,4.3020439816801845,4.2948790622028952,4.1452991029247315,4.5580119726198172,4.1214772509272146,3.9892486479651685,3.5604424395270851,3.2559736041817269,2.9648415381705315,3.1607792458992341,3.5569050792782191,null,null,0.62771867872565412,0.6583976561645104,0.66095911377775551,0.75619517959187943,0.6784917253904913,0.67459138689265141,0.59010409222104054,0.59088601614618241,0.59325257239371265,0.57441064887979032,0.49779070347222626]
[6275000,555000,702.74372744244499,null,139.43819419370004,0,5.1432365667661527E-5,0.16935142295518787,null,null,4.291504516782866,4.2852936566708522,4.1373630636590226,4.5495193987243638,4.115205033372769,3.9845390640074863,3.5555969743870754,3.2496681391039455,2.9568563503920662,3.1479847315930805,3.5389947830118933,null,null,0.62769072433339967,0.65836880295733202,0.66093305644744849,0.7561647688508718,0.67847209015959675,0.67457835829328572,0.59009988124935453,0.59088692664191345,0.59325025764279271,0.57441475158932143,0.49780444800058177]
[6275000,565000,709.08957685128098,null,137.27712846647108,{"$f":"IF(E500=0,1,0)","v":0},5.3064445176733773E-5,0.17630316186527636,null,null,4.3377721048226894,4.3273729841008439,4.1722017769135329,4.5868012640012754,4.142739673957708,4.0052138413814733,3.5768682616054939,3.2773487342252881,2.9919108225264761,3.2041518447106876,3.6176198571873703,null,null,0.62788014860140995,0.65856248795664285,0.66111470462574351,0.75637362441133515,0.67863043484757202,0.67471054179271284,0.59019071344749485,0.5909529724510928,0.59332732499496188,0.57446443611037357,0.49781138866264324]
[6275000,575000,690.37023024269297,null,135.81977028400541,0,5.4209327148410496E-5,0.17535229097034113,null,null,4.2012893486994738,4.2032449967392971,4.0694325640323843,4.4768251026758206,4.0615164290230448,3.9442262101306937,3.5141210117735069,3.1956949443186269,2.8885051518606359,3.0384669078780755,3.3856871527069652,null,null,0.6278183611138084,0.6584904790423165,0.66107994658174751,0.75631893186166177,0.67870078514120047,0.67487917514801821,0.59046157178828584,0.59127975223468532,0.59359826174508645,0.57482196996410351,0.49829179414569413]
[6275000,585000,659.78650902302695,null,135.08889665697916,0,5.4797493124284568E-5,0.16940237456714716,null,null,3.9783034372868888,4.0004443413316917,3.9015279345364182,4.2971457405102829,3.9288136626509136,3.8445844463970218,3.4116043782451859,3.0622887523584437,2.7195606758432009,2.7677703913628111,3.006754846795304,null,null,0.630944798547455,0.6616159070240919,0.66427714331131371,0.75987565652669642,0.68230422250094103,0.67877856815709114,0.59439713602552047,0.59519482977837401,0.59727204263737432,0.57867333373879415,0.50231911781342509]
[6285000,455000,794.09941194773398,null,198.04799923250928,0,2.5495238636708405E-5,9.4861355810038114E-2,null,null,4.9575788125109277,4.8910732006254234,4.6389057715930599,5.0862340451929366,4.5115973484412182,4.2821758841257171,3.8618212288488039,3.6481616349160157,3.4615051515992827,3.9565738951493934,4.6708917140324244,null,null,0.64679325653487529,0.67762050405343288,0.68007414134671473,0.77769117519504294,0.69847942717456835,0.69490615030521574,0.60916915017981665,0.60905213315787687,0.61081034427875491,0.59177458135296634,0.51442880625305776]
[6285000,465000,810.95955196017496,null,191.3766182165418,0,2.7303746811263667E-5,0.10374730245306475,null,null,5.0805060933416355,{"$f":"L$2+L$3*$C504","v":5.0028727890479203},4.7314679402613606,5.1852873677660272,4.5847534959551988,4.33710622028625,3.9183364181705063,3.7217055656502835,3.5546405650280071,4.1058029943995082,4.8797888487865668,null,null,0.65402596372024646,{"$f":"SQRT(Y$2+2*Y$3*$C504+Y$4*$C504^2+Y$5)","v":0.68490595265845189},0.68735450941816068,0.78586641002919433,0.70618927727660408,0.70282952471044391,0.61669915183300172,0.61629877463946514,0.61777781740858084,0.59874585650323975,0.52122229680717058]
[6285000,475000,834.22009023024896,null,185.00543235267446,0,2.9216691729718714E-5,0.11420024999929858,null,null,5.2500986778687446,5.1571134183167802,4.8591682953640669,5.3219430301027124,4.6856809715090506,4.4128890539701509,3.9963057424517947,3.8231680335843463,3.6831317784318958,4.3116820186279332,5.167986917952784,null,null,0.66576582248369043,0.6967356243279943,0.69918514976948065,0.7991508732195598,0.71873707947903809,0.7157408939076304,0.62897968661222803,0.62813930867745338,0.62915951940413162,0.61014806623263074,0.53234331973352722]
[6285000,485000,806.12743310517101,null,178.96650524609348,0,3.1221695581599302E-5,0.11792762644426838,null,null,5.045275114769801,4.9708310089203884,4.7049396077473888,5.1568986694928789,4.5637869322433371,4.3213631770566474,3.9021391557685332,3.700627863204756,3.527947940472965,4.0630339104138677,4.8199188961730686,null,null,0.65184117850000367,0.68270505276416049,0.68515456753702619,0.78339612655070001,0.70385826320111233,0.70043285260671961,0.61442061983093743,0.61410466910896022,0.61566850447275323,0.59663440904277565,0.51916381006775936]
[6285000,495000,800.35434660858903,null,173.29457579508946,0,3.3298913356560426E-5,0.12487276869507016,null,null,5.0031835411232217,4.9325496723615538,4.6732453628811541,5.1229817863254601,4.5387375099346681,4.3025544612507831,3.8827877698319906,3.6754456599066656,3.4960574106658462,4.0119363218326214,4.748390354480418,null,null,0.64934832297962242,0.68019401141227775,0.68264519536322188,0.78057833371176844,0.70120065466943438,0.6977014634822859,0.61182466781119094,0.61160623355578314,0.61326637871359591,0.59423081261647637,0.5168213201109666]
[6285000,505000,762.06105476042899,null,168.02681333644341,0,3.5419531959220787E-5,0.12647012777324859,null,null,4.7239871502582869,4.6786268541164047,4.4630151906347555,4.89800869671752,4.3725829166055012,4.1777949164094776,3.7544286555569579,3.5084103208649915,3.2845252664966096,3.6730023956845566,4.2739364684817156,null,null,0.63614753293405768,0.66689896012661121,0.66937563993654259,0.76567425380077248,0.68718818424862615,0.68333563386668805,0.59820420524441476,0.59853263830425685,0.60068502984441041,0.58167373169277237,0.50462065135660816]
[6285000,515000,731.35459863099402,null,163.20235905157742,0,3.7544570097777334E-5,0.12865613607450688,null,null,4.5001063786185771,4.4750123435221214,4.2944367464841573,4.7176082669570896,4.2393476034598834,4.0777532823397786,3.6515006146110922,3.374468759228396,3.1149028028376109,3.4012195524829281,3.8934834770380151,null,null,0.62990799835891953,0.66061183161459613,0.66312677177196844,0.75864665940529086,0.68066086302065854,0.67670743670911349,0.59198858998298221,0.59261710471696816,0.5949659480636168,0.57602331160929032,0.49921194754907749]
[6285000,525000,705.66209085252694,null,158.86160643780485,0,3.9624345356284286E-5,0.13101296008637264,null,null,4.3127823044057738,4.304645324443106,4.1533848787803729,4.5666647837585952,4.1278678122091144,3.9940470919975333,3.56537932853767,3.2623980402987227,2.9729773898693588,3.1738151661357152,3.5751533056628082,null,null,0.62775638219755081,0.65843631892170795,0.66099496055846119,0.75623658115408743,0.67852170454689087,0.67461502735182055,0.5901183831621164,0.59089477036091997,0.59326417917150975,0.57441582600914309,0.49778599885579089]
[6285000,535000,710.51239265713002,null,155.04518696173704,0,4.1599050876055219E-5,0.13848746030242576,null,null,4.3481458548631347,4.3368076757094292,4.1800130356876437,4.5951603068606381,4.1489132717392874,4.0098493752769295,3.5816375401866996,3.2835550567704015,2.9997704570379864,3.2167451874082573,3.6352485450218408,null,null,0.62794632287704621,0.6586297296777377,0.6611793321882109,0.75644722911590068,0.67869157583736517,0.67476682784198938,0.59023678996758544,0.5909926740189988,0.59336838241149048,0.57449963552652195,0.49783685783540127]
[6285000,545000,728.14076228998795,null,151.79265463124361,0,4.3400875222049726E-5,0.14807072522033529,null,null,4.4766742978563014,4.4537013947449102,4.2767927849720335,4.6987269784536787,4.2254027675762575,4.0672826035407805,3.6407278351960395,3.3604500051089277,3.097149570889894,3.372773887028683,3.8536640447729509,null,null,0.62948468894002274,0.66018477734270331,0.66270461308612338,0.7581709671650233,0.68022644934450749,0.67627227269387846,0.59158732946158232,0.59223959832575612,0.59459827030028622,0.57566556997529594,0.49887786420124519]
[6285000,555000,744.37813627878597,null,149.14090652802136,0,4.4957944091199874E-5,0.15680338121521095,null,null,4.5950609916086282,4.5613714216646297,4.3659359681705352,4.7941215506378674,4.2958567333136521,4.1201839679962848,3.6951555128064903,3.4312774304480644,3.1868448248040138,3.5164908842035345,4.0548451084941588,null,null,0.63207130317247084,0.66279263437553615,0.66528944890679687,0.76108075133412667,0.68290615365754659,0.67897493086435001,0.59410077057008881,0.59461797240504355,0.59690598263182049,0.57792847936451675,0.50101826509301006]
[6285000,565000,708.29407280647899,null,147.12243200817474,0,4.6200024855613375E-5,0.15332436986985029,null,null,4.3319720848320378,{"$f":"L$2+L$3*$C514","v":4.3220979967797621},4.1678344597075698,4.5821276777380637,4.1392879819073123,4.0026220892035083,3.5742017320473174,3.2738787455818614,2.9875164581829901,3.1971108384101452,3.6077635620722743,null,null,0.62784693317391937,{"$f":"SQRT(Y$2+2*Y$3*$C514+Y$4*$C514^2+Y$5)","v":0.65852869364746847},0.66108238548025355,0.75633674526088968,0.67860034264545521,0.67468332545830345,0.59016905571020217,0.59093474864632556,0.59330816505090589,0.57444859648286017,0.49780096607388452]
[6285000,575000,679.05588985687803,null,145.76354139495928,0,4.7065445914507485E-5,0.14974870312608521,null,null,4.1187964929464975,4.1282196056409584,4.0073168353142599,4.4103533529091585,4.0124235060889939,3.9073640891537087,3.4761953428002554,3.1463417915557019,2.8260047355693945,2.9383236811232267,3.2455024753267194,null,null,0.62850970682468865,0.65917912022940894,0.66179360755716954,0.75710902099594435,0.67953111549821743,0.67579967782988104,0.591414640338632,0.59224136002175265,0.59449205635501368,0.57577645549198675,0.49931543213916246]
[6285000,585000,665.54595830740902,null,145.08276948004541,0,4.7508172593390378E-5,0.14815003136376365,null,null,4.0202955820193189,4.0386352495364291,3.9331473111076756,4.3309825050560278,3.9538039130958476,3.8633487321655391,3.4309100522464346,3.0874114701369182,2.7513758736901277,2.8187472769788773,3.078114423428798,null,null,0.6300516276867838,0.66072136809132453,0.66336809952065101,0.75886186690245239,0.68129675015808877,0.67770279885187301,0.59332723470785831,0.59413931631654837,0.59627593580786464,0.57764058272618224,0.50125607334725431]
[6285000,655000,628.82094586185599,null,158.94341760513393,0,3.9583565062120471E-5,0.11662650934625304,null,null,3.7525335162787918,3.795111692009967,3.7315269927815895,4.1152230569384036,3.7944540840945935,3.743698641617927,3.3078078105289412,2.927216965849416,2.5485069049408926,2.4936941918232867,2.6230915192283959,null,null,0.63813042120709207,0.66882276560331166,0.67156932102555844,0.76802219249035153,0.6902943460818175,0.68723104970237736,0.6027129384877723,0.60335192745580113,0.60500355014332663,0.5866238141628719,0.51040172306739351]
[6285000,665000,628.23909147480197,null,163.29424362175172,0,3.7502329832240826E-5,0.11039224799577617,null,null,3.748291215942781,3.791253415569412,3.7283326121966631,4.1118046624144613,3.7919294179091656,3.7418029600249048,3.3058574346235359,2.9246789170130865,2.5452927413068061,2.4885441986434715,2.615882343372796,null,null,0.63830340491311943,0.668996391525432,0.67174466311542369,0.76821824139071104,0.69048545649921744,0.68743232607712579,0.60290990093049424,0.60354462897067607,0.60518660148684544,0.58681129362386675,0.51059109359991972]
[6295000,455000,789.22183571873495,null,205.48238367315091,0,2.3683768637053589E-5,8.7580067222772659E-2,null,null,4.9220164042252961,4.8587299926509315,4.6121278780958548,5.0575782848475672,4.4904335451835911,4.2662847407716384,3.8454715933291999,3.6268856474051221,3.4345614205102923,3.9134024679465229,4.6104585445551267,null,null,0.64490722292479208,0.6757209673613761,0.67817698295819129,0.77556066468783114,0.69647280889134744,0.69284607017123179,0.60721311838078651,0.60717204110839473,0.609002088111818,0.58996722844808525,0.51266946630917454]
[6295000,465000,783.45784069695503,null,{"$f":"(SQRT(($A520-E$1)^2+($B520-E$2)^2)/1000)","v":199.06031749196021},0,2.5236586691082225E-5,9.2640655256532159E-2,null,null,4.8799911165214986,4.820508941661509,4.5804835454262829,5.0237148140946104,4.4654235707840879,4.2475056449906798,3.826150682016193,3.601743101120118,3.4027211120099801,3.8623853480087487,4.5390426462352726,null,null,0.64279984661643741,0.67359858689802266,0.67605793784249812,0.77318082900677576,0.6942331692795447,0.69054821382456089,0.60503266652997967,0.60507768228820802,0.60698727354343707,0.58795472753207134,0.51071194773116069]
[6295000,475000,818.35092097075699,null,192.94302267768069,0,{"$f":"IF($F$618=0,1/E521^2,F521)","v":2.686221643908549E-5},{"$f":"G521/$G$618*C521","v":0.10299989722050898},null,null,5.1343965647977887,5.0518849569570889,4.7720465561294558,5.2287116607031967,4.6168246460921143,4.361187300522726,3.9431122870939772,3.7539467172744421,3.5954704874424617,4.1712240015121695,4.971367910827678,null,null,0.65753894397971557,0.68844521942028991,0.69089308398515203,0.78983978739204619,0.70994046404348432,0.70668786234901382,0.62036826500966336,0.6198339599554521,0.6211761219907308,0.6021489261013947,0.52454093010339897]
[6295000,485000,792.32202862477004,null,187.16038576579177,0,2.8547766551209989E-5,0.10598129918400481,null,null,4.9446199107031976,4.8792873718108503,4.6291479371499875,5.0757919181705233,4.5038852822028774,4.276385169259501,3.8558634399502294,3.640408688861247,3.4516868861232299,3.9408422753578396,4.6488699346609001,null,null,0.64609513775901706,0.67691737739921376,0.67937183415782143,0.77690249557649937,0.69773645182066668,0.69414325213222894,0.60844466847151057,0.60835564705435941,0.61014051028479366,0.59110496698199111,0.51377685176896382]
[6295000,495000,768.81602053516497,null,181.74435341985179,0,3.0274581370657458E-5,0.10905760171090159,null,null,4.7732376057218877,4.7234190321686791,4.5000999527380561,4.9376941206440934,4.4018927131020806,4.1998025949035673,3.7770713008338728,3.5378754815743898,3.3218396974362512,3.732790597756745,4.3576304944306932,null,null,0.63804639054625445,0.66881139418267321,0.67128176488975777,0.76781592581602731,0.68919414582157568,0.68538609643224191,0.60014210848534599,0.60038739039889688,0.60247224645575748,0.58345200087702032,0.50634125621423354]
[6295000,505000,724.740550715626,null,176.72863378637882,0,3.2017407223959525E-5,0.10872366736677849,null,null,4.4518833552676291,{"$f":"L$2+L$3*$C524","v":4.4311545917953161},4.2581256234287865,4.6787507354543028,4.2106492495551011,4.0562047142315096,3.6293303259987786,3.3456182822215608,3.0783668021531185,3.3426786143840053,3.8115354233666059,null,null,0.62908467681953051,{"$f":"SQRT(Y$2+2*Y$3*$C524+Y$4*$C524^2+Y$5)","v":0.65978104315981734},0.66230623843735625,0.75772176901790678,0.67981862934852821,0.67586570775082366,0.5912147324501873,0.59189051176395335,0.59425733268509973,0.57533572275184597,0.49857274581430877]
[6295000,515000,733.53200684505703,null,172.14822101898119,0,3.3743872534546132E-5,0.11597633014776806,null,null,4.51598186190731,4.4894507373895731,4.3063907175793634,4.7304005402147098,4.2487953777007021,4.0848472783011962,3.6587992869446309,3.383966613858139,3.1269308058120955,3.4204917925855991,3.9204615648102559,null,null,0.63021972411984051,0.66092622131488776,0.66343793915401239,0.75899712692782639,0.68098216757333141,0.67703031692139093,0.5922875067817075,0.59289908605467811,0.59524009942215117,0.57629103217221522,0.49946347904875421]
[6295000,525000,740.90064716864197,null,168.03871577704942,0,3.5414514497108583E-5,0.12294097082444992,null,null,4.5697066185065678,4.5383121913752644,4.3468445529558446,4.773691302115771,4.2807679080647372,4.1088543084754354,3.6834989693092881,3.4161086229496167,3.1676351749595786,3.4857116280896498,4.0117590184194745,null,null,0.63142357920916192,0.66213986600612185,0.66464124954269999,0.76035155005797839,0.68223074043460619,0.67829059353078625,0.59346072450849807,0.59400999041891911,0.59631752352042022,0.57734848824457707,0.50046515461047825]
[6295000,535000,730.85002177971796,null,164.43542805612176,0,3.6983602580124051E-5,0.12664640011503814,null,null,4.4964275087959233,4.4716664944213091,4.2916666195706519,4.7146438779558428,4.2371582445021962,4.0761093709583216,3.6498092730056149,3.3722677950031299,3.1121155203111619,3.3967535427722835,3.8872317698507048,null,null,0.62983863342699797,0.66054186403007054,0.66305756181527153,0.75856869151764661,0.68058951528076284,0.67663584679001909,0.59192243861449956,0.59255478097307523,0.59490530391745955,0.5759641923632961,0.49915656123919666]
[6295000,545000,760.77461107654597,null,161.37227147189816,0,3.8400968318817136E-5,0.13688427438719694,null,null,4.714607689359096,4.6700964460485759,4.4559526148102373,4.8904508400747071,4.367001037461133,4.1736036828873866,3.750116496328582,3.5027988535158938,3.2774189515868399,3.661616082638508,4.2579974312384037,null,null,0.6358071803235511,0.66655615697256065,0.66903412545968954,0.76529048347507145,0.6868292115411444,0.68296908176769078,0.59785818851165673,0.598201777403777,0.60036605737781679,0.58135670628619929,0.50431439936697731]
[6295000,555000,784.38971686372395,null,158.88048967698961,0,3.9614927062977035E-5,0.14559488709908144,null,null,4.8867854256534109,4.8266882125233534,4.5855995455818448,5.0291895865743781,4.4694669814716983,4.2505416975420127,3.8292743309272028,3.6058079449595639,3.4078687959552112,3.8706333839608202,4.5505885919415396,null,null,0.64313158708920493,0.6739326847349314,0.67639145795962419,0.77355540778729237,0.69458553823285174,0.69090962683767132,0.60537550394660844,0.60540687257055847,0.60730400076317315,0.58827098707803738,0.51101944158447077]
[6295000,565000,724.00414125700399,null,156.98729247935961,0,4.0576165317035783E-5,0.13764721329457694,null,null,4.4465141939048154,4.4262714606751929,4.2540827355009521,4.6744243298848982,4.2074539689141401,4.0538054922153188,3.6268618814934772,3.3424060641630517,3.0742988763036903,3.3361606542657416,3.8024113101742794,null,null,0.62900453317243044,0.6597001256012911,0.6622265059070338,0.75763181776878208,0.67973732862997149,0.67578495678577166,0.59114108070264193,0.59182173134042115,0.59419001177916264,0.57527088217866396,0.49851322065027937]
[6295000,575000,670.114424393283,null,155.71451441660795,0,4.1242198522621955E-5,0.12949295650910359,null,null,4.0536042682514255,4.0689287481518592,3.9582281899191241,4.3578222433105376,3.9736264874424547,3.8782327946733162,3.4462235505662848,3.1073391192035005,2.7766120803484955,2.8591827703049475,3.1347177182327757,null,null,0.62944323055384199,0.6601124156692596,0.66274796108135925,0.75817083267908369,0.68060571026246119,0.67696167718135858,0.59258653238969694,0.5934065739785539,0.59558576040088729,0.57692235619577903,0.50051278508986397]
[6295000,665000,630.79834163037197,null,172.2353331926989,0,3.3709747611748643E-5,9.9632588951878542E-2,null,null,3.766950708827042,3.8082238033509963,3.7423828955507421,4.1268402570784355,3.8030340043341839,3.7501409970317523,3.3144360411450071,2.9358423661916828,2.5594300391661751,2.5111961217704222,2.6475914528003086,null,null,0.6375528881614384,0.66824312164449717,0.67098387476666432,0.76736764660155654,0.6896560271326726,0.68655857628371753,0.60205463338099563,0.60270775879018079,0.60439173562320092,0.58599702800842079,0.5097683252347901]
[6305000,455000,793.34936527691696,null,213.12674632715624,0,2.201527375662687E-5,8.1835914627643239E-2,null,null,4.9521102222340012,4.8860996411512359,4.6347880153702743,5.0818275210018866,4.5083428959365426,4.2797322320721953,3.8593070724082255,3.6448899313379122,3.4573618937896895,3.9499352320659913,4.6615986357810018,null,null,0.64649714045391871,0.67732226233900128,0.67977623884205651,0.7773566370675592,0.69816425405953764,0.69458250842453639,0.60886179012900643,0.60875663201997487,0.61052615630659568,0.59149047090659101,0.51415217153881643]
[6305000,465000,786.27619788425898,null,206.94204502710414,0,2.3350841015565435E-5,8.6026653261790723E-2,null,null,4.9005397587741317,{"$f":"L$2+L$3*$C534","v":4.8391974681705214},4.5959563263845817,5.0402726625700209,4.4776524226197996,4.2566878527069161,3.8355978153080361,3.614036775171138,3.4182897171126467,3.8873306274735757,4.573962091785968,null,null,0.64381375993520495,{"$f":"SQRT(Y$2+2*Y$3*$C534+Y$4*$C534^2+Y$5)","v":0.67461970999696397},0.67707735911831923,0.77432573278729311,0.69531036354793951,0.6916531966352224,0.6060809915906209,0.60608441090337617,0.60795583864280012,0.58892198949378227,0.51165255505258789]
[6305000,475000,805.70467952707304,null,201.06469108224846,0,2.4735937681268043E-5,9.3381239853536357E-2,null,null,5.0421928184318894,4.968027729944021,4.7026186906036314,5.1544149922215539,4.5619526044679697,4.319985845899204,3.9007220857747491,3.6987838120970928,3.5256126497075519,4.0592921184941231,4.8146809793404346,null,null,0.65165427902323736,0.68251678260943927,0.68496640022815936,0.78318483448491782,0.70365893039396987,0.70022794352286333,0.61422583882930637,0.61391715400390823,0.6154882278726318,0.59645398419812645,0.51898793837194857]
[6305000,485000,798.872436216555,null,195.52240280847616,0,2.6158145345641961E-5,9.7912864690652301E-2,null,null,4.9923789324549022,4.9227231245519762,4.6651096748288872,5.11427556277226,4.5323075007436318,4.2977263971935367,3.877820406197892,3.6689815667766132,3.4878713376602497,3.9988199329527276,4.7300294847231159,null,null,0.64872920346483842,0.67957040611524033,0.68202211068628915,0.77987865388051147,0.7005410035714682,0.69702370496917898,0.61118067969282941,0.61098667639594573,0.61267065159379908,0.59363490478666614,0.51624073519453373]
[6305000,495000,761.53829495955699,null,190.34445093041197,0,2.7600665838462681E-5,9.8484226475984038E-2,null,null,4.7201757085501299,4.6751604338768225,4.4601452393279679,4.8949374828873973,4.3703146618295179,4.1760917649782368,3.7526763647044348,3.506130042613588,3.2816375413565928,3.6683754486870388,4.2674594745489118,null,null,0.63600840355841515,0.66675882982164558,0.66923602994378018,0.76551737201092829,0.68704141966620802,0.68318575457603614,0.59806270537009798,0.59839732361202802,0.60055458392932848,0.58154406750641263,0.50449537282814727]
[6305000,505000,703.94834785315004,null,185.56133756793199,0,2.9041899038161339E-5,9.5790221405352122E-2,null,null,4.3002874041973165,4.2932814946142379,4.1439764297137938,4.556596543637256,4.1204318813348184,3.9884637173055628,3.559634862003759,3.2549226933354407,2.9635106735408008,3.1586468268482308,3.5539200299005289,null,null,0.62771339696421224,0.65839222166317013,0.66095414305427658,0.75618940772321108,0.67848777940193739,0.67458851550788446,0.59010271513127599,0.59088551415580304,0.59325156213172747,0.57441070084966139,0.4977923663429768]
[6305000,515000,707.83040759179198,null,181.20433217779313,0,3.0455297561962069E-5,0.10100606086511714,null,null,4.3285915017517551,4.3190234327411723,4.1652889376789375,4.5794036446017774,4.137276138540785,4.0011114679340585,3.5726475262476862,3.2718562379153968,2.984955171537059,3.1930069375949506,3.6020187500623022,null,null,0.62782882512278793,0.65851025411810782,0.66106481024170438,0.75631666412704524,0.67858415722777055,0.67466886966281592,0.59015779026361481,0.59092544153871607,0.59329825339173659,0.57444063498896558,0.49779615423831641]
[6305000,525000,751.037641568141,null,177.30485046946686,0,3.1809640929592223E-5,0.11193756172907006,null,null,4.6436154446733156,4.6055306012383426,4.402496652209094,4.8332461442128283,4.3247523267641634,4.1418806362290033,3.7174781745364083,3.4603261925202311,3.2236319320224109,3.5754341655196153,4.1373563790292662,null,null,0.63345343322228753,0.66418520882876697,0.6666738298574717,0.76263752037727861,0.68435306375938088,0.68044497255534364,0.5954802312288916,0.59593134138321213,0.59817536222309498,0.5791833315683802,0.50222057778566431]
[6305000,535000,729.695404480403,null,173.89367441054318,0,3.3069865713196298E-5,0.1130653194970485,null,null,4.4880091940666178,4.4640102271095516,4.2853277705974122,4.7078605013223669,4.232148360040469,4.0723476277971526,3.6459389958183106,3.3672313543435179,3.1057374143497465,3.3865340250560463,3.8729260615121932,null,null,0.62968397580881363,0.6603858480212359,0.66290329488777611,0.75839487859815502,0.68043065591327612,0.6764766074781674,0.59177548217365938,0.59241644576578745,0.59477062093789612,0.57583304794261991,0.49903393276456126]
[6305000,545000,749.81029247044899,null,171.00002923976359,0,3.4198545125493269E-5,0.1201474063586941,null,null,4.6346668424020434,4.597392049371547,4.3957585056627648,4.8260354682638873,4.3194268590292779,4.1378819328687229,3.7133641003609448,3.4549724957560985,3.2168520556067608,3.5645708986559432,4.1221495237088623,null,null,0.63318474980340145,0.66391452170839371,0.66640459763181259,0.76233481556790772,0.68407128242145776,0.68015833394601899,0.59521085723925937,0.59567460751888468,0.5979273843256,0.57893786551781523,0.50198490353998393]
[6305000,555000,762.720186683267,null,168.65055588405275,0,3.5158023008113418E-5,0.12564495602579906,null,null,4.7287928811076991,4.6829975578967433,4.4666338248911357,4.9018810967641935,4.3754428900186957,4.1799423682140837,3.7566380657623109,3.5112854543124108,3.2881663112383674,3.6788363723335955,4.2821031130056779,null,null,0.63632456264236492,0.66707726192115846,0.66955329223671423,0.76587387994240608,0.68737497500916345,0.68352641957199578,0.59838435791623601,0.59870494076305203,0.6008511197881683,0.58183885442629357,0.50478022905023112]
[6305000,565000,718.29924082141201,null,166.86824143617025,0,3.5913077423926218E-5,0.12086857473693544,null,null,4.4049197648289145,{"$f":"L$2+L$3*$C544","v":4.3884422658867832},4.2227628321095523,4.6409080398257956,4.1827004059241064,4.0352189265961602,3.607739055233373,3.3175212884629994,3.0427850062974802,3.2856665805103171,3.7317275937772942,null,null,0.62846208680782034,{"$f":"SQRT(Y$2+2*Y$3*$C544+Y$4*$C544^2+Y$5)","v":0.65915206805166293},0.66168791956416739,0.75702359277642539,0.67919236133448124,0.67524760609860435,0.59065562173282282,0.59137133663342234,0.59374723176533439,0.57484826349036977,0.49813129969345626]
[6305000,575000,675.23292470442198,null,165.67139161605422,0,3.6433841063197774E-5,0.11526937590334348,null,null,4.0909232540199403,4.1028695237150217,3.9863287566272767,4.3878934326384789,3.9958356602924869,3.8949088686870068,3.463380763609222,3.1296660175606887,2.8048866760672273,2.9044866165588381,3.1981359370877884,null,null,0.62886709691373921,0.65953620269711455,0.66215955677788918,0.75751583779789755,0.67994546097968844,0.67624966342018511,0.59187058111883917,0.59269589166067804,0.59491793590494746,0.57622420567505628,0.49978555152133514]
[6315000,455000,796.19045115121696,null,220.95929489387859,0,2.0482145611259935E-5,7.6409575297993873E-2,null,null,4.9728245793435226,4.9049388815837194,4.6503855768201809,5.0985189005133993,4.5206703675451303,4.2889884898506647,3.8688303922588796,3.6572827479216086,3.4730560521593223,3.9750816831394209,4.6967996897635773,null,null,0.64763043375007667,0.67846370322214078,0.680916445738869,0.7786370535056194,0.69937071641234594,0.69582152102445827,0.61003858607904915,0.60988816371380461,0.61161432787076631,0.59257846445923434,0.51521166487447811]
[6315000,465000,803.90456751711395,null,215.00002325581269,0,2.1633310625568278E-5,8.1485972715356667E-2,null,null,5.0290682017672772,4.9560911872059821,4.6927360756689556,5.1438393341630437,4.5541419184567573,4.3141210809707573,3.8946881103173663,3.6909317235096513,3.5156688309645374,4.0433593270939747,4.7923775915370408,null,null,0.65086612934663468,0.68172286596172671,0.68417295579531301,0.78229387616123902,0.70281848982271666,0.699364064257602,0.61340471287328291,0.61312674706247838,0.61472831571802855,0.59569351175381657,0.51824671283439949]
[6315000,475000,837.28391723708603,null,209.3490148054201,0,2.2816979757460068E-5,8.9513034115567103E-2,null,null,5.2724370405755936,5.1774296551991172,4.8759887056316025,5.3399430137678801,4.6989749168917161,4.4228710023584261,4.0065756905787122,3.8365324469881696,3.7000563588176631,4.3387999514654476,5.2059477345674958,null,null,0.66745956305174436,0.69844280291702943,0.70089314100963451,0.80106882157832016,0.7205498183284299,0.717607117464236,0.63075501322483418,0.62985278216097706,0.63080661319927978,0.61179897270978267,0.53395359242995533]
[6315000,485000,816.44625700062204,null,204.03188476314187,0,2.4021709860503528E-5,9.1893943971203665E-2,null,null,5.1205096597915345,5.0392551301711244,4.7615899509334154,5.2175217598786539,4.608560309125699,4.3549819053080263,3.9367278534660848,3.7456385730367137,3.5849491236714361,4.1543658207125054,4.9477691242377064,null,null,0.65661405234133918,0.68751336056158685,0.68996131415365858,0.78879352751250731,0.70895251950974236,0.70567154034366419,0.61940169444691795,0.61890244398764249,0.62028069597062963,0.6012521049943973,0.52366627866093352]
[6315000,495000,776.86197573118295,null,199.07538773037714,0,2.5232765957768933E-5,9.184681405400677E-2,null,null,4.8319006650560548,4.7767717610734737,4.5442722467641943,4.9849641074206996,4.4368041126976028,4.2260163169321938,3.8040413426509252,3.5729719381394203,3.3662855539390546,3.8040053471966999,4.4573198793093569,null,null,0.64055127931347355,0.67133406668087914,0.67379793037598856,0.77064244429647222,0.69184695992401279,0.68810209800136279,0.60271358972311029,0.60285215103370782,0.60484551789883068,0.58581734298883914,0.50863532119683696]
[6315000,505000,727.58163658992396,null,194.50709498627552,0,2.6431943955820585E-5,9.0108592482659386E-2,null,null,4.4725977123771354,4.4499938322277854,4.2737231848786825,4.695442114965803,4.2229767211636799,4.0654609720099719,3.6388536458494247,3.3580110988052487,3.0940609605227398,3.3678250654574162,3.8467364773491584,null,null,0.6294155294498891,0.66011498893559106,0.66263569330554351,0.75809327908376767,0.68015572755171283,0.67620161243992416,0.59152238913178967,0.59217863878359434,0.59453880984188534,0.57560789234110665,0.49882427407797403]
[6315000,515000,717.42645924082603,null,190.35495790758907,0,2.75976189878242E-5,9.276932059660653E-2,null,null,4.3985563143248623,4.3826548512259169,4.2179712612321349,4.6357804480398528,4.1789134066459441,4.0323754042066113,3.604813491375249,3.3137142152084835,3.0379637608463232,3.2779415907405509,3.720913829993834,null,null,0.62839136378802452,0.65908054618343614,0.66161789189421527,0.75694440063385848,0.67912225926144298,0.67517919426272066,0.59059466352525969,0.59131532373750251,0.59369180621489481,0.57479607020690482,0.49808525806938492]
[6315000,525000,748.101095208468,null,186.64675191387607,0,2.8705104140682565E-5,0.10061779347758455,null,null,4.6222050851649401,4.5860583623273508,4.3863750126944892,4.8159939343497493,4.3120106521095423,4.1323133681891893,3.7076348711387848,3.4475169772993377,3.2074104499315772,3.54944279369015,4.1009725696329182,null,null,0.63282107685639855,0.66354811817692405,0.66604026177939157,0.76192514561472846,0.68369024122458499,0.67977097495560879,0.5948471108562311,0.5953281189906906,0.59759260203790576,0.57860670541802472,0.50166729628599538]
[6315000,535000,720.18117610454499,null,183.40940542949261,0,2.9727390907164038E-5,0.10031224071168654,null,null,4.4186409549782368,{"$f":"L$2+L$3*$C554","v":4.4009213787492376},4.233094656813952,4.6519644096142017,4.1908661231176207,4.0413502717486081,3.6140473023024349,3.3257302901680252,3.0531808168015067,3.3023235897013272,3.7550447719353128,null,null,0.62862566488584504,{"$f":"SQRT(Y$2+2*Y$3*$C554+Y$4*$C554^2+Y$5)","v":0.65931742227115075},0.66185009264156747,0.75720687234512474,0.67935550951516377,0.67540758395365796,0.5907990895160049,0.59150376197448773,0.59387786869272208,0.57497206429923375,0.49824176876371445]
[6315000,545000,705.05296204107401,null,180.66823185053869,0,3.0636306903493487E-5,0.10120769285423732,null,null,4.30834114624147,4.3006061912943618,4.1500407616054966,4.5630861519913095,4.1252248022962199,3.9920625503298188,3.5633375287616804,3.2597410204231649,2.969612562314893,3.168423767025546,3.5676061996889077,null,null,0.62773966016289484,0.65841919481827738,0.66097899708294461,0.75621818334957869,0.67850808509302873,0.67460398138981303,0.5901112486915292,0.59088996475248734,0.59325824687210893,0.57441253953743954,0.4977868063443272]
[6315000,555000,728.66352209086097,null,178.44609830422181,0,3.1404066386940188E-5,0.1072181445264994,null,null,4.4804857395644673,4.4571678149844987,4.2796627362788264,4.7017981922838077,4.2276710223522453,4.068985754972025,3.6424801260485662,3.3627302833603356,3.1000372960299161,3.3774008340262096,3.8601410387057671,null,null,0.62955055347849587,0.66025123592801838,0.66277026406931661,0.75824496237788763,0.68029387366648364,0.67633969100657765,0.59164935205464764,0.59229785827510018,0.594655072092239,0.57572071943700265,0.49892918442709072]
[6315000,565000,692.46126944617799,null,176.76258088181447,0,3.2005110576056784E-5,0.10384131790554163,null,null,4.2165351155320829,4.2171106776976064,4.0809123692595168,4.4891099579962956,4.0705894481269667,3.9510388158556484,3.5211301751835888,3.2048160573242286,2.9000560524206875,3.0569746958681208,3.4115951284381447,null,null,0.62775065890186776,0.6584235655925732,0.66100861258284915,0.75624076848369814,0.67861225828544269,0.6747765079026341,0.59035046042779094,0.59116497835274029,0.5934932225467715,0.5747063909752308,0.49816298752599775]
[6315000,575000,679.63774424393705,null,175.63316884916696,0,3.2418052835590883E-5,0.10323329450590579,null,null,{"$f":"K$2+K$3*$C558","v":4.1230387932825447},4.1320778820815462,4.0105112158992142,4.4137717474331302,4.0149481722744431,3.9092597707467469,3.4781457187056768,3.1488798403920537,2.8292188992035086,2.9434736743030863,3.2527116511823797,null,null,{"$f":"SQRT(X$2+2*X$3*$C558+X$4*$C558^2+X$5)","v":0.62846078762289748},0.65913027501053267,0.66174343090889465,0.75705328995626042,0.679473969071265,0.6757373348343243,0.59135116615891914,0.59217791045904422,0.59443271463386527,0.57571384449110019,0.49924937021908961]
[6315000,585000,681.82424393280098,null,175.06858655966809,0,3.2627481279166928E-5,0.10423446952421643,null,null,4.1389805625140514,4.1465765615184029,4.022515099191077,4.4266174331052053,4.0244353944244233,3.9163833867330657,3.4854748656627486,3.1584173520348782,2.8412971234847926,2.9628263830492214,3.2798023823274045,null,null,0.628289901646231,0.65895973069703762,0.66156792634344685,0.75685848610380912,0.6792732110532953,0.67551758907413351,0.59112664054405728,0.59195302837439867,0.59422266970989435,0.57549165606864261,0.49901410783062505]
[6325000,465000,816.56444617299701,null,223.21516525541003,0,2.0070241832364907E-5,7.6788899533717439E-2,null,null,5.1213713770473204,5.0400388425731428,4.7622388094897534,5.2182161212663569,4.6090731319446343,4.3553669656316245,3.9371240235718856,3.7461541142066133,3.5856020006596361,4.155411913077196,4.9492334880834319,null,null,0.65667104898820261,0.68757078558619955,0.69001873185002605,0.78885800033003217,0.70901339512346007,0.7057341614963839,0.61946124847822637,0.61895983364884399,0.62033586253369732,0.60130735481781006,0.5237201612825334]
[6325000,475000,837.611210329806,null,217.77743225596174,0,2.1085031504199821E-5,8.2750782119407867E-2,null,null,5.2748233345146147,5.1795999356969435,4.8777855447106351,5.3418658606876095,4.7003950416210278,4.4239373232545081,4.0076727770255101,3.837960099458614,3.7018643258618487,4.3416968226291122,5.210002895986297,null,null,0.66764248199868792,0.6986271806442409,0.70107761491680831,0.80127597385684135,0.72074561909611168,0.71780870552036036,0.63094678227344547,0.63003789307193203,0.63098455503595452,0.61197733531030329,0.53412756065093647]
[6325000,485000,823.33759489732802,null,212.67113109211604,0,2.2109703484555593E-5,8.5293559019317303E-2,null,null,5.1707544043964182,5.0849515917641819,4.7994233959863308,5.2580083700218019,4.6384618242595064,4.3774338841754945,3.9598276180958436,3.7756985889421451,3.6230168742128401,4.2153610524362497,5.0331528007778941,null,null,0.66002443576597203,0.69094960520921522,0.69339752999318738,0.79265197133063592,0.71259648561262523,0.70942065460928383,0.62296752021012225,0.62233969362451391,0.62358473072307008,0.60456171189968133,0.52689425913663057]
[6325000,495000,808.69577473553102,null,207.92068199195575,0,2.3131543769160155E-5,8.7648636373807376E-2,null,null,5.0640008935967558,4.9878616822713058,4.7190398032980658,5.171987676571244,4.5749309665774689,4.3297308340883598,3.9107482369135003,3.7118309693963867,3.5421354596390739,4.0857663021841848,4.8517406489732293,null,null,0.65299134038079842,0.68386367665392467,0.68631263242975804,0.78469650507504274,0.70508520736669045,0.70169425694239762,0.61561977575698179,0.61525926462965108,0.61677850015964075,0.59774543948514292,0.52024690368108151]
[6325000,505000,782.95780958307603,null,203.55100098009837,{"$f":"IF(E564=0,1,0)","v":0},2.4135345223530706E-5,8.8541575865231689E-2,null,null,4.8763453896702069,{"$f":"L$2+L$3*$C564","v":4.8171932353453766},4.5777383746110871,5.0207771313005711,4.4632539357809673,4.2458765436216614,3.8244745777224711,3.599561965401378,3.3999589401369126,3.857959572619805,4.5328472607343118,null,null,0.64262326973574435,{"$f":"SQRT(Y$2+2*Y$3*$C564+Y$4*$C564^2+Y$5)","v":0.67342075580591609},0.67588042286108774,0.7729814585587188,0.69404564380690092,0.69035589432421773,0.60485025018394478,0.60490254519776387,0.60681876037141058,0.58778648040577974,0.51054838507836175]
[6325000,515000,740.81882389546297,null,199.58709878145933,0,2.5103545850747872E-5,8.7136969217198296E-2,null,null,4.5691100450218203,4.5377696212508143,4.3463953431860922,4.7732105903858448,4.2804128768824139,4.1085877282514183,3.6832246976975922,3.4157517098320098,3.1671831831985373,3.4849874102987419,4.0107452280647857,null,null,0.63140895194229973,0.66212512336602869,0.66462661679654333,0.76033508606234967,0.68221551245382028,0.67827518175568136,0.59344633009082448,0.59399633005261154,0.59630429387296613,0.57733546518870626,0.50045275963724711]
[6325000,525000,738.91870566273201,null,196.05358961263627,0,2.6016591821268095E-5,9.0074619431928585E-2,null,null,4.5552562829869787,4.5251699372495757,4.3359636940883988,4.7620473957685503,4.2721682638705945,4.1023971430491812,3.6768555013814774,3.4074633941008372,3.1566869300809315,3.4681694638208409,3.9872027631612488,null,null,0.6310772171565513,0.6617907518536631,0.66429482805676976,0.75996173850453552,0.68187048516126025,0.67792622569695027,0.59312067917737499,0.59368746054873534,0.59600505522701686,0.57704111937985325,0.50017294348347674]
[6325000,535000,711.10788425638395,null,192.97411743547372,0,2.6853560285302964E-5,8.9473152355771066E-2,null,null,4.3524875841132946,4.3407563805040814,4.1832822845675475,4.5986588200062553,4.1514971097884503,4.0117894869072988,3.5836336280273988,3.2861525911263469,3.003059952632265,3.2220158835532535,3.6426266859365972,null,null,0.62797659477996759,0.65866046056684968,0.66120897823760205,0.7564809450401957,0.67871995171078725,0.67479328175021658,0.59025886903122948,0.59101199627327372,0.59338815085093566,0.57451698295267473,0.49785011711730959]
[6325000,545000,705.47116988177197,null,190.37071728603641,0,2.7593049972945014E-5,9.120829758320477E-2,null,null,4.3113902996079991,4.3033793274860299,4.1523367226509285,4.5655431230554102,4.1270394061170084,3.993425071474813,3.5647393614436993,3.2615652430242896,2.9719227424269086,3.172125324623563,3.572787794835155,null,null,0.62775096968368116,0.65843077957759921,0.66098978438488021,0.75623062119368434,0.67851725051269607,0.67461137263807203,0.590115961222624,0.59089308427780574,0.59326214800174926,0.57441462210133842,0.49778607919910317]
[6325000,555000,713.530762289986,null,188.26314031163935,0,2.8214307983435943E-5,9.432731575064851E-2,null,null,4.3701527878562878,4.3568224847448969,4.1965838849720232,4.6128932284536672,4.1620099775762496,4.0196832235407749,3.5917551151960332,3.2967211851089191,3.0164439308898827,3.2434607770286661,3.6726461447729255,null,null,0.62811543039926598,0.65880123822707426,0.6613453985775235,0.75663582637940585,0.67885235444855907,0.67491853387262823,0.59036570190397308,0.59110707354248648,0.59348430568733712,0.57460347475343776,0.49791988011301103]
[6325000,565000,701.26181705040699,null,186.66818154147214,0,2.8698513790066351E-5,9.4296369207820085E-2,null,null,4.2806999081145172,4.2754671088612488,4.1292273756067344,4.5408131751711407,4.1087750241817158,3.9797109999502265,3.5506296107529645,3.2432040459738753,2.9486702773864484,3.1348683427131521,3.5206339132545432,null,null,0.62767137541432805,0.65834857651398726,0.66091572905287244,0.75614410833472723,0.67846202812242384,0.67457546506212196,0.59010565815498106,0.59089763199883572,0.59325721919917285,0.57442840164516207,0.49782792330741854]
[6325000,575000,689.35198506534198,null,185.59905710967391,0,2.9030095790607083E-5,9.3765888056493343E-2,null,null,4.1938653231114076,4.1964930129682827,4.0638423980087275,4.4708429122588838,4.0570982631985189,3.9409087673428846,3.5107078539390262,3.1912533588550218,2.8828803655009492,3.0294544198133417,3.3730710949595872,null,null,0.62785811887285914,0.65852988508633936,0.66112152844641237,0.75636466376903722,0.67875123393627013,0.67493679600231227,0.59052303183087296,0.59134276019736565,0.59365621224986609,0.57488513030256549,0.49836134738029025]
[6325000,585000,714.85811761046102,null,185.06488051491561,0,2.9197924261168429E-5,9.7797376058710278E-2,null,null,4.379830535497871,4.3656241778749667,4.2038710656814313,4.6206914409614583,4.1677693723117901,4.0240077471748821,3.596204410230265,3.3025111090168311,3.0237762416801868,3.2552091989701903,3.6890920771936111,null,null,0.62820215118683409,0.65888907382344775,0.66143088568267749,0.75673272132657965,0.67893642350523742,0.67499914112760007,0.59043579699463355,0.59117036208012075,0.59354768246788203,0.57466168541864604,0.49796886132732415]
[6335000,495000,816.03259489732795,null,216.86634132571149,0,2.1262566974428148E-5,8.1297758676190365E-2,null,null,5.117493649396418,5.0365121367641814,4.7593189459863305,5.2150914950218015,4.6067654292595064,4.3536341941754948,3.9353412580958436,3.7438341789421448,3.5826640542128394,4.1507044974362488,4.9426438507778938,null,null,0.65641497656984749,0.6873127895699952,0.68976077069111907,0.78856834253824637,0.70873990244086271,0.70545282994035563,0.61919369807311331,0.61870201154774351,0.6200880272512177,0.60105914834125285,0.52347809844904247]
[6335000,505000,810.841362787805,null,212.68053507549766,0,2.2107748301516973E-5,8.3991585242210398E-2,null,null,5.079644376085886,{"$f":"L$2+L$3*$C574","v":5.0020890766459347},4.7308190817050493,5.1845930063783543,4.5842406731362857,4.3367211599626687,3.9179402480647223,3.7211900244804057,3.5539876880398347,4.104756902034862,4.8783244849409035,null,null,0.65397146542334705,{"$f":"SQRT(Y$2+2*Y$3*$C574+Y$4*$C574^2+Y$5)","v":0.68485105027876159},0.68729962569935421,0.7858047822246419,0.70613111234988679,0.70276971199530447,0.61664228098428364,0.61624399870852564,0.61772516019500445,0.5986931375887985,0.52117089379953885]
[6335000,515000,770.58885812072504,null,208.88994710133849,0,2.2917377582817102E-5,8.2745239482822738E-2,null,null,4.786163364558206,4.7351747181985271,4.5098328310827807,4.9481095414592593,4.4095850553858256,4.2055784997573227,3.7830138524206705,3.5456085991226027,3.3316328522588852,3.7484819832265366,4.3795959521157828,null,null,0.63857570067240932,0.66934446919844148,0.67181331182117543,0.7684130825497445,0.68975415460980005,0.68595908363266689,0.6006842320349518,0.60090670875549346,0.60297242969631193,0.58395018583486491,0.50682398801222039]
[6335000,525000,757.942616677042,null,205.51644703040193,0,2.3675918347439837E-5,8.4081128513354073E-2,null,null,4.6939596181923129,4.6513174911854653,4.4404049655569606,4.8738128729776218,4.3547130137616854,4.1643770451338034,3.740623651101445,3.4904456939452575,3.2617750145239799,3.6365501002084981,4.22290902062855,null,null,0.63508201911749973,0.66582574966203245,0.66830665296181391,0.7644729336058389,0.68606506999170691,0.68218927238916771,0.59712257499430599,0.59749875231191352,0.59968809651919097,0.58068330999929441,0.50366449668331992]
[6335000,535000,734.37296826384897,null,202.58087273975298,0,2.4367059536767584E-5,8.3844615726466717E-2,null,null,4.5221133116117223,4.495027152557582,4.3110075957685314,4.7353411885501124,4.2524443092968411,4.0875871306036204,3.6616181896204214,3.3876348875669096,3.1315762766895019,3.4279351421033271,3.9308810767890892,null,null,0.63034550222415064,0.6610530559492438,0.66356354976915399,0.75913857066386214,0.68111208944699286,0.67716107774477485,0.59240879745010611,0.59301365459065158,0.59535139121346259,0.57639990520721018,0.49956606431459727]
[6335000,545000,712.78071561917295,null,200.10249873502329,0,2.4974395001524689E-5,8.3407727636323745E-2,null,null,4.3646841975793897,4.351848925270736,4.1924661287492597,4.6084867042626403,4.1587555250715917,4.0172395714872655,3.5892409587554672,3.2934494815308328,3.0123006730803117,3.2368221139452995,3.6633530665215526,null,null,0.62806976363697886,0.65875495746212875,0.66130045697916151,0.75658484359116962,0.67880845921303745,0.67487673740652609,0.59032971367859655,0.59107481688320895,0.59345184202024748,0.57457397028953727,0.4978955706901762]
[6335000,555000,729.94542003734102,null,198.09848560753815,0,2.5482245118302596E-5,8.7153222275197686E-2,null,null,4.4898320574922526,4.4656680802676085,4.2867003560050021,4.7093293427193785,4.2332331775420231,4.073162178481657,3.6467770479651671,3.368321922202882,3.1071185002862722,3.3887469127505048,3.876023754262655,null,null,0.6297169841066671,0.66041914802548651,0.6629362143362042,0.75843197203214274,0.68046453442814503,0.67651054768811869,0.59180678184102242,0.59244589487452048,0.59479930179014684,0.57586095676686022,0.49906000065465217]
[6335000,565000,745.541845052898,null,196.58334110498782,0,2.5876562071015122E-5,9.0392827604470344E-2,null,null,4.6035455922806792,4.5690879745457664,4.3723247293404102,4.8009583396857751,4.3009060656845248,4.1239753311823417,3.6990562646173144,3.4363535281207414,3.1932731520722091,3.5267908705631994,4.0692634602054065,null,null,0.63229941565022119,0.66302249699842974,0.66551782694497597,0.7613376192519663,0.68314447342217355,0.67921672161043345,0.59432727938260765,0.59483337445495843,0.5971143216643805,0.57813412040686218,0.50121482766233094]
[6335000,575000,736.37309271935703,null,195.56842792230037,0,2.6145834667860315E-5,9.0210230657809073E-2,null,null,4.5366962190168314,{"$f":"L$2+L$3*$C581","v":4.5082899778220566},{"$f":"M$2+M$3*$C581","v":4.3219882790292701},{"$f":"N$2+N$3*$C581","v":4.7470919197262225},{"$f":"O$2+O$3*$C581","v":4.2611228493092899},4.0941035360796656,3.668322606795285,3.3963594304418354,3.1426249641817283,3.4456382436590287,3.9556626187928332,null,null,0.63065668661142871,{"$f":"SQRT(Y$2+2*Y$3*$C581+Y$4*$C581^2+Y$5)","v":0.66136681556618127},{"$f":"SQRT(Z$2+2*Z$3*$C581+Z$4*$C581^2+Z$5)","v":0.66387444425164777},{"$f":"SQRT(AA$2+2*AA$3*$C581+AA$4*$C581^2+AA$5)","v":0.75948858626274363},{"$f":"SQRT(AB$2+2*AB$3*$C581+AB$4*$C581^2+AB$5)","v":0.68143412329137742},0.67748562193866524,0.592710336420331,0.5932988012867535,0.59562818009164231,0.57667108647545562,0.49982221096524027]
[6335000,585000,733.01833851898596,null,195.06155438732668,0,2.6281892748326434E-5,9.0266551321883895E-2,null,null,4.512236706141926,4.4860446027193959,4.3035706784692334,4.7273827387990419,4.2465665708338802,4.0831737468948566,3.6570774707156408,3.3817259926198169,3.124093301978879,3.4159453142315446,3.9140972142502362,null,null,0.63014437255579148,0.66085023201224735,0.66336270312306611,0.75891239923597353,0.68090440670904961,0.67695210674568318,0.59221502213504673,0.59283065771495602,0.595173603340865,0.57622603128769989,0.49940230910733963]
[6345000,535000,756.742542003739,null,212.22396188932106,0,2.2202974710145717E-5,7.8725365485024804E-2,null,null,4.6852098737492609,4.6433597960267932,4.4338165556005276,4.8667624342719664,4.3495058897542238,4.1604672018481814,3.7366010007965329,3.4852109682203096,3.2551458020286543,3.6259282392750931,4.208040095426326,null,null,0.63478474567053611,0.66552631406173735,0.66800850154539704,0.76413783533640733,0.68575211357400068,0.68187010028659667,0.59682171264233186,0.59721137579585415,0.59941087992363618,0.58040814392409346,0.50339919586392889]
[6345000,545000,740.94610454263102,null,{"$f":"(SQRT(($A584-E$1)^2+($B584-E$2)^2)/1000)","v":209.85950061886643},0,2.2706109601028678E-5,7.8828764663339185E-2,null,null,4.5700380482203222,4.5386136192221862,4.3470941139390442,4.7739583641879566,4.280965147610476,4.109002408599892,3.6836513424268995,3.4163069080149566,3.167886281493494,3.4861139713068265,4.0123222352831975,null,null,0.6314317176647517,0.66214806862347442,0.66464939115522292,0.76036071051609888,0.68223921362987361,0.67829916935495205,0.59346873464199423,0.59401759233976448,0.59632488558298413,0.57735573568029852,0.50047205302502473]
[6345000,555000,737.33224331052099,null,207.94953714783787,0,{"$f":"IF($F$618=0,1/E585^2,F585)","v":2.3125124731141519E-5},{"$f":"G585/$G$618*C585","v":7.9891887457961941E-2},null,null,4.5436893859770082,4.5146501053920645,4.3272540157747601,4.7527269294493104,4.2652846037243508,4.0972284487056774,3.6715376795768666,3.4005432453204927,3.1479233120473178,3.4541276855414207,3.9675464946173546,null,null,0.63081192017811794,0.661523315430946,0.66402959320375632,0.75966322625562943,0.68159505595825032,0.67764801536237784,0.59286145708161186,0.59344185959553319,0.59576694893295745,0.57680723856474203,0.49995111289861804]
[6345000,565000,759.71545426260604,null,206.50668270058478,0,2.3449402403704442E-5,8.3471479674325263E-2,null,null,4.7068853770286605,4.6630731772153409,4.4501378439017074,4.8842282937928099,4.3624053560454481,4.1701529499875702,3.7465662026882551,3.4981788114934877,3.2715681693466361,3.6522414856783261,4.2448744783136894,null,null,0.63553208945027706,0.666279080280611,0.66875813062984713,0.76498032547828088,0.68653921830807707,0.6826730647391881,0.59757886319339704,0.59793476527129075,0.60010859775331249,0.58110090885502963,0.50406742399717797]
[6345000,575000,812.88694461730097,null,205.54077454364133,0,2.367031418318125E-5,9.015494294743516E-2,null,null,5.0945587132047407,5.0156533297573223,4.7420493259489822,5.1966107996266429,4.5931164526944688,4.3433856655631669,3.9247970383571928,3.730112852420667,3.5652874820659703,4.1228623468077306,4.9036692438083582,null,null,0.65492217417938059,0.68580882409377963,0.68825711028397962,0.78687992038757026,0.70714591638563484,0.70381332893487247,0.61763460965504624,0.61719986002336114,0.61864403774518628,0.59961314867647997,0.52206798050657299]
[6345000,585000,739.09598942128798,null,205.05855261363763,0,2.3781772745660366E-5,8.235698557019272E-2,null,null,4.5565488588706105,4.5263455058525608,4.3369369819228716,4.7630889378500667,4.2729374980989689,4.1029747335345563,3.6774497565401569,3.4082367058556584,3.157666245563195,3.4697386023678192,3.9893993089297579,null,null,0.6311075239705719,0.66182130124231209,0.66432513397412374,0.75999584347136062,0.68190197885355297,0.67795805840720702,0.59315036343978855,0.59371560059524753,0.59603232684798679,0.57706792675246121,0.50019839971721147]
[6345000,595000,722.76770068451299,null,205.06342921154908,0,2.3780641654029236E-5,8.0533704503744558E-2,null,null,4.4374993056907837,4.4180726232390057,4.247294676757976,4.667160241521513,4.2020890532701021,4.0497771688301434,3.6227173326944877,3.3370127103858458,3.06746877858125,3.325216918758624,3.7870918114811163,null,null,0.62887517286000982,0.65956949150835376,0.66209788085969012,0.75748666726568159,0.67960645322276447,0.6756552271814763,0.59102306463564291,0.59171171720738192,0.59408220334364503,0.57516730107008185,0.49841853215361448]
[6345000,615000,660.68656502800502,null,206.53089357285026,0,2.3443904948094022E-5,7.2573956362258926E-2,null,null,3.9848657456191843,4.0064126127007009,3.9064692420037477,4.302433569539529,3.932719005656514,3.8475168288612407,3.4146213659738729,3.066214796652158,2.7245325852146998,2.775736787062872,3.0179065406969814,null,null,0.63079596237154512,0.66146680710661487,0.66412574735836138,0.75970676334545217,0.68213678288597057,0.67860007880827888,0.59421995874125011,0.59502021970192887,0.59710713581632369,0.57850260823079724,0.50214375856121418]
[6345000,625000,672.71458618544398,null,207.98319643663524,0,2.3117640354707826E-5,7.2866803634388536E-2,null,null,4.0725620478780717,4.0861704209956784,3.9725030781580877,4.3730981938394828,3.9849085894586418,3.8867041217921763,3.4549392928936085,3.1186810249409067,2.7909753740883927,2.8821968023273641,3.1669337228376504,null,null,0.62913660519698089,0.65980567911089261,0.66243498596681316,0.75782233250819708,0.68025523254533793,0.67658432671157287,0.59220776122034702,0.5930309624796648,0.59523256146452663,0.57655360421730573,0.50012938701642096]
[6355000,545000,752.44682016179604,null,219.6383618587609,0,2.0729250900841425E-5,7.3082734898801835E-2,null,null,4.6538897657996543,4.6148748644928697,4.4102330426882608,4.8415250684505517,4.3308667526820335,4.1464717400871312,3.7222017411823405,3.4664730295457544,3.2314162345737611,3.5879068052520564,4.154816101804653,null,null,0.6337696776676538,0.66450379844524632,0.66699077989398514,0.76299384794486524,0.68468499130586957,0.68078280664072299,0.5957979242399859,0.59623426753643283,0.59846787554407821,0.5794730524677757,0.50249899352711391]
[6355000,555000,734.89118232732403,null,217.81416391043078,0,2.1077920646265906E-5,7.2578196704842043E-2,null,null,4.5258916103485189,4.4984634300124853,4.3138525909770093,4.7383856961730286,4.2546928401182589,4.0892754720224218,3.66335524316119,3.3898953373117875,3.1344388911761381,3.4325218547791447,3.9373017490355453,null,null,0.63042450117737636,0.66113271367001636,0.66364245893200424,0.75922741796242221,0.681193765083554,0.67724333422032135,0.5924851585810591,0.59308582324625847,0.59542147067749196,0.57646851219225959,0.49963078681027739]
[6355000,565000,765.69764467953405,null,216.43708092653623,0,2.1346990853454833E-5,7.6585992869009661E-2,null,null,4.7505015273584821,4.7027410818699904,4.4829800692906421,4.9193736624922622,4.388362080264498,4.1896429263659218,3.7666185049657983,3.5242731260921278,3.3046137892097467,3.7051898530585552,4.3189938175794262,null,null,0.63714652719879938,0.66790511372578443,0.67037830130138587,0.76680087552063492,0.68824289350080003,0.68441332241257791,0.59922228633549579,0.59950669533951972,0.60162379114570452,0.58260741154847484,0.50552352101779319]
[6355000,575000,801.97262912259305,null,215.51568388402734,0,2.1529911182657399E-5,8.0901608481779574E-2,null,null,5.014982438932825,4.9432805037119145,4.6821297338830359,5.1324891960952339,4.5457592377629314,4.3078268256814081,3.8882122528189322,3.6825046082327511,3.5049968032732042,4.026259740364071,4.7684408748289284,null,null,0.65003413938347498,0.68088481072147045,0.68333546914702736,0.78135345515263566,0.70193155540831798,0.69845252799925606,0.61253839089097506,0.61229299507252988,0.61392669863028204,0.59489142285176644,0.51746503095537111]
[6355000,585000,755.219719975114,null,215.0558299605012,0,2.1622084451105008E-5,7.6511418300423642E-2,null,null,4.674106978338556,4.6332619631549807,4.425456262663376,4.8578158548537944,4.3428983649720196,4.1555058476789215,3.731496501356582,3.4785684185314474,3.2467337331425301,3.6124497414997334,4.1891723304916626,null,null,0.63441612708628925,0.66515500340964939,0.66763885511248655,0.76372235627091634,0.68536431098950557,0.68147477471515983,0.59644926318367486,0.59685576003973662,0.59906775963645964,0.58006772593492162,0.50307122087422496]
[6355000,595000,733.13652769135501,null,215.06047986554853,0,2.1621149462465792E-5,7.4270955132690858E-2,null,null,4.5130984233976692,4.4868283151213753,4.3042195370255394,4.7280771001867103,4.2470793936527897,4.0835588072184343,3.6574736408214221,3.3822415337896907,3.1247461789670452,3.4169914065961828,3.9155615780958888,null,null,0.63016161097003931,0.66086761665315763,0.66337991406707775,0.7589317820495195,0.68092219129561171,0.6769699904715567,0.59223159244133938,0.59284629804920885,0.59518880373613448,0.57624088645949578,0.49941628347221162]
[6355000,615000,658.336418792784,null,216.46018109573873,0,2.1342434885831841E-5,6.5833541357692746E-2,null,null,3.9677308294181879,3.9908287930149502,3.8935669391723842,4.2886264604076061,3.9225217211418899,3.8398600524268902,3.406743675793412,3.0559634587741238,2.711550377411339,2.7549356427349307,2.9887882288425933,null,null,0.63119178909311979,0.66186336193146578,0.66452832002281159,0.7601559010102108,0.68258176097738499,0.67907420077435909,0.59469034543038857,0.59548365561494954,0.59754491031431867,0.57895564650877474,0.50260881497972565]
[6355000,625000,672.32365276913902,null,217.84629902754833,0,2.1071702578818175E-5,6.6379410278157164E-2,null,null,4.0697117523397921,4.0835781415121604,3.9703568537025733,4.3708014600186917,3.9832123293652941,3.8854304607218548,3.4536288840821543,3.1169757733789845,2.7888158578967239,2.8787366506596488,3.1620900578096327,null,null,0.62918086676538998,0.6598499480070017,0.66248018685222554,0.7578726507642406,0.68030593942572981,0.67663899796651195,0.59226272264522595,0.59308551250953623,0.59528382619280507,0.57660718797397903,0.50018518991940386]
[6365000,545000,721.28124455507304,null,229.43628745253005,0,1.8996595999962767E-5,6.4200113796783573E-2,null,null,4.4266615540510372,4.4082159326446888,4.2391340326073506,4.658427311761054,4.1956393201244619,4.0449342947604281,3.6177347317486044,3.3305287887492288,3.0592575949222236,3.3120602955569511,3.7686746200373547,null,null,0.6287282913308293,0.65942112099398353,0.66195195769472959,0.7573219260835421,0.67945845987231113,0.67550898112016111,0.59089055863708506,0.59158853684886792,0.59396126810017003,0.57505155219168569,0.4983134210950303]
[6365000,555000,723.89958929683098,null,227.6906014748962,0,1.9289003474142416E-5,6.5424964147549211E-2,null,null,4.4457519055631947,4.4255781766272859,4.2535087452396017,4.6738100871188815,4.2070003179589497,4.0534648619290756,3.6265114233229774,3.3419500085127769,3.0737213312756944,3.3352352648662507,3.8011159113877353,null,null,0.62899334221671643,0.65968882569412424,0.66221537494327387,0.75761925877226088,0.67972598881238699,0.67577370304754991,0.59113082744772094,0.59181216331417186,0.59418064214516153,0.57526186695473447,0.49850495892722008]
[6365000,565000,741.05065650280596,null,226.37360711885123,0,1.9514095128481776E-5,6.7756612602704588E-2,null,null,4.5708003365619581,4.5393069032701066,4.3476681042004053,4.7745726069539849,4.2814187985656753,4.1093430388861423,3.6840018005974056,3.4167629636652399,3.1684638265215006,3.4870393607063352,4.0136176340697665,null,null,0.63145046917090852,0.66216696787937357,0.66466815022839909,0.76038181695875229,0.68225873777425661,0.67831893095779827,0.59348719382229753,0.59403511152970845,0.59634185155386998,0.5773724384058524,0.50048795276754476]
[6365000,575000,790.23098942128604,null,225.49281585008424,0,1.9666839800413043E-5,7.2818882321899855E-2,null,null,4.9293741438705965,4.8654216908525472,4.6176681319228603,5.0635070628500554,4.49481226309896,4.2695725635345498,3.848854276540151,3.6312875758556498,3.4401359855631841,3.9223344873678023,4.6229619589297331,null,null,0.64528974009532891,0.67610621667179616,0.67856170678151728,0.77599271854517016,0.6968796252425089,0.69326363416426595,0.60760950990917395,0.60755295071967741,0.6093684726534162,0.59033334810023563,0.51302576738952232]
[6365000,585000,750.94218108276903,null,225.05334923079903,0,1.9743722532780013E-5,6.9468978128805994E-2,null,null,4.6429194422744686,4.6048976027598414,4.401972574144402,4.8326853138612673,4.3243381237181344,4.1415696259676613,3.7171581909894416,3.4599097938830385,3.2231046083012163,3.5745892447635885,4.136173623615508,null,null,0.63343230993970512,0.66416392840893324,0.66665266169936976,0.76261372127120086,0.68433090299279498,0.68042242440543477,0.5954590351475878,0.59591113582367883,0.5981558481538739,0.57916401019847774,0.50220201981253931]
[6365000,595000,717.22644679527605,null,225.05779257781765,0,1.9742942934405455E-5,6.6347346329886772E-2,null,null,4.3970980235843573,4.381328568699475,4.2168731929060659,4.6346053749222467,4.1780455526447025,4.0317237636590093,3.6041430496577656,3.3128417609209944,3.0368588920971051,3.2761712805849879,3.7184356757934696,null,null,0.6283756152700809,0.65906461680997597,0.66160230662314501,0.75692677088311666,0.67910669066677354,0.6751640326469377,0.59058119189353708,0.59130296969532947,0.59367956515992515,0.57478457540148231,0.49807517023922343]
[6375000,555000,727.97257000622596,null,237.57737686909499,0,1.7716985681663682E-5,6.0431061288165493E-2,null,null,4.4754480079153929,4.4525861117112839,4.2758694093341809,4.6977388487865772,4.2246729812570143,4.0667346330802845,3.6401640546608691,3.3597163503671577,3.0962204767143926,{"$f":"T$2+T$3*$C606","v":3.3712852171251058},3.8515801423771387,null,null,0.6294637449610837,0.66016364347636358,0.66268373998771035,0.75814743944588592,0.68020502388359239,0.67625085975329757,0.59156764270815476,0.59222111378669162,0.59458024328381487,{"$f":"SQRT(AG$2+2*AG$3*$C606+AG$4*$C606^2+AG$5)","v":0.57564807756512804},0.49886160224751586]
[6375000,565000,752.12861854387495,null,236.31548827785284,0,1.7906702854919357E-5,6.310490433000171E-2,null,null,4.6515697578033919,4.612764869564435,4.4084861158058732,4.8396556339452648,4.3294860758618734,4.1454350392159443,3.7211351293590686,3.465085034088383,3.2296584888363653,3.5850904027318364,4.150873583758611,null,null,0.63369754351670682,0.66443113055002911,0.66691847934067106,0.76291256735279989,0.68460925559668828,0.68070570643291262,0.5957254018214142,0.59616510326195626,0.5984010961114774,0.57940689504794396,0.50243539480444044]
[6375000,575000,756.75163347853504,null,235.47188791870676,0,1.8035237607943154E-5,6.3948536113721768E-2,null,null,4.6852761596919983,4.6434200815961653,4.4338664677971575,4.8668158466863929,4.3495453376633639,4.1604968218730676,3.7366314754200491,3.4852506252333701,3.255196023335428,3.6260087079185128,4.2081527387990496,null,null,0.6347869752891645,0.66552855992519544,0.66801073758960827,0.76414034853864465,0.68575446013211494,0.68187249298274211,0.59682396756325906,0.59721352927878213,0.59941295747262235,0.58041020567737212,0.50340118307873483]
[6375000,585000,746.71464530181095,null,235.05107955506182,0,1.8099871834807538E-5,6.3326508023429609E-2,null,null,4.612096478895503,4.5768648129963081,4.3787634027069426,4.8078485411481386,4.3059948459645581,4.1277963143932999,3.7029874910516698,3.4414692828064997,3.1997517006472038,3.5371713255663284,4.0837944552894383,null,null,0.63253506250364966,0.66325993951407924,0.6657537958631814,0.76160300148569027,0.68339088442688578,0.67946687593998611,0.5945617985008389,0.59505650978228064,0.59733007081257594,0.5783472190467015,0.50141873376567947]
[6375000,595000,711.86247666459599,null,235.05533391097512,0,1.8099216647804264E-5,6.0368620472146424E-2,null,null,4.3579893173615689,4.3457600827629355,4.1874249968886321,4.6030920504045012,4.1547712862476818,4.0142479489732539,3.5861630217797256,3.2894441232109681,3.0072283210952282,3.2286947809583388,3.6519760858743444,null,null,0.628017137593613,0.65870159537461948,0.66124874623332619,0.75652613525994661,0.6787582704260291,0.67482925822915207,0.5902892155209355,0.5910387742802572,0.59341539146110256,0.57454118179692504,0.4978691222609844]
[6385000,555000,716.812784691974,null,247.47325107978844,0,1.632839404856162E-5,5.4840901699464775E-2,null,null,4.3940820131891822,4.3785855752924796,4.2146021879589375,4.6321751100653472,4.1762506727784752,4.0303760525264511,3.6027564542874968,3.3110373668263908,3.0345738226384644,3.2725099573086611,3.7133104023335575,null,null,0.62834358741413676,0.65903221752800356,0.66157062099521147,0.75689092282105241,0.67907507943450462,0.67513328634995529,0.59055391932905643,0.5912779899106464,0.59365479347871486,0.57476135363107095,0.49805485506116121]
[6385000,565000,739.75057560672599,null,246.26207584603847,0,1.6489402837925165E-5,5.7153865905112976E-2,null,null,4.5613214467486385,4.5306860668482001,4.3405306600809261,4.7669346316895149,4.2757777475575844,4.1051073753267131,3.6796439294337455,3.4110920107965388,3.1612821796515544,3.4755323446951314,3.9975096317673353,null,null,0.63122057545576715,0.66193525450165513,0.66443819270800186,0.76012306935716079,0.68201950775401876,0.67807688818835221,0.59326121422643352,0.59382071127513625,0.59613417725870677,0.57716807682288485,0.50029355297618228]
[6385000,575000,754.66514001244798,null,245.45266346079848,0,1.6598334091600565E-5,5.8691358609970178E-2,null,null,4.6700635358307574,4.629584543422542,4.42241161866834,4.8545576975731315,4.3404920425140121,4.153699026160556,3.7296375493217253,3.4761493407342985,3.2436702334287628,3.6075411542501765,4.1823010847542301,null,null,0.6342842773211721,0.66502218747879249,0.66750665487561234,0.76357375696819219,0.68522567412061675,0.68133349956896117,0.59631621973603199,0.59672876929430008,0.59894520895360814,0.57994618735252268,0.50295419313181478]
[6385000,585000,738.527772246425,null,245.04899510097974,0,1.6653063888980018E-5,5.762571825472311E-2,null,null,4.552405987448684,4.5225776577660444,4.3338174696328737,4.7597506619477468,4.2704720037772379,4.1011234819788527,3.6755450925700162,3.4057581425389061,3.1545274138892521,3.464709312153107,3.9823590981332062,null,null,0.63101085578752902,0.66172385806537604,0.66422847296619625,0.75988706310557719,0.68180154537305471,0.67785655837865844,0.5930557305939026,0.59362590148552452,0.59594538920408124,0.57698248272078323,0.5001172830125048]
[6395000,585000,704.21200062228104,null,255.04707408633411,0,1.5373024124425568E-5,5.0724538236321629E-2,null,null,4.3022096965370507,4.295029776126345,4.1454238834163233,4.5581455036559007,4.1215758707000774,3.9893226980273919,3.5605186260858863,3.25607274671439,2.9649670914374808,3.1609804175078091,3.557186687710062,null,null,0.62771918986179087,0.65839818177073139,0.66095959567686235,0.75619573863114553,0.67849211155845246,0.6745916722302181,0.59010423607775531,0.59088607700210272,0.59325268059536218,0.57441065702268745,0.49779055956243645]
[6395000,595000,695.13416303671897,null,255.05099490101972,0,1.5372551479216081E-5,5.0069120261783846E-2,null,null,4.236023182700718,4.2348346350964832,4.0955865550715869,4.5048132078407237,4.0821871334163236,3.9597471031736307,3.5300897144990815,3.2164752191661683,2.9148211166148359,3.0806324770379989,3.4447122800249472,null,null,0.6276914333110204,0.65836547805047929,0.66094496826021543,0.75617171079952716,0.67852862926538959,0.67467595748647646,0.59023802179025264,0.59104691062970038,0.59338632103797151,0.57458633018998639,0.49802582796627237]
[]
[null,"min",{"$f":"MIN(C8:C616)","v":543.94748288737298},"sum",null,{"$f":"SUM(F8:F616)","v":0},{"$f":"SUM(G8:G616)","v":0.21342467473709573},null,null,"average",{"$f":"AVERAGE(K8:K616)","v":4.4388445076061087},{"$f":"AVERAGE(L8:L616)","v":4.4192960540304647},4.2483075911065091,4.6682441890256312,4.2028896061586769,4.0503782753779642,3.6233357824023726,3.3378175068135905,3.0684879659876843,3.3268499433303682,3.7893777875791743,null,null,{"$f":"AVERAGE(X8:X616)","v":0.64921458914777641},0.68003675940864194,0.68264171726243239,0.78051929272998288,0.70161944733929382,0.69850747476997577,0.61299735208424977,0.61302338059621531,0.61447394681276546,0.59577449734496257,0.51879981765243133]
[null,"max",{"$f":"MAX(C8:C616)","v":950.97735532047398},null,null,null,null,null,null,"min",{"$f":"MIN(K8:K616)","v":3.1337210977318364},{"$f":"MIN(L8:L616)","v":3.2323157590261702},3.2655716810516777,3.6165914619633162,3.4261881282483113,3.4671808992470612,3.0233119626384743,2.556998920354721,2.0796658954698484,1.7424791710361376,1.571509312974551,null,null,{"$f":"MIN(X8:X616)","v":0.62766221216175122},0.65833761180531991,0.66090845993867897,0.75613490057419508,0.6784609281749211,0.67457525334230217,0.59009988124935453,0.59088550384407623,0.59325006017919235,0.57441064887979032,0.49778599885579089]
[null,null,null,null,null,null,null,null,null,"max",{"$f":"MAX(K8:K616)","v":6.1013758976415753},{"$f":"MAX(L8:L616)","v":5.9313308431300626},5.5001656807094026,6.0078919625077845,5.1922907447355362,4.793284223634104,4.3876760950342284,4.3324632239079079,4.328098910790299,5.3451005719415141,6.6146094324206723,null,null,{"$f":"MAX(X8:X616)","v":0.75170442607342203},0.78351389158190665,0.78610066751564833,0.89680892570577486,0.81105550423047734,0.81081323429510899,0.719231732583824,0.71556944981891712,0.71331415977668577,0.69451921378924419,0.61434177927403155]

{"sheet":"help1","index":8,"n_rows":27,"n_cols":23,"rows_kept":27,"cut":false,"hidden":true,"merged":[]}
["Variable","i1m",null,"i2m",null,"i5m",null,"i10m",null,"i30m",null,"i60m",null,"i3h",null,"i6h",null,"i12h",null,"i24h",null,"i48h"]
[]
["q0",{"$f":"Tables!$L$4","v":15.8},null,{"$f":"Tables!$L$5","v":12.8},null,{"$f":"Tables!$L$6","v":9},null,{"$f":"Tables!$L$7","v":6},null,{"$f":"Tables!$L$8","v":3.2},null,{"$f":"Tables!$L$9","v":2.1},null,{"$f":"Tables!$L$10","v":1.1000000000000001},null,{"$f":"Tables!$L$11","v":0.73},null,{"$f":"Tables!$L$12","v":0.45},null,{"$f":"Tables!$L$13","v":0.26},null,{"$f":"Tables!$L$14","v":0.15}]
["lambda",{"$f":"Tables!$I$4","v":4.0943009723462538},null,{"$f":"Tables!$I$5","v":4.1059414823245106},null,{"$f":"Tables!$I$6","v":3.9888721215444982},null,{"$f":"Tables!$I$7","v":4.3906151573905143},null,{"$f":"Tables!$I$8","v":3.9978457987944589},null,{"$f":"Tables!$I$9","v":3.8964182098346036},null,{"$f":"Tables!$I$10","v":3.464933652352852},null,{"$f":"Tables!$I$11","v":3.1316868113255194},null,{"$f":"Tables!$I$12","v":2.8074457922425879},null,{"$f":"Tables!$I$13","v":2.9085870396703735},null,{"$f":"Tables!$I$14","v":3.2038758808627188}]
["mean",{"$f":"Tables!$I$20","v":6.2229999999999999},null,{"$f":"Tables!I21","v":5.9939999999999998},null,{"$f":"Tables!I22","v":4.8959999999999999},null,{"$f":"Tables!I23","v":3.577},null,{"$f":"Tables!I24","v":1.8220000000000001},null,{"$f":"Tables!I25","v":1.0960000000000001},null,{"$f":"Tables!I26","v":0.470310010800296},null,{"$f":"Tables!I27","v":0.27229659061453171},null,{"$f":"Tables!I28","v":0.16275091265731528},null,{"$f":"Tables!I29","v":9.6814719271548721E-2},null,{"$f":"Tables!I30","v":5.8383362448618123E-2}]
["kappa",{"$f":"Tables!$E$37","v":-0.15804015472462707},null,{"$f":"Tables!$E$38","v":-0.10964083175803419},null,{"$f":"Tables!$E$39","v":-7.4330829963412226E-2},null,{"$f":"Tables!$E$40","v":-0.12241832519714602},null,{"$f":"Tables!$E$41","v":-0.20724273933309423},null,{"$f":"Tables!$E$42","v":-0.20692128384436059},null,{"$f":"Tables!$E$43","v":-0.17518248175182505},null,{"$f":"Tables!$E$44","v":-0.18016378525932653},null,{"$f":"Tables!$E$45","v":-0.13745576457440878},null,{"$f":"Tables!$E$46","v":-0.12382739212007521},null,{"$f":"Tables!$E$47","v":-8.9415361100496638E-2}]
["V_lambda",{"$f":"Tables!$J$4","v":0.39541517672253712},null,{"$f":"Tables!$J$5","v":0.43492652077135907},null,{"$f":"Tables!$J$6","v":0.43839211483079499},null,{"$f":"Tables!$J$7","v":0.57374986962474972},null,{"$f":"Tables!$J$8","v":0.46225266800177439},null,{"$f":"Tables!$J$9","v":0.45723481548097017},null,{"$f":"Tables!$J$10","v":0.35024113243776789},null,{"$f":"Tables!$J$11","v":0.35121900944198742},null,{"$f":"Tables!$J$12","v":0.35386199295422155},null,{"$f":"Tables!$J$13","v":0.33196793611692194},null,{"$f":"Tables!$J$14","v":0.24972532639878506}]
["V_mean",{"$f":"Tables!$J$20","v":0.24111000000000002},null,{"$f":"Tables!J21","v":0.14415},null,{"$f":"Tables!J22","v":8.7299999999999989E-2},null,{"$f":"Tables!J23","v":5.0432999999999999E-2},null,{"$f":"Tables!J24","v":2.7143999999999998E-2},null,{"$f":"Tables!J25","v":1.2983999999999999E-2},null,{"$f":"Tables!J26","v":1.5470612362585292E-3},null,{"$f":"Tables!J27","v":6.3822855287681585E-4},null,{"$f":"Tables!J28","v":1.0032927582195259E-4},null,{"$f":"Tables!J29","v":2.8123492523388367E-5},null,{"$f":"Tables!J30","v":2.1876354443633002E-5}]
["V_kappa",{"$f":"Tables!$G$37","v":5.8845258979093977E-3},null,{"$f":"Tables!$G$38","v":4.6328110762261518E-3},null,{"$f":"Tables!$G$39","v":1.5950881874595754E-3},null,{"$f":"Tables!$G$40","v":1.7398963909741577E-3},null,{"$f":"Tables!$G$41","v":2.4956454726895259E-3},null,{"$f":"Tables!$G$42","v":5.3701074299806941E-3},null,{"$f":"Tables!$G$43","v":5.9002583067397632E-3},null,{"$f":"Tables!$G$44","v":4.9772986988451862E-4},null,{"$f":"Tables!$G$45","v":4.6284509328922314E-3},null,{"$f":"Tables!$G$46","v":4.1533179004050232E-3},null,{"$f":"Tables!$G$47","v":4.6437401426242409E-3}]
[]
["Min Lanbda",null,{"$f":"MIN(B4:V4)","v":2.8074457922425879}]
[]
["T","z_T","S(z_T)","z_T","S(z_T)","z_T","S(z_T)","z_T","S(z_T)","z_T","S(z_T)","z_T","S(z_T)","z_T","S(z_T)","z_T","S(z_T)","z_T","S(z_T)","z_T","S(z_T)","z_T","S(z_T)"]
[{"$f":"Beregn!B8","v":5},{"$f":"B$5*(1+B$6)/B$6*(1-(1/($A14*B$4))^B$6)+B$3","v":36.071133599040834},{"$f":"SQRT(((1+B$6)*B$5*$A14*(B$4*$A14)^(-B$6-1))^2*B$7+((1+B$6)/B$6*(1-(1/($A14*B$4))^B$6))^2*B$8+((1+B$6)*B$5*((B$4*$A14)^(-B$6)/B$6*LN(B$4*$A14)-1/B$6^2*(1-(B$4*$A14)^(-B$6))))^2*B$9)","v":3.2645720610117812},{"$f":"D$5*(1+D$6)/D$6*(1-(1/($A14*D$4))^D$6)+D$3","v":31.92001151031992},{"$f":"SQRT(((1+D$6)*D$5*$A14*(D$4*$A14)^(-D$6-1))^2*D$7+((1+D$6)/D$6*(1-(1/($A14*D$4))^D$6))^2*D$8+((1+D$6)*D$5*((D$4*$A14)^(-D$6)/D$6*LN(D$4*$A14)-1/D$6^2*(1-(D$4*$A14)^(-D$6))))^2*D$9)","v":2.6826460336173525},{"$f":"F$5*(1+F$6)/F$6*(1-(1/($A14*F$4))^F$6)+F$3","v":24.191467406292972},{"$f":"SQRT(((1+F$6)*F$5*$A14*(F$4*$A14)^(-F$6-1))^2*F$7+((1+F$6)/F$6*(1-(1/($A14*F$4))^F$6))^2*F$8+((1+F$6)*F$5*((F$4*$A14)^(-F$6)/F$6*LN(F$4*$A14)-1/F$6^2*(1-(F$4*$A14)^(-F$6))))^2*F$9)","v":1.6155896385977448},{"$f":"H$5*(1+H$6)/H$6*(1-(1/($A14*H$4))^H$6)+H$3","v":17.784402284400493},{"$f":"SQRT(((1+H$6)*H$5*$A14*(H$4*$A14)^(-H$6-1))^2*H$7+((1+H$6)/H$6*(1-(1/($A14*H$4))^H$6))^2*H$8+((1+H$6)*H$5*((H$4*$A14)^(-H$6)/H$6*LN(H$4*$A14)-1/H$6^2*(1-(H$4*$A14)^(-H$6))))^2*H$9)","v":1.3502875839064294},{"$f":"J$5*(1+J$6)/J$6*(1-(1/($A14*J$4))^J$6)+J$3","v":9.1958933615142122},{"$f":"SQRT(((1+J$6)*J$5*$A14*(J$4*$A14)^(-J$6-1))^2*J$7+((1+J$6)/J$6*(1-(1/($A14*J$4))^J$6))^2*J$8+((1+J$6)*J$5*((J$4*$A14)^(-J$6)/J$6*LN(J$4*$A14)-1/J$6^2*(1-(J$4*$A14)^(-J$6))))^2*J$9)","v":0.86457843324756767},{"$f":"L$5*(1+L$6)/L$6*(1-(1/($A14*L$4))^L$6)+L$3","v":5.6648947421532512},{"$f":"SQRT(((1+L$6)*L$5*$A14*(L$4*$A14)^(-L$6-1))^2*L$7+((1+L$6)/L$6*(1-(1/($A14*L$4))^L$6))^2*L$8+((1+L$6)*L$5*((L$4*$A14)^(-L$6)/L$6*LN(L$4*$A14)-1/L$6^2*(1-(L$4*$A14)^(-L$6))))^2*L$9)","v":0.63067823108375765},{"$f":"N$5*(1+N$6)/N$6*(1-(1/($A14*N$4))^N$6)+N$3","v":2.5352115385035594},{"$f":"SQRT(((1+N$6)*N$5*$A14*(N$4*$A14)^(-N$6-1))^2*N$7+((1+N$6)/N$6*(1-(1/($A14*N$4))^N$6))^2*N$8+((1+N$6)*N$5*((N$4*$A14)^(-N$6)/N$6*LN(N$4*$A14)-1/N$6^2*(1-(N$4*$A14)^(-N$6))))^2*N$9)","v":0.23519604242429451},{"$f":"P$5*(1+P$6)/P$6*(1-(1/($A14*P$4))^P$6)+P$3","v":1.524918782213555},{"$f":"SQRT(((1+P$6)*P$5*$A14*(P$4*$A14)^(-P$6-1))^2*P$7+((1+P$6)/P$6*(1-(1/($A14*P$4))^P$6))^2*P$8+((1+P$6)*P$5*((P$4*$A14)^(-P$6)/P$6*LN(P$4*$A14)-1/P$6^2*(1-(P$4*$A14)^(-P$6))))^2*P$9)","v":0.10461977305099421},{"$f":"R$5*(1+R$6)/R$6*(1-(1/($A14*R$4))^R$6)+R$3","v":0.89711994955499041},{"$f":"SQRT(((1+R$6)*R$5*$A14*(R$4*$A14)^(-R$6-1))^2*R$7+((1+R$6)/R$6*(1-(1/($A14*R$4))^R$6))^2*R$8+((1+R$6)*R$5*((R$4*$A14)^(-R$6)/R$6*LN(R$4*$A14)-1/R$6^2*(1-(R$4*$A14)^(-R$6))))^2*R$9)","v":6.6343525324266725E-2},{"$f":"T$5*(1+T$6)/T$6*(1-(1/($A14*T$4))^T$6)+T$3","v":0.52925721080119925},{"$f":"SQRT(((1+T$6)*T$5*$A14*(T$4*$A14)^(-T$6-1))^2*T$7+((1+T$6)/T$6*(1-(1/($A14*T$4))^T$6))^2*T$8+((1+T$6)*T$5*((T$4*$A14)^(-T$6)/T$6*LN(T$4*$A14)-1/T$6^2*(1-(T$4*$A14)^(-T$6))))^2*T$9)","v":3.6961158316438293E-2},{"$f":"V$5*(1+V$6)/V$6*(1-(1/($A14*V$4))^V$6)+V$3","v":0.31736086831756249},{"$f":"SQRT(((1+V$6)*V$5*$A14*(V$4*$A14)^(-V$6-1))^2*V$7+((1+V$6)/V$6*(1-(1/($A14*V$4))^V$6))^2*V$8+((1+V$6)*V$5*((V$4*$A14)^(-V$6)/V$6*LN(V$4*$A14)-1/V$6^2*(1-(V$4*$A14)^(-V$6))))^2*V$9)","v":2.3747805786756761E-2}]
[]
["Dur(min)","z_T","S_T"]
[1,{"$f":"B14","v":36.071133599040834},{"$f":"C14","v":3.2645720610117812}]
[2,{"$f":"D14","v":31.92001151031992},{"$f":"E14","v":2.6826460336173525}]
[5,{"$f":"F14","v":24.191467406292972},{"$f":"G14","v":1.6155896385977448}]
[10,{"$f":"H14","v":17.784402284400493},{"$f":"I14","v":1.3502875839064294}]
[30,{"$f":"J14","v":9.1958933615142122},{"$f":"K14","v":0.86457843324756767}]
[60,{"$f":"L14","v":5.6648947421532512},{"$f":"M14","v":0.63067823108375765}]
[180,{"$f":"N14","v":2.5352115385035594},{"$f":"O14","v":0.23519604242429451}]
[360,{"$f":"P14","v":1.524918782213555},{"$f":"Q14","v":0.10461977305099421}]
[720,{"$f":"R14","v":0.89711994955499041},{"$f":"S14","v":6.6343525324266725E-2}]
[1440,{"$f":"T14","v":0.52925721080119925},{"$f":"U14","v":3.6961158316438293E-2}]
[2880,{"$f":"V14","v":0.31736086831756249},{"$f":"W14","v":2.3747805786756761E-2}]

{"sheet":"help2","index":9,"n_rows":2882,"n_cols":7,"rows_kept":2882,"cut":false,"hidden":true,"merged":[]}
["CDS characteristics",null,null,null,"CDS"]
["Storm duration (h)",null,{"$f":"ROUND(Beregn!I3,0)","v":240},{"$f":"IF(C2<=0,\"ERROR\",\" \")","v":" "},"Time step","Time (h)","Intensity"]
["Time step (h)",null,{"$f":"ROUND(Beregn!I4,0)","v":1},{"$f":"IF(C2>0,IF(OR(C3<=0,C3>C2),\"ERROR\",\" \"),\" \")","v":" "},{"$f":"-INT($C$2*$C$4/$C$3)","v":-120},{"$f":"E3*$C$3","v":-120},{"$f":"IF(E3<0,$C$7*((($C$4+ABS(E3))/$C$4*$C$3+$C$8)^(-$C$9)*($C$4+ABS(E3))-(($C$4+ABS(E3)-1)/$C$4*$C$3+$C$8)^(-$C$9)*($C$4+ABS(E3)-1)),IF(AND(E3>0,E3<$C$2*(1-$C$4)/$C$3),$C$7*(((1-$C$4+E3)/(1-$C$4)*$C$3+$C$8)^(-$C$9)*(1-$C$4+E3)-((1-$C$4+E3-1)/(1-$C$4)*$C$3+$C$8)^(-$C$9)*(1-$C$4+E3-1)),IF(E3=0,$C$7*($C$3+$C$8)^(-$C$9),\" \")))","v":0.51906453565492872}]
["Storm adv. Coef.",null,{"$f":"Beregn!I5","v":0.5},{"$f":"IF(OR(C4<0,C4>1),\"ERROR\",\" \")","v":" "},{"$f":"E3+1","v":-119},-119,{"$f":"IF(E4<0,$C$7*((($C$4+ABS(E4))/$C$4*$C$3+$C$8)^(-$C$9)*($C$4+ABS(E4))-(($C$4+ABS(E4)-1)/$C$4*$C$3+$C$8)^(-$C$9)*($C$4+ABS(E4)-1)),IF(AND(E4>0,E4<$C$2*(1-$C$4)/$C$3),$C$7*(((1-$C$4+E4)/(1-$C$4)*$C$3+$C$8)^(-$C$9)*(1-$C$4+E4)-((1-$C$4+E4-1)/(1-$C$4)*$C$3+$C$8)^(-$C$9)*(1-$C$4+E4-1)),IF(E4=0,$C$7*($C$3+$C$8)^(-$C$9),\" \")))","v":0.52257851624968921}]
[null,null,null,null,-118,-118,0.52614765481800019]
["IDF characteristics",null,null,null,-117,-117,0.52977331400962246]
["Alpha",null,{"$f":"Beregn!U4","v":137.31087326207228},{"$f":"IF(C7<=0,\"ERROR\",\" \")","v":" "},-116,-116,0.53345690254050848]
["Theta",null,{"$f":"Beregn!U5","v":4.7433480889129633},{"$f":"IF(C8<0,\"ERROR\",\" \")","v":" "},-115,-115,0.53719987717792028]
["Nu",null,{"$f":"Beregn!U7","v":0.76322873200607289},{"$f":"IF(OR(C9<=0,C9>=1),\"ERROR\",\" \")","v":" "},-114,-114,0.5410037448240872]
[null,null,null,null,-113,-113,0.54487006471179]
[null,null,null,null,-112,-112,0.54880045071909644]
[null,null,null,null,-111,-111,0.55279657380272917]
[null,null,null,null,-110,-110,0.55686016457138054]
[null,null,null,null,-109,-109,0.56099301599394003]
[null,null,null,null,-108,-108,0.56519698625852222]
[null,null,null,null,-107,-107,0.56947400179564744]
[null,null,null,null,-106,-106,0.57382606046338147]
[null,null,null,null,-105,-105,0.57825523492336706]
[null,null,null,null,-104,-104,0.58276367620226055]
[null,null,null,null,-103,-103,0.58735361746662229]
[null,null,null,null,-102,-102,0.59202737801333505]
[null,null,null,null,-101,-101,0.59678736750195438]
[null,null,null,null,-100,-100,0.60163609043389765]
[null,null,null,null,-99,-99,0.60657615090798811]
[null,null,null,null,-98,-98,0.61161025766219934]
[null,null,null,null,-97,-97,0.61674122942907272]
[null,null,null,null,-96,-96,0.62197200062130154]
[null,null,null,null,-95,-95,0.6273056273804406]
[null,null,null,null,-94,-94,0.63274529400599822]
[null,null,null,null,-93,-93,0.63829431980043139]
[null,null,null,null,-92,-92,0.64395616636144593]
[null,null,null,null,-91,-91,0.64973444534739722]
[null,null,null,null,-90,-90,0.65563292676920792]
[null,null,null,null,-89,-89,0.66165554783105984]
[null,null,null,null,-88,-88,0.66780642237757504]
[null,null,null,null,-87,-87,0.6740898509909039]
[null,null,null,null,-86,-86,0.68051033179028331]
[null,null,null,null,-85,-85,0.68707257199360905]
[null,null,null,null,-84,-84,0.69378150030325236]
[null,null,null,null,-83,-83,0.70064228018621377]
[null,null,null,null,-82,-82,0.70766032412694169]
[null,null,null,null,-81,-81,0.71484130893065456]
[null,null,null,null,-80,-80,0.72219119217884697]
[null,null,null,null,-79,-79,0.72971622993021656]
[null,null,null,null,-78,-78,0.73742299578448578]
[null,null,null,null,-77,-77,0.74531840142887995]
[null,null,null,null,-76,-76,0.75340971880982877]
[null,null,null,null,-75,-75,0.76170460407480622]
[null,null,null,null,-74,-74,0.77021112345870735]
[null,null,null,null,-73,-73,0.77893778129388369]
[null,null,null,null,-72,-72,0.78789355036013042]
[null,null,null,null,-71,-71,0.79708790479542391]
[null,null,null,null,-70,-70,0.80653085583327833]
[null,null,null,null,-69,-69,0.81623299064508481]
[null,null,null,null,-68,-68,0.82620551461622882]
[null,null,null,null,-67,-67,0.83646029740706895]
[null,null,null,null,-66,-66,0.84700992320800095]
[null,null,null,null,-65,-65,0.85786774563579205]
[null,null,null,null,-64,-64,0.86904794778087191]
[null,null,null,null,-63,-63,0.880565607982711]
[null,null,null,null,-62,-62,0.89243677197401172]
[null,null,null,null,-61,-61,0.90467853213045679]
[null,null,null,null,-60,-60,0.91730911465717502]
[null,null,null,null,-59,-59,0.93034797564931515]
[null,null,null,null,-58,-58,0.94381590710616592]
[null,null,null,null,-57,-57,0.95773515411530552]
[null,null,null,null,-56,{"$f":"E67*$C$3","v":-56},0.97212954461309586]
[null,null,null,null,{"$f":"E67+1","v":-55},-55,{"$f":"IF(E68<0,$C$7*((($C$4+ABS(E68))/$C$4*$C$3+$C$8)^(-$C$9)*($C$4+ABS(E68))-(($C$4+ABS(E68)-1)/$C$4*$C$3+$C$8)^(-$C$9)*($C$4+ABS(E68)-1)),IF(AND(E68>0,E68<$C$2*(1-$C$4)/$C$3),$C$7*(((1-$C$4+E68)/(1-$C$4)*$C$3+$C$8)^(-$C$9)*(1-$C$4+E68)-((1-$C$4+E68-1)/(1-$C$4)*$C$3+$C$8)^(-$C$9)*(1-$C$4+E68-1)),IF(E68=0,$C$7*($C$3+$C$8)^(-$C$9),\" \")))","v":0.98702463331591739}]
[null,null,null,null,-54,-54,1.0024478616650621]
[null,null,null,null,-53,-53,1.0184287359038524]
[null,null,null,null,-52,-52,1.0349990257235269]
[null,null,null,null,-51,-51,1.0521929863085313]
[null,null,null,null,-50,-50,1.0700476070561806]
[null,null,null,null,-49,-49,1.0886028907804568]
[null,null,null,null,-48,-48,1.1079021678475502]
[null,null,null,null,-47,-47,1.1279924504420877]
[null,null,null,null,-46,-46,1.1489248330700184]
[null,null,null,null,-45,-45,1.170754946480757]
[null,null,null,null,-44,-44,1.1935434734981021]
[null,null,null,null,-43,-43,1.2173567368232359]
[null,null,null,null,-42,-42,1.2422673707782548]
[null,null,null,null,-41,-41,1.2683550912891826]
[null,null,null,null,-40,-40,1.2957075812459786]
[null,null,null,null,-39,-39,1.3244215118819136]
[null,null,null,null,-38,-38,1.354603725119742]
[null,null,null,null,-37,-37,1.3863726072021858]
[null,null,null,null,-36,-36,1.4198596905911867]
[null,null,null,null,-35,-35,1.4552115295200716]
[null,null,null,null,-34,-34,1.4925919051316319]
[null,null,null,null,-33,-33,1.5321844295738358]
[null,null,null,null,-32,-32,1.5741956355380582]
[null,null,null,null,-31,-31,1.6188586597667372]
[null,null,null,null,-30,-30,1.6664376575675204]
[null,null,null,null,-29,-29,1.7172331225770425]
[null,null,null,null,-28,-28,1.7715883349290324]
[null,null,null,null,-27,-27,1.8298972258270318]
[null,null,null,null,-26,-26,1.8926140332732437]
[null,null,null,null,-25,-25,1.96026524083173]
[null,null,null,null,-24,-24,2.0334644511085544]
[null,null,null,null,-23,-23,2.1129310659493616]
[null,null,null,null,-22,-22,2.1995139527167793]
[null,null,null,null,-21,-21,2.2942217101101359]
[null,null,null,null,-20,-20,2.3982617683934677]
[null,null,null,null,-19,-19,2.5130914613477988]
[null,null,null,null,-18,-18,2.6404855386430213]
[null,null,null,null,-17,-17,2.7826265852222578]
[null,null,null,null,-16,-16,2.9422278688411421]
[null,null,null,null,-15,-15,3.1227029032021227]
[null,null,null,null,-14,-14,3.3284036207558723]
[null,null,null,null,-13,-13,3.564961494899431]
[null,null,null,null,-12,-12,3.8397868872960923]
[null,null,null,null,-11,-11,4.162818226734081]
[null,null,null,null,-10,-10,4.5476779247805297]
[null,null,null,null,-9,-9,5.0135140875050386]
[null,null,null,null,-8,-8,5.5880463545202756]
[null,null,null,null,-7,-7,6.3128286573514707]
[null,null,null,null,-6,-6,7.2528301737303362]
[null,null,null,null,-5,-5,8.5150208649864467]
[null,null,null,null,-4,-4,10.287387072174896]
[null,null,null,null,-3,-3,12.92956492287461]
[null,null,null,null,-2,-2,17.213925870717322]
[null,null,null,null,-1,-1,25.103231332174417]
[null,null,null,null,0,0,36.164984484799405]
[null,null,null,null,1,1,25.103231332174417]
[null,null,null,null,2,2,17.213925870717322]
[null,null,null,null,3,3,12.92956492287461]
[null,null,null,null,4,4,10.287387072174896]
[null,null,null,null,5,5,8.5150208649864467]
[null,null,null,null,6,6,7.2528301737303362]
[null,null,null,null,7,7,6.3128286573514707]
[null,null,null,null,8,{"$f":"E131*$C$3","v":8},5.5880463545202756]
[null,null,null,null,{"$f":"E131+1","v":9},9,{"$f":"IF(E132<0,$C$7*((($C$4+ABS(E132))/$C$4*$C$3+$C$8)^(-$C$9)*($C$4+ABS(E132))-(($C$4+ABS(E132)-1)/$C$4*$C$3+$C$8)^(-$C$9)*($C$4+ABS(E132)-1)),IF(AND(E132>0,E132<$C$2*(1-$C$4)/$C$3),$C$7*(((1-$C$4+E132)/(1-$C$4)*$C$3+$C$8)^(-$C$9)*(1-$C$4+E132)-((1-$C$4+E132-1)/(1-$C$4)*$C$3+$C$8)^(-$C$9)*(1-$C$4+E132-1)),IF(E132=0,$C$7*($C$3+$C$8)^(-$C$9),\" \")))","v":5.0135140875050386}]
[null,null,null,null,10,10,4.5476779247805297]
[null,null,null,null,11,11,4.162818226734081]
[null,null,null,null,12,12,3.8397868872960923]
[null,null,null,null,13,13,3.564961494899431]
[null,null,null,null,14,14,3.3284036207558723]
[null,null,null,null,15,15,3.1227029032021227]
[null,null,null,null,16,16,2.9422278688411421]
[null,null,null,null,17,17,2.7826265852222578]
[null,null,null,null,18,18,2.6404855386430213]
[null,null,null,null,19,19,2.5130914613477988]
[null,null,null,null,20,20,2.3982617683934677]
[null,null,null,null,21,21,2.2942217101101359]
[null,null,null,null,22,22,2.1995139527167793]
[null,null,null,null,23,23,2.1129310659493616]
[null,null,null,null,24,24,2.0334644511085544]
[null,null,null,null,25,25,1.96026524083173]
[null,null,null,null,26,26,1.8926140332732437]
[null,null,null,null,27,27,1.8298972258270318]
[null,null,null,null,28,28,1.7715883349290324]
[null,null,null,null,29,29,1.7172331225770425]
[null,null,null,null,30,30,1.6664376575675204]
[null,null,null,null,31,31,1.6188586597667372]
[null,null,null,null,32,32,1.5741956355380582]
[null,null,null,null,33,33,1.5321844295738358]
[null,null,null,null,34,34,1.4925919051316319]
[null,null,null,null,35,35,1.4552115295200716]
[null,null,null,null,36,36,1.4198596905911867]
[null,null,null,null,37,37,1.3863726072021858]
[null,null,null,null,38,38,1.354603725119742]
[null,null,null,null,39,39,1.3244215118819136]
[null,null,null,null,40,40,1.2957075812459786]
[null,null,null,null,41,41,1.2683550912891826]
[null,null,null,null,42,42,1.2422673707782548]
[null,null,null,null,43,43,1.2173567368232359]
[null,null,null,null,44,44,1.1935434734981021]
[null,null,null,null,45,45,1.170754946480757]
[null,null,null,null,46,46,1.1489248330700184]
[null,null,null,null,47,47,1.1279924504420877]
[null,null,null,null,48,48,1.1079021678475502]
[null,null,null,null,49,49,1.0886028907804568]
[null,null,null,null,50,50,1.0700476070561806]
[null,null,null,null,51,51,1.0521929863085313]
[null,null,null,null,52,52,1.0349990257235269]
[null,null,null,null,53,53,1.0184287359038524]
[null,null,null,null,54,54,1.0024478616650621]
[null,null,null,null,55,55,0.98702463331591739]
[null,null,null,null,56,56,0.97212954461309586]
[null,null,null,null,57,57,0.95773515411530552]
[null,null,null,null,58,58,0.94381590710616592]
[null,null,null,null,59,59,0.93034797564931515]
[null,null,null,null,60,60,0.91730911465717502]
[null,null,null,null,61,61,0.90467853213045679]
[null,null,null,null,62,62,0.89243677197401172]
[null,null,null,null,63,63,0.880565607982711]
[null,null,null,null,64,64,0.86904794778087191]
[null,null,null,null,65,65,0.85786774563579205]
[null,null,null,null,66,66,0.84700992320800095]
[null,null,null,null,67,67,0.83646029740706895]
[null,null,null,null,68,68,0.82620551461622882]
[null,null,null,null,69,69,0.81623299064508481]
[null,null,null,null,70,70,0.80653085583327833]
[null,null,null,null,71,71,0.79708790479542391]
[null,null,null,null,72,{"$f":"E195*$C$3","v":72},0.78789355036013042]
[null,null,null,null,{"$f":"E195+1","v":73},73,{"$f":"IF(E196<0,$C$7*((($C$4+ABS(E196))/$C$4*$C$3+$C$8)^(-$C$9)*($C$4+ABS(E196))-(($C$4+ABS(E196)-1)/$C$4*$C$3+$C$8)^(-$C$9)*($C$4+ABS(E196)-1)),IF(AND(E196>0,E196<$C$2*(1-$C$4)/$C$3),$C$7*(((1-$C$4+E196)/(1-$C$4)*$C$3+$C$8)^(-$C$9)*(1-$C$4+E196)-((1-$C$4+E196-1)/(1-$C$4)*$C$3+$C$8)^(-$C$9)*(1-$C$4+E196-1)),IF(E196=0,$C$7*($C$3+$C$8)^(-$C$9),\" \")))","v":0.77893778129388369}]
[null,null,null,null,74,74,0.77021112345870735]
[null,null,null,null,75,75,0.76170460407480622]
[null,null,null,null,76,76,0.75340971880982877]
[null,null,null,null,77,77,0.74531840142887995]
[null,null,null,null,78,78,0.73742299578448578]
[null,null,null,null,79,79,0.72971622993021656]
[null,null,null,null,80,80,0.72219119217884697]
[null,null,null,null,81,81,0.71484130893065456]
[null,null,null,null,82,82,0.70766032412694169]
[null,null,null,null,83,83,0.70064228018621377]
[null,null,null,null,84,84,0.69378150030325236]
[null,null,null,null,85,85,0.68707257199360905]
[null,null,null,null,86,86,0.68051033179028331]
[null,null,null,null,87,87,0.6740898509909039]
[null,null,null,null,88,88,0.66780642237757504]
[null,null,null,null,89,89,0.66165554783105984]
[null,null,null,null,90,90,0.65563292676920792]
[null,null,null,null,91,91,0.64973444534739722]
[null,null,null,null,92,92,0.64395616636144593]
[null,null,null,null,93,93,0.63829431980043139]
[null,null,null,null,94,94,0.63274529400599822]
[null,null,null,null,95,95,0.6273056273804406]
[null,null,null,null,96,96,0.62197200062130154]
[null,null,null,null,97,97,0.61674122942907272]
[null,null,null,null,98,98,0.61161025766219934]
[null,null,null,null,99,99,0.60657615090798811]
[null,null,null,null,100,100,0.60163609043389765]
[null,null,null,null,101,101,0.59678736750195438]
[null,null,null,null,102,102,0.59202737801333505]
[null,null,null,null,103,103,0.58735361746662229]
[null,null,null,null,104,104,0.58276367620226055]
[null,null,null,null,105,105,0.57825523492336706]
[null,null,null,null,106,106,0.57382606046338147]
[null,null,null,null,107,107,0.56947400179564744]
[null,null,null,null,108,108,0.56519698625852222]
[null,null,null,null,109,109,0.56099301599394003]
[null,null,null,null,110,110,0.55686016457138054]
[null,null,null,null,111,111,0.55279657380272917]
[null,null,null,null,112,112,0.54880045071909644]
[null,null,null,null,113,113,0.54487006471179]
[null,null,null,null,114,114,0.5410037448240872]
[null,null,null,null,115,115,0.53719987717792028]
[null,null,null,null,116,116,0.53345690254050848]
[null,null,null,null,117,117,0.52977331400962246]
[null,null,null,null,118,118,0.52614765481800019]
[null,null,null,null,119,119,0.52257851624968921]
[null,null,null,null,120,120," "]
[null,null,null,null,121,121," "]
[null,null,null,null,122,122," "]
[null,null,null,null,123,123," "]
[null,null,null,null,124,124," "]
[null,null,null,null,125,125," "]
[null,null,null,null,126,126," "]
[null,null,null,null,127,127," "]
[null,null,null,null,128,128," "]
[null,null,null,null,129,129," "]
[null,null,null,null,130,130," "]
[null,null,null,null,131,131," "]
[null,null,null,null,132,132," "]
[null,null,null,null,133,133," "]
[null,null,null,null,134,134," "]
[null,null,null,null,135,135," "]
[null,null,null,null,136,{"$f":"E259*$C$3","v":136}," "]
[null,null,null,null,{"$f":"E259+1","v":137},137,{"$f":"IF(E260<0,$C$7*((($C$4+ABS(E260))/$C$4*$C$3+$C$8)^(-$C$9)*($C$4+ABS(E260))-(($C$4+ABS(E260)-1)/$C$4*$C$3+$C$8)^(-$C$9)*($C$4+ABS(E260)-1)),IF(AND(E260>0,E260<$C$2*(1-$C$4)/$C$3),$C$7*(((1-$C$4+E260)/(1-$C$4)*$C$3+$C$8)^(-$C$9)*(1-$C$4+E260)-((1-$C$4+E260-1)/(1-$C$4)*$C$3+$C$8)^(-$C$9)*(1-$C$4+E260-1)),IF(E260=0,$C$7*($C$3+$C$8)^(-$C$9),\" \")))","v":" "}]
[null,null,null,null,138,138," "]
[null,null,null,null,139,139," "]
[null,null,null,null,140,140," "]
[null,null,null,null,141,141," "]
[null,null,null,null,142,142," "]
[null,null,null,null,143,143," "]
[null,null,null,null,144,144," "]
[null,null,null,null,145,145," "]
[null,null,null,null,146,146," "]
[null,null,null,null,147,147," "]
[null,null,null,null,148,148," "]
[null,null,null,null,149,149," "]
[null,null,null,null,150,150," "]
[null,null,null,null,151,151," "]
[null,null,null,null,152,152," "]
[null,null,null,null,153,153," "]
[null,null,null,null,154,154," "]
[null,null,null,null,155,155," "]
[null,null,null,null,156,156," "]
[null,null,null,null,157,157," "]
[null,null,null,null,158,158," "]
[null,null,null,null,159,159," "]
[null,null,null,null,160,160," "]
[null,null,null,null,161,161," "]
[null,null,null,null,162,162," "]
[null,null,null,null,163,163," "]
[null,null,null,null,164,164," "]
[null,null,null,null,165,165," "]
[null,null,null,null,166,166," "]
[null,null,null,null,167,167," "]
[null,null,null,null,168,168," "]
[null,null,null,null,{"$f":"E291+1","v":169},169,{"$f":"IF(E292<0,$C$7*((($C$4+ABS(E292))/$C$4*$C$3+$C$8)^(-$C$9)*($C$4+ABS(E292))-(($C$4+ABS(E292)-1)/$C$4*$C$3+$C$8)^(-$C$9)*($C$4+ABS(E292)-1)),IF(AND(E292>0,E292<$C$2*(1-$C$4)/$C$3),$C$7*(((1-$C$4+E292)/(1-$C$4)*$C$3+$C$8)^(-$C$9)*(1-$C$4+E292)-((1-$C$4+E292-1)/(1-$C$4)*$C$3+$C$8)^(-$C$9)*(1-$C$4+E292-1)),IF(E292=0,$C$7*($C$3+$C$8)^(-$C$9),\" \")))","v":" "}]
[null,null,null,null,170,170," "]
[null,null,null,null,171,171," "]
[null,null,null,null,172,172," "]
[null,null,null,null,173,173," "]
[null,null,null,null,174,174," "]
[null,null,null,null,175,175," "]
[null,null,null,null,176,176," "]
[null,null,null,null,177,177," "]
[null,null,null,null,178,178," "]
[null,null,null,null,179,179," "]
[null,null,null,null,180,180," "]
[null,null,null,null,181,181," "]
[null,null,null,null,182,182," "]
[null,null,null,null,183,183," "]
[null,null,null,null,184,184," "]
[null,null,null,null,185,185," "]
[null,null,null,null,186,186," "]
[null,null,null,null,187,187," "]
[null,null,null,null,188,188," "]
[null,null,null,null,189,189," "]
[null,null,null,null,190,190," "]
[null,null,null,null,191,191," "]
[null,null,null,null,192,192," "]
[null,null,null,null,193,193," "]
[null,null,null,null,194,194," "]
[null,null,null,null,195,195," "]
[null,null,null,null,196,196," "]
[null,null,null,null,197,197," "]
[null,null,null,null,198,198," "]
[null,null,null,null,199,199," "]
[null,null,null,null,200,{"$f":"E323*$C$3","v":200}," "]
[null,null,null,null,201,201," "]
[null,null,null,null,202,202," "]
[null,null,null,null,203,203," "]
[null,null,null,null,204,204," "]
[null,null,null,null,205,205," "]
[null,null,null,null,206,206," "]
[null,null,null,null,207,207," "]
[null,null,null,null,208,208," "]
[null,null,null,null,209,209," "]
[null,null,null,null,210,210," "]
[null,null,null,null,211,211," "]
[null,null,null,null,212,212," "]
[null,null,null,null,213,213," "]
[null,null,null,null,214,214," "]
[null,null,null,null,215,215," "]
[null,null,null,null,216,216," "]
[null,null,null,null,217,217," "]
[null,null,null,null,218,218," "]
[null,null,null,null,219,219," "]
[null,null,null,null,220,220," "]
[null,null,null,null,221,221," "]
[null,null,null,null,222,222," "]
[null,null,null,null,223,223," "]
[null,null,null,null,224,224," "]
[null,null,null,null,225,225," "]
[null,null,null,null,226,226," "]
[null,null,null,null,227,227," "]
[null,null,null,null,228,228," "]
[null,null,null,null,229,229," "]
[null,null,null,null,230,230," "]
[null,null,null,null,231,231," "]
[null,null,null,null,232,232," "]
[null,null,null,null,{"$f":"E355+1","v":233},233,{"$f":"IF(E356<0,$C$7*((($C$4+ABS(E356))/$C$4*$C$3+$C$8)^(-$C$9)*($C$4+ABS(E356))-(($C$4+ABS(E356)-1)/$C$4*$C$3+$C$8)^(-$C$9)*($C$4+ABS(E356)-1)),IF(AND(E356>0,E356<$C$2*(1-$C$4)/$C$3),$C$7*(((1-$C$4+E356)/(1-$C$4)*$C$3+$C$8)^(-$C$9)*(1-$C$4+E356)-((1-$C$4+E356-1)/(1-$C$4)*$C$3+$C$8)^(-$C$9)*(1-$C$4+E356-1)),IF(E356=0,$C$7*($C$3+$C$8)^(-$C$9),\" \")))","v":" "}]
[null,null,null,null,234,234," "]
[null,null,null,null,235,235," "]
[null,null,null,null,236,236," "]
[null,null,null,null,237,237," "]
[null,null,null,null,238,238," "]
[null,null,null,null,239,239," "]
[null,null,null,null,240,240," "]
[null,null,null,null,241,241," "]
[null,null,null,null,242,242," "]
[null,null,null,null,243,243," "]
[null,null,null,null,244,244," "]
[null,null,null,null,245,245," "]
[null,null,null,null,246,246," "]
[null,null,null,null,247,247," "]
[null,null,null,null,248,248," "]
[null,null,null,null,249,249," "]
[null,null,null,null,250,250," "]
[null,null,null,null,251,251," "]
[null,null,null,null,252,252," "]
[null,null,null,null,253,253," "]
[null,null,null,null,254,254," "]
[null,null,null,null,255,255," "]
[null,null,null,null,256,256," "]
[null,null,null,null,257,257," "]
[null,null,null,null,258,258," "]
[null,null,null,null,259,259," "]
[null,null,null,null,260,260," "]
[null,null,null,null,261,261," "]
[null,null,null,null,262,262," "]
[null,null,null,null,263,263," "]
[null,null,null,null,264,{"$f":"E387*$C$3","v":264}," "]
[null,null,null,null,265,265," "]
[null,null,null,null,266,266," "]
[null,null,null,null,267,267," "]
[null,null,null,null,268,268," "]
[null,null,null,null,269,269," "]
[null,null,null,null,270,270," "]
[null,null,null,null,271,271," "]
[null,null,null,null,272,272," "]
[null,null,null,null,273,273," "]
[null,null,null,null,274,274," "]
[null,null,null,null,275,275," "]
[null,null,null,null,276,276," "]
[null,null,null,null,277,277," "]
[null,null,null,null,278,278," "]
[null,null,null,null,279,279," "]
[null,null,null,null,280,280," "]
[null,null,null,null,281,281," "]
[null,null,null,null,282,282," "]
[null,null,null,null,283,283," "]
[null,null,null,null,284,284," "]
[null,null,null,null,285,285," "]
[null,null,null,null,286,286," "]
[null,null,null,null,287,287," "]
[null,null,null,null,288,288," "]
[null,null,null,null,289,289," "]
[null,null,null,null,290,290," "]
[null,null,null,null,291,291," "]
[null,null,null,null,292,292," "]
[null,null,null,null,293,293," "]
[null,null,null,null,294,294," "]
[null,null,null,null,295,295," "]
[null,null,null,null,296,296," "]
[null,null,null,null,{"$f":"E419+1","v":297},297,{"$f":"IF(E420<0,$C$7*((($C$4+ABS(E420))/$C$4*$C$3+$C$8)^(-$C$9)*($C$4+ABS(E420))-(($C$4+ABS(E420)-1)/$C$4*$C$3+$C$8)^(-$C$9)*($C$4+ABS(E420)-1)),IF(AND(E420>0,E420<$C$2*(1-$C$4)/$C$3),$C$7*(((1-$C$4+E420)/(1-$C$4)*$C$3+$C$8)^(-$C$9)*(1-$C$4+E420)-((1-$C$4+E420-1)/(1-$C$4)*$C$3+$C$8)^(-$C$9)*(1-$C$4+E420-1)),IF(E420=0,$C$7*($C$3+$C$8)^(-$C$9),\" \")))","v":" "}]
[null,null,null,null,298,298," "]
[null,null,null,null,299,299," "]
[null,null,null,null,300,300," "]
[null,null,null,null,301,301," "]
[null,null,null,null,302,302," "]
[null,null,null,null,303,303," "]
[null,null,null,null,304,304," "]
[null,null,null,null,305,305," "]
[null,null,null,null,306,306," "]
[null,null,null,null,307,307," "]
[null,null,null,null,308,308," "]
[null,null,null,null,309,309," "]
[null,null,null,null,310,310," "]
[null,null,null,null,311,311," "]
[null,null,null,null,312,312," "]
[null,null,null,null,313,313," "]
[null,null,null,null,314,314," "]
[null,null,null,null,315,315," "]
[null,null,null,null,316,316," "]
[null,null,null,null,317,317," "]
[null,null,null,null,318,318," "]
[null,null,null,null,319,319," "]
[null,null,null,null,320,320," "]
[null,null,null,null,321,321," "]
[null,null,null,null,322,322," "]
[null,null,null,null,323,323," "]
[null,null,null,null,324,324," "]
[null,null,null,null,325,325," "]
[null,null,null,null,326,326," "]
[null,null,null,null,327,327," "]
[null,null,null,null,328,{"$f":"E451*$C$3","v":328}," "]
[null,null,null,null,329,329," "]
[null,null,null,null,330,330," "]
[null,null,null,null,331,331," "]
[null,null,null,null,332,332," "]
[null,null,null,null,333,333," "]
[null,null,null,null,334,334," "]
[null,null,null,null,335,335," "]
[null,null,null,null,336,336," "]
[null,null,null,null,337,337," "]
[null,null,null,null,338,338," "]
[null,null,null,null,339,339," "]
[null,null,null,null,340,340," "]
[null,null,null,null,341,341," "]
[null,null,null,null,342,342," "]
[null,null,null,null,343,343," "]
[null,null,null,null,344,344," "]
[null,null,null,null,345,345," "]
[null,null,null,null,346,346," "]
[null,null,null,null,347,347," "]
[null,null,null,null,348,348," "]
[null,null,null,null,349,349," "]
[null,null,null,null,350,350," "]
[null,null,null,null,351,351," "]
[null,null,null,null,352,352," "]
[null,null,null,null,353,353," "]
[null,null,null,null,354,354," "]
[null,null,null,null,355,355," "]
[null,null,null,null,356,356," "]
[null,null,null,null,357,357," "]
[null,null,null,null,358,358," "]
[null,null,null,null,359,359," "]
[null,null,null,null,360,360," "]
[null,null,null,null,{"$f":"E483+1","v":361},361,{"$f":"IF(E484<0,$C$7*((($C$4+ABS(E484))/$C$4*$C$3+$C$8)^(-$C$9)*($C$4+ABS(E484))-(($C$4+ABS(E484)-1)/$C$4*$C$3+$C$8)^(-$C$9)*($C$4+ABS(E484)-1)),IF(AND(E484>0,E484<$C$2*(1-$C$4)/$C$3),$C$7*(((1-$C$4+E484)/(1-$C$4)*$C$3+$C$8)^(-$C$9)*(1-$C$4+E484)-((1-$C$4+E484-1)/(1-$C$4)*$C$3+$C$8)^(-$C$9)*(1-$C$4+E484-1)),IF(E484=0,$C$7*($C$3+$C$8)^(-$C$9),\" \")))","v":" "}]
[null,null,null,null,362,362," "]
[null,null,null,null,363,363," "]
[null,null,null,null,364,364," "]
[null,null,null,null,365,365," "]
[null,null,null,null,366,366," "]
[null,null,null,null,367,367," "]
[null,null,null,null,368,368," "]
[null,null,null,null,369,369," "]
[null,null,null,null,370,370," "]
[null,null,null,null,371,371," "]
[null,null,null,null,372,372," "]
[null,null,null,null,373,373," "]
[null,null,null,null,374,374," "]
[null,null,null,null,375,375," "]
[null,null,null,null,376,376," "]
[null,null,null,null,377,377," "]
[null,null,null,null,378,378," "]
[null,null,null,null,379,379," "]
[null,null,null,null,380,380," "]
[null,null,null,null,381,381," "]
[null,null,null,null,382,382," "]
[null,null,null,null,383,383," "]
[null,null,null,null,384,384," "]
[null,null,null,null,385,385," "]
[null,null,null,null,386,386," "]
[null,null,null,null,387,387," "]
[null,null,null,null,388,388," "]
[null,null,null,null,389,389," "]
[null,null,null,null,390,390," "]
[null,null,null,null,391,391," "]
[null,null,null,null,392,{"$f":"E515*$C$3","v":392}," "]
[null,null,null,null,393,393," "]
[null,null,null,null,394,394," "]
[null,null,null,null,395,395," "]
[null,null,null,null,396,396," "]
[null,null,null,null,397,397," "]
[null,null,null,null,398,398," "]
[null,null,null,null,399,399," "]
[null,null,null,null,400,400," "]
[null,null,null,null,401,401," "]
[null,null,null,null,402,402," "]
[null,null,null,null,403,403," "]
[null,null,null,null,404,404," "]
[null,null,null,null,405,405," "]
[null,null,null,null,406,406," "]
[null,null,null,null,407,407," "]
[null,null,null,null,408,408," "]
[null,null,null,null,409,409," "]
[null,null,null,null,410,410," "]
[null,null,null,null,411,411," "]
[null,null,null,null,412,412," "]
[null,null,null,null,413,413," "]
[null,null,null,null,414,414," "]
[null,null,null,null,415,415," "]
[null,null,null,null,416,416," "]
[null,null,null,null,417,417," "]
[null,null,null,null,418,418," "]
[null,null,null,null,419,419," "]
[null,null,null,null,420,420," "]
[null,null,null,null,421,421," "]
[null,null,null,null,422,422," "]
[null,null,null,null,423,423," "]
[null,null,null,null,424,424," "]
[null,null,null,null,{"$f":"E547+1","v":425},425,{"$f":"IF(E548<0,$C$7*((($C$4+ABS(E548))/$C$4*$C$3+$C$8)^(-$C$9)*($C$4+ABS(E548))-(($C$4+ABS(E548)-1)/$C$4*$C$3+$C$8)^(-$C$9)*($C$4+ABS(E548)-1)),IF(AND(E548>0,E548<$C$2*(1-$C$4)/$C$3),$C$7*(((1-$C$4+E548)/(1-$C$4)*$C$3+$C$8)^(-$C$9)*(1-$C$4+E548)-((1-$C$4+E548-1)/(1-$C$4)*$C$3+$C$8)^(-$C$9)*(1-$C$4+E548-1)),IF(E548=0,$C$7*($C$3+$C$8)^(-$C$9),\" \")))","v":" "}]
[null,null,null,null,426,426," "]
[null,null,null,null,427,427," "]
[null,null,null,null,428,428," "]
[null,null,null,null,429,429," "]
[null,null,null,null,430,430," "]
[null,null,null,null,431,431," "]
[null,null,null,null,432,432," "]
[null,null,null,null,433,433," "]
[null,null,null,null,434,434," "]
[null,null,null,null,435,435," "]
[null,null,null,null,436,436," "]
[null,null,null,null,437,437," "]
[null,null,null,null,438,438," "]
[null,null,null,null,439,439," "]
[null,null,null,null,440,440," "]
[null,null,null,null,441,441," "]
[null,null,null,null,442,442," "]
[null,null,null,null,443,443," "]
[null,null,null,null,444,444," "]
[null,null,null,null,445,445," "]
[null,null,null,null,446,446," "]
[null,null,null,null,447,447," "]
[null,null,null,null,448,448," "]
[null,null,null,null,449,449," "]
[null,null,null,null,450,450," "]
[null,null,null,null,451,451," "]
[null,null,null,null,452,452," "]
[null,null,null,null,453,453," "]
[null,null,null,null,454,454," "]
[null,null,null,null,455,455," "]
[null,null,null,null,456,{"$f":"E579*$C$3","v":456}," "]
[null,null,null,null,457,457," "]
[null,null,null,null,458,458," "]
[null,null,null,null,459,459," "]
[null,null,null,null,460,460," "]
[null,null,null,null,461,461," "]
[null,null,null,null,462,462," "]
[null,null,null,null,463,463," "]
[null,null,null,null,464,464," "]
[null,null,null,null,465,465," "]
[null,null,null,null,466,466," "]
[null,null,null,null,467,467," "]
[null,null,null,null,468,468," "]
[null,null,null,null,469,469," "]
[null,null,null,null,470,470," "]
[null,null,null,null,471,471," "]
[null,null,null,null,472,472," "]
[null,null,null,null,473,473," "]
[null,null,null,null,474,474," "]
[null,null,null,null,475,475," "]
[null,null,null,null,476,476," "]
[null,null,null,null,477,477," "]
[null,null,null,null,478,478," "]
[null,null,null,null,479,479," "]
[null,null,null,null,480,480," "]
[null,null,null,null,481,481," "]
[null,null,null,null,482,482," "]
[null,null,null,null,483,483," "]
[null,null,null,null,484,484," "]
[null,null,null,null,485,485," "]
[null,null,null,null,486,486," "]
[null,null,null,null,487,487," "]
[null,null,null,null,488,488," "]
[null,null,null,null,{"$f":"E611+1","v":489},489,{"$f":"IF(E612<0,$C$7*((($C$4+ABS(E612))/$C$4*$C$3+$C$8)^(-$C$9)*($C$4+ABS(E612))-(($C$4+ABS(E612)-1)/$C$4*$C$3+$C$8)^(-$C$9)*($C$4+ABS(E612)-1)),IF(AND(E612>0,E612<$C$2*(1-$C$4)/$C$3),$C$7*(((1-$C$4+E612)/(1-$C$4)*$C$3+$C$8)^(-$C$9)*(1-$C$4+E612)-((1-$C$4+E612-1)/(1-$C$4)*$C$3+$C$8)^(-$C$9)*(1-$C$4+E612-1)),IF(E612=0,$C$7*($C$3+$C$8)^(-$C$9),\" \")))","v":" "}]
[null,null,null,null,490,490," "]
[null,null,null,null,491,491," "]
[null,null,null,null,492,492," "]
[null,null,null,null,493,493," "]
[null,null,null,null,494,494," "]
[null,null,null,null,495,495," "]
[null,null,null,null,496,496," "]
[null,null,null,null,497,497," "]
[null,null,null,null,498,498," "]
[null,null,null,null,499,499," "]
[null,null,null,null,500,500," "]
[null,null,null,null,501,501," "]
[null,null,null,null,502,502," "]
[null,null,null,null,503,503," "]
[null,null,null,null,504,504," "]
[null,null,null,null,505,505," "]
[null,null,null,null,506,506," "]
[null,null,null,null,507,507," "]
[null,null,null,null,508,508," "]
[null,null,null,null,509,509," "]
[null,null,null,null,510,510," "]
[null,null,null,null,511,511," "]
[null,null,null,null,512,512," "]
[null,null,null,null,513,513," "]
[null,null,null,null,514,514," "]
[null,null,null,null,515,515," "]
[null,null,null,null,516,516," "]
[null,null,null,null,517,517," "]
[null,null,null,null,518,518," "]
[null,null,null,null,519,519," "]
[null,null,null,null,520,{"$f":"E643*$C$3","v":520}," "]
[null,null,null,null,521,521," "]
[null,null,null,null,522,522," "]
[null,null,null,null,523,523," "]
[null,null,null,null,524,524," "]
[null,null,null,null,525,525," "]
[null,null,null,null,526,526," "]
[null,null,null,null,527,527," "]
[null,null,null,null,528,528," "]
[null,null,null,null,529,529," "]
[null,null,null,null,530,530," "]
[null,null,null,null,531,531," "]
[null,null,null,null,532,532," "]
[null,null,null,null,533,533," "]
[null,null,null,null,534,534," "]
[null,null,null,null,535,535," "]
[null,null,null,null,536,536," "]
[null,null,null,null,537,537," "]
[null,null,null,null,538,538," "]
[null,null,null,null,539,539," "]
[null,null,null,null,540,540," "]
[null,null,null,null,541,541," "]
[null,null,null,null,542,542," "]
[null,null,null,null,543,543," "]
[null,null,null,null,544,544," "]
[null,null,null,null,545,545," "]
[null,null,null,null,546,546," "]
[null,null,null,null,547,547," "]
[null,null,null,null,548,548," "]
[null,null,null,null,549,549," "]
[null,null,null,null,550,550," "]
[null,null,null,null,551,551," "]
[null,null,null,null,552,552," "]
[null,null,null,null,{"$f":"E675+1","v":553},553,{"$f":"IF(E676<0,$C$7*((($C$4+ABS(E676))/$C$4*$C$3+$C$8)^(-$C$9)*($C$4+ABS(E676))-(($C$4+ABS(E676)-1)/$C$4*$C$3+$C$8)^(-$C$9)*($C$4+ABS(E676)-1)),IF(AND(E676>0,E676<$C$2*(1-$C$4)/$C$3),$C$7*(((1-$C$4+E676)/(1-$C$4)*$C$3+$C$8)^(-$C$9)*(1-$C$4+E676)-((1-$C$4+E676-1)/(1-$C$4)*$C$3+$C$8)^(-$C$9)*(1-$C$4+E676-1)),IF(E676=0,$C$7*($C$3+$C$8)^(-$C$9),\" \")))","v":" "}]
[null,null,null,null,554,554," "]
[null,null,null,null,555,555," "]
[null,null,null,null,556,556," "]
[null,null,null,null,557,557," "]
[null,null,null,null,558,558," "]
[null,null,null,null,559,559," "]
[null,null,null,null,560,560," "]
[null,null,null,null,561,561," "]
[null,null,null,null,562,562," "]
[null,null,null,null,563,563," "]
[null,null,null,null,564,564," "]
[null,null,null,null,565,565," "]
[null,null,null,null,566,566," "]
[null,null,null,null,567,567," "]
[null,null,null,null,568,568," "]
[null,null,null,null,569,569," "]
[null,null,null,null,570,570," "]
[null,null,null,null,571,571," "]
[null,null,null,null,572,572," "]
[null,null,null,null,573,573," "]
[null,null,null,null,574,574," "]
[null,null,null,null,575,575," "]
[null,null,null,null,576,576," "]
[null,null,null,null,577,577," "]
[null,null,null,null,578,578," "]
[null,null,null,null,579,579," "]
[null,null,null,null,580,580," "]
[null,null,null,null,581,581," "]
[null,null,null,null,582,582," "]
[null,null,null,null,583,583," "]
[null,null,null,null,584,{"$f":"E707*$C$3","v":584}," "]
[null,null,null,null,585,585," "]
[null,null,null,null,586,586," "]
[null,null,null,null,587,587," "]
[null,null,null,null,588,588," "]
[null,null,null,null,589,589," "]
[null,null,null,null,590,590," "]
[null,null,null,null,591,591," "]
[null,null,null,null,592,592," "]
[null,null,null,null,593,593," "]
[null,null,null,null,594,594," "]
[null,null,null,null,595,595," "]
[null,null,null,null,596,596," "]
[null,null,null,null,597,597," "]
[null,null,null,null,598,598," "]
[null,null,null,null,599,599," "]
[null,null,null,null,600,600," "]
[null,null,null,null,601,601," "]
[null,null,null,null,602,602," "]
[null,null,null,null,603,603," "]
[null,null,null,null,604,604," "]
[null,null,null,null,605,605," "]
[null,null,null,null,606,606," "]
[null,null,null,null,607,607," "]
[null,null,null,null,608,608," "]
[null,null,null,null,609,609," "]
[null,null,null,null,610,610," "]
[null,null,null,null,611,611," "]
[null,null,null,null,612,612," "]
[null,null,null,null,613,613," "]
[null,null,null,null,614,614," "]
[null,null,null,null,615,615," "]
[null,null,null,null,616,616," "]
[null,null,null,null,{"$f":"E739+1","v":617},617,{"$f":"IF(E740<0,$C$7*((($C$4+ABS(E740))/$C$4*$C$3+$C$8)^(-$C$9)*($C$4+ABS(E740))-(($C$4+ABS(E740)-1)/$C$4*$C$3+$C$8)^(-$C$9)*($C$4+ABS(E740)-1)),IF(AND(E740>0,E740<$C$2*(1-$C$4)/$C$3),$C$7*(((1-$C$4+E740)/(1-$C$4)*$C$3+$C$8)^(-$C$9)*(1-$C$4+E740)-((1-$C$4+E740-1)/(1-$C$4)*$C$3+$C$8)^(-$C$9)*(1-$C$4+E740-1)),IF(E740=0,$C$7*($C$3+$C$8)^(-$C$9),\" \")))","v":" "}]
[null,null,null,null,618,618," "]
[null,null,null,null,619,619," "]
[null,null,null,null,620,620," "]
[null,null,null,null,621,621," "]
[null,null,null,null,622,622," "]
[null,null,null,null,623,623," "]
[null,null,null,null,624,624," "]
[null,null,null,null,625,625," "]
[null,null,null,null,626,626," "]
[null,null,null,null,627,627," "]
[null,null,null,null,628,628," "]
[null,null,null,null,629,629," "]
[null,null,null,null,630,630," "]
[null,null,null,null,631,631," "]
[null,null,null,null,632,632," "]
[null,null,null,null,633,633," "]
[null,null,null,null,634,634," "]
[null,null,null,null,635,635," "]
[null,null,null,null,636,636," "]
[null,null,null,null,637,637," "]
[null,null,null,null,638,638," "]
[null,null,null,null,639,639," "]
[null,null,null,null,640,640," "]
[null,null,null,null,641,641," "]
[null,null,null,null,642,642," "]
[null,null,null,null,643,643," "]
[null,null,null,null,644,644," "]
[null,null,null,null,645,645," "]
[null,null,null,null,646,646," "]
[null,null,null,null,647,647," "]
[null,null,null,null,648,{"$f":"E771*$C$3","v":648}," "]
[null,null,null,null,649,649," "]
[null,null,null,null,650,650," "]
[null,null,null,null,651,651," "]
[null,null,null,null,652,652," "]
[null,null,null,null,653,653," "]
[null,null,null,null,654,654," "]
[null,null,null,null,655,655," "]
[null,null,null,null,656,656," "]
[null,null,null,null,657,657," "]
[null,null,null,null,658,658," "]
[null,null,null,null,659,659," "]
[null,null,null,null,660,660," "]
[null,null,null,null,661,661," "]
[null,null,null,null,662,662," "]
[null,null,null,null,663,663," "]
[null,null,null,null,664,664," "]
[null,null,null,null,665,665," "]
[null,null,null,null,666,666," "]
[null,null,null,null,667,667," "]
[null,null,null,null,668,668," "]
[null,null,null,null,669,669," "]
[null,null,null,null,670,670," "]
[null,null,null,null,671,671," "]
[null,null,null,null,672,672," "]
[null,null,null,null,673,673," "]
[null,null,null,null,674,674," "]
[null,null,null,null,675,675," "]
[null,null,null,null,676,676," "]
[null,null,null,null,677,677," "]
[null,null,null,null,678,678," "]
[null,null,null,null,679,679," "]
[null,null,null,null,680,680," "]
[null,null,null,null,{"$f":"E803+1","v":681},681,{"$f":"IF(E804<0,$C$7*((($C$4+ABS(E804))/$C$4*$C$3+$C$8)^(-$C$9)*($C$4+ABS(E804))-(($C$4+ABS(E804)-1)/$C$4*$C$3+$C$8)^(-$C$9)*($C$4+ABS(E804)-1)),IF(AND(E804>0,E804<$C$2*(1-$C$4)/$C$3),$C$7*(((1-$C$4+E804)/(1-$C$4)*$C$3+$C$8)^(-$C$9)*(1-$C$4+E804)-((1-$C$4+E804-1)/(1-$C$4)*$C$3+$C$8)^(-$C$9)*(1-$C$4+E804-1)),IF(E804=0,$C$7*($C$3+$C$8)^(-$C$9),\" \")))","v":" "}]
[null,null,null,null,682,682," "]
[null,null,null,null,683,683," "]
[null,null,null,null,684,684," "]
[null,null,null,null,685,685," "]
[null,null,null,null,686,686," "]
[null,null,null,null,687,687," "]
[null,null,null,null,688,688," "]
[null,null,null,null,689,689," "]
[null,null,null,null,690,690," "]
[null,null,null,null,691,691," "]
[null,null,null,null,692,692," "]
[null,null,null,null,693,693," "]
[null,null,null,null,694,694," "]
[null,null,null,null,695,695," "]
[null,null,null,null,696,696," "]
[null,null,null,null,697,697," "]
[null,null,null,null,698,698," "]
[null,null,null,null,699,699," "]
[null,null,null,null,700,700," "]
[null,null,null,null,701,701," "]
[null,null,null,null,702,702," "]
[null,null,null,null,703,703," "]
[null,null,null,null,704,704," "]
[null,null,null,null,705,705," "]
[null,null,null,null,706,706," "]
[null,null,null,null,707,707," "]
[null,null,null,null,708,708," "]
[null,null,null,null,709,709," "]
[null,null,null,null,710,710," "]
[null,null,null,null,711,711," "]
[null,null,null,null,712,{"$f":"E835*$C$3","v":712}," "]
[null,null,null,null,713,713," "]
[null,null,null,null,714,714," "]
[null,null,null,null,715,715," "]
[null,null,null,null,716,716," "]
[null,null,null,null,717,717," "]
[null,null,null,null,718,718," "]
[null,null,null,null,719,719," "]
[null,null,null,null,720,720," "]
[null,null,null,null,721,721," "]
[null,null,null,null,722,722," "]
[null,null,null,null,723,723," "]
[null,null,null,null,724,724," "]
[null,null,null,null,725,725," "]
[null,null,null,null,726,726," "]
[null,null,null,null,727,727," "]
[null,null,null,null,728,728," "]
[null,null,null,null,729,729," "]
[null,null,null,null,730,730," "]
[null,null,null,null,731,731," "]
[null,null,null,null,732,732," "]
[null,null,null,null,733,733," "]
[null,null,null,null,734,734," "]
[null,null,null,null,735,735," "]
[null,null,null,null,736,736," "]
[null,null,null,null,737,737," "]
[null,null,null,null,738,738," "]
[null,null,null,null,739,739," "]
[null,null,null,null,740,740," "]
[null,null,null,null,741,741," "]
[null,null,null,null,742,742," "]
[null,null,null,null,743,743," "]
[null,null,null,null,744,744," "]
[null,null,null,null,{"$f":"E867+1","v":745},745,{"$f":"IF(E868<0,$C$7*((($C$4+ABS(E868))/$C$4*$C$3+$C$8)^(-$C$9)*($C$4+ABS(E868))-(($C$4+ABS(E868)-1)/$C$4*$C$3+$C$8)^(-$C$9)*($C$4+ABS(E868)-1)),IF(AND(E868>0,E868<$C$2*(1-$C$4)/$C$3),$C$7*(((1-$C$4+E868)/(1-$C$4)*$C$3+$C$8)^(-$C$9)*(1-$C$4+E868)-((1-$C$4+E868-1)/(1-$C$4)*$C$3+$C$8)^(-$C$9)*(1-$C$4+E868-1)),IF(E868=0,$C$7*($C$3+$C$8)^(-$C$9),\" \")))","v":" "}]
[null,null,null,null,746,746," "]
[null,null,null,null,747,747," "]
[null,null,null,null,748,748," "]
[null,null,null,null,749,749," "]
[null,null,null,null,750,750," "]
[null,null,null,null,751,751," "]
[null,null,null,null,752,752," "]
[null,null,null,null,753,753," "]
[null,null,null,null,754,754," "]
[null,null,null,null,755,755," "]
[null,null,null,null,756,756," "]
[null,null,null,null,757,757," "]
[null,null,null,null,758,758," "]
[null,null,null,null,759,759," "]
[null,null,null,null,760,760," "]
[null,null,null,null,761,761," "]
[null,null,null,null,762,762," "]
[null,null,null,null,763,763," "]
[null,null,null,null,764,764," "]
[null,null,null,null,765,765," "]
[null,null,null,null,766,766," "]
[null,null,null,null,767,767," "]
[null,null,null,null,768,768," "]
[null,null,null,null,769,769," "]
[null,null,null,null,770,770," "]
[null,null,null,null,771,771," "]
[null,null,null,null,772,772," "]
[null,null,null,null,773,773," "]
[null,null,null,null,774,774," "]
[null,null,null,null,775,775," "]
[null,null,null,null,776,{"$f":"E899*$C$3","v":776}," "]
[null,null,null,null,777,777," "]
[null,null,null,null,778,778," "]
[null,null,null,null,779,779," "]
[null,null,null,null,780,780," "]
[null,null,null,null,781,781," "]
[null,null,null,null,782,782," "]
[null,null,null,null,783,783," "]
[null,null,null,null,784,784," "]
[null,null,null,null,785,785," "]
[null,null,null,null,786,786," "]
[null,null,null,null,787,787," "]
[null,null,null,null,788,788," "]
[null,null,null,null,789,789," "]
[null,null,null,null,790,790," "]
[null,null,null,null,791,791," "]
[null,null,null,null,792,792," "]
[null,null,null,null,793,793," "]
[null,null,null,null,794,794," "]
[null,null,null,null,795,795," "]
[null,null,null,null,796,796," "]
[null,null,null,null,797,797," "]
[null,null,null,null,798,798," "]
[null,null,null,null,799,799," "]
[null,null,null,null,800,800," "]
[null,null,null,null,801,801," "]
[null,null,null,null,802,802," "]
[null,null,null,null,803,803," "]
[null,null,null,null,804,804," "]
[null,null,null,null,805,805," "]
[null,null,null,null,806,806," "]
[null,null,null,null,807,807," "]
[null,null,null,null,808,808," "]
[null,null,null,null,{"$f":"E931+1","v":809},809,{"$f":"IF(E932<0,$C$7*((($C$4+ABS(E932))/$C$4*$C$3+$C$8)^(-$C$9)*($C$4+ABS(E932))-(($C$4+ABS(E932)-1)/$C$4*$C$3+$C$8)^(-$C$9)*($C$4+ABS(E932)-1)),IF(AND(E932>0,E932<$C$2*(1-$C$4)/$C$3),$C$7*(((1-$C$4+E932)/(1-$C$4)*$C$3+$C$8)^(-$C$9)*(1-$C$4+E932)-((1-$C$4+E932-1)/(1-$C$4)*$C$3+$C$8)^(-$C$9)*(1-$C$4+E932-1)),IF(E932=0,$C$7*($C$3+$C$8)^(-$C$9),\" \")))","v":" "}]
[null,null,null,null,810,810," "]
[null,null,null,null,811,811," "]
[null,null,null,null,812,812," "]
[null,null,null,null,813,813," "]
[null,null,null,null,814,814," "]
[null,null,null,null,815,815," "]
[null,null,null,null,816,816," "]
[null,null,null,null,817,817," "]
[null,null,null,null,818,818," "]
[null,null,null,null,819,819," "]
[null,null,null,null,820,820," "]
[null,null,null,null,821,821," "]
[null,null,null,null,822,822," "]
[null,null,null,null,823,823," "]
[null,null,null,null,824,824," "]
[null,null,null,null,825,825," "]
[null,null,null,null,826,826," "]
[null,null,null,null,827,827," "]
[null,null,null,null,828,828," "]
[null,null,null,null,829,829," "]
[null,null,null,null,830,830," "]
[null,null,null,null,831,831," "]
[null,null,null,null,832,832," "]
[null,null,null,null,833,833," "]
[null,null,null,null,834,834," "]
[null,null,null,null,835,835," "]
[null,null,null,null,836,836," "]
[null,null,null,null,837,837," "]
[null,null,null,null,838,838," "]
[null,null,null,null,839,839," "]
[null,null,null,null,840,{"$f":"E963*$C$3","v":840}," "]
[null,null,null,null,841,841," "]
[null,null,null,null,842,842," "]
[null,null,null,null,843,843," "]
[null,null,null,null,844,844," "]
[null,null,null,null,845,845," "]
[null,null,null,null,846,846," "]
[null,null,null,null,847,847," "]
[null,null,null,null,848,848," "]
[null,null,null,null,849,849," "]
[null,null,null,null,850,850," "]
[null,null,null,null,851,851," "]
[null,null,null,null,852,852," "]
[null,null,null,null,853,853," "]
[null,null,null,null,854,854," "]
[null,null,null,null,855,855," "]
[null,null,null,null,856,856," "]
[null,null,null,null,857,857," "]
[null,null,null,null,858,858," "]
[null,null,null,null,859,859," "]
[null,null,null,null,860,860," "]
[null,null,null,null,861,861," "]
[null,null,null,null,862,862," "]
[null,null,null,null,863,863," "]
[null,null,null,null,864,864," "]
[null,null,null,null,865,865," "]
[null,null,null,null,866,866," "]
[null,null,null,null,867,867," "]
[null,null,null,null,868,868," "]
[null,null,null,null,869,869," "]
[null,null,null,null,870,870," "]
[null,null,null,null,871,871," "]
[null,null,null,null,872,872," "]
[null,null,null,null,{"$f":"E995+1","v":873},873,{"$f":"IF(E996<0,$C$7*((($C$4+ABS(E996))/$C$4*$C$3+$C$8)^(-$C$9)*($C$4+ABS(E996))-(($C$4+ABS(E996)-1)/$C$4*$C$3+$C$8)^(-$C$9)*($C$4+ABS(E996)-1)),IF(AND(E996>0,E996<$C$2*(1-$C$4)/$C$3),$C$7*(((1-$C$4+E996)/(1-$C$4)*$C$3+$C$8)^(-$C$9)*(1-$C$4+E996)-((1-$C$4+E996-1)/(1-$C$4)*$C$3+$C$8)^(-$C$9)*(1-$C$4+E996-1)),IF(E996=0,$C$7*($C$3+$C$8)^(-$C$9),\" \")))","v":" "}]
[null,null,null,null,874,874," "]
[null,null,null,null,875,875," "]
[null,null,null,null,876,876," "]
[null,null,null,null,877,877," "]
[null,null,null,null,878,878," "]
[null,null,null,null,879,879," "]
[null,null,null,null,880,880," "]
[null,null,null,null,881,881," "]
[null,null,null,null,882,882," "]
[null,null,null,null,883,883," "]
[null,null,null,null,884,884," "]
[null,null,null,null,885,885," "]
[null,null,null,null,886,886," "]
[null,null,null,null,887,887," "]
[null,null,null,null,888,888," "]
[null,null,null,null,889,889," "]
[null,null,null,null,890,890," "]
[null,null,null,null,891,891," "]
[null,null,null,null,892,892," "]
[null,null,null,null,893,893," "]
[null,null,null,null,894,894," "]
[null,null,null,null,895,895," "]
[null,null,null,null,896,896," "]
[null,null,null,null,897,897," "]
[null,null,null,null,898,898," "]
[null,null,null,null,899,899," "]
[null,null,null,null,900,900," "]
[null,null,null,null,901,901," "]
[null,null,null,null,902,902," "]
[null,null,null,null,903,903," "]
[null,null,null,null,904,{"$f":"E1027*$C$3","v":904}," "]
[null,null,null,null,905,905," "]
[null,null,null,null,906,906," "]
[null,null,null,null,907,907," "]
[null,null,null,null,908,908," "]
[null,null,null,null,909,909," "]
[null,null,null,null,910,910," "]
[null,null,null,null,911,911," "]
[null,null,null,null,912,912," "]
[null,null,null,null,913,913," "]
[null,null,null,null,914,914," "]
[null,null,null,null,915,915," "]
[null,null,null,null,916,916," "]
[null,null,null,null,917,917," "]
[null,null,null,null,918,918," "]
[null,null,null,null,919,919," "]
[null,null,null,null,920,920," "]
[null,null,null,null,921,921," "]
[null,null,null,null,922,922," "]
[null,null,null,null,923,923," "]
[null,null,null,null,924,924," "]
[null,null,null,null,925,925," "]
[null,null,null,null,926,926," "]
[null,null,null,null,927,927," "]
[null,null,null,null,928,928," "]
[null,null,null,null,929,929," "]
[null,null,null,null,930,930," "]
[null,null,null,null,931,931," "]
[null,null,null,null,932,932," "]
[null,null,null,null,933,933," "]
[null,null,null,null,934,934," "]
[null,null,null,null,935,935," "]
[null,null,null,null,936,936," "]
[null,null,null,null,{"$f":"E1059+1","v":937},937,{"$f":"IF(E1060<0,$C$7*((($C$4+ABS(E1060))/$C$4*$C$3+$C$8)^(-$C$9)*($C$4+ABS(E1060))-(($C$4+ABS(E1060)-1)/$C$4*$C$3+$C$8)^(-$C$9)*($C$4+ABS(E1060)-1)),IF(AND(E1060>0,E1060<$C$2*(1-$C$4)/$C$3),$C$7*(((1-$C$4+E1060)/(1-$C$4)*$C$3+$C$8)^(-$C$9)*(1-$C$4+E1060)-((1-$C$4+E1060-1)/(1-$C$4)*$C$3+$C$8)^(-$C$9)*(1-$C$4+E1060-1)),IF(E1060=0,$C$7*($C$3+$C$8)^(-$C$9),\" \")))","v":" "}]
[null,null,null,null,938,938," "]
[null,null,null,null,939,939," "]
[null,null,null,null,940,940," "]
[null,null,null,null,941,941," "]
[null,null,null,null,942,942," "]
[null,null,null,null,943,943," "]
[null,null,null,null,944,944," "]
[null,null,null,null,945,945," "]
[null,null,null,null,946,946," "]
[null,null,null,null,947,947," "]
[null,null,null,null,948,948," "]
[null,null,null,null,949,949," "]
[null,null,null,null,950,950," "]
[null,null,null,null,951,951," "]
[null,null,null,null,952,952," "]
[null,null,null,null,953,953," "]
[null,null,null,null,954,954," "]
[null,null,null,null,955,955," "]
[null,null,null,null,956,956," "]
[null,null,null,null,957,957," "]
[null,null,null,null,958,958," "]
[null,null,null,null,959,959," "]
[null,null,null,null,960,960," "]
[null,null,null,null,961,961," "]
[null,null,null,null,962,962," "]
[null,null,null,null,963,963," "]
[null,null,null,null,964,964," "]
[null,null,null,null,965,965," "]
[null,null,null,null,966,966," "]
[null,null,null,null,967,967," "]
[null,null,null,null,968,{"$f":"E1091*$C$3","v":968}," "]
[null,null,null,null,969,969," "]
[null,null,null,null,970,970," "]
[null,null,null,null,971,971," "]
[null,null,null,null,972,972," "]
[null,null,null,null,973,973," "]
[null,null,null,null,974,974," "]
[null,null,null,null,975,975," "]
[null,null,null,null,976,976," "]
[null,null,null,null,977,977," "]
[null,null,null,null,978,978," "]
[null,null,null,null,979,979," "]
[null,null,null,null,980,980," "]
[null,null,null,null,981,981," "]
[null,null,null,null,982,982," "]
[null,null,null,null,983,983," "]
[null,null,null,null,984,984," "]
[null,null,null,null,985,985," "]
[null,null,null,null,986,986," "]
[null,null,null,null,987,987," "]
[null,null,null,null,988,988," "]
[null,null,null,null,989,989," "]
[null,null,null,null,990,990," "]
[null,null,null,null,991,991," "]
[null,null,null,null,992,992," "]
[null,null,null,null,993,993," "]
[null,null,null,null,994,994," "]
[null,null,null,null,995,995," "]
[null,null,null,null,996,996," "]
[null,null,null,null,997,997," "]
[null,null,null,null,998,998," "]
[null,null,null,null,999,999," "]
[null,null,null,null,1000,1000," "]
[null,null,null,null,{"$f":"E1123+1","v":1001},1001,{"$f":"IF(E1124<0,$C$7*((($C$4+ABS(E1124))/$C$4*$C$3+$C$8)^(-$C$9)*($C$4+ABS(E1124))-(($C$4+ABS(E1124)-1)/$C$4*$C$3+$C$8)^(-$C$9)*($C$4+ABS(E1124)-1)),IF(AND(E1124>0,E1124<$C$2*(1-$C$4)/$C$3),$C$7*(((1-$C$4+E1124)/(1-$C$4)*$C$3+$C$8)^(-$C$9)*(1-$C$4+E1124)-((1-$C$4+E1124-1)/(1-$C$4)*$C$3+$C$8)^(-$C$9)*(1-$C$4+E1124-1)),IF(E1124=0,$C$7*($C$3+$C$8)^(-$C$9),\" \")))","v":" "}]
[null,null,null,null,1002,1002," "]
[null,null,null,null,1003,1003," "]
[null,null,null,null,1004,1004," "]
[null,null,null,null,1005,1005," "]
[null,null,null,null,1006,1006," "]
[null,null,null,null,1007,1007," "]
[null,null,null,null,1008,1008," "]
[null,null,null,null,1009,1009," "]
[null,null,null,null,1010,1010," "]
[null,null,null,null,1011,1011," "]
[null,null,null,null,1012,1012," "]
[null,null,null,null,1013,1013," "]
[null,null,null,null,1014,1014," "]
[null,null,null,null,1015,1015," "]
[null,null,null,null,1016,1016," "]
[null,null,null,null,1017,1017," "]
[null,null,null,null,1018,1018," "]
[null,null,null,null,1019,1019," "]
[null,null,null,null,1020,1020," "]
[null,null,null,null,1021,1021," "]
[null,null,null,null,1022,1022," "]
[null,null,null,null,1023,1023," "]
[null,null,null,null,1024,1024," "]
[null,null,null,null,1025,1025," "]
[null,null,null,null,1026,1026," "]
[null,null,null,null,1027,1027," "]
[null,null,null,null,1028,1028," "]
[null,null,null,null,1029,1029," "]
[null,null,null,null,1030,1030," "]
[null,null,null,null,1031,1031," "]
[null,null,null,null,1032,{"$f":"E1155*$C$3","v":1032}," "]
[null,null,null,null,1033,1033," "]
[null,null,null,null,1034,1034," "]
[null,null,null,null,1035,1035," "]
[null,null,null,null,1036,1036," "]
[null,null,null,null,1037,1037," "]
[null,null,null,null,1038,1038," "]
[null,null,null,null,1039,1039," "]
[null,null,null,null,1040,1040," "]
[null,null,null,null,1041,1041," "]
[null,null,null,null,1042,1042," "]
[null,null,null,null,1043,1043," "]
[null,null,null,null,1044,1044," "]
[null,null,null,null,1045,1045," "]
[null,null,null,null,1046,1046," "]
[null,null,null,null,1047,1047," "]
[null,null,null,null,1048,1048," "]
[null,null,null,null,1049,1049," "]
[null,null,null,null,1050,1050," "]
[null,null,null,null,1051,1051," "]
[null,null,null,null,1052,1052," "]
[null,null,null,null,1053,1053," "]
[null,null,null,null,1054,1054," "]
[null,null,null,null,1055,1055," "]
[null,null,null,null,1056,1056," "]
[null,null,null,null,1057,1057," "]
[null,null,null,null,1058,1058," "]
[null,null,null,null,1059,1059," "]
[null,null,null,null,1060,1060," "]
[null,null,null,null,1061,1061," "]
[null,null,null,null,1062,1062," "]
[null,null,null,null,1063,1063," "]
[null,null,null,null,1064,1064," "]
[null,null,null,null,{"$f":"E1187+1","v":1065},1065,{"$f":"IF(E1188<0,$C$7*((($C$4+ABS(E1188))/$C$4*$C$3+$C$8)^(-$C$9)*($C$4+ABS(E1188))-(($C$4+ABS(E1188)-1)/$C$4*$C$3+$C$8)^(-$C$9)*($C$4+ABS(E1188)-1)),IF(AND(E1188>0,E1188<$C$2*(1-$C$4)/$C$3),$C$7*(((1-$C$4+E1188)/(1-$C$4)*$C$3+$C$8)^(-$C$9)*(1-$C$4+E1188)-((1-$C$4+E1188-1)/(1-$C$4)*$C$3+$C$8)^(-$C$9)*(1-$C$4+E1188-1)),IF(E1188=0,$C$7*($C$3+$C$8)^(-$C$9),\" \")))","v":" "}]
[null,null,null,null,1066,1066," "]
[null,null,null,null,1067,1067," "]
[null,null,null,null,1068,1068," "]
[null,null,null,null,1069,1069," "]
[null,null,null,null,1070,1070," "]
[null,null,null,null,1071,1071," "]
[null,null,null,null,1072,1072," "]
[null,null,null,null,1073,1073," "]
[null,null,null,null,1074,1074," "]
[null,null,null,null,1075,1075," "]
[null,null,null,null,1076,1076," "]
[null,null,null,null,1077,1077," "]
[null,null,null,null,1078,1078," "]
[null,null,null,null,1079,1079," "]
[null,null,null,null,1080,1080," "]
[null,null,null,null,1081,1081," "]
[null,null,null,null,1082,1082," "]
[null,null,null,null,1083,1083," "]
[null,null,null,null,1084,1084," "]
[null,null,null,null,1085,1085," "]
[null,null,null,null,1086,1086," "]
[null,null,null,null,1087,1087," "]
[null,null,null,null,1088,1088," "]
[null,null,null,null,1089,1089," "]
[null,null,null,null,1090,1090," "]
[null,null,null,null,1091,1091," "]
[null,null,null,null,1092,1092," "]
[null,null,null,null,1093,1093," "]
[null,null,null,null,1094,1094," "]
[null,null,null,null,1095,1095," "]
[null,null,null,null,1096,{"$f":"E1219*$C$3","v":1096}," "]
[null,null,null,null,1097,1097," "]
[null,null,null,null,1098,1098," "]
[null,null,null,null,1099,1099," "]
[null,null,null,null,1100,1100," "]
[null,null,null,null,1101,1101," "]
[null,null,null,null,1102,1102," "]
[null,null,null,null,1103,1103," "]
[null,null,null,null,1104,1104," "]
[null,null,null,null,1105,1105," "]
[null,null,null,null,1106,1106," "]
[null,null,null,null,1107,1107," "]
[null,null,null,null,1108,1108," "]
[null,null,null,null,1109,1109," "]
[null,null,null,null,1110,1110," "]
[null,null,null,null,1111,1111," "]
[null,null,null,null,1112,1112," "]
[null,null,null,null,1113,1113," "]
[null,null,null,null,1114,1114," "]
[null,null,null,null,1115,1115," "]
[null,null,null,null,1116,1116," "]
[null,null,null,null,1117,1117," "]
[null,null,null,null,1118,1118," "]
[null,null,null,null,1119,1119," "]
[null,null,null,null,1120,1120," "]
[null,null,null,null,1121,1121," "]
[null,null,null,null,1122,1122," "]
[null,null,null,null,1123,1123," "]
[null,null,null,null,1124,1124," "]
[null,null,null,null,1125,1125," "]
[null,null,null,null,1126,1126," "]
[null,null,null,null,1127,1127," "]
[null,null,null,null,1128,1128," "]
[null,null,null,null,{"$f":"E1251+1","v":1129},1129,{"$f":"IF(E1252<0,$C$7*((($C$4+ABS(E1252))/$C$4*$C$3+$C$8)^(-$C$9)*($C$4+ABS(E1252))-(($C$4+ABS(E1252)-1)/$C$4*$C$3+$C$8)^(-$C$9)*($C$4+ABS(E1252)-1)),IF(AND(E1252>0,E1252<$C$2*(1-$C$4)/$C$3),$C$7*(((1-$C$4+E1252)/(1-$C$4)*$C$3+$C$8)^(-$C$9)*(1-$C$4+E1252)-((1-$C$4+E1252-1)/(1-$C$4)*$C$3+$C$8)^(-$C$9)*(1-$C$4+E1252-1)),IF(E1252=0,$C$7*($C$3+$C$8)^(-$C$9),\" \")))","v":" "}]
[null,null,null,null,1130,1130," "]
[null,null,null,null,1131,1131," "]
[null,null,null,null,1132,1132," "]
[null,null,null,null,1133,1133," "]
[null,null,null,null,1134,1134," "]
[null,null,null,null,1135,1135," "]
[null,null,null,null,1136,1136," "]
[null,null,null,null,1137,1137," "]
[null,null,null,null,1138,1138," "]
[null,null,null,null,1139,1139," "]
[null,null,null,null,1140,1140," "]
[null,null,null,null,1141,1141," "]
[null,null,null,null,1142,1142," "]
[null,null,null,null,1143,1143," "]
[null,null,null,null,1144,1144," "]
[null,null,null,null,1145,1145," "]
[null,null,null,null,1146,1146," "]
[null,null,null,null,1147,1147," "]
[null,null,null,null,1148,1148," "]
[null,null,null,null,1149,1149," "]
[null,null,null,null,1150,1150," "]
[null,null,null,null,1151,1151," "]
[null,null,null,null,1152,1152," "]
[null,null,null,null,1153,1153," "]
[null,null,null,null,1154,1154," "]
[null,null,null,null,1155,1155," "]
[null,null,null,null,1156,1156," "]
[null,null,null,null,1157,1157," "]
[null,null,null,null,1158,1158," "]
[null,null,null,null,1159,1159," "]
[null,null,null,null,1160,{"$f":"E1283*$C$3","v":1160}," "]
[null,null,null,null,1161,1161," "]
[null,null,null,null,1162,1162," "]
[null,null,null,null,1163,1163," "]
[null,null,null,null,1164,1164," "]
[null,null,null,null,1165,1165," "]
[null,null,null,null,1166,1166," "]
[null,null,null,null,1167,1167," "]
[null,null,null,null,1168,1168," "]
[null,null,null,null,1169,1169," "]
[null,null,null,null,1170,1170," "]
[null,null,null,null,1171,1171," "]
[null,null,null,null,1172,1172," "]
[null,null,null,null,1173,1173," "]
[null,null,null,null,1174,1174," "]
[null,null,null,null,1175,1175," "]
[null,null,null,null,1176,1176," "]
[null,null,null,null,1177,1177," "]
[null,null,null,null,1178,1178," "]
[null,null,null,null,1179,1179," "]
[null,null,null,null,1180,1180," "]
[null,null,null,null,1181,1181," "]
[null,null,null,null,1182,1182," "]
[null,null,null,null,1183,1183," "]
[null,null,null,null,1184,1184," "]
[null,null,null,null,1185,1185," "]
[null,null,null,null,1186,1186," "]
[null,null,null,null,1187,1187," "]
[null,null,null,null,1188,1188," "]
[null,null,null,null,1189,1189," "]
[null,null,null,null,1190,1190," "]
[null,null,null,null,1191,1191," "]
[null,null,null,null,1192,1192," "]
[null,null,null,null,{"$f":"E1315+1","v":1193},1193,{"$f":"IF(E1316<0,$C$7*((($C$4+ABS(E1316))/$C$4*$C$3+$C$8)^(-$C$9)*($C$4+ABS(E1316))-(($C$4+ABS(E1316)-1)/$C$4*$C$3+$C$8)^(-$C$9)*($C$4+ABS(E1316)-1)),IF(AND(E1316>0,E1316<$C$2*(1-$C$4)/$C$3),$C$7*(((1-$C$4+E1316)/(1-$C$4)*$C$3+$C$8)^(-$C$9)*(1-$C$4+E1316)-((1-$C$4+E1316-1)/(1-$C$4)*$C$3+$C$8)^(-$C$9)*(1-$C$4+E1316-1)),IF(E1316=0,$C$7*($C$3+$C$8)^(-$C$9),\" \")))","v":" "}]
[null,null,null,null,1194,1194," "]
[null,null,null,null,1195,1195," "]
[null,null,null,null,1196,1196," "]
[null,null,null,null,1197,1197," "]
[null,null,null,null,1198,1198," "]
[null,null,null,null,1199,1199," "]
[null,null,null,null,1200,1200," "]
[null,null,null,null,1201,1201," "]
[null,null,null,null,1202,1202," "]
[null,null,null,null,1203,1203," "]
[null,null,null,null,1204,1204," "]
[null,null,null,null,1205,1205," "]
[null,null,null,null,1206,1206," "]
[null,null,null,null,1207,1207," "]
[null,null,null,null,1208,1208," "]
[null,null,null,null,1209,1209," "]
[null,null,null,null,1210,1210," "]
[null,null,null,null,1211,1211," "]
[null,null,null,null,1212,1212," "]
[null,null,null,null,1213,1213," "]
[null,null,null,null,1214,1214," "]
[null,null,null,null,1215,1215," "]
[null,null,null,null,1216,1216," "]
[null,null,null,null,1217,1217," "]
[null,null,null,null,1218,1218," "]
[null,null,null,null,1219,1219," "]
[null,null,null,null,1220,1220," "]
[null,null,null,null,1221,1221," "]
[null,null,null,null,1222,1222," "]
[null,null,null,null,1223,1223," "]
[null,null,null,null,1224,{"$f":"E1347*$C$3","v":1224}," "]
[null,null,null,null,1225,1225," "]
[null,null,null,null,1226,1226," "]
[null,null,null,null,1227,1227," "]
[null,null,null,null,1228,1228," "]
[null,null,null,null,1229,1229," "]
[null,null,null,null,1230,1230," "]
[null,null,null,null,1231,1231," "]
[null,null,null,null,1232,1232," "]
[null,null,null,null,1233,1233," "]
[null,null,null,null,1234,1234," "]
[null,null,null,null,1235,1235," "]
[null,null,null,null,1236,1236," "]
[null,null,null,null,1237,1237," "]
[null,null,null,null,1238,1238," "]
[null,null,null,null,1239,1239," "]
[null,null,null,null,1240,1240," "]
[null,null,null,null,1241,1241," "]
[null,null,null,null,1242,1242," "]
[null,null,null,null,1243,1243," "]
[null,null,null,null,1244,1244," "]
[null,null,null,null,1245,1245," "]
[null,null,null,null,1246,1246," "]
[null,null,null,null,1247,1247," "]
[null,null,null,null,1248,1248," "]
[null,null,null,null,1249,1249," "]
[null,null,null,null,1250,1250," "]
[null,null,null,null,1251,1251," "]
[null,null,null,null,1252,1252," "]
[null,null,null,null,1253,1253," "]
[null,null,null,null,1254,1254," "]
[null,null,null,null,1255,1255," "]
[null,null,null,null,1256,1256," "]
[null,null,null,null,{"$f":"E1379+1","v":1257},1257,{"$f":"IF(E1380<0,$C$7*((($C$4+ABS(E1380))/$C$4*$C$3+$C$8)^(-$C$9)*($C$4+ABS(E1380))-(($C$4+ABS(E1380)-1)/$C$4*$C$3+$C$8)^(-$C$9)*($C$4+ABS(E1380)-1)),IF(AND(E1380>0,E1380<$C$2*(1-$C$4)/$C$3),$C$7*(((1-$C$4+E1380)/(1-$C$4)*$C$3+$C$8)^(-$C$9)*(1-$C$4+E1380)-((1-$C$4+E1380-1)/(1-$C$4)*$C$3+$C$8)^(-$C$9)*(1-$C$4+E1380-1)),IF(E1380=0,$C$7*($C$3+$C$8)^(-$C$9),\" \")))","v":" "}]
[null,null,null,null,1258,1258," "]
[null,null,null,null,1259,1259," "]
[null,null,null,null,1260,1260," "]
[null,null,null,null,1261,1261," "]
[null,null,null,null,1262,1262," "]
[null,null,null,null,1263,1263," "]
[null,null,null,null,1264,1264," "]
[null,null,null,null,1265,1265," "]
[null,null,null,null,1266,1266," "]
[null,null,null,null,1267,1267," "]
[null,null,null,null,1268,1268," "]
[null,null,null,null,1269,1269," "]
[null,null,null,null,1270,1270," "]
[null,null,null,null,1271,1271," "]
[null,null,null,null,1272,1272," "]
[null,null,null,null,1273,1273," "]
[null,null,null,null,1274,1274," "]
[null,null,null,null,1275,1275," "]
[null,null,null,null,1276,1276," "]
[null,null,null,null,1277,1277," "]
[null,null,null,null,1278,1278," "]
[null,null,null,null,1279,1279," "]
[null,null,null,null,1280,1280," "]
[null,null,null,null,1281,1281," "]
[null,null,null,null,1282,1282," "]
[null,null,null,null,1283,1283," "]
[null,null,null,null,1284,1284," "]
[null,null,null,null,1285,1285," "]
[null,null,null,null,1286,1286," "]
[null,null,null,null,1287,1287," "]
[null,null,null,null,1288,{"$f":"E1411*$C$3","v":1288}," "]
[null,null,null,null,1289,1289," "]
[null,null,null,null,1290,1290," "]
[null,null,null,null,1291,1291," "]
[null,null,null,null,1292,1292," "]
[null,null,null,null,1293,1293," "]
[null,null,null,null,1294,1294," "]
[null,null,null,null,1295,1295," "]
[null,null,null,null,1296,1296," "]
[null,null,null,null,1297,1297," "]
[null,null,null,null,1298,1298," "]
[null,null,null,null,1299,1299," "]
[null,null,null,null,1300,1300," "]
[null,null,null,null,1301,1301," "]
[null,null,null,null,1302,1302," "]
[null,null,null,null,1303,1303," "]
[null,null,null,null,1304,1304," "]
[null,null,null,null,1305,1305," "]
[null,null,null,null,1306,1306," "]
[null,null,null,null,1307,1307," "]
[null,null,null,null,1308,1308," "]
[null,null,null,null,1309,1309," "]
[null,null,null,null,1310,1310," "]
[null,null,null,null,1311,1311," "]
[null,null,null,null,1312,1312," "]
[null,null,null,null,1313,1313," "]
[null,null,null,null,1314,1314," "]
[null,null,null,null,1315,1315," "]
[null,null,null,null,1316,1316," "]
[null,null,null,null,1317,1317," "]
[null,null,null,null,1318,1318," "]
[null,null,null,null,1319,1319," "]
[null,null,null,null,1320,1320," "]
[null,null,null,null,{"$f":"E1443+1","v":1321},1321,{"$f":"IF(E1444<0,$C$7*((($C$4+ABS(E1444))/$C$4*$C$3+$C$8)^(-$C$9)*($C$4+ABS(E1444))-(($C$4+ABS(E1444)-1)/$C$4*$C$3+$C$8)^(-$C$9)*($C$4+ABS(E1444)-1)),IF(AND(E1444>0,E1444<$C$2*(1-$C$4)/$C$3),$C$7*(((1-$C$4+E1444)/(1-$C$4)*$C$3+$C$8)^(-$C$9)*(1-$C$4+E1444)-((1-$C$4+E1444-1)/(1-$C$4)*$C$3+$C$8)^(-$C$9)*(1-$C$4+E1444-1)),IF(E1444=0,$C$7*($C$3+$C$8)^(-$C$9),\" \")))","v":" "}]
[null,null,null,null,1322,1322," "]
[null,null,null,null,1323,1323," "]
[null,null,null,null,1324,1324," "]
[null,null,null,null,1325,1325," "]
[null,null,null,null,1326,1326," "]
[null,null,null,null,1327,1327," "]
[null,null,null,null,1328,1328," "]
[null,null,null,null,1329,1329," "]
[null,null,null,null,1330,1330," "]
[null,null,null,null,1331,1331," "]
[null,null,null,null,1332,1332," "]
[null,null,null,null,1333,1333," "]
[null,null,null,null,1334,1334," "]
[null,null,null,null,1335,1335," "]
[null,null,null,null,1336,1336," "]
[null,null,null,null,1337,1337," "]
[null,null,null,null,1338,1338," "]
[null,null,null,null,1339,1339," "]
[null,null,null,null,1340,1340," "]
[null,null,null,null,1341,1341," "]
[null,null,null,null,1342,1342," "]
[null,null,null,null,1343,1343," "]
[null,null,null,null,1344,1344," "]
[null,null,null,null,1345,1345," "]
[null,null,null,null,1346,1346," "]
[null,null,null,null,1347,1347," "]
[null,null,null,null,1348,1348," "]
[null,null,null,null,1349,1349," "]
[null,null,null,null,1350,1350," "]
[null,null,null,null,1351,1351," "]
[null,null,null,null,1352,{"$f":"E1475*$C$3","v":1352}," "]
[null,null,null,null,1353,1353," "]
[null,null,null,null,1354,1354," "]
[null,null,null,null,1355,1355," "]
[null,null,null,null,1356,1356," "]
[null,null,null,null,1357,1357," "]
[null,null,null,null,1358,1358," "]
[null,null,null,null,1359,1359," "]
[null,null,null,null,1360,1360," "]
[null,null,null,null,1361,1361," "]
[null,null,null,null,1362,1362," "]
[null,null,null,null,1363,1363," "]
[null,null,null,null,1364,1364," "]
[null,null,null,null,1365,1365," "]
[null,null,null,null,1366,1366," "]
[null,null,null,null,1367,1367," "]
[null,null,null,null,1368,1368," "]
[null,null,null,null,1369,1369," "]
[null,null,null,null,1370,1370," "]
[null,null,null,null,1371,1371," "]
[null,null,null,null,1372,1372," "]
[null,null,null,null,1373,1373," "]
[null,null,null,null,1374,1374," "]
[null,null,null,null,1375,1375," "]
[null,null,null,null,1376,1376," "]
[null,null,null,null,1377,1377," "]
[null,null,null,null,1378,1378," "]
[null,null,null,null,1379,1379," "]
[null,null,null,null,1380,1380," "]
[null,null,null,null,1381,1381," "]
[null,null,null,null,1382,1382," "]
[null,null,null,null,1383,1383," "]
[null,null,null,null,1384,1384," "]
[null,null,null,null,{"$f":"E1507+1","v":1385},1385,{"$f":"IF(E1508<0,$C$7*((($C$4+ABS(E1508))/$C$4*$C$3+$C$8)^(-$C$9)*($C$4+ABS(E1508))-(($C$4+ABS(E1508)-1)/$C$4*$C$3+$C$8)^(-$C$9)*($C$4+ABS(E1508)-1)),IF(AND(E1508>0,E1508<$C$2*(1-$C$4)/$C$3),$C$7*(((1-$C$4+E1508)/(1-$C$4)*$C$3+$C$8)^(-$C$9)*(1-$C$4+E1508)-((1-$C$4+E1508-1)/(1-$C$4)*$C$3+$C$8)^(-$C$9)*(1-$C$4+E1508-1)),IF(E1508=0,$C$7*($C$3+$C$8)^(-$C$9),\" \")))","v":" "}]
[null,null,null,null,1386,1386," "]
[null,null,null,null,1387,1387," "]
[null,null,null,null,1388,1388," "]
[null,null,null,null,1389,1389," "]
[null,null,null,null,1390,1390," "]
[null,null,null,null,1391,1391," "]
[null,null,null,null,1392,1392," "]
[null,null,null,null,1393,1393," "]
[null,null,null,null,1394,1394," "]
[null,null,null,null,1395,1395," "]
[null,null,null,null,1396,1396," "]
[null,null,null,null,1397,1397," "]
[null,null,null,null,1398,1398," "]
[null,null,null,null,1399,1399," "]
[null,null,null,null,1400,1400," "]
[null,null,null,null,1401,1401," "]
[null,null,null,null,1402,1402," "]
[null,null,null,null,1403,1403," "]
[null,null,null,null,1404,1404," "]
[null,null,null,null,1405,1405," "]
[null,null,null,null,1406,1406," "]
[null,null,null,null,1407,1407," "]
[null,null,null,null,1408,1408," "]
[null,null,null,null,1409,1409," "]
[null,null,null,null,1410,1410," "]
[null,null,null,null,1411,1411," "]
[null,null,null,null,1412,1412," "]
[null,null,null,null,1413,1413," "]
[null,null,null,null,1414,1414," "]
[null,null,null,null,1415,1415," "]
[null,null,null,null,1416,{"$f":"E1539*$C$3","v":1416}," "]
[null,null,null,null,1417,1417," "]
[null,null,null,null,1418,1418," "]
[null,null,null,null,1419,1419," "]
[null,null,null,null,1420,1420," "]
[null,null,null,null,1421,1421," "]
[null,null,null,null,1422,1422," "]
[null,null,null,null,1423,1423," "]
[null,null,null,null,1424,1424," "]
[null,null,null,null,1425,1425," "]
[null,null,null,null,1426,1426," "]
[null,null,null,null,1427,1427," "]
[null,null,null,null,1428,1428," "]
[null,null,null,null,1429,1429," "]
[null,null,null,null,1430,1430," "]
[null,null,null,null,1431,1431," "]
[null,null,null,null,1432,1432," "]
[null,null,null,null,1433,1433," "]
[null,null,null,null,1434,1434," "]
[null,null,null,null,1435,1435," "]
[null,null,null,null,1436,1436," "]
[null,null,null,null,1437,1437," "]
[null,null,null,null,1438,1438," "]
[null,null,null,null,1439,1439," "]
[null,null,null,null,1440,1440," "]
[null,null,null,null,1441,1441," "]
[null,null,null,null,1442,1442," "]
[null,null,null,null,1443,1443," "]
[null,null,null,null,1444,1444," "]
[null,null,null,null,1445,1445," "]
[null,null,null,null,1446,1446," "]
[null,null,null,null,1447,1447," "]
[null,null,null,null,1448,1448," "]
[null,null,null,null,{"$f":"E1571+1","v":1449},1449,{"$f":"IF(E1572<0,$C$7*((($C$4+ABS(E1572))/$C$4*$C$3+$C$8)^(-$C$9)*($C$4+ABS(E1572))-(($C$4+ABS(E1572)-1)/$C$4*$C$3+$C$8)^(-$C$9)*($C$4+ABS(E1572)-1)),IF(AND(E1572>0,E1572<$C$2*(1-$C$4)/$C$3),$C$7*(((1-$C$4+E1572)/(1-$C$4)*$C$3+$C$8)^(-$C$9)*(1-$C$4+E1572)-((1-$C$4+E1572-1)/(1-$C$4)*$C$3+$C$8)^(-$C$9)*(1-$C$4+E1572-1)),IF(E1572=0,$C$7*($C$3+$C$8)^(-$C$9),\" \")))","v":" "}]
[null,null,null,null,1450,1450," "]
[null,null,null,null,1451,1451," "]
[null,null,null,null,1452,1452," "]
[null,null,null,null,1453,1453," "]
[null,null,null,null,1454,1454," "]
[null,null,null,null,1455,1455," "]
[null,null,null,null,1456,1456," "]
[null,null,null,null,1457,1457," "]
[null,null,null,null,1458,1458," "]
[null,null,null,null,1459,1459," "]
[null,null,null,null,1460,1460," "]
[null,null,null,null,1461,1461," "]
[null,null,null,null,1462,1462," "]
[null,null,null,null,1463,1463," "]
[null,null,null,null,1464,1464," "]
[null,null,null,null,1465,1465," "]
[null,null,null,null,1466,1466," "]
[null,null,null,null,1467,1467," "]
[null,null,null,null,1468,1468," "]
[null,null,null,null,1469,1469," "]
[null,null,null,null,1470,1470," "]
[null,null,null,null,1471,1471," "]
[null,null,null,null,1472,1472," "]
[null,null,null,null,1473,1473," "]
[null,null,null,null,1474,1474," "]
[null,null,null,null,1475,1475," "]
[null,null,null,null,1476,1476," "]
[null,null,null,null,1477,1477," "]
[null,null,null,null,1478,1478," "]
[null,null,null,null,1479,1479," "]
[null,null,null,null,1480,{"$f":"E1603*$C$3","v":1480}," "]
[null,null,null,null,1481,1481," "]
[null,null,null,null,1482,1482," "]
[null,null,null,null,1483,1483," "]
[null,null,null,null,1484,1484," "]
[null,null,null,null,1485,1485," "]
[null,null,null,null,1486,1486," "]
[null,null,null,null,1487,1487," "]
[null,null,null,null,1488,1488," "]
[null,null,null,null,1489,1489," "]
[null,null,null,null,1490,1490," "]
[null,null,null,null,1491,1491," "]
[null,null,null,null,1492,1492," "]
[null,null,null,null,1493,1493," "]
[null,null,null,null,1494,1494," "]
[null,null,null,null,1495,1495," "]
[null,null,null,null,1496,1496," "]
[null,null,null,null,1497,1497," "]
[null,null,null,null,1498,1498," "]
[null,null,null,null,1499,1499," "]
[null,null,null,null,1500,1500," "]
[null,null,null,null,1501,1501," "]
[null,null,null,null,1502,1502," "]
[null,null,null,null,1503,1503," "]
[null,null,null,null,1504,1504," "]
[null,null,null,null,1505,1505," "]
[null,null,null,null,1506,1506," "]
[null,null,null,null,1507,1507," "]
[null,null,null,null,1508,1508," "]
[null,null,null,null,1509,1509," "]
[null,null,null,null,1510,1510," "]
[null,null,null,null,1511,1511," "]
[null,null,null,null,1512,1512," "]
[null,null,null,null,{"$f":"E1635+1","v":1513},1513,{"$f":"IF(E1636<0,$C$7*((($C$4+ABS(E1636))/$C$4*$C$3+$C$8)^(-$C$9)*($C$4+ABS(E1636))-(($C$4+ABS(E1636)-1)/$C$4*$C$3+$C$8)^(-$C$9)*($C$4+ABS(E1636)-1)),IF(AND(E1636>0,E1636<$C$2*(1-$C$4)/$C$3),$C$7*(((1-$C$4+E1636)/(1-$C$4)*$C$3+$C$8)^(-$C$9)*(1-$C$4+E1636)-((1-$C$4+E1636-1)/(1-$C$4)*$C$3+$C$8)^(-$C$9)*(1-$C$4+E1636-1)),IF(E1636=0,$C$7*($C$3+$C$8)^(-$C$9),\" \")))","v":" "}]
[null,null,null,null,1514,1514," "]
[null,null,null,null,1515,1515," "]
[null,null,null,null,1516,1516," "]
[null,null,null,null,1517,1517," "]
[null,null,null,null,1518,1518," "]
[null,null,null,null,1519,1519," "]
[null,null,null,null,1520,1520," "]
[null,null,null,null,1521,1521," "]
[null,null,null,null,1522,1522," "]
[null,null,null,null,1523,1523," "]
[null,null,null,null,1524,1524," "]
[null,null,null,null,1525,1525," "]
[null,null,null,null,1526,1526," "]
[null,null,null,null,1527,1527," "]
[null,null,null,null,1528,1528," "]
[null,null,null,null,1529,1529," "]
[null,null,null,null,1530,1530," "]
[null,null,null,null,1531,1531," "]
[null,null,null,null,1532,1532," "]
[null,null,null,null,1533,1533," "]
[null,null,null,null,1534,1534," "]
[null,null,null,null,1535,1535," "]
[null,null,null,null,1536,1536," "]
[null,null,null,null,1537,1537," "]
[null,null,null,null,1538,1538," "]
[null,null,null,null,1539,1539," "]
[null,null,null,null,1540,1540," "]
[null,null,null,null,1541,1541," "]
[null,null,null,null,1542,1542," "]
[null,null,null,null,1543,1543," "]
[null,null,null,null,1544,{"$f":"E1667*$C$3","v":1544}," "]
[null,null,null,null,1545,1545," "]
[null,null,null,null,1546,1546," "]
[null,null,null,null,1547,1547," "]
[null,null,null,null,1548,1548," "]
[null,null,null,null,1549,1549," "]
[null,null,null,null,1550,1550," "]
[null,null,null,null,1551,1551," "]
[null,null,null,null,1552,1552," "]
[null,null,null,null,1553,1553," "]
[null,null,null,null,1554,1554," "]
[null,null,null,null,1555,1555," "]
[null,null,null,null,1556,1556," "]
[null,null,null,null,1557,1557," "]
[null,null,null,null,1558,1558," "]
[null,null,null,null,1559,1559," "]
[null,null,null,null,1560,1560," "]
[null,null,null,null,1561,1561," "]
[null,null,null,null,1562,1562," "]
[null,null,null,null,1563,1563," "]
[null,null,null,null,1564,1564," "]
[null,null,null,null,1565,1565," "]
[null,null,null,null,1566,1566," "]
[null,null,null,null,1567,1567," "]
[null,null,null,null,1568,1568," "]
[null,null,null,null,1569,1569," "]
[null,null,null,null,1570,1570," "]
[null,null,null,null,1571,1571," "]
[null,null,null,null,1572,1572," "]
[null,null,null,null,1573,1573," "]
[null,null,null,null,1574,1574," "]
[null,null,null,null,1575,1575," "]
[null,null,null,null,1576,1576," "]
[null,null,null,null,{"$f":"E1699+1","v":1577},1577,{"$f":"IF(E1700<0,$C$7*((($C$4+ABS(E1700))/$C$4*$C$3+$C$8)^(-$C$9)*($C$4+ABS(E1700))-(($C$4+ABS(E1700)-1)/$C$4*$C$3+$C$8)^(-$C$9)*($C$4+ABS(E1700)-1)),IF(AND(E1700>0,E1700<$C$2*(1-$C$4)/$C$3),$C$7*(((1-$C$4+E1700)/(1-$C$4)*$C$3+$C$8)^(-$C$9)*(1-$C$4+E1700)-((1-$C$4+E1700-1)/(1-$C$4)*$C$3+$C$8)^(-$C$9)*(1-$C$4+E1700-1)),IF(E1700=0,$C$7*($C$3+$C$8)^(-$C$9),\" \")))","v":" "}]
[null,null,null,null,1578,1578," "]
[null,null,null,null,1579,1579," "]
[null,null,null,null,1580,1580," "]
[null,null,null,null,1581,1581," "]
[null,null,null,null,1582,1582," "]
[null,null,null,null,1583,1583," "]
[null,null,null,null,1584,1584," "]
[null,null,null,null,1585,1585," "]
[null,null,null,null,1586,1586," "]
[null,null,null,null,1587,1587," "]
[null,null,null,null,1588,1588," "]
[null,null,null,null,1589,1589," "]
[null,null,null,null,1590,1590," "]
[null,null,null,null,1591,1591," "]
[null,null,null,null,1592,1592," "]
[null,null,null,null,1593,1593," "]
[null,null,null,null,1594,1594," "]
[null,null,null,null,1595,1595," "]
[null,null,null,null,1596,1596," "]
[null,null,null,null,1597,1597," "]
[null,null,null,null,1598,1598," "]
[null,null,null,null,1599,1599," "]
[null,null,null,null,1600,1600," "]
[null,null,null,null,1601,1601," "]
[null,null,null,null,1602,1602," "]
[null,null,null,null,1603,1603," "]
[null,null,null,null,1604,1604," "]
[null,null,null,null,1605,1605," "]
[null,null,null,null,1606,1606," "]
[null,null,null,null,1607,1607," "]
[null,null,null,null,1608,{"$f":"E1731*$C$3","v":1608}," "]
[null,null,null,null,1609,1609," "]
[null,null,null,null,1610,1610," "]
[null,null,null,null,1611,1611," "]
[null,null,null,null,1612,1612," "]
[null,null,null,null,1613,1613," "]
[null,null,null,null,1614,1614," "]
[null,null,null,null,1615,1615," "]
[null,null,null,null,1616,1616," "]
[null,null,null,null,1617,1617," "]
[null,null,null,null,1618,1618," "]
[null,null,null,null,1619,1619," "]
[null,null,null,null,1620,1620," "]
[null,null,null,null,1621,1621," "]
[null,null,null,null,1622,1622," "]
[null,null,null,null,1623,1623," "]
[null,null,null,null,1624,1624," "]
[null,null,null,null,1625,1625," "]
[null,null,null,null,1626,1626," "]
[null,null,null,null,1627,1627," "]
[null,null,null,null,1628,1628," "]
[null,null,null,null,1629,1629," "]
[null,null,null,null,1630,1630," "]
[null,null,null,null,1631,1631," "]
[null,null,null,null,1632,1632," "]
[null,null,null,null,1633,1633," "]
[null,null,null,null,1634,1634," "]
[null,null,null,null,1635,1635," "]
[null,null,null,null,1636,1636," "]
[null,null,null,null,1637,1637," "]
[null,null,null,null,1638,1638," "]
[null,null,null,null,1639,1639," "]
[null,null,null,null,1640,1640," "]
[null,null,null,null,{"$f":"E1763+1","v":1641},1641,{"$f":"IF(E1764<0,$C$7*((($C$4+ABS(E1764))/$C$4*$C$3+$C$8)^(-$C$9)*($C$4+ABS(E1764))-(($C$4+ABS(E1764)-1)/$C$4*$C$3+$C$8)^(-$C$9)*($C$4+ABS(E1764)-1)),IF(AND(E1764>0,E1764<$C$2*(1-$C$4)/$C$3),$C$7*(((1-$C$4+E1764)/(1-$C$4)*$C$3+$C$8)^(-$C$9)*(1-$C$4+E1764)-((1-$C$4+E1764-1)/(1-$C$4)*$C$3+$C$8)^(-$C$9)*(1-$C$4+E1764-1)),IF(E1764=0,$C$7*($C$3+$C$8)^(-$C$9),\" \")))","v":" "}]
[null,null,null,null,1642,1642," "]
[null,null,null,null,1643,1643," "]
[null,null,null,null,1644,1644," "]
[null,null,null,null,1645,1645," "]
[null,null,null,null,1646,1646," "]
[null,null,null,null,1647,1647," "]
[null,null,null,null,1648,1648," "]
[null,null,null,null,1649,1649," "]
[null,null,null,null,1650,1650," "]
[null,null,null,null,1651,1651," "]
[null,null,null,null,1652,1652," "]
[null,null,null,null,1653,1653," "]
[null,null,null,null,1654,1654," "]
[null,null,null,null,1655,1655," "]
[null,null,null,null,1656,1656," "]
[null,null,null,null,1657,1657," "]
[null,null,null,null,1658,1658," "]
[null,null,null,null,1659,1659," "]
[null,null,null,null,1660,1660," "]
[null,null,null,null,1661,1661," "]
[null,null,null,null,1662,1662," "]
[null,null,null,null,1663,1663," "]
[null,null,null,null,1664,1664," "]
[null,null,null,null,1665,1665," "]
[null,null,null,null,1666,1666," "]
[null,null,null,null,1667,1667," "]
[null,null,null,null,1668,1668," "]
[null,null,null,null,1669,1669," "]
[null,null,null,null,1670,1670," "]
[null,null,null,null,1671,1671," "]
[null,null,null,null,1672,{"$f":"E1795*$C$3","v":1672}," "]
[null,null,null,null,1673,1673," "]
[null,null,null,null,1674,1674," "]
[null,null,null,null,1675,1675," "]
[null,null,null,null,1676,1676," "]
[null,null,null,null,1677,1677," "]
[null,null,null,null,1678,1678," "]
[null,null,null,null,1679,1679," "]
[null,null,null,null,1680,1680," "]
[null,null,null,null,1681,1681," "]
[null,null,null,null,1682,1682," "]
[null,null,null,null,1683,1683," "]
[null,null,null,null,1684,1684," "]
[null,null,null,null,1685,1685," "]
[null,null,null,null,1686,1686," "]
[null,null,null,null,1687,1687," "]
[null,null,null,null,1688,1688," "]
[null,null,null,null,1689,1689," "]
[null,null,null,null,1690,1690," "]
[null,null,null,null,1691,1691," "]
[null,null,null,null,1692,1692," "]
[null,null,null,null,1693,1693," "]
[null,null,null,null,1694,1694," "]
[null,null,null,null,1695,1695," "]
[null,null,null,null,1696,1696," "]
[null,null,null,null,1697,1697," "]
[null,null,null,null,1698,1698," "]
[null,null,null,null,1699,1699," "]
[null,null,null,null,1700,1700," "]
[null,null,null,null,1701,1701," "]
[null,null,null,null,1702,1702," "]
[null,null,null,null,1703,1703," "]
[null,null,null,null,1704,1704," "]
[null,null,null,null,{"$f":"E1827+1","v":1705},1705,{"$f":"IF(E1828<0,$C$7*((($C$4+ABS(E1828))/$C$4*$C$3+$C$8)^(-$C$9)*($C$4+ABS(E1828))-(($C$4+ABS(E1828)-1)/$C$4*$C$3+$C$8)^(-$C$9)*($C$4+ABS(E1828)-1)),IF(AND(E1828>0,E1828<$C$2*(1-$C$4)/$C$3),$C$7*(((1-$C$4+E1828)/(1-$C$4)*$C$3+$C$8)^(-$C$9)*(1-$C$4+E1828)-((1-$C$4+E1828-1)/(1-$C$4)*$C$3+$C$8)^(-$C$9)*(1-$C$4+E1828-1)),IF(E1828=0,$C$7*($C$3+$C$8)^(-$C$9),\" \")))","v":" "}]
[null,null,null,null,1706,1706," "]
[null,null,null,null,1707,1707," "]
[null,null,null,null,1708,1708," "]
[null,null,null,null,1709,1709," "]
[null,null,null,null,1710,1710," "]
[null,null,null,null,1711,1711," "]
[null,null,null,null,1712,1712," "]
[null,null,null,null,1713,1713," "]
[null,null,null,null,1714,1714," "]
[null,null,null,null,1715,1715," "]
[null,null,null,null,1716,1716," "]
[null,null,null,null,1717,1717," "]
[null,null,null,null,1718,1718," "]
[null,null,null,null,1719,1719," "]
[null,null,null,null,1720,1720," "]
[null,null,null,null,1721,1721," "]
[null,null,null,null,1722,1722," "]
[null,null,null,null,1723,1723," "]
[null,null,null,null,1724,1724," "]
[null,null,null,null,1725,1725," "]
[null,null,null,null,1726,1726," "]
[null,null,null,null,1727,1727," "]
[null,null,null,null,1728,1728," "]
[null,null,null,null,1729,1729," "]
[null,null,null,null,1730,1730," "]
[null,null,null,null,1731,1731," "]
[null,null,null,null,1732,1732," "]
[null,null,null,null,1733,1733," "]
[null,null,null,null,1734,1734," "]
[null,null,null,null,1735,1735," "]
[null,null,null,null,1736,{"$f":"E1859*$C$3","v":1736}," "]
[null,null,null,null,1737,1737," "]
[null,null,null,null,1738,1738," "]
[null,null,null,null,1739,1739," "]
[null,null,null,null,1740,1740," "]
[null,null,null,null,1741,1741," "]
[null,null,null,null,1742,1742," "]
[null,null,null,null,1743,1743," "]
[null,null,null,null,1744,1744," "]
[null,null,null,null,1745,1745," "]
[null,null,null,null,1746,1746," "]
[null,null,null,null,1747,1747," "]
[null,null,null,null,1748,1748," "]
[null,null,null,null,1749,1749," "]
[null,null,null,null,1750,1750," "]
[null,null,null,null,1751,1751," "]
[null,null,null,null,1752,1752," "]
[null,null,null,null,1753,1753," "]
[null,null,null,null,1754,1754," "]
[null,null,null,null,1755,1755," "]
[null,null,null,null,1756,1756," "]
[null,null,null,null,1757,1757," "]
[null,null,null,null,1758,1758," "]
[null,null,null,null,1759,1759," "]
[null,null,null,null,1760,1760," "]
[null,null,null,null,1761,1761," "]
[null,null,null,null,1762,1762," "]
[null,null,null,null,1763,1763," "]
[null,null,null,null,1764,1764," "]
[null,null,null,null,1765,1765," "]
[null,null,null,null,1766,1766," "]
[null,null,null,null,1767,1767," "]
[null,null,null,null,1768,1768," "]
[null,null,null,null,{"$f":"E1891+1","v":1769},1769,{"$f":"IF(E1892<0,$C$7*((($C$4+ABS(E1892))/$C$4*$C$3+$C$8)^(-$C$9)*($C$4+ABS(E1892))-(($C$4+ABS(E1892)-1)/$C$4*$C$3+$C$8)^(-$C$9)*($C$4+ABS(E1892)-1)),IF(AND(E1892>0,E1892<$C$2*(1-$C$4)/$C$3),$C$7*(((1-$C$4+E1892)/(1-$C$4)*$C$3+$C$8)^(-$C$9)*(1-$C$4+E1892)-((1-$C$4+E1892-1)/(1-$C$4)*$C$3+$C$8)^(-$C$9)*(1-$C$4+E1892-1)),IF(E1892=0,$C$7*($C$3+$C$8)^(-$C$9),\" \")))","v":" "}]
[null,null,null,null,1770,1770," "]
[null,null,null,null,1771,1771," "]
[null,null,null,null,1772,1772," "]
[null,null,null,null,1773,1773," "]
[null,null,null,null,1774,1774," "]
[null,null,null,null,1775,1775," "]
[null,null,null,null,1776,1776," "]
[null,null,null,null,1777,1777," "]
[null,null,null,null,1778,1778," "]
[null,null,null,null,1779,1779," "]
[null,null,null,null,1780,1780," "]
[null,null,null,null,1781,1781," "]
[null,null,null,null,1782,1782," "]
[null,null,null,null,1783,1783," "]
[null,null,null,null,1784,1784," "]
[null,null,null,null,1785,1785," "]
[null,null,null,null,1786,1786," "]
[null,null,null,null,1787,1787," "]
[null,null,null,null,1788,1788," "]
[null,null,null,null,1789,1789," "]
[null,null,null,null,1790,1790," "]
[null,null,null,null,1791,1791," "]
[null,null,null,null,1792,1792," "]
[null,null,null,null,1793,1793," "]
[null,null,null,null,1794,1794," "]
[null,null,null,null,1795,1795," "]
[null,null,null,null,1796,1796," "]
[null,null,null,null,1797,1797," "]
[null,null,null,null,1798,1798," "]
[null,null,null,null,1799,1799," "]
[null,null,null,null,1800,{"$f":"E1923*$C$3","v":1800}," "]
[null,null,null,null,1801,1801," "]
[null,null,null,null,1802,1802," "]
[null,null,null,null,1803,1803," "]
[null,null,null,null,1804,1804," "]
[null,null,null,null,1805,1805," "]
[null,null,null,null,1806,1806," "]
[null,null,null,null,1807,1807," "]
[null,null,null,null,1808,1808," "]
[null,null,null,null,1809,1809," "]
[null,null,null,null,1810,1810," "]
[null,null,null,null,1811,1811," "]
[null,null,null,null,1812,1812," "]
[null,null,null,null,1813,1813," "]
[null,null,null,null,1814,1814," "]
[null,null,null,null,1815,1815," "]
[null,null,null,null,1816,1816," "]
[null,null,null,null,1817,1817," "]
[null,null,null,null,1818,1818," "]
[null,null,null,null,1819,1819," "]
[null,null,null,null,1820,1820," "]
[null,null,null,null,1821,1821," "]
[null,null,null,null,1822,1822," "]
[null,null,null,null,1823,1823," "]
[null,null,null,null,1824,1824," "]
[null,null,null,null,1825,1825," "]
[null,null,null,null,1826,1826," "]
[null,null,null,null,1827,1827," "]
[null,null,null,null,1828,1828," "]
[null,null,null,null,1829,1829," "]
[null,null,null,null,1830,1830," "]
[null,null,null,null,1831,1831," "]
[null,null,null,null,1832,1832," "]
[null,null,null,null,{"$f":"E1955+1","v":1833},1833,{"$f":"IF(E1956<0,$C$7*((($C$4+ABS(E1956))/$C$4*$C$3+$C$8)^(-$C$9)*($C$4+ABS(E1956))-(($C$4+ABS(E1956)-1)/$C$4*$C$3+$C$8)^(-$C$9)*($C$4+ABS(E1956)-1)),IF(AND(E1956>0,E1956<$C$2*(1-$C$4)/$C$3),$C$7*(((1-$C$4+E1956)/(1-$C$4)*$C$3+$C$8)^(-$C$9)*(1-$C$4+E1956)-((1-$C$4+E1956-1)/(1-$C$4)*$C$3+$C$8)^(-$C$9)*(1-$C$4+E1956-1)),IF(E1956=0,$C$7*($C$3+$C$8)^(-$C$9),\" \")))","v":" "}]
[null,null,null,null,1834,1834," "]
[null,null,null,null,1835,1835," "]
[null,null,null,null,1836,1836," "]
[null,null,null,null,1837,1837," "]
[null,null,null,null,1838,1838," "]
[null,null,null,null,1839,1839," "]
[null,null,null,null,1840,1840," "]
[null,null,null,null,1841,1841," "]
[null,null,null,null,1842,1842," "]
[null,null,null,null,1843,1843," "]
[null,null,null,null,1844,1844," "]
[null,null,null,null,1845,1845," "]
[null,null,null,null,1846,1846," "]
[null,null,null,null,1847,1847," "]
[null,null,null,null,1848,1848," "]
[null,null,null,null,1849,1849," "]
[null,null,null,null,1850,1850," "]
[null,null,null,null,1851,1851," "]
[null,null,null,null,1852,1852," "]
[null,null,null,null,1853,1853," "]
[null,null,null,null,1854,1854," "]
[null,null,null,null,1855,1855," "]
[null,null,null,null,1856,1856," "]
[null,null,null,null,1857,1857," "]
[null,null,null,null,1858,1858," "]
[null,null,null,null,1859,1859," "]
[null,null,null,null,1860,1860," "]
[null,null,null,null,1861,1861," "]
[null,null,null,null,1862,1862," "]
[null,null,null,null,1863,1863," "]
[null,null,null,null,1864,{"$f":"E1987*$C$3","v":1864}," "]
[null,null,null,null,1865,1865," "]
[null,null,null,null,1866,1866," "]
[null,null,null,null,1867,1867," "]
[null,null,null,null,1868,1868," "]
[null,null,null,null,1869,1869," "]
[null,null,null,null,1870,1870," "]
[null,null,null,null,1871,1871," "]
[null,null,null,null,1872,1872," "]
[null,null,null,null,1873,1873," "]
[null,null,null,null,1874,1874," "]
[null,null,null,null,1875,1875," "]
[null,null,null,null,1876,1876," "]
[null,null,null,null,1877,1877," "]
[null,null,null,null,1878,1878," "]
[null,null,null,null,1879,1879," "]
[null,null,null,null,1880,1880," "]
[null,null,null,null,1881,1881," "]
[null,null,null,null,1882,1882," "]
[null,null,null,null,1883,1883," "]
[null,null,null,null,1884,1884," "]
[null,null,null,null,1885,1885," "]
[null,null,null,null,1886,1886," "]
[null,null,null,null,1887,1887," "]
[null,null,null,null,1888,1888," "]
[null,null,null,null,1889,1889," "]
[null,null,null,null,1890,1890," "]
[null,null,null,null,1891,1891," "]
[null,null,null,null,1892,1892," "]
[null,null,null,null,1893,1893," "]
[null,null,null,null,1894,1894," "]
[null,null,null,null,1895,1895," "]
[null,null,null,null,1896,1896," "]
[null,null,null,null,{"$f":"E2019+1","v":1897},1897,{"$f":"IF(E2020<0,$C$7*((($C$4+ABS(E2020))/$C$4*$C$3+$C$8)^(-$C$9)*($C$4+ABS(E2020))-(($C$4+ABS(E2020)-1)/$C$4*$C$3+$C$8)^(-$C$9)*($C$4+ABS(E2020)-1)),IF(AND(E2020>0,E2020<$C$2*(1-$C$4)/$C$3),$C$7*(((1-$C$4+E2020)/(1-$C$4)*$C$3+$C$8)^(-$C$9)*(1-$C$4+E2020)-((1-$C$4+E2020-1)/(1-$C$4)*$C$3+$C$8)^(-$C$9)*(1-$C$4+E2020-1)),IF(E2020=0,$C$7*($C$3+$C$8)^(-$C$9),\" \")))","v":" "}]
[null,null,null,null,1898,1898," "]
[null,null,null,null,1899,1899," "]
[null,null,null,null,1900,1900," "]
[null,null,null,null,1901,1901," "]
[null,null,null,null,1902,1902," "]
[null,null,null,null,1903,1903," "]
[null,null,null,null,1904,1904," "]
[null,null,null,null,1905,1905," "]
[null,null,null,null,1906,1906," "]
[null,null,null,null,1907,1907," "]
[null,null,null,null,1908,1908," "]
[null,null,null,null,1909,1909," "]
[null,null,null,null,1910,1910," "]
[null,null,null,null,1911,1911," "]
[null,null,null,null,1912,1912," "]
[null,null,null,null,1913,1913," "]
[null,null,null,null,1914,1914," "]
[null,null,null,null,1915,1915," "]
[null,null,null,null,1916,1916," "]
[null,null,null,null,1917,1917," "]
[null,null,null,null,1918,1918," "]
[null,null,null,null,1919,1919," "]
[null,null,null,null,1920,1920," "]
[null,null,null,null,1921,1921," "]
[null,null,null,null,1922,1922," "]
[null,null,null,null,1923,1923," "]
[null,null,null,null,1924,1924," "]
[null,null,null,null,1925,1925," "]
[null,null,null,null,1926,1926," "]
[null,null,null,null,1927,1927," "]
[null,null,null,null,1928,{"$f":"E2051*$C$3","v":1928}," "]
[null,null,null,null,1929,1929," "]
[null,null,null,null,1930,1930," "]
[null,null,null,null,1931,1931," "]
[null,null,null,null,1932,1932," "]
[null,null,null,null,1933,1933," "]
[null,null,null,null,1934,1934," "]
[null,null,null,null,1935,1935," "]
[null,null,null,null,1936,1936," "]
[null,null,null,null,1937,1937," "]
[null,null,null,null,1938,1938," "]
[null,null,null,null,1939,1939," "]
[null,null,null,null,1940,1940," "]
[null,null,null,null,1941,1941," "]
[null,null,null,null,1942,1942," "]
[null,null,null,null,1943,1943," "]
[null,null,null,null,1944,1944," "]
[null,null,null,null,1945,1945," "]
[null,null,null,null,1946,1946," "]
[null,null,null,null,1947,1947," "]
[null,null,null,null,1948,1948," "]
[null,null,null,null,1949,1949," "]
[null,null,null,null,1950,1950," "]
[null,null,null,null,1951,1951," "]
[null,null,null,null,1952,1952," "]
[null,null,null,null,1953,1953," "]
[null,null,null,null,1954,1954," "]
[null,null,null,null,1955,1955," "]
[null,null,null,null,1956,1956," "]
[null,null,null,null,1957,1957," "]
[null,null,null,null,1958,1958," "]
[null,null,null,null,1959,1959," "]
[null,null,null,null,1960,1960," "]
[null,null,null,null,{"$f":"E2083+1","v":1961},1961,{"$f":"IF(E2084<0,$C$7*((($C$4+ABS(E2084))/$C$4*$C$3+$C$8)^(-$C$9)*($C$4+ABS(E2084))-(($C$4+ABS(E2084)-1)/$C$4*$C$3+$C$8)^(-$C$9)*($C$4+ABS(E2084)-1)),IF(AND(E2084>0,E2084<$C$2*(1-$C$4)/$C$3),$C$7*(((1-$C$4+E2084)/(1-$C$4)*$C$3+$C$8)^(-$C$9)*(1-$C$4+E2084)-((1-$C$4+E2084-1)/(1-$C$4)*$C$3+$C$8)^(-$C$9)*(1-$C$4+E2084-1)),IF(E2084=0,$C$7*($C$3+$C$8)^(-$C$9),\" \")))","v":" "}]
[null,null,null,null,1962,1962," "]
[null,null,null,null,1963,1963," "]
[null,null,null,null,1964,1964," "]
[null,null,null,null,1965,1965," "]
[null,null,null,null,1966,1966," "]
[null,null,null,null,1967,1967," "]
[null,null,null,null,1968,1968," "]
[null,null,null,null,1969,1969," "]
[null,null,null,null,1970,1970," "]
[null,null,null,null,1971,1971," "]
[null,null,null,null,1972,1972," "]
[null,null,null,null,1973,1973," "]
[null,null,null,null,1974,1974," "]
[null,null,null,null,1975,1975," "]
[null,null,null,null,1976,1976," "]
[null,null,null,null,1977,1977," "]
[null,null,null,null,1978,1978," "]
[null,null,null,null,1979,1979," "]
[null,null,null,null,1980,1980," "]
[null,null,null,null,1981,1981," "]
[null,null,null,null,1982,1982," "]
[null,null,null,null,1983,1983," "]
[null,null,null,null,1984,1984," "]
[null,null,null,null,1985,1985," "]
[null,null,null,null,1986,1986," "]
[null,null,null,null,1987,1987," "]
[null,null,null,null,1988,1988," "]
[null,null,null,null,1989,1989," "]
[null,null,null,null,1990,1990," "]
[null,null,null,null,1991,1991," "]
[null,null,null,null,1992,{"$f":"E2115*$C$3","v":1992}," "]
[null,null,null,null,1993,1993," "]
[null,null,null,null,1994,1994," "]
[null,null,null,null,1995,1995," "]
[null,null,null,null,1996,1996," "]
[null,null,null,null,1997,1997," "]
[null,null,null,null,1998,1998," "]
[null,null,null,null,1999,1999," "]
[null,null,null,null,2000,2000," "]
[null,null,null,null,2001,2001," "]
[null,null,null,null,2002,2002," "]
[null,null,null,null,2003,2003," "]
[null,null,null,null,2004,2004," "]
[null,null,null,null,2005,2005," "]
[null,null,null,null,2006,2006," "]
[null,null,null,null,2007,2007," "]
[null,null,null,null,2008,2008," "]
[null,null,null,null,2009,2009," "]
[null,null,null,null,2010,2010," "]
[null,null,null,null,2011,2011," "]
[null,null,null,null,2012,2012," "]
[null,null,null,null,2013,2013," "]
[null,null,null,null,2014,2014," "]
[null,null,null,null,2015,2015," "]
[null,null,null,null,2016,2016," "]
[null,null,null,null,2017,2017," "]
[null,null,null,null,2018,2018," "]
[null,null,null,null,2019,2019," "]
[null,null,null,null,2020,2020," "]
[null,null,null,null,2021,2021," "]
[null,null,null,null,2022,2022," "]
[null,null,null,null,2023,2023," "]
[null,null,null,null,2024,2024," "]
[null,null,null,null,{"$f":"E2147+1","v":2025},2025,{"$f":"IF(E2148<0,$C$7*((($C$4+ABS(E2148))/$C$4*$C$3+$C$8)^(-$C$9)*($C$4+ABS(E2148))-(($C$4+ABS(E2148)-1)/$C$4*$C$3+$C$8)^(-$C$9)*($C$4+ABS(E2148)-1)),IF(AND(E2148>0,E2148<$C$2*(1-$C$4)/$C$3),$C$7*(((1-$C$4+E2148)/(1-$C$4)*$C$3+$C$8)^(-$C$9)*(1-$C$4+E2148)-((1-$C$4+E2148-1)/(1-$C$4)*$C$3+$C$8)^(-$C$9)*(1-$C$4+E2148-1)),IF(E2148=0,$C$7*($C$3+$C$8)^(-$C$9),\" \")))","v":" "}]
[null,null,null,null,2026,2026," "]
[null,null,null,null,2027,2027," "]
[null,null,null,null,2028,2028," "]
[null,null,null,null,2029,2029," "]
[null,null,null,null,2030,2030," "]
[null,null,null,null,2031,2031," "]
[null,null,null,null,2032,2032," "]
[null,null,null,null,2033,2033," "]
[null,null,null,null,2034,2034," "]
[null,null,null,null,2035,2035," "]
[null,null,null,null,2036,2036," "]
[null,null,null,null,2037,2037," "]
[null,null,null,null,2038,2038," "]
[null,null,null,null,2039,2039," "]
[null,null,null,null,2040,2040," "]
[null,null,null,null,2041,2041," "]
[null,null,null,null,2042,2042," "]
[null,null,null,null,2043,2043," "]
[null,null,null,null,2044,2044," "]
[null,null,null,null,2045,2045," "]
[null,null,null,null,2046,2046," "]
[null,null,null,null,2047,2047," "]
[null,null,null,null,2048,2048," "]
[null,null,null,null,2049,2049," "]
[null,null,null,null,2050,2050," "]
[null,null,null,null,2051,2051," "]
[null,null,null,null,2052,2052," "]
[null,null,null,null,2053,2053," "]
[null,null,null,null,2054,2054," "]
[null,null,null,null,2055,2055," "]
[null,null,null,null,2056,{"$f":"E2179*$C$3","v":2056}," "]
[null,null,null,null,2057,2057," "]
[null,null,null,null,2058,2058," "]
[null,null,null,null,2059,2059," "]
[null,null,null,null,2060,2060," "]
[null,null,null,null,2061,2061," "]
[null,null,null,null,2062,2062," "]
[null,null,null,null,2063,2063," "]
[null,null,null,null,2064,2064," "]
[null,null,null,null,2065,2065," "]
[null,null,null,null,2066,2066," "]
[null,null,null,null,2067,2067," "]
[null,null,null,null,2068,2068," "]
[null,null,null,null,2069,2069," "]
[null,null,null,null,2070,2070," "]
[null,null,null,null,2071,2071," "]
[null,null,null,null,2072,2072," "]
[null,null,null,null,2073,2073," "]
[null,null,null,null,2074,2074," "]
[null,null,null,null,2075,2075," "]
[null,null,null,null,2076,2076," "]
[null,null,null,null,2077,2077," "]
[null,null,null,null,2078,2078," "]
[null,null,null,null,2079,2079," "]
[null,null,null,null,2080,2080," "]
[null,null,null,null,2081,2081," "]
[null,null,null,null,2082,2082," "]
[null,null,null,null,2083,2083," "]
[null,null,null,null,2084,2084," "]
[null,null,null,null,2085,2085," "]
[null,null,null,null,2086,2086," "]
[null,null,null,null,2087,2087," "]
[null,null,null,null,2088,2088," "]
[null,null,null,null,{"$f":"E2211+1","v":2089},2089,{"$f":"IF(E2212<0,$C$7*((($C$4+ABS(E2212))/$C$4*$C$3+$C$8)^(-$C$9)*($C$4+ABS(E2212))-(($C$4+ABS(E2212)-1)/$C$4*$C$3+$C$8)^(-$C$9)*($C$4+ABS(E2212)-1)),IF(AND(E2212>0,E2212<$C$2*(1-$C$4)/$C$3),$C$7*(((1-$C$4+E2212)/(1-$C$4)*$C$3+$C$8)^(-$C$9)*(1-$C$4+E2212)-((1-$C$4+E2212-1)/(1-$C$4)*$C$3+$C$8)^(-$C$9)*(1-$C$4+E2212-1)),IF(E2212=0,$C$7*($C$3+$C$8)^(-$C$9),\" \")))","v":" "}]
[null,null,null,null,2090,2090," "]
[null,null,null,null,2091,2091," "]
[null,null,null,null,2092,2092," "]
[null,null,null,null,2093,2093," "]
[null,null,null,null,2094,2094," "]
[null,null,null,null,2095,2095," "]
[null,null,null,null,2096,2096," "]
[null,null,null,null,2097,2097," "]
[null,null,null,null,2098,2098," "]
[null,null,null,null,2099,2099," "]
[null,null,null,null,2100,2100," "]
[null,null,null,null,2101,2101," "]
[null,null,null,null,2102,2102," "]
[null,null,null,null,2103,2103," "]
[null,null,null,null,2104,2104," "]
[null,null,null,null,2105,2105," "]
[null,null,null,null,2106,2106," "]
[null,null,null,null,2107,2107," "]
[null,null,null,null,2108,2108," "]
[null,null,null,null,2109,2109," "]
[null,null,null,null,2110,2110," "]
[null,null,null,null,2111,2111," "]
[null,null,null,null,2112,2112," "]
[null,null,null,null,2113,2113," "]
[null,null,null,null,2114,2114," "]
[null,null,null,null,2115,2115," "]
[null,null,null,null,2116,2116," "]
[null,null,null,null,2117,2117," "]
[null,null,null,null,2118,2118," "]
[null,null,null,null,2119,2119," "]
[null,null,null,null,2120,{"$f":"E2243*$C$3","v":2120}," "]
[null,null,null,null,2121,2121," "]
[null,null,null,null,2122,2122," "]
[null,null,null,null,2123,2123," "]
[null,null,null,null,2124,2124," "]
[null,null,null,null,2125,2125," "]
[null,null,null,null,2126,2126," "]
[null,null,null,null,2127,2127," "]
[null,null,null,null,2128,2128," "]
[null,null,null,null,2129,2129," "]
[null,null,null,null,2130,2130," "]
[null,null,null,null,2131,2131," "]
[null,null,null,null,2132,2132," "]
[null,null,null,null,2133,2133," "]
[null,null,null,null,2134,2134," "]
[null,null,null,null,2135,2135," "]
[null,null,null,null,2136,2136," "]
[null,null,null,null,2137,2137," "]
[null,null,null,null,2138,2138," "]
[null,null,null,null,2139,2139," "]
[null,null,null,null,2140,2140," "]
[null,null,null,null,2141,2141," "]
[null,null,null,null,2142,2142," "]
[null,null,null,null,2143,2143," "]
[null,null,null,null,2144,2144," "]
[null,null,null,null,2145,2145," "]
[null,null,null,null,2146,2146," "]
[null,null,null,null,2147,2147," "]
[null,null,null,null,2148,2148," "]
[null,null,null,null,2149,2149," "]
[null,null,null,null,2150,2150," "]
[null,null,null,null,2151,2151," "]
[null,null,null,null,2152,2152," "]
[null,null,null,null,{"$f":"E2275+1","v":2153},2153,{"$f":"IF(E2276<0,$C$7*((($C$4+ABS(E2276))/$C$4*$C$3+$C$8)^(-$C$9)*($C$4+ABS(E2276))-(($C$4+ABS(E2276)-1)/$C$4*$C$3+$C$8)^(-$C$9)*($C$4+ABS(E2276)-1)),IF(AND(E2276>0,E2276<$C$2*(1-$C$4)/$C$3),$C$7*(((1-$C$4+E2276)/(1-$C$4)*$C$3+$C$8)^(-$C$9)*(1-$C$4+E2276)-((1-$C$4+E2276-1)/(1-$C$4)*$C$3+$C$8)^(-$C$9)*(1-$C$4+E2276-1)),IF(E2276=0,$C$7*($C$3+$C$8)^(-$C$9),\" \")))","v":" "}]
[null,null,null,null,2154,2154," "]
[null,null,null,null,2155,2155," "]
[null,null,null,null,2156,2156," "]
[null,null,null,null,2157,2157," "]
[null,null,null,null,2158,2158," "]
[null,null,null,null,2159,2159," "]
[null,null,null,null,2160,2160," "]
[null,null,null,null,2161,2161," "]
[null,null,null,null,2162,2162," "]
[null,null,null,null,2163,2163," "]
[null,null,null,null,2164,2164," "]
[null,null,null,null,2165,2165," "]
[null,null,null,null,2166,2166," "]
[null,null,null,null,2167,2167," "]
[null,null,null,null,2168,2168," "]
[null,null,null,null,2169,2169," "]
[null,null,null,null,2170,2170," "]
[null,null,null,null,2171,2171," "]
[null,null,null,null,2172,2172," "]
[null,null,null,null,2173,2173," "]
[null,null,null,null,2174,2174," "]
[null,null,null,null,2175,2175," "]
[null,null,null,null,2176,2176," "]
[null,null,null,null,2177,2177," "]
[null,null,null,null,2178,2178," "]
[null,null,null,null,2179,2179," "]
[null,null,null,null,2180,2180," "]
[null,null,null,null,2181,2181," "]
[null,null,null,null,2182,2182," "]
[null,null,null,null,2183,2183," "]
[null,null,null,null,2184,{"$f":"E2307*$C$3","v":2184}," "]
[null,null,null,null,2185,2185," "]
[null,null,null,null,2186,2186," "]
[null,null,null,null,2187,2187," "]
[null,null,null,null,2188,2188," "]
[null,null,null,null,2189,2189," "]
[null,null,null,null,2190,2190," "]
[null,null,null,null,2191,2191," "]
[null,null,null,null,2192,2192," "]
[null,null,null,null,2193,2193," "]
[null,null,null,null,2194,2194," "]
[null,null,null,null,2195,2195," "]
[null,null,null,null,2196,2196," "]
[null,null,null,null,2197,2197," "]
[null,null,null,null,2198,2198," "]
[null,null,null,null,2199,2199," "]
[null,null,null,null,2200,2200," "]
[null,null,null,null,2201,2201," "]
[null,null,null,null,2202,2202," "]
[null,null,null,null,2203,2203," "]
[null,null,null,null,2204,2204," "]
[null,null,null,null,2205,2205," "]
[null,null,null,null,2206,2206," "]
[null,null,null,null,2207,2207," "]
[null,null,null,null,2208,2208," "]
[null,null,null,null,2209,2209," "]
[null,null,null,null,2210,2210," "]
[null,null,null,null,2211,2211," "]
[null,null,null,null,2212,2212," "]
[null,null,null,null,2213,2213," "]
[null,null,null,null,2214,2214," "]
[null,null,null,null,2215,2215," "]
[null,null,null,null,2216,2216," "]
[null,null,null,null,{"$f":"E2339+1","v":2217},2217,{"$f":"IF(E2340<0,$C$7*((($C$4+ABS(E2340))/$C$4*$C$3+$C$8)^(-$C$9)*($C$4+ABS(E2340))-(($C$4+ABS(E2340)-1)/$C$4*$C$3+$C$8)^(-$C$9)*($C$4+ABS(E2340)-1)),IF(AND(E2340>0,E2340<$C$2*(1-$C$4)/$C$3),$C$7*(((1-$C$4+E2340)/(1-$C$4)*$C$3+$C$8)^(-$C$9)*(1-$C$4+E2340)-((1-$C$4+E2340-1)/(1-$C$4)*$C$3+$C$8)^(-$C$9)*(1-$C$4+E2340-1)),IF(E2340=0,$C$7*($C$3+$C$8)^(-$C$9),\" \")))","v":" "}]
[null,null,null,null,2218,2218," "]
[null,null,null,null,2219,2219," "]
[null,null,null,null,2220,2220," "]
[null,null,null,null,2221,2221," "]
[null,null,null,null,2222,2222," "]
[null,null,null,null,2223,2223," "]
[null,null,null,null,2224,2224," "]
[null,null,null,null,2225,2225," "]
[null,null,null,null,2226,2226," "]
[null,null,null,null,2227,2227," "]
[null,null,null,null,2228,2228," "]
[null,null,null,null,2229,2229," "]
[null,null,null,null,2230,2230," "]
[null,null,null,null,2231,2231," "]
[null,null,null,null,2232,2232," "]
[null,null,null,null,2233,2233," "]
[null,null,null,null,2234,2234," "]
[null,null,null,null,2235,2235," "]
[null,null,null,null,2236,2236," "]
[null,null,null,null,2237,2237," "]
[null,null,null,null,2238,2238," "]
[null,null,null,null,2239,2239," "]
[null,null,null,null,2240,2240," "]
[null,null,null,null,2241,2241," "]
[null,null,null,null,2242,2242," "]
[null,null,null,null,2243,2243," "]
[null,null,null,null,2244,2244," "]
[null,null,null,null,2245,2245," "]
[null,null,null,null,2246,2246," "]
[null,null,null,null,2247,2247," "]
[null,null,null,null,2248,{"$f":"E2371*$C$3","v":2248}," "]
[null,null,null,null,2249,2249," "]
[null,null,null,null,2250,2250," "]
[null,null,null,null,2251,2251," "]
[null,null,null,null,2252,2252," "]
[null,null,null,null,2253,2253," "]
[null,null,null,null,2254,2254," "]
[null,null,null,null,2255,2255," "]
[null,null,null,null,2256,2256," "]
[null,null,null,null,2257,2257," "]
[null,null,null,null,2258,2258," "]
[null,null,null,null,2259,2259," "]
[null,null,null,null,2260,2260," "]
[null,null,null,null,2261,2261," "]
[null,null,null,null,2262,2262," "]
[null,null,null,null,2263,2263," "]
[null,null,null,null,2264,2264," "]
[null,null,null,null,2265,2265," "]
[null,null,null,null,2266,2266," "]
[null,null,null,null,2267,2267," "]
[null,null,null,null,2268,2268," "]
[null,null,null,null,2269,2269," "]
[null,null,null,null,2270,2270," "]
[null,null,null,null,2271,2271," "]
[null,null,null,null,2272,2272," "]
[null,null,null,null,2273,2273," "]
[null,null,null,null,2274,2274," "]
[null,null,null,null,2275,2275," "]
[null,null,null,null,2276,2276," "]
[null,null,null,null,2277,2277," "]
[null,null,null,null,2278,2278," "]
[null,null,null,null,2279,2279," "]
[null,null,null,null,2280,2280," "]
[null,null,null,null,{"$f":"E2403+1","v":2281},2281,{"$f":"IF(E2404<0,$C$7*((($C$4+ABS(E2404))/$C$4*$C$3+$C$8)^(-$C$9)*($C$4+ABS(E2404))-(($C$4+ABS(E2404)-1)/$C$4*$C$3+$C$8)^(-$C$9)*($C$4+ABS(E2404)-1)),IF(AND(E2404>0,E2404<$C$2*(1-$C$4)/$C$3),$C$7*(((1-$C$4+E2404)/(1-$C$4)*$C$3+$C$8)^(-$C$9)*(1-$C$4+E2404)-((1-$C$4+E2404-1)/(1-$C$4)*$C$3+$C$8)^(-$C$9)*(1-$C$4+E2404-1)),IF(E2404=0,$C$7*($C$3+$C$8)^(-$C$9),\" \")))","v":" "}]
[null,null,null,null,2282,2282," "]
[null,null,null,null,2283,2283," "]
[null,null,null,null,2284,2284," "]
[null,null,null,null,2285,2285," "]
[null,null,null,null,2286,2286," "]
[null,null,null,null,2287,2287," "]
[null,null,null,null,2288,2288," "]
[null,null,null,null,2289,2289," "]
[null,null,null,null,2290,2290," "]
[null,null,null,null,2291,2291," "]
[null,null,null,null,2292,2292," "]
[null,null,null,null,2293,2293," "]
[null,null,null,null,2294,2294," "]
[null,null,null,null,2295,2295," "]
[null,null,null,null,2296,2296," "]
[null,null,null,null,2297,2297," "]
[null,null,null,null,2298,2298," "]
[null,null,null,null,2299,2299," "]
[null,null,null,null,2300,2300," "]
[null,null,null,null,2301,2301," "]
[null,null,null,null,2302,2302," "]
[null,null,null,null,2303,2303," "]
[null,null,null,null,2304,2304," "]
[null,null,null,null,2305,2305," "]
[null,null,null,null,2306,2306," "]
[null,null,null,null,2307,2307," "]
[null,null,null,null,2308,2308," "]
[null,null,null,null,2309,2309," "]
[null,null,null,null,2310,2310," "]
[null,null,null,null,2311,2311," "]
[null,null,null,null,2312,{"$f":"E2435*$C$3","v":2312}," "]
[null,null,null,null,2313,2313," "]
[null,null,null,null,2314,2314," "]
[null,null,null,null,2315,2315," "]
[null,null,null,null,2316,2316," "]
[null,null,null,null,2317,2317," "]
[null,null,null,null,2318,2318," "]
[null,null,null,null,2319,2319," "]
[null,null,null,null,2320,2320," "]
[null,null,null,null,2321,2321," "]
[null,null,null,null,2322,2322," "]
[null,null,null,null,2323,2323," "]
[null,null,null,null,2324,2324," "]
[null,null,null,null,2325,2325," "]
[null,null,null,null,2326,2326," "]
[null,null,null,null,2327,2327," "]
[null,null,null,null,2328,2328," "]
[null,null,null,null,2329,2329," "]
[null,null,null,null,2330,2330," "]
[null,null,null,null,2331,2331," "]
[null,null,null,null,2332,2332," "]
[null,null,null,null,2333,2333," "]
[null,null,null,null,2334,2334," "]
[null,null,null,null,2335,2335," "]
[null,null,null,null,2336,2336," "]
[null,null,null,null,2337,2337," "]
[null,null,null,null,2338,2338," "]
[null,null,null,null,2339,2339," "]
[null,null,null,null,2340,2340," "]
[null,null,null,null,2341,2341," "]
[null,null,null,null,2342,2342," "]
[null,null,null,null,2343,2343," "]
[null,null,null,null,2344,2344," "]
[null,null,null,null,{"$f":"E2467+1","v":2345},2345,{"$f":"IF(E2468<0,$C$7*((($C$4+ABS(E2468))/$C$4*$C$3+$C$8)^(-$C$9)*($C$4+ABS(E2468))-(($C$4+ABS(E2468)-1)/$C$4*$C$3+$C$8)^(-$C$9)*($C$4+ABS(E2468)-1)),IF(AND(E2468>0,E2468<$C$2*(1-$C$4)/$C$3),$C$7*(((1-$C$4+E2468)/(1-$C$4)*$C$3+$C$8)^(-$C$9)*(1-$C$4+E2468)-((1-$C$4+E2468-1)/(1-$C$4)*$C$3+$C$8)^(-$C$9)*(1-$C$4+E2468-1)),IF(E2468=0,$C$7*($C$3+$C$8)^(-$C$9),\" \")))","v":" "}]
[null,null,null,null,2346,2346," "]
[null,null,null,null,2347,2347," "]
[null,null,null,null,2348,2348," "]
[null,null,null,null,2349,2349," "]
[null,null,null,null,2350,2350," "]
[null,null,null,null,2351,2351," "]
[null,null,null,null,2352,2352," "]
[null,null,null,null,2353,2353," "]
[null,null,null,null,2354,2354," "]
[null,null,null,null,2355,2355," "]
[null,null,null,null,2356,2356," "]
[null,null,null,null,2357,2357," "]
[null,null,null,null,2358,2358," "]
[null,null,null,null,2359,2359," "]
[null,null,null,null,2360,2360," "]
[null,null,null,null,2361,2361," "]
[null,null,null,null,2362,2362," "]
[null,null,null,null,2363,2363," "]
[null,null,null,null,2364,2364," "]
[null,null,null,null,2365,2365," "]
[null,null,null,null,2366,2366," "]
[null,null,null,null,2367,2367," "]
[null,null,null,null,2368,2368," "]
[null,null,null,null,2369,2369," "]
[null,null,null,null,2370,2370," "]
[null,null,null,null,2371,2371," "]
[null,null,null,null,2372,2372," "]
[null,null,null,null,2373,2373," "]
[null,null,null,null,2374,2374," "]
[null,null,null,null,2375,2375," "]
[null,null,null,null,2376,{"$f":"E2499*$C$3","v":2376}," "]
[null,null,null,null,2377,2377," "]
[null,null,null,null,2378,2378," "]
[null,null,null,null,2379,2379," "]
[null,null,null,null,2380,2380," "]
[null,null,null,null,2381,2381," "]
[null,null,null,null,2382,2382," "]
[null,null,null,null,2383,2383," "]
[null,null,null,null,2384,2384," "]
[null,null,null,null,2385,2385," "]
[null,null,null,null,2386,2386," "]
[null,null,null,null,2387,2387," "]
[null,null,null,null,2388,2388," "]
[null,null,null,null,2389,2389," "]
[null,null,null,null,2390,2390," "]
[null,null,null,null,2391,2391," "]
[null,null,null,null,2392,2392," "]
[null,null,null,null,2393,2393," "]
[null,null,null,null,2394,2394," "]
[null,null,null,null,2395,2395," "]
[null,null,null,null,2396,2396," "]
[null,null,null,null,2397,2397," "]
[null,null,null,null,2398,2398," "]
[null,null,null,null,2399,2399," "]
[null,null,null,null,2400,2400," "]
[null,null,null,null,2401,2401," "]
[null,null,null,null,2402,2402," "]
[null,null,null,null,2403,2403," "]
[null,null,null,null,2404,2404," "]
[null,null,null,null,2405,2405," "]
[null,null,null,null,2406,2406," "]
[null,null,null,null,2407,2407," "]
[null,null,null,null,2408,2408," "]
[null,null,null,null,{"$f":"E2531+1","v":2409},2409,{"$f":"IF(E2532<0,$C$7*((($C$4+ABS(E2532))/$C$4*$C$3+$C$8)^(-$C$9)*($C$4+ABS(E2532))-(($C$4+ABS(E2532)-1)/$C$4*$C$3+$C$8)^(-$C$9)*($C$4+ABS(E2532)-1)),IF(AND(E2532>0,E2532<$C$2*(1-$C$4)/$C$3),$C$7*(((1-$C$4+E2532)/(1-$C$4)*$C$3+$C$8)^(-$C$9)*(1-$C$4+E2532)-((1-$C$4+E2532-1)/(1-$C$4)*$C$3+$C$8)^(-$C$9)*(1-$C$4+E2532-1)),IF(E2532=0,$C$7*($C$3+$C$8)^(-$C$9),\" \")))","v":" "}]
[null,null,null,null,2410,2410," "]
[null,null,null,null,2411,2411," "]
[null,null,null,null,2412,2412," "]
[null,null,null,null,2413,2413," "]
[null,null,null,null,2414,2414," "]
[null,null,null,null,2415,2415," "]
[null,null,null,null,2416,2416," "]
[null,null,null,null,2417,2417," "]
[null,null,null,null,2418,2418," "]
[null,null,null,null,2419,2419," "]
[null,null,null,null,2420,2420," "]
[null,null,null,null,2421,2421," "]
[null,null,null,null,2422,2422," "]
[null,null,null,null,2423,2423," "]
[null,null,null,null,2424,2424," "]
[null,null,null,null,2425,2425," "]
[null,null,null,null,2426,2426," "]
[null,null,null,null,2427,2427," "]
[null,null,null,null,2428,2428," "]
[null,null,null,null,2429,2429," "]
[null,null,null,null,2430,2430," "]
[null,null,null,null,2431,2431," "]
[null,null,null,null,2432,2432," "]
[null,null,null,null,2433,2433," "]
[null,null,null,null,2434,2434," "]
[null,null,null,null,2435,2435," "]
[null,null,null,null,2436,2436," "]
[null,null,null,null,2437,2437," "]
[null,null,null,null,2438,2438," "]
[null,null,null,null,2439,2439," "]
[null,null,null,null,2440,{"$f":"E2563*$C$3","v":2440}," "]
[null,null,null,null,2441,2441," "]
[null,null,null,null,2442,2442," "]
[null,null,null,null,2443,2443," "]
[null,null,null,null,2444,2444," "]
[null,null,null,null,2445,2445," "]
[null,null,null,null,2446,2446," "]
[null,null,null,null,2447,2447," "]
[null,null,null,null,2448,2448," "]
[null,null,null,null,2449,2449," "]
[null,null,null,null,2450,2450," "]
[null,null,null,null,2451,2451," "]
[null,null,null,null,2452,2452," "]
[null,null,null,null,2453,2453," "]
[null,null,null,null,2454,2454," "]
[null,null,null,null,2455,2455," "]
[null,null,null,null,2456,2456," "]
[null,null,null,null,2457,2457," "]
[null,null,null,null,2458,2458," "]
[null,null,null,null,2459,2459," "]
[null,null,null,null,2460,2460," "]
[null,null,null,null,2461,2461," "]
[null,null,null,null,2462,2462," "]
[null,null,null,null,2463,2463," "]
[null,null,null,null,2464,2464," "]
[null,null,null,null,2465,2465," "]
[null,null,null,null,2466,2466," "]
[null,null,null,null,2467,2467," "]
[null,null,null,null,2468,2468," "]
[null,null,null,null,2469,2469," "]
[null,null,null,null,2470,2470," "]
[null,null,null,null,2471,2471," "]
[null,null,null,null,2472,2472," "]
[null,null,null,null,{"$f":"E2595+1","v":2473},2473,{"$f":"IF(E2596<0,$C$7*((($C$4+ABS(E2596))/$C$4*$C$3+$C$8)^(-$C$9)*($C$4+ABS(E2596))-(($C$4+ABS(E2596)-1)/$C$4*$C$3+$C$8)^(-$C$9)*($C$4+ABS(E2596)-1)),IF(AND(E2596>0,E2596<$C$2*(1-$C$4)/$C$3),$C$7*(((1-$C$4+E2596)/(1-$C$4)*$C$3+$C$8)^(-$C$9)*(1-$C$4+E2596)-((1-$C$4+E2596-1)/(1-$C$4)*$C$3+$C$8)^(-$C$9)*(1-$C$4+E2596-1)),IF(E2596=0,$C$7*($C$3+$C$8)^(-$C$9),\" \")))","v":" "}]
[null,null,null,null,2474,2474," "]
[null,null,null,null,2475,2475," "]
[null,null,null,null,2476,2476," "]
[null,null,null,null,2477,2477," "]
[null,null,null,null,2478,2478," "]
[null,null,null,null,2479,2479," "]
[null,null,null,null,2480,2480," "]
[null,null,null,null,2481,2481," "]
[null,null,null,null,2482,2482," "]
[null,null,null,null,2483,2483," "]
[null,null,null,null,2484,2484," "]
[null,null,null,null,2485,2485," "]
[null,null,null,null,2486,2486," "]
[null,null,null,null,2487,2487," "]
[null,null,null,null,2488,2488," "]
[null,null,null,null,2489,2489," "]
[null,null,null,null,2490,2490," "]
[null,null,null,null,2491,2491," "]
[null,null,null,null,2492,2492," "]
[null,null,null,null,2493,2493," "]
[null,null,null,null,2494,2494," "]
[null,null,null,null,2495,2495," "]
[null,null,null,null,2496,2496," "]
[null,null,null,null,2497,2497," "]
[null,null,null,null,2498,2498," "]
[null,null,null,null,2499,2499," "]
[null,null,null,null,2500,2500," "]
[null,null,null,null,2501,2501," "]
[null,null,null,null,2502,2502," "]
[null,null,null,null,2503,2503," "]
[null,null,null,null,2504,{"$f":"E2627*$C$3","v":2504}," "]
[null,null,null,null,2505,2505," "]
[null,null,null,null,2506,2506," "]
[null,null,null,null,2507,2507," "]
[null,null,null,null,2508,2508," "]
[null,null,null,null,2509,2509," "]
[null,null,null,null,2510,2510," "]
[null,null,null,null,2511,2511," "]
[null,null,null,null,2512,2512," "]
[null,null,null,null,2513,2513," "]
[null,null,null,null,2514,2514," "]
[null,null,null,null,2515,2515," "]
[null,null,null,null,2516,2516," "]
[null,null,null,null,2517,2517," "]
[null,null,null,null,2518,2518," "]
[null,null,null,null,2519,2519," "]
[null,null,null,null,2520,2520," "]
[null,null,null,null,2521,2521," "]
[null,null,null,null,2522,2522," "]
[null,null,null,null,2523,2523," "]
[null,null,null,null,2524,2524," "]
[null,null,null,null,2525,2525," "]
[null,null,null,null,2526,2526," "]
[null,null,null,null,2527,2527," "]
[null,null,null,null,2528,2528," "]
[null,null,null,null,2529,2529," "]
[null,null,null,null,2530,2530," "]
[null,null,null,null,2531,2531," "]
[null,null,null,null,2532,2532," "]
[null,null,null,null,2533,2533," "]
[null,null,null,null,2534,2534," "]
[null,null,null,null,2535,2535," "]
[null,null,null,null,2536,2536," "]
[null,null,null,null,{"$f":"E2659+1","v":2537},2537,{"$f":"IF(E2660<0,$C$7*((($C$4+ABS(E2660))/$C$4*$C$3+$C$8)^(-$C$9)*($C$4+ABS(E2660))-(($C$4+ABS(E2660)-1)/$C$4*$C$3+$C$8)^(-$C$9)*($C$4+ABS(E2660)-1)),IF(AND(E2660>0,E2660<$C$2*(1-$C$4)/$C$3),$C$7*(((1-$C$4+E2660)/(1-$C$4)*$C$3+$C$8)^(-$C$9)*(1-$C$4+E2660)-((1-$C$4+E2660-1)/(1-$C$4)*$C$3+$C$8)^(-$C$9)*(1-$C$4+E2660-1)),IF(E2660=0,$C$7*($C$3+$C$8)^(-$C$9),\" \")))","v":" "}]
[null,null,null,null,2538,2538," "]
[null,null,null,null,2539,2539," "]
[null,null,null,null,2540,2540," "]
[null,null,null,null,2541,2541," "]
[null,null,null,null,2542,2542," "]
[null,null,null,null,2543,2543," "]
[null,null,null,null,2544,2544," "]
[null,null,null,null,2545,2545," "]
[null,null,null,null,2546,2546," "]
[null,null,null,null,2547,2547," "]
[null,null,null,null,2548,2548," "]
[null,null,null,null,2549,2549," "]
[null,null,null,null,2550,2550," "]
[null,null,null,null,2551,2551," "]
[null,null,null,null,2552,2552," "]
[null,null,null,null,2553,2553," "]
[null,null,null,null,2554,2554," "]
[null,null,null,null,2555,2555," "]
[null,null,null,null,2556,2556," "]
[null,null,null,null,2557,2557," "]
[null,null,null,null,2558,2558," "]
[null,null,null,null,2559,2559," "]
[null,null,null,null,2560,2560," "]
[null,null,null,null,2561,2561," "]
[null,null,null,null,2562,2562," "]
[null,null,null,null,2563,2563," "]
[null,null,null,null,2564,2564," "]
[null,null,null,null,2565,2565," "]
[null,null,null,null,2566,2566," "]
[null,null,null,null,2567,2567," "]
[null,null,null,null,2568,{"$f":"E2691*$C$3","v":2568}," "]
[null,null,null,null,2569,2569," "]
[null,null,null,null,2570,2570," "]
[null,null,null,null,2571,2571," "]
[null,null,null,null,2572,2572," "]
[null,null,null,null,2573,2573," "]
[null,null,null,null,2574,2574," "]
[null,null,null,null,2575,2575," "]
[null,null,null,null,2576,2576," "]
[null,null,null,null,2577,2577," "]
[null,null,null,null,2578,2578," "]
[null,null,null,null,2579,2579," "]
[null,null,null,null,2580,2580," "]
[null,null,null,null,2581,2581," "]
[null,null,null,null,2582,2582," "]
[null,null,null,null,2583,2583," "]
[null,null,null,null,2584,2584," "]
[null,null,null,null,2585,2585," "]
[null,null,null,null,2586,2586," "]
[null,null,null,null,2587,2587," "]
[null,null,null,null,2588,2588," "]
[null,null,null,null,2589,2589," "]
[null,null,null,null,2590,2590," "]
[null,null,null,null,2591,2591," "]
[null,null,null,null,2592,2592," "]
[null,null,null,null,2593,2593," "]
[null,null,null,null,2594,2594," "]
[null,null,null,null,2595,2595," "]
[null,null,null,null,2596,2596," "]
[null,null,null,null,2597,2597," "]
[null,null,null,null,2598,2598," "]
[null,null,null,null,2599,2599," "]
[null,null,null,null,2600,2600," "]
[null,null,null,null,{"$f":"E2723+1","v":2601},2601,{"$f":"IF(E2724<0,$C$7*((($C$4+ABS(E2724))/$C$4*$C$3+$C$8)^(-$C$9)*($C$4+ABS(E2724))-(($C$4+ABS(E2724)-1)/$C$4*$C$3+$C$8)^(-$C$9)*($C$4+ABS(E2724)-1)),IF(AND(E2724>0,E2724<$C$2*(1-$C$4)/$C$3),$C$7*(((1-$C$4+E2724)/(1-$C$4)*$C$3+$C$8)^(-$C$9)*(1-$C$4+E2724)-((1-$C$4+E2724-1)/(1-$C$4)*$C$3+$C$8)^(-$C$9)*(1-$C$4+E2724-1)),IF(E2724=0,$C$7*($C$3+$C$8)^(-$C$9),\" \")))","v":" "}]
[null,null,null,null,2602,2602," "]
[null,null,null,null,2603,2603," "]
[null,null,null,null,2604,2604," "]
[null,null,null,null,2605,2605," "]
[null,null,null,null,2606,2606," "]
[null,null,null,null,2607,2607," "]
[null,null,null,null,2608,2608," "]
[null,null,null,null,2609,2609," "]
[null,null,null,null,2610,2610," "]
[null,null,null,null,2611,2611," "]
[null,null,null,null,2612,2612," "]
[null,null,null,null,2613,2613," "]
[null,null,null,null,2614,2614," "]
[null,null,null,null,2615,2615," "]
[null,null,null,null,2616,2616," "]
[null,null,null,null,2617,2617," "]
[null,null,null,null,2618,2618," "]
[null,null,null,null,2619,2619," "]
[null,null,null,null,2620,2620," "]
[null,null,null,null,2621,2621," "]
[null,null,null,null,2622,2622," "]
[null,null,null,null,2623,2623," "]
[null,null,null,null,2624,2624," "]
[null,null,null,null,2625,2625," "]
[null,null,null,null,2626,2626," "]
[null,null,null,null,2627,2627," "]
[null,null,null,null,2628,2628," "]
[null,null,null,null,2629,2629," "]
[null,null,null,null,2630,2630," "]
[null,null,null,null,2631,2631," "]
[null,null,null,null,2632,{"$f":"E2755*$C$3","v":2632}," "]
[null,null,null,null,2633,2633," "]
[null,null,null,null,2634,2634," "]
[null,null,null,null,2635,2635," "]
[null,null,null,null,2636,2636," "]
[null,null,null,null,2637,2637," "]
[null,null,null,null,2638,2638," "]
[null,null,null,null,2639,2639," "]
[null,null,null,null,2640,2640," "]
[null,null,null,null,2641,2641," "]
[null,null,null,null,2642,2642," "]
[null,null,null,null,2643,2643," "]
[null,null,null,null,2644,2644," "]
[null,null,null,null,2645,2645," "]
[null,null,null,null,2646,2646," "]
[null,null,null,null,2647,2647," "]
[null,null,null,null,2648,2648," "]
[null,null,null,null,2649,2649," "]
[null,null,null,null,2650,2650," "]
[null,null,null,null,2651,2651," "]
[null,null,null,null,2652,2652," "]
[null,null,null,null,2653,2653," "]
[null,null,null,null,2654,2654," "]
[null,null,null,null,2655,2655," "]
[null,null,null,null,2656,2656," "]
[null,null,null,null,2657,2657," "]
[null,null,null,null,2658,2658," "]
[null,null,null,null,2659,2659," "]
[null,null,null,null,2660,2660," "]
[null,null,null,null,2661,2661," "]
[null,null,null,null,2662,2662," "]
[null,null,null,null,2663,2663," "]
[null,null,null,null,2664,2664," "]
[null,null,null,null,{"$f":"E2787+1","v":2665},2665,{"$f":"IF(E2788<0,$C$7*((($C$4+ABS(E2788))/$C$4*$C$3+$C$8)^(-$C$9)*($C$4+ABS(E2788))-(($C$4+ABS(E2788)-1)/$C$4*$C$3+$C$8)^(-$C$9)*($C$4+ABS(E2788)-1)),IF(AND(E2788>0,E2788<$C$2*(1-$C$4)/$C$3),$C$7*(((1-$C$4+E2788)/(1-$C$4)*$C$3+$C$8)^(-$C$9)*(1-$C$4+E2788)-((1-$C$4+E2788-1)/(1-$C$4)*$C$3+$C$8)^(-$C$9)*(1-$C$4+E2788-1)),IF(E2788=0,$C$7*($C$3+$C$8)^(-$C$9),\" \")))","v":" "}]
[null,null,null,null,2666,2666," "]
[null,null,null,null,2667,2667," "]
[null,null,null,null,2668,2668," "]
[null,null,null,null,2669,2669," "]
[null,null,null,null,2670,2670," "]
[null,null,null,null,2671,2671," "]
[null,null,null,null,2672,2672," "]
[null,null,null,null,2673,2673," "]
[null,null,null,null,2674,2674," "]
[null,null,null,null,2675,2675," "]
[null,null,null,null,2676,2676," "]
[null,null,null,null,2677,2677," "]
[null,null,null,null,2678,2678," "]
[null,null,null,null,2679,2679," "]
[null,null,null,null,2680,2680," "]
[null,null,null,null,2681,2681," "]
[null,null,null,null,2682,2682," "]
[null,null,null,null,2683,2683," "]
[null,null,null,null,2684,2684," "]
[null,null,null,null,2685,2685," "]
[null,null,null,null,2686,2686," "]
[null,null,null,null,2687,2687," "]
[null,null,null,null,2688,2688," "]
[null,null,null,null,2689,2689," "]
[null,null,null,null,2690,2690," "]
[null,null,null,null,2691,2691," "]
[null,null,null,null,2692,2692," "]
[null,null,null,null,2693,2693," "]
[null,null,null,null,2694,2694," "]
[null,null,null,null,2695,2695," "]
[null,null,null,null,2696,{"$f":"E2819*$C$3","v":2696}," "]
[null,null,null,null,2697,2697," "]
[null,null,null,null,2698,2698," "]
[null,null,null,null,2699,2699," "]
[null,null,null,null,2700,2700," "]
[null,null,null,null,2701,2701," "]
[null,null,null,null,2702,2702," "]
[null,null,null,null,2703,2703," "]
[null,null,null,null,2704,2704," "]
[null,null,null,null,2705,2705," "]
[null,null,null,null,2706,2706," "]
[null,null,null,null,2707,2707," "]
[null,null,null,null,2708,2708," "]
[null,null,null,null,2709,2709," "]
[null,null,null,null,2710,2710," "]
[null,null,null,null,2711,2711," "]
[null,null,null,null,2712,2712," "]
[null,null,null,null,2713,2713," "]
[null,null,null,null,2714,2714," "]
[null,null,null,null,2715,2715," "]
[null,null,null,null,2716,2716," "]
[null,null,null,null,2717,2717," "]
[null,null,null,null,2718,2718," "]
[null,null,null,null,2719,2719," "]
[null,null,null,null,2720,2720," "]
[null,null,null,null,2721,2721," "]
[null,null,null,null,2722,2722," "]
[null,null,null,null,2723,2723," "]
[null,null,null,null,2724,2724," "]
[null,null,null,null,2725,2725," "]
[null,null,null,null,2726,2726," "]
[null,null,null,null,2727,2727," "]
[null,null,null,null,2728,2728," "]
[null,null,null,null,{"$f":"E2851+1","v":2729},2729,{"$f":"IF(E2852<0,$C$7*((($C$4+ABS(E2852))/$C$4*$C$3+$C$8)^(-$C$9)*($C$4+ABS(E2852))-(($C$4+ABS(E2852)-1)/$C$4*$C$3+$C$8)^(-$C$9)*($C$4+ABS(E2852)-1)),IF(AND(E2852>0,E2852<$C$2*(1-$C$4)/$C$3),$C$7*(((1-$C$4+E2852)/(1-$C$4)*$C$3+$C$8)^(-$C$9)*(1-$C$4+E2852)-((1-$C$4+E2852-1)/(1-$C$4)*$C$3+$C$8)^(-$C$9)*(1-$C$4+E2852-1)),IF(E2852=0,$C$7*($C$3+$C$8)^(-$C$9),\" \")))","v":" "}]
[null,null,null,null,2730,2730," "]
[null,null,null,null,2731,2731," "]
[null,null,null,null,2732,2732," "]
[null,null,null,null,2733,2733," "]
[null,null,null,null,2734,2734," "]
[null,null,null,null,2735,2735," "]
[null,null,null,null,2736,2736," "]
[null,null,null,null,2737,2737," "]
[null,null,null,null,2738,2738," "]
[null,null,null,null,2739,2739," "]
[null,null,null,null,2740,2740," "]
[null,null,null,null,2741,2741," "]
[null,null,null,null,2742,2742," "]
[null,null,null,null,2743,2743," "]
[null,null,null,null,2744,2744," "]
[null,null,null,null,2745,2745," "]
[null,null,null,null,2746,2746," "]
[null,null,null,null,2747,2747," "]
[null,null,null,null,2748,2748," "]
[null,null,null,null,2749,2749," "]
[null,null,null,null,2750,2750," "]
[null,null,null,null,2751,2751," "]
[null,null,null,null,2752,2752," "]
[null,null,null,null,2753,2753," "]
[null,null,null,null,2754,2754," "]
[null,null,null,null,2755,2755," "]
[null,null,null,null,2756,2756," "]
[null,null,null,null,2757,2757," "]
[null,null,null,null,2758,2758," "]
[null,null,null,null,2759,2759," "]

{"sheet":"help3","index":10,"n_rows":32,"n_cols":18,"rows_kept":32,"cut":false,"hidden":true,"merged":[]}
["Variable",null,"bv1","bv2",null,null,null,null,null,null,null,null,"LAMBDA"]
[]
["z0",null,{"$f":"Q4","v":17},{"$f":"Q5","v":5.4},null,null,null,null,null,null,null,null,"Variable","b_0","b_1",null,"z_0","E(lambda)"]
["lambda",null,{"$f":"R4","v":3.3070779391209859},{"$f":"R5","v":3.6253870789815972},null,null,null,null,null,null,null,null,"bv1",-1.0389999999999999,6.4320000000000002E-3,null,17,{"$f":"N4+O4*Beregn!$B$5","v":3.3070779391209859}]
["mean",null,{"$f":"Q10","v":9.7500564585806337},{"$f":"Q11","v":4.7067279422882109},null,null,null,null,null,null,null,null,"bv2",2.4489999999999998,1.7409999999999999E-3,null,5.4,{"$f":"N5+O5*Beregn!$B$5","v":3.6253870789815972}]
["kappa",null,{"$f":"O17","v":-0.17418294686872371},{"$f":"O18","v":-0.12382739212007521}]
[null,null,null,null,null,null,null,null,null,null,null,null,"MEAN"]
[]
[null,null,null,null,null,null,"Incl. koblede regn, s-faktor 1,0",null,null,null,null,null,"Variable","b_0","b_1",null,"E(mean)"]
["T =",{"$f":"Beregn!B8","v":5},{"$f":"C$5*(1+C$6)/C$6*(1-(1/($B10*C$4))^C$6)+C$3","v":46.12915303767312},{"$f":"D$5*(1+D$6)/D$6*(1-(1/($B10*D$4))^D$6)+D$3","v":19.773130792015586},null,0.1,{"$f":"C10","v":46.12915303767312},null,null,null,null,null,"bv1",-17,1.0369999999999999,null,{"$f":"N10+O10*Beregn!B6","v":9.7500564585806337}]
[null,null,null,null,null,1,{"$f":"D10","v":19.773130792015586},null,null,null,null,null,"bv2",-2.5470000000000002,0.28120000000000001,null,{"$f":"N11+O11*Beregn!B6","v":4.7067279422882109}]
[]
[null,null,null,null,null,null,null,null,null,null,null,null,"L-CV"]
[]
[null,null,null,null,null,null,null,null,null,null,null,null,null,null,"Kappa"]
[null,null,null,null,null,null,null,null,null,null,null,null,"Variable","mean","mean"]
[null,null,null,null,null,null,null,null,null,null,null,null,"bv1",0.54769999999999996,{"$f":"1/N17-2","v":-0.17418294686872371}]
[null,null,null,null,null,null,null,null,null,null,null,null,"bv2",0.53300000000000003,{"$f":"1/N18-2","v":-0.12382739212007521}]
[]
[]
[]
[]
[]
[]
[]
[null,1,{"$f":"C$5*(1+C$6)/C$6*(1-(1/($B26*C$4))^C$6)+C$3","v":27.7070557075251},11.158420433419739]
[null,2,35.012988785953731,14.659232545570227]
[null,5,46.12915303767312,19.773130792015586]
[null,10,55.799105630092363,24.046008228909088]
[null,20,66.709956922489297,28.701828372937321]
[null,50,83.311096542899776,35.502933290186149]
[null,100,97.752429854853318,41.185542983692976]

{"sheet":"SVK stationer","index":11,"n_rows":84,"n_cols":5,"rows_kept":84,"cut":false,"hidden":false,"merged":[]}
["Station No.","Name","Northing","Easting","(WGS84 ZONE 32)"]
[20097,"Frederikshavn Materielgård",6368352.2999999998,589564.19999999995]
[20099,"Frederikshavn Centralrenseanlæg",6365840.2999999998,591625.19999999995]
[20211,"Sulsted",6336906.4000000004,557765.5]
[20212,"Vodskov",6328973.5,562046.5]
[20298,"Gistrup",6317423.5,560706.6]
[20304,"Aalborg Østerport Pumpestation",6322922.5,557583.6]
[20307,"Aalborg Renseanlæg Vest",6323092.5,552478.6]
[20309,"Nørresundby Søvangen Pumpestation",6324522.5,555263.6]
[20456,"Frejlev Syd Lannerparken",6317776.5,549415.6]
[20458,"Frejlev Nord Verdisvej",6318782.5,549808.6]
[20461,"Svenstrup J.",6315042.5,550778.6]
[21192,"Skive Renseanlæg",6268932.7000000002,502699.1]
[21207,"Skive Lufthavn",6267742.7000000002,510142]
[22123,"Grenaå Ådalen P40",6253558.0999999996,617298.4]
[22321,"Egå Renseanlæg",6230496.0999999996,577190.69999999995]
[22361,"Viby J. Renseanlæg",6220681.2000000002,571098.80000000005]
[22421,"Silkeborg Vandværk",6224068,534704]
[22554,"Trankær Renseanlæg",6215761.2000000002,570630.80000000005]
[23127,"Horsens Centralrenseanlæg",6190188.2999999998,553589]
[23261,"Vejle Centralrenseanlæg",6173068.4000000004,533875.1]
[23294,"Fredericia Centralrenseanlæg",6156433.5,545527.1]
[23321,"Kolding Forrenseanlæg",6149145.5,530709.19999999995]
[23345,"Vamdrup Flyveplads",6143760,521130]
[24292,"Herning Centralrenseanlæg",6222387.9000000004,496400.2]
[25171,"Esbjerg Renseanlæg V",6149223.2999999998,463949.7]
[26091,"Haderslev Renseanlæg",6122623.7000000002,532139.30000000005]
[26376,"Tønder Centralrenseanlæg",6086068.7999999998,490654.7]
[26481,"Sønderborg Damgade Pumpestation",6086668,551486.30000000005]
[28181,"Bolbro Højdebeholder",6139143.7000000002,584148.9]
[28182,"Dalum Vandværk",6135398.7999999998,587102.9]
[28183,"Ejby Mølle Renseanlæg",6140043.7000000002,589913.9]
[28184,"Odense NV Renseanlæg",6142453.7000000002,586478.9]
[28186,"Odense Vandværk",6139402.7000000002,586880.9]
[28453,"Svendborg Centralrenseanlæg",6102984,607488.9]
[28461,"Svendborg Vandværksvej",6102919,601533.9]
[28503,"Ærøskøbing Renseanlæg",6082688.0999999996,590677]
[29009,"Gniben",6209353.4000000004,642058.4]
[29041,"Holbæk Centralrenseanlæg",6178243.7000000002,671258.3]
[29122,"Sønder Nyrup Renseanlæg",6173740.5999999996,628774.5]
[29142,"Kalundborg Renseanlæg",6170978.7000000002,632348.5]
[29354,"Slagelse Centralrenseanlæg",6143700.9000000004,648246.5]
[29429,"Omø Fyr",6114654,635958.69999999995]
[30031,"Sydkystens Renseanlæg",6211155.9000000004,721870.1]
[30131,"Frederikssund Centralrenseanlæg",6191483.5999999996,692125.3]
[30168,"Hillerød Centralrenseanlæg",6204686.4000000004,704236.4]
[30191,"Furesø Park",6189622.5,715342.8]
[30201,"Vedbæk Renseanlæg",6194851.9000000004,722834.5]
[30208,"Ordrup Kirkegård",6185793.9000000004,724242.8]
[30211,"Svanemøllens Kaserne",6180448,724079.3]
[30218,"Stades Krog Overløbsbassin",6186406.4000000004,719641.2]
[30221,"Virum",6187073.5999999996,718975.8]
[30222,"Søborg Vandværk",6181402.7999999998,721023.4]
[30242,"Stavnsholt Resnseanlæg",6190505.4000000004,713404.6]
[30309,"Åvendingen",6178374.5,717712.8]
[30311,"Emdrup",6180425.2999999998,722776]
[30312,"Vølundsgade",6178508.4000000004,723133.1]
[30313,"Kløvermarksvej",6175223.7000000002,726590.9]
[30314,"Kongens Enghave",6172102.5,722323.1]
[30315,"Husum",6179275.9000000004,717514.1]
[30316,"Måløv Renseanlæg",6184284.2000000002,708184.1]
[30317,"Glostrup Genbrugsstation",6174858.2999999998,715025.8]
[30318,"Hvidovre Vandværk",6171690.0999999996,718493.3]
[30319,"Hvidovre Pumpestation",6169040.7999999998,718913.7]
[30321,"Rødovre Vandværk",6177447.7999999998,717736]
[30325,"Bispebjerg Hospital",6180238.7999999998,722536.1]
[30326,"Lygten",6178995.7000000002,722327.7]
[30348,"Wibrandtsvej",6172885.0999999996,728571]
[30351,"Tårnby Pumpestation 4",6171027.9000000004,726328.1]
[30352,"Tårnby Pumpestation 10",6167768.0999999996,725672.9]
[30353,"Tårnby Renseanlæg",6171907.5999999996,729885.8]
[30381,"Landbohøjskolen",6176849.7999999998,722764.9]
[30384,"Brøndbyvester Vandværk",6171328.4000000004,714900.2]
[30386,"Albertslund Materielgård",6173719.4000000004,710054.6]
[30388,"Høje Tåstrup",6173114.0999999996,704926.8]
[30395,"Ishøj Varmeværk",6167191.5999999996,710956.8]
[30411,"Roskilde Renseanlæg",6171355.0999999996,692385.8]
[30451,"Mosede Renseanlæg",6163374.7000000002,706565]
[31031,"Store Heddinge Vandværk",6135000.7999999998,715202.2]
[31151,"Næstved Centralrenseanlæg",6121674.0999999996,673598.4]
[31231,"Vordingborg Renseanlæg",6098964.2999999998,684908.4]
[31401,"Nakskov Renseanlæg",6077346.2999999998,636067.80000000005]
[31511,"Nykøbing F Renseanlæg",6073444.4000000004,685278.5]
[32097,"Rønne C",6121110.0999999996,864080.3]

{"sheet":"DK-koordinater","index":12,"n_rows":1071,"n_cols":2,"rows_kept":1071,"cut":false,"hidden":true,"merged":[]}
[]
[]
["x","y"]
[628557,6027669]
[629562,6027852]
[630965,6027582]
[629549,6027356]
[628557,6027669]
[]
[650082,6031417]
[638840,6030876]
[637848,6030878]
[631073,6034220]
[630266,6035139]
[630044,6036292]
[630325,6038450]
[630748,6040009]
[631361,6041557]
[632296,6043115]
[633726,6044966]
[641369,6043573]
[644539,6041786]
[645316,6040852]
[647398,6036943]
[649358,6033141]
[650082,6031417]
[]
[472280,6060086]
[471866,6059734]
[467014,6059921]
[466370,6060080]
[461235,6062709]
[461999,6065199]
[463036,6066257]
[464257,6066927]
[465351,6067320]
[470306,6067656]
[471109,6067496]
[472305,6067087]
[473293,6066439]
[473903,6063693]
[472280,6060086]
[]
[661472,6078739]
[664750,6077991]
[669529,6084389]
[669516,6087350]
[670346,6087328]
[673781,6084272]
[675579,6082083]
[683157,6072684]
[684209,6070127]
[684169,6063641]
[683404,6061723]
[682779,6060769]
[679414,6058329]
[676561,6058758]
[675640,6059372]
[673775,6059795]
[670307,6060437]
[666631,6060409]
[662776,6057870]
[659434,6055462]
[658503,6055260]
[653386,6058069]
[651602,6059370]
[649284,6061149]
[646797,6063759]
[645750,6064561]
[644678,6065021]
[641069,6066454]
[638062,6067628]
[636835,6067962]
[635129,6068158]
[630557,6069678]
[629950,6070264]
[628164,6072687]
[627943,6073333]
[630142,6076022]
[629167,6084747]
[630111,6086940]
[630878,6088137]
[631836,6089496]
[632688,6090170]
[635697,6091374]
[636807,6091748]
[638594,6092112]
[640429,6092251]
[643411,6092326]
[645732,6091565]
[646575,6090851]
[649785,6087770]
[650654,6085525]
[651458,6084424]
[653584,6082732]
[654604,6082148]
[661472,6078739]
[]
[592010,6078112]
[590414,6075823]
[589908,6076122]
[579869,6085038]
[576253,6090772]
[575960,6092591]
[582363,6088437]
[583734,6087443]
[592476,6080595]
[592010,6078112]
[]
[694828,6087055]
[696295,6086964]
[697663,6087303]
[698778,6087105]
[699500,6086704]
[700096,6086142]
[701269,6084677]
[703446,6081331]
[702859,6080291]
[700490,6077709]
[699720,6076931]
[698554,6076199]
[697718,6075481]
[696503,6074004]
[692057,6066631]
[691357,6065395]
[690945,6063272]
[690811,6061348]
[690973,6059622]
[691255,6057621]
[691655,6055380]
[692192,6052895]
[692567,6051046]
[691816,6050093]
[690362,6050652]
[689136,6051374]
[685277,6059787]
[685152,6061547]
[685488,6063850]
[686339,6065371]
[686724,6067336]
[683700,6073402]
[679928,6080492]
[679315,6081086]
[678601,6081522]
[676756,6082346]
[673657,6091385]
[674951,6093137]
[675843,6093791]
[677142,6094028]
[682270,6093615]
[682527,6093478]
[683485,6092712]
[692138,6088208]
[693652,6087438]
[694828,6087055]
[]
[603432,6090451]
[600258,6089915]
[599434,6090159]
[596953,6093738]
[596048,6096571]
[603973,6100854]
[607216,6095178]
[606869,6093524]
[603432,6090451]
[]
[727656,6096545]
[727100,6094783]
[726495,6094396]
[725469,6094251]
[724242,6094530]
[722057,6095474]
[717915,6095982]
[716191,6095899]
[715200,6095758]
[713707,6095315]
[711986,6094211]
[709185,6090674]
[704221,6086111]
[702924,6086361]
[702090,6086665]
[699756,6088572]
[700674,6094170]
[703330,6097463]
[711633,6103731]
[716971,6103678]
[720639,6103238]
[724180,6102176]
[725943,6101080]
[727656,6096545]
[]
[550599,6103423]
[561969,6096410]
[563993,6093437]
[564301,6092996]
[566822,6088504]
[568569,6083659]
[568800,6082566]
[568614,6081280]
[563476,6079659]
[562819,6079495]
[561393,6079415]
[559801,6079764]
[557487,6080878]
[551569,6083897]
[550194,6085002]
[549502,6087151]
[548555,6090757]
[548688,6092814]
[550022,6091639]
[552469,6089163]
[553116,6088645]
[553921,6088639]
[553608,6092159]
[550917,6096533]
[550053,6096801]
[547446,6096402]
[545921,6096077]
[544686,6096142]
[543346,6096871]
[540343,6100428]
[540844,6101500]
[542449,6102534]
[545475,6104110]
[548141,6104447]
[549280,6104057]
[550599,6103423]
[]
[613004,6071416]
[610431,6065539]
[609504,6065779]
[608698,6066888]
[607796,6068691]
[606417,6074070]
[606094,6077928]
[607830,6085916]
[608541,6087448]
[611197,6091688]
[613270,6093813]
[615010,6094962]
[618237,6101363]
[620485,6108537]
[621707,6112158]
[622906,6113969]
[623602,6114421]
[624368,6114257]
[624850,6113002]
[623617,6106519]
[623289,6104933]
[622121,6099612]
[621329,6096374]
[620677,6095181]
[620107,6094547]
[618927,6092784]
[617789,6090032]
[614745,6078882]
[613004,6071416]
[]
[887221,6111101]
[886334,6110916]
[879773,6112433]
[875761,6113833]
[866814,6117157]
[865629,6117899]
[862144,6120750]
[862388,6133538]
[864608,6142559]
[865817,6143917]
[868348,6141193]
[869118,6140154]
[869839,6139064]
[870930,6138223]
[874213,6136139]
[881619,6132048]
[886435,6129544]
[887861,6129016]
[889972,6128486]
[890973,6127735]
[891791,6126440]
[892252,6121630]
[890066,6114427]
[888454,6111815]
[887221,6111101]
[]
[593049,6153088]
[591560,6149176]
[590001,6147272]
[590161,6144849]
[593241,6144480]
[601349,6150055]
[601912,6153780]
[602007,6158730]
[601795,6163917]
[604642,6161436]
[610271,6150889]
[613496,6136621]
[616274,6129633]
[615450,6118084]
[613718,6110052]
[610790,6103429]
[606377,6102797]
[603583,6102747]
[601662,6102115]
[597760,6099137]
[597123,6099030]
[595737,6099031]
[573584,6104795]
[572408,6108423]
[573448,6109840]
[570746,6115724]
[564030,6116766]
[556962,6126625]
[556308,6132923]
[551302,6143683]
[548558,6147022]
[546073,6147798]
[542941,6150317]
[547241,6155169]
[552125,6155734]
[553232,6153020]
[555200,6151660]
[556853,6151434]
[558650,6152200]
[563122,6155479]
[567739,6157262]
[570925,6158581]
[572420,6159285]
[573833,6160128]
[576400,6162105]
[581519,6164083]
[583044,6163957]
[588388,6161031]
[593709,6155050]
[593049,6153088]
[]
[601488,6192908]
[602339,6192217]
[603564,6192261]
[604150,6193234]
[604243,6195380]
[604257,6193097]
[601085,6180713]
[600425,6180249]
[599727,6180233]
[596930,6180572]
[595851,6181259]
[594749,6185410]
[594640,6203871]
[595065,6205055]
[596316,6206521]
[597227,6206851]
[597270,6205707]
[597157,6203803]
[597442,6201923]
[601488,6192908]
[]
[720275,6205671]
[719688,6203040]
[719933,6201813]
[722666,6197030]
[723227,6195973]
[723801,6194810]
[725493,6189244]
[725817,6186040]
[725908,6184620]
[725008,6182436]
[726064,6178843]
[723969,6174762]
[723309,6173645]
[722769,6172905]
[721785,6171585]
[720485,6170621]
[720016,6167500]
[716828,6167789]
[716150,6168639]
[715464,6168697]
[714343,6168673]
[713573,6168295]
[712928,6167860]
[710728,6165865]
[710430,6165533]
[706178,6161963]
[705201,6161081]
[704687,6160067]
[702465,6155350]
[701715,6153109]
[701778,6150798]
[702240,6149348]
[702845,6148246]
[704252,6146949]
[708793,6144592]
[711701,6144576]
[712999,6144329]
[713827,6143966]
[715346,6142461]
[717610,6140173]
[718359,6138955]
[718986,6137330]
[719828,6132478]
[718897,6130744]
[717671,6129260]
[716856,6128569]
[711704,6125904]
[710820,6125707]
[709441,6125673]
[708077,6125702]
[706243,6125956]
[703711,6124848]
[702018,6123935]
[693345,6118286]
[692692,6117824]
[692103,6115992]
[695184,6113738]
[696039,6113451]
[697091,6113528]
[698569,6113997]
[699556,6114134]
[700776,6113817]
[702704,6112589]
[702823,6099414]
[702052,6098551]
[696629,6095615]
[694666,6095282]
[692879,6095422]
[691692,6095711]
[690589,6096531]
[688787,6098729]
[688097,6099040]
[686235,6099117]
[685284,6097275]
[685637,6096284]
[682843,6100076]
[681557,6101076]
[674383,6104937]
[677416,6113072]
[678250,6115705]
[674453,6120351]
[673778,6120850]
[672934,6121158]
[671450,6121205]
[670754,6120795]
[669235,6118849]
[666300,6118738]
[662520,6119000]
[661876,6119193]
[660309,6119941]
[656124,6121184]
[654450,6121497]
[653761,6121473]
[652715,6121035]
[649610,6119722]
[647883,6118458]
[646810,6118237]
[644675,6118599]
[643710,6118862]
[642900,6119578]
[638754,6134682]
[640444,6141139]
[639371,6146952]
[635520,6160041]
[635188,6161145]
[631231,6170923]
[630511,6171613]
[625348,6173658]
[618029,6178108]
[619113,6178680]
[621851,6178724]
[622621,6178653]
[633750,6177156]
[634353,6176277]
[635263,6175655]
[636275,6175130]
[637579,6174770]
[638334,6174669]
[638959,6174782]
[647084,6180464]
[655720,6191254]
[656377,6192593]
[656834,6194141]
[657115,6195513]
[657330,6197269]
[656801,6199633]
[655661,6201123]
[654553,6201965]
[652958,6202388]
[648605,6202731]
[647348,6202936]
[642110,6205792]
[641799,6207483]
[644298,6206391]
[650387,6204402]
[662800,6202067]
[666403,6202793]
[668982,6203914]
[671113,6205128]
[671817,6205543]
[672792,6205474]
[673526,6204273]
[671192,6200721]
[666987,6197120]
[667332,6188623]
[670364,6186420]
[671350,6186513]
[672145,6185469]
[673530,6182676]
[676010,6174636]
[675777,6171964]
[677515,6173977]
[677938,6177106]
[678400,6183524]
[681431,6201742]
[682050,6202093]
[682731,6202029]
[683758,6201577]
[684937,6200823]
[686906,6199313]
[687602,6198105]
[690216,6188700]
[690610,6187262]
[691822,6182130]
[691837,6180598]
[691436,6179404]
[690243,6178516]
[689055,6178495]
[686585,6178636]
[684648,6174034]
[684707,6171405]
[692479,6172004]
[694320,6176838]
[694361,6178264]
[694142,6179833]
[693839,6181337]
[692737,6184147]
[690008,6201539]
[687968,6205474]
[685980,6205264]
[683186,6204401]
[680299,6202825]
[679338,6202753]
[678038,6203722]
[677742,6204793]
[678655,6206239]
[682058,6209306]
[697397,6222151]
[698976,6223184]
[703541,6225070]
[704498,6225302]
[705190,6225304]
[705870,6225182]
[707060,6224898]
[718622,6221415]
[719870,6220704]
[725312,6216448]
[724060,6212433]
[723485,6211815]
[722650,6211167]
[720275,6205671]
[]
[495417,6308544]
[492602,6294974]
[489686,6288828]
[485819,6283226]
[484379,6282598]
[483766,6282415]
[478876,6281169]
[477766,6283741]
[475709,6286937]
[473041,6288314]
[472030,6288383]
[470470,6287659]
[469991,6288396]
[472274,6294472]
[476628,6298622]
[478882,6305179]
[479827,6305499]
[481536,6305429]
[483923,6305666]
[488758,6306918]
[489429,6307906]
[490212,6310223]
[491396,6312284]
[493900,6312412]
[494575,6311637]
[495417,6308544]
[]
[628557,6027669]
[627186,6027452]
[629071,6026724]
[631025,6026563]
[632831,6026585]
[634703,6027382]
[636571,6008408]
[634448,6005199]
[622994,5995254]
[619833,5995179]
[617820,5994973]
[616058,5992315]
[490778,5983020]
[490169,5984520]
[489800,5987399]
[492515,5988503]
[495197,5987664]
[496924,5986458]
[498361,5985546]
[500118,5986534]
[500782,5988744]
[501126,5992978]
[498112,5998170]
[490351,5997770]
[488724,6000409]
[487779,6003008]
[488248,6005634]
[489942,6011811]
[492424,6016257]
[488935,6016171]
[479823,6013335]
[478019,6013413]
[476404,6014302]
[474595,6017526]
[474017,6019909]
[475444,6025713]
[476785,6027761]
[484982,6029256]
[488742,6029678]
[489934,6028640]
[492662,6029608]
[499657,6033806]
[500904,6036371]
[500728,6039540]
[497672,6043868]
[496352,6044486]
[494754,6045956]
[490368,6052608]
[487721,6058859]
[484179,6062733]
[482895,6063789]
[480492,6066673]
[477588,6073340]
[476964,6076180]
[472792,6079003]
[470840,6080487]
[460857,6080155]
[455120,6079041]
[454671,6075576]
[454757,6070382]
[454346,6066402]
[453721,6069990]
[453878,6075739]
[454684,6083953]
[455610,6087561]
[459946,6098680]
[460911,6100433]
[462187,6101241]
[465132,6100599]
[464092,6097624]
[462116,6095986]
[459818,6094322]
[458590,6091211]
[462851,6086003]
[465449,6083793]
[467325,6083844]
[474386,6084935]
[478495,6085172]
[477903,6092836]
[479340,6107543]
[471926,6105087]
[467560,6101886]
[466145,6103744]
[465415,6109082]
[466575,6114900]
[468004,6116745]
[472184,6116438]
[473896,6115186]
[471921,6112614]
[473034,6110711]
[476920,6109512]
[480176,6110421]
[480213,6112670]
[478449,6117470]
[478267,6123622]
[478537,6130128]
[477079,6139672]
[475839,6142832]
[474352,6144062]
[470658,6144873]
[466735,6145442]
[464889,6145240]
[456313,6156585]
[453050,6149694]
[442781,6157061]
[444741,6161725]
[445810,6164648]
[448511,6174865]
[448868,6177782]
[448762,6179144]
[447806,6189513]
[447058,6195180]
[446469,6199516]
[445961,6201903]
[445575,6204621]
[446856,6203454]
[447550,6200631]
[448007,6197550]
[448306,6194980]
[448786,6188512]
[449322,6185306]
[454695,6187952]
[457676,6190271]
[462208,6194527]
[461585,6197717]
[457415,6207850]
[457109,6211989]
[454123,6215104]
[451712,6216676]
[446606,6218545]
[446844,6214391]
[445511,6206141]
[444414,6208416]
[444045,6213322]
[444386,6219578]
[445784,6245286]
[445756,6256542]
[445969,6267447]
[448530,6278246]
[449471,6280708]
[450677,6283322]
[452290,6285089]
[453310,6282890]
[452023,6279751]
[451268,6277471]
[453940,6273669]
[458671,6270836]
[462904,6270983]
[464112,6270601]
[467476,6268657]
[470433,6266626]
[474899,6262237]
[478041,6258926]
[484002,6260662]
[485054,6267210]
[485406,6268499]
[482426,6271204]
[480412,6274892]
[490327,6286522]
[491923,6290307]
[497557,6295711]
[504444,6295973]
[506770,6294270]
[508679,6283760]
[503331,6276124]
[502746,6272374]
[503866,6269051]
[505645,6269726]
[506271,6273216]
[510907,6275843]
[513393,6276638]
[515267,6276598]
[517081,6274357]
[515433,6270863]
[516777,6267668]
[519579,6264604]
[522962,6268146]
[521686,6269407]
[519794,6281409]
[519605,6281966]
[518216,6284386]
[516371,6283590]
[510529,6281183]
[510052,6305431]
[510849,6308053]
[518380,6317410]
[522199,6318805]
[525357,6319596]
[528688,6319618]
[531541,6319267]
[533717,6318187]
[541636,6321892]
[546674,6323631]
[548969,6323302]
[551790,6322780]
[557666,6324300]
[559069,6325792]
[568221,6319987]
[569983,6318563]
[571657,6317354]
[573614,6316461]
[575183,6316087]
[579731,6316070]
[578155,6313404]
[577297,6308416]
[578185,6298699]
[578569,6295891]
[579825,6290101]
[575928,6286657]
[570806,6286846]
[553123,6278792]
[554361,6277880]
[557223,6277887]
[561522,6279896]
[565987,6282963]
[572093,6284209]
[580598,6284332]
[582256,6283978]
[583142,6282201]
[583518,6278698]
[581544,6275461]
[580280,6274788]
[578550,6273237]
[576526,6270586]
[574689,6267322]
[573178,6258868]
[575660,6260304]
[575343,6263174]
[575734,6267835]
[580393,6271196]
[581730,6270099]
[583840,6268924]
[587368,6265539]
[592856,6263955]
[594179,6263706]
[597538,6264122]
[601271,6265354]
[608571,6266742]
[609898,6266963]
[613666,6265747]
[614867,6264666]
[620952,6257025]
[618758,6245980]
[617946,6244287]
[608364,6225690]
[604486,6228988]
[604418,6231778]
[601791,6232828]
[600217,6232350]
[598611,6230280]
[596423,6224666]
[597870,6220659]
[596341,6218336]
[594533,6218218]
[586325,6224973]
[584116,6228887]
[589131,6231486]
[591739,6231611]
[593197,6237264]
[589660,6239515]
[586689,6239330]
[576949,6225982]
[575669,6222529]
[576997,6219986]
[578325,6216547]
[579772,6208919]
[578175,6197588]
[574205,6187592]
[571580,6188993]
[570617,6191730]
[568801,6193038]
[566037,6193056]
[563337,6192588]
[561478,6192232]
[554451,6189031]
[555569,6187993]
[557805,6187389]
[559916,6187016]
[562653,6186681]
[565447,6186060]
[565644,6178781]
[562387,6173693]
[552307,6169820]
[550754,6169631]
[545903,6171493]
[542722,6173595]
[540482,6174146]
[534852,6173162]
[536319,6172131]
[538762,6172307]
[540618,6171735]
[545414,6167708]
[551609,6162391]
[544447,6154120]
[537330,6141486]
[538051,6139422]
[538654,6138855]
[537871,6136297]
[542652,6126108]
[544876,6124337]
[545193,6121852]
[543109,6116274]
[540515,6115145]
[539054,6116384]
[536581,6116030]
[531190,6111808]
[529433,6108481]
[532423,6100503]
[535065,6098544]
[540691,6096800]
[546428,6093911]
[547824,6089235]
[549132,6083530]
[547247,6076210]
[540071,6078679]
[539393,6082784]
[541217,6084532]
[540496,6086465]
[538289,6086917]
[532267,6080255]
[529025,6076361]
[528612,6075453]
[528244,6073512]
[537155,6075532]
[542451,6074095]
[550517,6071273]
[558007,6071919]
[560187,6070928]
[562546,6068602]
[566903,6058368]
[567131,6054458]
[566774,6045794]
[565001,6042259]
[562842,6040422]
[557860,6037511]
[556444,6036999]
[554789,6036894]
[556143,6034746]
[557917,6034390]
[565233,6036753]
[571650,6038542]
[572999,6038594]
[588751,6032845]
[604598,6024832]
[607031,6022314]
[609986,6019253]
[615323,6019152]
[616772,6019761]
[619119,6021824]
[622497,6025430]
[626402,6028049]
[628557,6027669]
[]
[625444,6347160]
[624219,6346071]
[622177,6344772]
[620605,6344014]
[619689,6343802]
[618412,6345590]
[617666,6346434]
[616680,6346902]
[615991,6346944]
[615111,6346641]
[614418,6346220]
[613432,6346408]
[612518,6347002]
[612037,6348366]
[615663,6352628]
[621995,6354853]
[629272,6356330]
[631848,6355731]
[632292,6354306]
[625444,6347160]
[]
[585604,6383488]
[585925,6379674]
[586586,6377546]
[591788,6364490]
[592400,6343198]
[587535,6338429]
[585851,6335006]
[581211,6317252]
[575649,6316930]
[574328,6317154]
[572467,6318327]
[569929,6320727]
[567942,6322580]
[562207,6327314]
[560886,6327810]
[530335,6322660]
[517580,6317948]
[516385,6317232]
[515163,6316949]
[513828,6317331]
[512364,6318702]
[511011,6320059]
[509659,6321323]
[508528,6322155]
[507009,6323266]
[507012,6321696]
[501841,6319129]
[493064,6317113]
[489492,6314178]
[485874,6311959]
[483579,6312640]
[480326,6311657]
[476731,6304030]
[476426,6301110]
[473580,6297007]
[471485,6295653]
[469937,6295107]
[468615,6293655]
[467117,6283873]
[464205,6281709]
[465896,6281256]
[468646,6280808]
[470394,6280555]
[472019,6281642]
[474215,6282699]
[475903,6276331]
[475334,6273737]
[472108,6271302]
[467980,6276476]
[466525,6278206]
[463126,6281042]
[461296,6281634]
[453721,6284726]
[453229,6289400]
[453312,6292290]
[453949,6296118]
[454848,6298458]
[456741,6302056]
[459602,6307067]
[462213,6311496]
[466626,6318076]
[474383,6328163]
[476898,6330978]
[478623,6331154]
[482668,6329233]
[484080,6328795]
[485830,6328664]
[488187,6328966]
[490712,6329455]
[493591,6330748]
[501041,6334485]
[504824,6333559]
[509767,6332703]
[511869,6332554]
[514761,6332655]
[516054,6332877]
[523674,6334390]
[528187,6337395]
[529966,6338675]
[532840,6341527]
[535038,6344374]
[539130,6351338]
[542573,6358238]
[543641,6360738]
[546113,6366642]
[547593,6369117]
[557259,6383051]
[559782,6383474]
[562391,6383389]
[566009,6383571]
[567469,6383656]
[569408,6383905]
[570598,6384235]
[572809,6385078]
[575691,6386338]
[577362,6387498]
[583997,6393245]
[586624,6395960]
[589932,6399126]
[591734,6400683]
[593403,6401510]
[595557,6401359]
[597939,6400674]
[597999,6400538]
[596592,6399559]
[593504,6397135]
[591013,6394510]
[589813,6392596]
[588405,6390245]
[587086,6387943]
[586196,6386115]
[585604,6383488]